Workbook

Sheet Données
A1: Année :
A2: 2021
A5: 7h 14h24ois :
A6: 1

Sheet Horaire
B1: 45352 | C1: Horaire
C3: =WEEKDAY(C6,2) -> 5 | D3: =WEEKDAY(D6,2) -> 6 | E3: =WEEKDAY(E6,2) -> 7 | F3: =WEEKDAY(F6,2) -> 1 | G3: =WEEKDAY(G6,2) -> 2 | H3: =WEEKDAY(H6,2) -> 3 | I3: =WEEKDAY(I6,2) -> 4 | J3: =WEEKDAY(J6,2) -> 5 | ... AG3: =WEEKDAY(AG6,2) -> 2
C4: 1 | D4: 2 | E4: 3 | F4: 4 | G4: 5 | H4: 6 | I4: 7 | J4: 8 | K4: 9 | L4: 10 | M4: 11 | N4: 12 | O4: 13 | P4: 14 | Q4: 15 | R4: 16 | S4: 17 | T4: 18 | U4: 19 | V4: 20 | W4: 21 | X4: 22 | Y4: 23 | Z4: 24 | AA4: 25 | AB4: 26 | AC4: 27 | AD4: 28 | AE4: 29 | AF4: 30 | AG4: 31
C5: =DATE(Données!$A$2,Données!$A$6,C4) -> 44197 | D5: =DATE(Données!$A$2,Données!$A$6,D4) -> 44198 | E5: =DATE(Données!$A$2,Données!$A$6,E4) -> 44199 | F5: =DATE(Données!$A$2,Données!$A$6,F4) -> 44200 | G5: =DATE(Données!$A$2,Données!$A$6,G4) -> 44201 | H5: =DATE(Données!$A$2,Données!$A$6,H4) -> 44202 | I5: =DATE(Données!$A$2,Données!$A$6,I4) -> 44203 | J5: =DATE(Données!$A$2,Données!$A$6,J4) -> 44204 | ... AF5: =DATE(Données!$A$2,Données!$A$6,AF4) -> 44226 | AG5: dim | AH5: A prester | AI5: Presté | AJ5: Différence
A6: Trio | B6: Qui ? | C6: =DATE(Données!$A$2,Données!$A$6,C4) -> 44197 | D6: =DATE(Données!$A$2,Données!$A$6,D4) -> 44198 | E6: =DATE(Données!$A$2,Données!$A$6,E4) -> 44199 | F6: =DATE(Données!$A$2,Données!$A$6,F4) -> 44200 | G6: =DATE(Données!$A$2,Données!$A$6,G4) -> 44201 | H6: =DATE(Données!$A$2,Données!$A$6,H4) -> 44202 | I6: =DATE(Données!$A$2,Données!$A$6,I4) -> 44203 | J6: =DATE(Données!$A$2,Données!$A$6,J4) -> 44204 | ... AD6: =DATE(Données!$A$2,Données!$A$6,AD4) -> 44224 | AE6: 29 | AF6: 30 | AG6: 31
A7: 1 | B7: Nom1
A9: 2 | B9: Nom2
A11: 3 | B11: Nom3
A13: 4 | B13: Nom4
A15: 5 | B15: Nom5
A17: 6 | B17: Nom6
A19: 1 | B19: Nom7
A21: 2 | B21: Nom8
A23: 3 | B23: Nom9
A25: 4 | B25: Nom10
A27: 5 | B27: Nom11
A29: 6 | B29: Nom12
... A41: 6 | B41: Nom18
