Workbook

Sheet Statistiques
B11: Ressources de départ | C11: Frais médicaux | D11: Après déduction des frais médicaux | E11: Ressources restantes après toutes déductions | F11: ="Avec une augmentation de "&E2&"%" -> Avec une augmentation de %
A12: ='Profil"moyen" + noms résidents'!A8 -> nom 1
A13: ='Profil"moyen" + noms résidents'!A9 -> nom 2
A14: ='Profil"moyen" + noms résidents'!A10 -> nom 3
A15: ='Profil"moyen" + noms résidents'!A11 -> nom 4
A16: ='Profil"moyen" + noms résidents'!A12 -> nom 5
A17: ='Profil"moyen" + noms résidents'!A13 -> nom 6
A18: ='Profil"moyen" + noms résidents'!A14 -> nom 7
A19: ='Profil"moyen" + noms résidents'!A15 -> nom 8
A20: ='Profil"moyen" + noms résidents'!A16 -> nom 9
A21: ='Profil"moyen" + noms résidents'!A17 -> nom 10
A22: ='Profil"moyen" + noms résidents'!A18 -> nom 11
A23: ='Profil"moyen" + noms résidents'!A19 -> nom 12
... A197: ='Profil"moyen" + noms résidents'!A193 -> nom 186

Sheet Profil"moyen" + noms résidents
C2: Profil d'un résident (moyenne)
C3: Ressource | D3: Frais médicaux
C4: =AVERAGE(C8:C193) -> #DIV/0! | D4: =AVERAGE(D8:D193) -> #DIV/0!
A8: nom 1 | B8: Résident(e) 1
A9: nom 2 | B9: Résident(e) 2
A10: nom 3 | B10: Résident(e) 3
A11: nom 4 | B11: Résident(e) 4
A12: nom 5 | B12: Résident(e) 5
A13: nom 6 | B13: Résident(e) 6
A14: nom 7 | B14: Résident(e) 7
A15: nom 8 | B15: Résident(e) 8
A16: nom 9 | B16: Résident(e) 9
A17: nom 10 | B17: Résident(e) 10
A18: nom 11 | B18: Résident(e) 11
A19: nom 12 | B19: Résident(e) 12
... A193: nom 186 | B193: Résident(e) 186
