Workbook

Sheet Feuil1
B1: TEAM 1 | C1: TEAM 2 | D1: TEAM 3 | E1: TEAM 4 | F1: TEAM 5 | G1: TEAM 6 | H1: TEAM 7 | I1: TEAM 8 | J1: TEAM 9 | K1: TEAM 10 | L1: TEAM 11 | M1: TEAM 12
A2: Composition
E5: GAME #1 | F5: GAME #2 | G5: GAME #3 | H5: GAME #4 | I5: GAME #5 | O5: =Feuil1!A7 -> TEAM 1 | P5: =RANK(J7,J7:J18,0) -> 12
B6: FRAGS | C6: ASSISTS | D6: DÉGATS | E6: TOP | F6: TOP | G6: TOP | H6: TOP | I6: TOP | J6: POINTS TOTAUX | O6: =Feuil1!A8 -> TEAM 2 | P6: =RANK(J8,J7:J18,0) -> 11
A7: =B1 -> TEAM 1 | C7: 1 | J7: =Feuil2!A2+Feuil2!B2+Feuil2!C2+Feuil2!D2+Feuil2!E2+Feuil2!F2+Feuil2!G2 -> 5 | O7: =Feuil1!A9 -> TEAM 3 | P7: =RANK(J9,J7:J18,0) -> 10
A8: =C1 -> TEAM 2 | C8: 2 | J8: =Feuil2!A3+Feuil2!B3+Feuil2!C3+Feuil2!D3+Feuil2!E3+Feuil2!F3+Feuil2!G3 -> 10 | O8: =Feuil1!A10 -> TEAM 4 | P8: =RANK(J10,J7:J18,0) -> 9
A9: =D1 -> TEAM 3 | C9: 3 | J9: =Feuil2!A4+Feuil2!B4+Feuil2!C4+Feuil2!D4+Feuil2!E4+Feuil2!F4+Feuil2!G4 -> 15 | O9: =Feuil1!A11 -> TEAM 5 | P9: =RANK(J11,J7:J18,0) -> 8
A10: =E1 -> TEAM 4 | C10: 4 | J10: =Feuil2!A5+Feuil2!B5+Feuil2!C5+Feuil2!D5+Feuil2!E5+Feuil2!F5+Feuil2!G5 -> 20 | O10: =Feuil1!A12 -> TEAM 6 | P10: =RANK(J12,J7:J18,0) -> 7
A11: =F1 -> TEAM 5 | C11: 5 | J11: =Feuil2!A6+Feuil2!B6+Feuil2!C6+Feuil2!D6+Feuil2!E6+Feuil2!F6+Feuil2!G6 -> 25 | O11: =Feuil1!A13 -> TEAM 7 | P11: =RANK(J13,J7:J18,0) -> 6
A12: =G1 -> TEAM 6 | C12: 6 | J12: =Feuil2!A7+Feuil2!B7+Feuil2!C7+Feuil2!D7+Feuil2!E7+Feuil2!F7+Feuil2!G7 -> 30 | O12: =Feuil1!A14 -> TEAM 8 | P12: =RANK(J14,J7:J18,0) -> 5
A13: =H1 -> TEAM 7 | C13: 7 | J13: =Feuil2!A8+Feuil2!B8+Feuil2!C8+Feuil2!D8+Feuil2!E8+Feuil2!F8+Feuil2!G8 -> 35 | O13: =Feuil1!A15 -> TEAM 9 | P13: =RANK(J15,J7:J18,0) -> 4
A14: =I1 -> TEAM 8 | C14: 8 | J14: =Feuil2!A9+Feuil2!B9+Feuil2!C9+Feuil2!D9+Feuil2!E9+Feuil2!F9+Feuil2!G9 -> 40 | O14: =Feuil1!A16 -> TEAM 10 | P14: =RANK(J16,J7:J18,0) -> 3
A15: =J1 -> TEAM 9 | C15: 9 | J15: =Feuil2!A10+Feuil2!B10+Feuil2!C10+Feuil2!D10+Feuil2!E10+Feuil2!F10+Feuil2!G10 -> 45 | O15: =Feuil1!A17 -> TEAM 11 | P15: =RANK(J17,J7:J18,0) -> 2
A16: =K1 -> TEAM 10 | C16: 10 | J16: =Feuil2!A11+Feuil2!B11+Feuil2!C11+Feuil2!D11+Feuil2!E11+Feuil2!F11+Feuil2!G11 -> 50 | O16: =Feuil1!A18 -> TEAM 12 | P16: =RANK(J18,J14:J21,0) -> 1
A17: =L1 -> TEAM 11 | C17: 11 | J17: =Feuil2!A12+Feuil2!B12+Feuil2!C12+Feuil2!D12+Feuil2!E12+Feuil2!F12+Feuil2!G12 -> 55
A18: =M1 -> TEAM 12 | C18: 12 | J18: =Feuil2!A13+Feuil2!B13+Feuil2!C13+Feuil2!D13+Feuil2!E13+Feuil2!F13+Feuil2!G13 -> 60

Sheet Feuil2
A1: POINTS avant classement | B1: POINTS classement | C1: POINTS classement | D1: POINTS classement | E1: POINTS classement | F1: POINTS classement | G1: POINTS dégats
A2: =(Feuil1!B7*points!C3)+(Feuil1!C7*points!C6) -> 5 | B2: =_xlfn.SWITCH(Feuil1!E7,1,points!C9,2,points!C10,3,points!C11,4,points!C12,5,points!C13,6,points!C13,7,points!C13,8,points!C13,9,points!C13,10,points!C13,11,points!C13,12,points!C13,13,points!C13,14,points!C13,15,points!C13,16,points!C13,17,points!C13,18,points!C13,19,points!C13,20,points!C13,0,0) -> 0 | C2: =_xlfn.SWITCH(Feuil1!F7,1,points!C9,2,points!C10,3,points!C11,4,points!C12,5,points!C13,6,points!C13,7,points!C13,8,points!C13,9,points!C13,10,points!C13,11,points!C13,12,points!C13,13,points!C13,14,points!C13,15,points!C13,16,points!C13,17,points!C13,18,points!C13,19,points!C13,20,points!C13,0,0) -> 0 | D2: =_xlfn.SWITCH(Feuil1!G7,1,points!C9,2,points!C10,3,points!C11,4,points!C12,5,points!C13,6,points!C13,7,points!C13,8,points!C13,9,points!C13,10,points!C13,11,points!C13,12,points!C13,13,points!C13,14,points!C13,15,points!C13,16,points!C13,17,points!C13,18,points!C13,19,points!C13,20,points!C13,0,0) -> 0 | E2: =_xlfn.SWITCH(Feuil1!H7,1,points!C9,2,points!C10,3,points!C11,4,points!C12,5,points!C13,6,points!C13,7,points!C13,8,points!C13,9,points!C13,10,points!C13,11,points!C13,12,points!C13,13,points!C13,14,points!C13,15,points!C13,16,points!C13,17,points!C13,18,points!C13,19,points!C13,20,points!C13,0,0) -> 0 | F2: =_xlfn.SWITCH(Feuil1!I7,1,points!C9,2,points!C10,3,points!C11,4,points!C12,5,points!C13,6,points!C13,7,points!C13,8,points!C13,9,points!C13,10,points!C13,11,points!C13,12,points!C13,13,points!C13,14,points!C13,15,points!C13,16,points!C13,17,points!C13,18,points!C13,19,points!C13,20,points!C13,0,0) -> 0 | G2: =IF(Feuil1!D7<=99,points!F10,IF(AND(Feuil1!D7>=100,Feuil1!D7<=499),points!F11,IF(AND(Feuil1!D7>=500,Feuil1!D7<=999),points!F12,IF(AND(Feuil1!D7>=1000,Feuil1!D7<=1999),points!F13,IF(AND(Feuil1!D7>=2000,Feuil1!D7<=2999),points!F14,IF(AND(Feuil1!D7>=3000,Feuil1!D7<=3999),points!F15,"")))))) -> 0
A3: =(Feuil1!B8*points!C3)+(Feuil1!C8*points!C6) -> 10 | B3: =_xlfn.SWITCH(Feuil1!E8,1,points!C9,2,points!C10,3,points!C11,4,points!C12,5,points!C13,6,points!C13,7,points!C13,8,points!C13,9,points!C13,10,points!C13,11,points!C13,12,points!C13,13,points!C13,14,points!C13,15,points!C13,16,points!C13,17,points!C13,18,points!C13,19,points!C13,20,points!C13,0,0) -> 0 | C3: =_xlfn.SWITCH(Feuil1!F8,1,points!C9,2,points!C10,3,points!C11,4,points!C12,5,points!C13,6,points!C13,7,points!C13,8,points!C13,9,points!C13,10,points!C13,11,points!C13,12,points!C13,13,points!C13,14,points!C13,15,points!C13,16,points!C13,17,points!C13,18,points!C13,19,points!C13,20,points!C13,0,0) -> 0 | D3: =_xlfn.SWITCH(Feuil1!G8,1,points!C9,2,points!C10,3,points!C11,4,points!C12,5,points!C13,6,points!C13,7,points!C13,8,points!C13,9,points!C13,10,points!C13,11,points!C13,12,points!C13,13,points!C13,14,points!C13,15,points!C13,16,points!C13,17,points!C13,18,points!C13,19,points!C13,20,points!C13,0,0) -> 0 | E3: =_xlfn.SWITCH(Feuil1!H8,1,points!C9,2,points!C10,3,points!C11,4,points!C12,5,points!C13,6,points!C13,7,points!C13,8,points!C13,9,points!C13,10,points!C13,11,points!C13,12,points!C13,13,points!C13,14,points!C13,15,points!C13,16,points!C13,17,points!C13,18,points!C13,19,points!C13,20,points!C13,0,0) -> 0 | F3: =_xlfn.SWITCH(Feuil1!I8,1,points!C9,2,points!C10,3,points!C11,4,points!C12,5,points!C13,6,points!C13,7,points!C13,8,points!C13,9,points!C13,10,points!C13,11,points!C13,12,points!C13,13,points!C13,14,points!C13,15,points!C13,16,points!C13,17,points!C13,18,points!C13,19,points!C13,20,points!C13,0,0) -> 0 | G3: =IF(Feuil1!D8<=99,points!F10,IF(AND(Feuil1!D8>=100,Feuil1!D8<=499),points!F11,IF(AND(Feuil1!D8>=500,Feuil1!D8<=999),points!F12,IF(AND(Feuil1!D8>=1000,Feuil1!D8<=1999),points!F13,IF(AND(Feuil1!D8>=2000,Feuil1!D8<=2999),points!F14,IF(AND(Feuil1!D8>=3000,Feuil1!D8<=3999),points!F15,"")))))) -> 0
A4: =(Feuil1!B9*points!C3)+(Feuil1!C9*points!C6) -> 15 | B4: =_xlfn.SWITCH(Feuil1!E9,1,points!C9,2,points!C10,3,points!C11,4,points!C12,5,points!C13,6,points!C13,7,points!C13,8,points!C13,9,points!C13,10,points!C13,11,points!C13,12,points!C13,13,points!C13,14,points!C13,15,points!C13,16,points!C13,17,points!C13,18,points!C13,19,points!C13,20,points!C13,0,0) -> 0 | C4: =_xlfn.SWITCH(Feuil1!F9,1,points!C9,2,points!C10,3,points!C11,4,points!C12,5,points!C13,6,points!C13,7,points!C13,8,points!C13,9,points!C13,10,points!C13,11,points!C13,12,points!C13,13,points!C13,14,points!C13,15,points!C13,16,points!C13,17,points!C13,18,points!C13,19,points!C13,20,points!C13,0,0) -> 0 | D4: =_xlfn.SWITCH(Feuil1!G9,1,points!C9,2,points!C10,3,points!C11,4,points!C12,5,points!C13,6,points!C13,7,points!C13,8,points!C13,9,points!C13,10,points!C13,11,points!C13,12,points!C13,13,points!C13,14,points!C13,15,points!C13,16,points!C13,17,points!C13,18,points!C13,19,points!C13,20,points!C13,0,0) -> 0 | E4: =_xlfn.SWITCH(Feuil1!H9,1,points!C9,2,points!C10,3,points!C11,4,points!C12,5,points!C13,6,points!C13,7,points!C13,8,points!C13,9,points!C13,10,points!C13,11,points!C13,12,points!C13,13,points!C13,14,points!C13,15,points!C13,16,points!C13,17,points!C13,18,points!C13,19,points!C13,20,points!C13,0,0) -> 0 | F4: =_xlfn.SWITCH(Feuil1!I9,1,points!C9,2,points!C10,3,points!C11,4,points!C12,5,points!C13,6,points!C13,7,points!C13,8,points!C13,9,points!C13,10,points!C13,11,points!C13,12,points!C13,13,points!C13,14,points!C13,15,points!C13,16,points!C13,17,points!C13,18,points!C13,19,points!C13,20,points!C13,0,0) -> 0 | G4: =IF(Feuil1!D9<=99,points!F10,IF(AND(Feuil1!D9>=100,Feuil1!D9<=499),points!F11,IF(AND(Feuil1!D9>=500,Feuil1!D9<=999),points!F12,IF(AND(Feuil1!D9>=1000,Feuil1!D9<=1999),points!F13,IF(AND(Feuil1!D9>=2000,Feuil1!D9<=2999),points!F14,IF(AND(Feuil1!D9>=3000,Feuil1!D9<=3999),points!F15,"")))))) -> 0
A5: =(Feuil1!B10*points!C3)+(Feuil1!C10*points!C6) -> 20 | B5: =_xlfn.SWITCH(Feuil1!E10,1,points!C9,2,points!C10,3,points!C11,4,points!C12,5,points!C13,6,points!C13,7,points!C13,8,points!C13,9,points!C13,10,points!C13,11,points!C13,12,points!C13,13,points!C13,14,points!C13,15,points!C13,16,points!C13,17,points!C13,18,points!C13,19,points!C13,20,points!C13,0,0) -> 0 | C5: =_xlfn.SWITCH(Feuil1!F10,1,points!C9,2,points!C10,3,points!C11,4,points!C12,5,points!C13,6,points!C13,7,points!C13,8,points!C13,9,points!C13,10,points!C13,11,points!C13,12,points!C13,13,points!C13,14,points!C13,15,points!C13,16,points!C13,17,points!C13,18,points!C13,19,points!C13,20,points!C13,0,0) -> 0 | D5: =_xlfn.SWITCH(Feuil1!G10,1,points!C9,2,points!C10,3,points!C11,4,points!C12,5,points!C13,6,points!C13,7,points!C13,8,points!C13,9,points!C13,10,points!C13,11,points!C13,12,points!C13,13,points!C13,14,points!C13,15,points!C13,16,points!C13,17,points!C13,18,points!C13,19,points!C13,20,points!C13,0,0) -> 0 | E5: =_xlfn.SWITCH(Feuil1!H10,1,points!C9,2,points!C10,3,points!C11,4,points!C12,5,points!C13,6,points!C13,7,points!C13,8,points!C13,9,points!C13,10,points!C13,11,points!C13,12,points!C13,13,points!C13,14,points!C13,15,points!C13,16,points!C13,17,points!C13,18,points!C13,19,points!C13,20,points!C13,0,0) -> 0 | F5: =_xlfn.SWITCH(Feuil1!I10,1,points!C9,2,points!C10,3,points!C11,4,points!C12,5,points!C13,6,points!C13,7,points!C13,8,points!C13,9,points!C13,10,points!C13,11,points!C13,12,points!C13,13,points!C13,14,points!C13,15,points!C13,16,points!C13,17,points!C13,18,points!C13,19,points!C13,20,points!C13,0,0) -> 0 | G5: =IF(Feuil1!D10<=99,points!F10,IF(AND(Feuil1!D10>=100,Feuil1!D10<=499),points!F11,IF(AND(Feuil1!D10>=500,Feuil1!D10<=999),points!F12,IF(AND(Feuil1!D10>=1000,Feuil1!D10<=1999),points!F13,IF(AND(Feuil1!D10>=2000,Feuil1!D10<=2999),points!F14,IF(AND(Feuil1!D10>=3000,Feuil1!D10<=3999),points!F15,"")))))) -> 0
A6: =(Feuil1!B11*points!C3)+(Feuil1!C11*points!C6) -> 25 | B6: =_xlfn.SWITCH(Feuil1!E11,1,points!C9,2,points!C10,3,points!C11,4,points!C12,5,points!C13,6,points!C13,7,points!C13,8,points!C13,9,points!C13,10,points!C13,11,points!C13,12,points!C13,13,points!C13,14,points!C13,15,points!C13,16,points!C13,17,points!C13,18,points!C13,19,points!C13,20,points!C13,0,0) -> 0 | C6: =_xlfn.SWITCH(Feuil1!F11,1,points!C9,2,points!C10,3,points!C11,4,points!C12,5,points!C13,6,points!C13,7,points!C13,8,points!C13,9,points!C13,10,points!C13,11,points!C13,12,points!C13,13,points!C13,14,points!C13,15,points!C13,16,points!C13,17,points!C13,18,points!C13,19,points!C13,20,points!C13,0,0) -> 0 | D6: =_xlfn.SWITCH(Feuil1!G11,1,points!C9,2,points!C10,3,points!C11,4,points!C12,5,points!C13,6,points!C13,7,points!C13,8,points!C13,9,points!C13,10,points!C13,11,points!C13,12,points!C13,13,points!C13,14,points!C13,15,points!C13,16,points!C13,17,points!C13,18,points!C13,19,points!C13,20,points!C13,0,0) -> 0 | E6: =_xlfn.SWITCH(Feuil1!H11,1,points!C9,2,points!C10,3,points!C11,4,points!C12,5,points!C13,6,points!C13,7,points!C13,8,points!C13,9,points!C13,10,points!C13,11,points!C13,12,points!C13,13,points!C13,14,points!C13,15,points!C13,16,points!C13,17,points!C13,18,points!C13,19,points!C13,20,points!C13,0,0) -> 0 | F6: =_xlfn.SWITCH(Feuil1!I11,1,points!C9,2,points!C10,3,points!C11,4,points!C12,5,points!C13,6,points!C13,7,points!C13,8,points!C13,9,points!C13,10,points!C13,11,points!C13,12,points!C13,13,points!C13,14,points!C13,15,points!C13,16,points!C13,17,points!C13,18,points!C13,19,points!C13,20,points!C13,0,0) -> 0 | G6: =IF(Feuil1!D11<=99,points!F10,IF(AND(Feuil1!D11>=100,Feuil1!D11<=499),points!F11,IF(AND(Feuil1!D11>=500,Feuil1!D11<=999),points!F12,IF(AND(Feuil1!D11>=1000,Feuil1!D11<=1999),points!F13,IF(AND(Feuil1!D11>=2000,Feuil1!D11<=2999),points!F14,IF(AND(Feuil1!D11>=3000,Feuil1!D11<=3999),points!F15,"")))))) -> 0
A7: =(Feuil1!B12*points!C3)+(Feuil1!C12*points!C6) -> 30 | B7: =_xlfn.SWITCH(Feuil1!E12,1,points!C9,2,points!C10,3,points!C11,4,points!C12,5,points!C13,6,points!C13,7,points!C13,8,points!C13,9,points!C13,10,points!C13,11,points!C13,12,points!C13,13,points!C13,14,points!C13,15,points!C13,16,points!C13,17,points!C13,18,points!C13,19,points!C13,20,points!C13,0,0) -> 0 | C7: =_xlfn.SWITCH(Feuil1!F12,1,points!C9,2,points!C10,3,points!C11,4,points!C12,5,points!C13,6,points!C13,7,points!C13,8,points!C13,9,points!C13,10,points!C13,11,points!C13,12,points!C13,13,points!C13,14,points!C13,15,points!C13,16,points!C13,17,points!C13,18,points!C13,19,points!C13,20,points!C13,0,0) -> 0 | D7: =_xlfn.SWITCH(Feuil1!G12,1,points!C9,2,points!C10,3,points!C11,4,points!C12,5,points!C13,6,points!C13,7,points!C13,8,points!C13,9,points!C13,10,points!C13,11,points!C13,12,points!C13,13,points!C13,14,points!C13,15,points!C13,16,points!C13,17,points!C13,18,points!C13,19,points!C13,20,points!C13,0,0) -> 0 | E7: =_xlfn.SWITCH(Feuil1!H12,1,points!C9,2,points!C10,3,points!C11,4,points!C12,5,points!C13,6,points!C13,7,points!C13,8,points!C13,9,points!C13,10,points!C13,11,points!C13,12,points!C13,13,points!C13,14,points!C13,15,points!C13,16,points!C13,17,points!C13,18,points!C13,19,points!C13,20,points!C13,0,0) -> 0 | F7: =_xlfn.SWITCH(Feuil1!I12,1,points!C9,2,points!C10,3,points!C11,4,points!C12,5,points!C13,6,points!C13,7,points!C13,8,points!C13,9,points!C13,10,points!C13,11,points!C13,12,points!C13,13,points!C13,14,points!C13,15,points!C13,16,points!C13,17,points!C13,18,points!C13,19,points!C13,20,points!C13,0,0) -> 0 | G7: =IF(Feuil1!D12<=99,points!F10,IF(AND(Feuil1!D12>=100,Feuil1!D12<=499),points!F11,IF(AND(Feuil1!D12>=500,Feuil1!D12<=999),points!F12,IF(AND(Feuil1!D12>=1000,Feuil1!D12<=1999),points!F13,IF(AND(Feuil1!D12>=2000,Feuil1!D12<=2999),points!F14,IF(AND(Feuil1!D12>=3000,Feuil1!D12<=3999),points!F15,"")))))) -> 0
A8: =(Feuil1!B13*points!C3)+(Feuil1!C13*points!C6) -> 35 | B8: =_xlfn.SWITCH(Feuil1!E13,1,points!C9,2,points!C10,3,points!C11,4,points!C12,5,points!C13,6,points!C13,7,points!C13,8,points!C13,9,points!C13,10,points!C13,11,points!C13,12,points!C13,13,points!C13,14,points!C13,15,points!C13,16,points!C13,17,points!C13,18,points!C13,19,points!C13,20,points!C13,0,0) -> 0 | C8: =_xlfn.SWITCH(Feuil1!F13,1,points!C9,2,points!C10,3,points!C11,4,points!C12,5,points!C13,6,points!C13,7,points!C13,8,points!C13,9,points!C13,10,points!C13,11,points!C13,12,points!C13,13,points!C13,14,points!C13,15,points!C13,16,points!C13,17,points!C13,18,points!C13,19,points!C13,20,points!C13,0,0) -> 0 | D8: =_xlfn.SWITCH(Feuil1!G13,1,points!C9,2,points!C10,3,points!C11,4,points!C12,5,points!C13,6,points!C13,7,points!C13,8,points!C13,9,points!C13,10,points!C13,11,points!C13,12,points!C13,13,points!C13,14,points!C13,15,points!C13,16,points!C13,17,points!C13,18,points!C13,19,points!C13,20,points!C13,0,0) -> 0 | E8: =_xlfn.SWITCH(Feuil1!H13,1,points!C9,2,points!C10,3,points!C11,4,points!C12,5,points!C13,6,points!C13,7,points!C13,8,points!C13,9,points!C13,10,points!C13,11,points!C13,12,points!C13,13,points!C13,14,points!C13,15,points!C13,16,points!C13,17,points!C13,18,points!C13,19,points!C13,20,points!C13,0,0) -> 0 | F8: =_xlfn.SWITCH(Feuil1!I13,1,points!C9,2,points!C10,3,points!C11,4,points!C12,5,points!C13,6,points!C13,7,points!C13,8,points!C13,9,points!C13,10,points!C13,11,points!C13,12,points!C13,13,points!C13,14,points!C13,15,points!C13,16,points!C13,17,points!C13,18,points!C13,19,points!C13,20,points!C13,0,0) -> 0 | G8: =IF(Feuil1!D13<=99,points!F10,IF(AND(Feuil1!D13>=100,Feuil1!D13<=499),points!F11,IF(AND(Feuil1!D13>=500,Feuil1!D13<=999),points!F12,IF(AND(Feuil1!D13>=1000,Feuil1!D13<=1999),points!F13,IF(AND(Feuil1!D13>=2000,Feuil1!D13<=2999),points!F14,IF(AND(Feuil1!D13>=3000,Feuil1!D13<=3999),points!F15,"")))))) -> 0
A9: =(Feuil1!B14*points!C3)+(Feuil1!C14*points!C6) -> 40 | B9: =_xlfn.SWITCH(Feuil1!E14,1,points!C9,2,points!C10,3,points!C11,4,points!C12,5,points!C13,6,points!C13,7,points!C13,8,points!C13,9,points!C13,10,points!C13,11,points!C13,12,points!C13,13,points!C13,14,points!C13,15,points!C13,16,points!C13,17,points!C13,18,points!C13,19,points!C13,20,points!C13,0,0) -> 0 | C9: =_xlfn.SWITCH(Feuil1!F14,1,points!C9,2,points!C10,3,points!C11,4,points!C12,5,points!C13,6,points!C13,7,points!C13,8,points!C13,9,points!C13,10,points!C13,11,points!C13,12,points!C13,13,points!C13,14,points!C13,15,points!C13,16,points!C13,17,points!C13,18,points!C13,19,points!C13,20,points!C13,0,0) -> 0 | D9: =_xlfn.SWITCH(Feuil1!G14,1,points!C9,2,points!C10,3,points!C11,4,points!C12,5,points!C13,6,points!C13,7,points!C13,8,points!C13,9,points!C13,10,points!C13,11,points!C13,12,points!C13,13,points!C13,14,points!C13,15,points!C13,16,points!C13,17,points!C13,18,points!C13,19,points!C13,20,points!C13,0,0) -> 0 | E9: =_xlfn.SWITCH(Feuil1!H14,1,points!C9,2,points!C10,3,points!C11,4,points!C12,5,points!C13,6,points!C13,7,points!C13,8,points!C13,9,points!C13,10,points!C13,11,points!C13,12,points!C13,13,points!C13,14,points!C13,15,points!C13,16,points!C13,17,points!C13,18,points!C13,19,points!C13,20,points!C13,0,0) -> 0 | F9: =_xlfn.SWITCH(Feuil1!I14,1,points!C9,2,points!C10,3,points!C11,4,points!C12,5,points!C13,6,points!C13,7,points!C13,8,points!C13,9,points!C13,10,points!C13,11,points!C13,12,points!C13,13,points!C13,14,points!C13,15,points!C13,16,points!C13,17,points!C13,18,points!C13,19,points!C13,20,points!C13,0,0) -> 0 | G9: =IF(Feuil1!D14<=99,points!F10,IF(AND(Feuil1!D14>=100,Feuil1!D14<=499),points!F11,IF(AND(Feuil1!D14>=500,Feuil1!D14<=999),points!F12,IF(AND(Feuil1!D14>=1000,Feuil1!D14<=1999),points!F13,IF(AND(Feuil1!D14>=2000,Feuil1!D14<=2999),points!F14,IF(AND(Feuil1!D14>=3000,Feuil1!D14<=3999),points!F15,"")))))) -> 0
A10: =(Feuil1!B15*points!C3)+(Feuil1!C15*points!C6) -> 45 | B10: =_xlfn.SWITCH(Feuil1!E15,1,points!C9,2,points!C10,3,points!C11,4,points!C12,5,points!C13,6,points!C13,7,points!C13,8,points!C13,9,points!C13,10,points!C13,11,points!C13,12,points!C13,13,points!C13,14,points!C13,15,points!C13,16,points!C13,17,points!C13,18,points!C13,19,points!C13,20,points!C13,0,0) -> 0 | C10: =_xlfn.SWITCH(Feuil1!F15,1,points!C9,2,points!C10,3,points!C11,4,points!C12,5,points!C13,6,points!C13,7,points!C13,8,points!C13,9,points!C13,10,points!C13,11,points!C13,12,points!C13,13,points!C13,14,points!C13,15,points!C13,16,points!C13,17,points!C13,18,points!C13,19,points!C13,20,points!C13,0,0) -> 0 | D10: =_xlfn.SWITCH(Feuil1!G15,1,points!C9,2,points!C10,3,points!C11,4,points!C12,5,points!C13,6,points!C13,7,points!C13,8,points!C13,9,points!C13,10,points!C13,11,points!C13,12,points!C13,13,points!C13,14,points!C13,15,points!C13,16,points!C13,17,points!C13,18,points!C13,19,points!C13,20,points!C13,0,0) -> 0 | E10: =_xlfn.SWITCH(Feuil1!H15,1,points!C9,2,points!C10,3,points!C11,4,points!C12,5,points!C13,6,points!C13,7,points!C13,8,points!C13,9,points!C13,10,points!C13,11,points!C13,12,points!C13,13,points!C13,14,points!C13,15,points!C13,16,points!C13,17,points!C13,18,points!C13,19,points!C13,20,points!C13,0,0) -> 0 | F10: =_xlfn.SWITCH(Feuil1!I15,1,points!C9,2,points!C10,3,points!C11,4,points!C12,5,points!C13,6,points!C13,7,points!C13,8,points!C13,9,points!C13,10,points!C13,11,points!C13,12,points!C13,13,points!C13,14,points!C13,15,points!C13,16,points!C13,17,points!C13,18,points!C13,19,points!C13,20,points!C13,0,0) -> 0 | G10: =IF(Feuil1!D15<=99,points!F10,IF(AND(Feuil1!D15>=100,Feuil1!D15<=499),points!F11,IF(AND(Feuil1!D15>=500,Feuil1!D15<=999),points!F12,IF(AND(Feuil1!D15>=1000,Feuil1!D15<=1999),points!F13,IF(AND(Feuil1!D15>=2000,Feuil1!D15<=2999),points!F14,IF(AND(Feuil1!D15>=3000,Feuil1!D15<=3999),points!F15,"")))))) -> 0
A11: =(Feuil1!B16*points!C3)+(Feuil1!C16*points!C6) -> 50 | B11: =_xlfn.SWITCH(Feuil1!E16,1,points!C9,2,points!C10,3,points!C11,4,points!C12,5,points!C13,6,points!C13,7,points!C13,8,points!C13,9,points!C13,10,points!C13,11,points!C13,12,points!C13,13,points!C13,14,points!C13,15,points!C13,16,points!C13,17,points!C13,18,points!C13,19,points!C13,20,points!C13,0,0) -> 0 | C11: =_xlfn.SWITCH(Feuil1!F16,1,points!C9,2,points!C10,3,points!C11,4,points!C12,5,points!C13,6,points!C13,7,points!C13,8,points!C13,9,points!C13,10,points!C13,11,points!C13,12,points!C13,13,points!C13,14,points!C13,15,points!C13,16,points!C13,17,points!C13,18,points!C13,19,points!C13,20,points!C13,0,0) -> 0 | D11: =_xlfn.SWITCH(Feuil1!G16,1,points!C9,2,points!C10,3,points!C11,4,points!C12,5,points!C13,6,points!C13,7,points!C13,8,points!C13,9,points!C13,10,points!C13,11,points!C13,12,points!C13,13,points!C13,14,points!C13,15,points!C13,16,points!C13,17,points!C13,18,points!C13,19,points!C13,20,points!C13,0,0) -> 0 | E11: =_xlfn.SWITCH(Feuil1!H16,1,points!C9,2,points!C10,3,points!C11,4,points!C12,5,points!C13,6,points!C13,7,points!C13,8,points!C13,9,points!C13,10,points!C13,11,points!C13,12,points!C13,13,points!C13,14,points!C13,15,points!C13,16,points!C13,17,points!C13,18,points!C13,19,points!C13,20,points!C13,0,0) -> 0 | F11: =_xlfn.SWITCH(Feuil1!I16,1,points!C9,2,points!C10,3,points!C11,4,points!C12,5,points!C13,6,points!C13,7,points!C13,8,points!C13,9,points!C13,10,points!C13,11,points!C13,12,points!C13,13,points!C13,14,points!C13,15,points!C13,16,points!C13,17,points!C13,18,points!C13,19,points!C13,20,points!C13,0,0) -> 0 | G11: =IF(Feuil1!D16<=99,points!F10,IF(AND(Feuil1!D16>=100,Feuil1!D16<=499),points!F11,IF(AND(Feuil1!D16>=500,Feuil1!D16<=999),points!F12,IF(AND(Feuil1!D16>=1000,Feuil1!D16<=1999),points!F13,IF(AND(Feuil1!D16>=2000,Feuil1!D16<=2999),points!F14,IF(AND(Feuil1!D16>=3000,Feuil1!D16<=3999),points!F15,"")))))) -> 0
A12: =(Feuil1!B17*points!C3)+(Feuil1!C17*points!C6) -> 55 | B12: =_xlfn.SWITCH(Feuil1!E17,1,points!C9,2,points!C10,3,points!C11,4,points!C12,5,points!C13,6,points!C13,7,points!C13,8,points!C13,9,points!C13,10,points!C13,11,points!C13,12,points!C13,13,points!C13,14,points!C13,15,points!C13,16,points!C13,17,points!C13,18,points!C13,19,points!C13,20,points!C13,0,0) -> 0 | C12: =_xlfn.SWITCH(Feuil1!F17,1,points!C9,2,points!C10,3,points!C11,4,points!C12,5,points!C13,6,points!C13,7,points!C13,8,points!C13,9,points!C13,10,points!C13,11,points!C13,12,points!C13,13,points!C13,14,points!C13,15,points!C13,16,points!C13,17,points!C13,18,points!C13,19,points!C13,20,points!C13,0,0) -> 0 | D12: =_xlfn.SWITCH(Feuil1!G17,1,points!C9,2,points!C10,3,points!C11,4,points!C12,5,points!C13,6,points!C13,7,points!C13,8,points!C13,9,points!C13,10,points!C13,11,points!C13,12,points!C13,13,points!C13,14,points!C13,15,points!C13,16,points!C13,17,points!C13,18,points!C13,19,points!C13,20,points!C13,0,0) -> 0 | E12: =_xlfn.SWITCH(Feuil1!H17,1,points!C9,2,points!C10,3,points!C11,4,points!C12,5,points!C13,6,points!C13,7,points!C13,8,points!C13,9,points!C13,10,points!C13,11,points!C13,12,points!C13,13,points!C13,14,points!C13,15,points!C13,16,points!C13,17,points!C13,18,points!C13,19,points!C13,20,points!C13,0,0) -> 0 | F12: =_xlfn.SWITCH(Feuil1!I17,1,points!C9,2,points!C10,3,points!C11,4,points!C12,5,points!C13,6,points!C13,7,points!C13,8,points!C13,9,points!C13,10,points!C13,11,points!C13,12,points!C13,13,points!C13,14,points!C13,15,points!C13,16,points!C13,17,points!C13,18,points!C13,19,points!C13,20,points!C13,0,0) -> 0 | G12: =IF(Feuil1!D17<=99,points!F10,IF(AND(Feuil1!D17>=100,Feuil1!D17<=499),points!F11,IF(AND(Feuil1!D17>=500,Feuil1!D17<=999),points!F12,IF(AND(Feuil1!D17>=1000,Feuil1!D17<=1999),points!F13,IF(AND(Feuil1!D17>=2000,Feuil1!D17<=2999),points!F14,IF(AND(Feuil1!D17>=3000,Feuil1!D17<=3999),points!F15,"")))))) -> 0
A13: =(Feuil1!B18*points!C3)+(Feuil1!C18*points!C6) -> 60 | B13: =_xlfn.SWITCH(Feuil1!E18,1,points!C9,2,points!C10,3,points!C11,4,points!C12,5,points!C13,6,points!C13,7,points!C13,8,points!C13,9,points!C13,10,points!C13,11,points!C13,12,points!C13,13,points!C13,14,points!C13,15,points!C13,16,points!C13,17,points!C13,18,points!C13,19,points!C13,20,points!C13,0,0) -> 0 | C13: =_xlfn.SWITCH(Feuil1!F18,1,points!C9,2,points!C10,3,points!C11,4,points!C12,5,points!C13,6,points!C13,7,points!C13,8,points!C13,9,points!C13,10,points!C13,11,points!C13,12,points!C13,13,points!C13,14,points!C13,15,points!C13,16,points!C13,17,points!C13,18,points!C13,19,points!C13,20,points!C13,0,0) -> 0 | D13: =_xlfn.SWITCH(Feuil1!G18,1,points!C9,2,points!C10,3,points!C11,4,points!C12,5,points!C13,6,points!C13,7,points!C13,8,points!C13,9,points!C13,10,points!C13,11,points!C13,12,points!C13,13,points!C13,14,points!C13,15,points!C13,16,points!C13,17,points!C13,18,points!C13,19,points!C13,20,points!C13,0,0) -> 0 | E13: =_xlfn.SWITCH(Feuil1!H18,1,points!C9,2,points!C10,3,points!C11,4,points!C12,5,points!C13,6,points!C13,7,points!C13,8,points!C13,9,points!C13,10,points!C13,11,points!C13,12,points!C13,13,points!C13,14,points!C13,15,points!C13,16,points!C13,17,points!C13,18,points!C13,19,points!C13,20,points!C13,0,0) -> 0 | F13: =_xlfn.SWITCH(Feuil1!I18,1,points!C9,2,points!C10,3,points!C11,4,points!C12,5,points!C13,6,points!C13,7,points!C13,8,points!C13,9,points!C13,10,points!C13,11,points!C13,12,points!C13,13,points!C13,14,points!C13,15,points!C13,16,points!C13,17,points!C13,18,points!C13,19,points!C13,20,points!C13,0,0) -> 0 | G13: =IF(Feuil1!D18<=99,points!F10,IF(AND(Feuil1!D18>=100,Feuil1!D18<=499),points!F11,IF(AND(Feuil1!D18>=500,Feuil1!D18<=999),points!F12,IF(AND(Feuil1!D18>=1000,Feuil1!D18<=1999),points!F13,IF(AND(Feuil1!D18>=2000,Feuil1!D18<=2999),points!F14,IF(AND(Feuil1!D18>=3000,Feuil1!D18<=3999),points!F15,"")))))) -> 0

Sheet points
B2: frags | C2: points
B3: 1 | C3: 10
B5: assists | C5: points
B6: 1 | C6: 5
B8: top | C8: points
B9: 1 | C9: 20
B10: 2 | C10: 15 | E10: de 0 à 99 | F10: 0
B11: 3 | C11: 10 | E11: de 100 à 499 | F11: 5
B12: 4 | C12: 5 | E12: de 500 à 999 | F12: 10
B13: 5 | C13: 1 | E13: de 1000 à 1999 | F13: 15
B14: 6 | C14: 1 | E14: de 2000 à 2999 | F14: 20
B15: 7 | C15: 1 | E15: de 3000 à 4000 | F15: 25
B16: 8 | C16: 1
B17: 9 | C17: 1
B18: 10 | C18: 1
B19: 11 | C19: 1
B20: 12 | C20: 1
B21: 13 | C21: 1
B22: 14 | C22: 1
B23: 15 | C23: 1
B24: 16 | C24: 1
B25: 17 | C25: 1
B26: 18 | C26: 1
B27: 19 | C27: 1
B28: 20 | C28: 1
