Workbook

Sheet Data1
A1: ID DOS | B1: Titre DOS | C1: Description DOS | D1: Groupe DOS | E1: Type DOS | F1: Stade DOS
A2: 1 | B2: data | C2: data | D2: G1 | E2: A | F2: data
A3: 2 | B3: data | C3: data | D3: G2 | E3: A | F3: data
A4: 3 | B4: data | C4: data | D4: G3 | E4: A | F4: data
A5: 4 | B5: data | C5: data | D5: G4 | E5: A | F5: data
A6: 5 | B6: data | C6: data | D6: G5 | E6: A | F6: data
A7: 6 | B7: data | C7: data | D7: G1 | E7: A | F7: data
A8: 7 | B8: data | C8: data | D8: G2 | E8: A | F8: data
A9: 8 | B9: data | C9: data | D9: G3 | E9: A | F9: data
A10: 9 | B10: data | C10: data | D10: G4 | E10: A | F10: data
A11: 10 | B11: data | C11: data | D11: G5 | E11: A | F11: data
A12: 11 | B12: data | C12: data | D12: G1 | E12: A | F12: data
A13: 12 | B13: data | C13: data | D13: G2 | E13: B | F13: data
... A57: 56 | B57: data | C57: data | D57: G6 | E57: A | F57: data

Sheet Data2
A1: ID DOS | B1: Groupe DOS | C1: Type DOS | D1: ID Item | E1: Titre Item | F1: Description Item | G1: Stade Item
A2: 1 | B2: =VLOOKUP(Tableau16[[#This Row],[ID DOS]],Tableau1[[ID DOS]:[Groupe DOS]],4,FALSE) -> G1 | C2: A | D2: 1 | E2: AZ - data | F2: data | G2: data
A3: 1 | B3: =VLOOKUP(Tableau16[[#This Row],[ID DOS]],Tableau1[[ID DOS]:[Groupe DOS]],4,FALSE) -> G1 | C3: A | D3: 2 | E3: ABC - data | F3: data | G3: data
A4: 1 | B4: =VLOOKUP(Tableau16[[#This Row],[ID DOS]],Tableau1[[ID DOS]:[Groupe DOS]],4,FALSE) -> G1 | C4: A | D4: 3 | E4: AZ - data | F4: data | G4: data
A5: 1 | B5: =VLOOKUP(Tableau16[[#This Row],[ID DOS]],Tableau1[[ID DOS]:[Groupe DOS]],4,FALSE) -> G1 | C5: A | D5: 4 | E5: AZ - data | F5: data | G5: data
A6: 1 | B6: =VLOOKUP(Tableau16[[#This Row],[ID DOS]],Tableau1[[ID DOS]:[Groupe DOS]],4,FALSE) -> G1 | C6: A | D6: 5 | E6: AZ - data | F6: data | G6: data
A7: 1 | B7: =VLOOKUP(Tableau16[[#This Row],[ID DOS]],Tableau1[[ID DOS]:[Groupe DOS]],4,FALSE) -> G1 | C7: A | D7: 6 | E7: ABC - data | F7: data | G7: data
A8: 1 | B8: =VLOOKUP(Tableau16[[#This Row],[ID DOS]],Tableau1[[ID DOS]:[Groupe DOS]],4,FALSE) -> G1 | C8: A | D8: 7 | E8: AZ - data | F8: data | G8: data
A9: 1 | B9: =VLOOKUP(Tableau16[[#This Row],[ID DOS]],Tableau1[[ID DOS]:[Groupe DOS]],4,FALSE) -> G1 | C9: A | D9: 8 | E9: AZ - data | F9: data | G9: data
A10: 1 | B10: =VLOOKUP(Tableau16[[#This Row],[ID DOS]],Tableau1[[ID DOS]:[Groupe DOS]],4,FALSE) -> G1 | C10: A | D10: 9 | E10: AZ - data | F10: data | G10: data
A11: 1 | B11: =VLOOKUP(Tableau16[[#This Row],[ID DOS]],Tableau1[[ID DOS]:[Groupe DOS]],4,FALSE) -> G1 | C11: A | D11: 10 | E11: ABC - data | F11: data | G11: data
A12: 2 | B12: =VLOOKUP(Tableau16[[#This Row],[ID DOS]],Tableau1[[ID DOS]:[Groupe DOS]],4,FALSE) -> G2 | C12: A | D12: 11 | E12: ABC - data | F12: data | G12: data
A13: 2 | B13: =VLOOKUP(Tableau16[[#This Row],[ID DOS]],Tableau1[[ID DOS]:[Groupe DOS]],4,FALSE) -> G2 | C13: A | D13: 12 | E13: AZ - data | F13: data | G13: data
... A20: 9 | B20: =VLOOKUP(Tableau16[[#This Row],[ID DOS]],Tableau1[[ID DOS]:[Groupe DOS]],4,FALSE) -> G4 | C20: A | D20: 19 | E20: ABC - data | F20: data | G20: data
A21: 10 | B21: =VLOOKUP(Tableau16[[#This Row],[ID DOS]],Tableau1[[ID DOS]:[Groupe DOS]],4,FALSE) -> G5 | C21: A
A22: 11 | B22: =VLOOKUP(Tableau16[[#This Row],[ID DOS]],Tableau1[[ID DOS]:[Groupe DOS]],4,FALSE) -> G1 | C22: A | D22: 21 | E22: AZ - data | F22: data | G22: data
A23: 12 | B23: =VLOOKUP(Tableau16[[#This Row],[ID DOS]],Tableau1[[ID DOS]:[Groupe DOS]],4,FALSE) -> G2 | C23: B | D23: 22 | E23: AZ - data | F23: data | G23: data
A24: 13 | B24: =VLOOKUP(Tableau16[[#This Row],[ID DOS]],Tableau1[[ID DOS]:[Groupe DOS]],4,FALSE) -> G3 | C24: B | D24: 23 | E24: ABC - data | F24: data | G24: data
A25: 14 | B25: =VLOOKUP(Tableau16[[#This Row],[ID DOS]],Tableau1[[ID DOS]:[Groupe DOS]],4,FALSE) -> G4 | C25: B | D25: 24 | E25: AZ - data | F25: data | G25: data
A26: 15 | B26: =VLOOKUP(Tableau16[[#This Row],[ID DOS]],Tableau1[[ID DOS]:[Groupe DOS]],4,FALSE) -> G5 | C26: B | D26: 25 | E26: ABC - data | F26: data | G26: data
A27: 16 | B27: =VLOOKUP(Tableau16[[#This Row],[ID DOS]],Tableau1[[ID DOS]:[Groupe DOS]],4,FALSE) -> G1 | C27: B | D27: 26 | E27: AZ - data | F27: data | G27: data
A28: 17 | B28: =VLOOKUP(Tableau16[[#This Row],[ID DOS]],Tableau1[[ID DOS]:[Groupe DOS]],4,FALSE) -> G2 | C28: B
A29: 18 | B29: =VLOOKUP(Tableau16[[#This Row],[ID DOS]],Tableau1[[ID DOS]:[Groupe DOS]],4,FALSE) -> G3 | C29: B | D29: 28 | E29: ABC - data | F29: data | G29: data
A30: 19 | B30: =VLOOKUP(Tableau16[[#This Row],[ID DOS]],Tableau1[[ID DOS]:[Groupe DOS]],4,FALSE) -> G4 | C30: B | D30: 29 | E30: ABC - data | F30: data | G30: data
A31: 20 | B31: =VLOOKUP(Tableau16[[#This Row],[ID DOS]],Tableau1[[ID DOS]:[Groupe DOS]],4,FALSE) -> G5 | C31: B | D31: 30 | E31: AZ - data | F31: data | G31: data
A32: 21 | B32: =VLOOKUP(Tableau16[[#This Row],[ID DOS]],Tableau1[[ID DOS]:[Groupe DOS]],4,FALSE) -> G1 | C32: B
A33: 22 | B33: =VLOOKUP(Tableau16[[#This Row],[ID DOS]],Tableau1[[ID DOS]:[Groupe DOS]],4,FALSE) -> G2 | C33: B | D33: 32 | E33: ABC - data | F33: data | G33: data
A34: 23 | B34: =VLOOKUP(Tableau16[[#This Row],[ID DOS]],Tableau1[[ID DOS]:[Groupe DOS]],4,FALSE) -> G3 | C34: B | D34: 33 | E34: ABC - data | F34: data | G34: data
A35: 24 | B35: =VLOOKUP(Tableau16[[#This Row],[ID DOS]],Tableau1[[ID DOS]:[Groupe DOS]],4,FALSE) -> G4 | C35: B | D35: 34 | E35: ABC - data | F35: data | G35: data
A36: 24 | B36: =VLOOKUP(Tableau16[[#This Row],[ID DOS]],Tableau1[[ID DOS]:[Groupe DOS]],4,FALSE) -> G4 | C36: B | D36: 35 | E36: AZ - data | F36: data | G36: data
A37: 24 | B37: =VLOOKUP(Tableau16[[#This Row],[ID DOS]],Tableau1[[ID DOS]:[Groupe DOS]],4,FALSE) -> G4 | C37: B | D37: 36 | E37: ABC - data | F37: data | G37: data
A38: 24 | B38: =VLOOKUP(Tableau16[[#This Row],[ID DOS]],Tableau1[[ID DOS]:[Groupe DOS]],4,FALSE) -> G4 | C38: B | D38: 37 | E38: ABC - data | F38: data | G38: data
A39: 25 | B39: =VLOOKUP(Tableau16[[#This Row],[ID DOS]],Tableau1[[ID DOS]:[Groupe DOS]],4,FALSE) -> G5 | C39: B | D39: 38 | E39: AZ - data | F39: data | G39: data
A40: 25 | B40: =VLOOKUP(Tableau16[[#This Row],[ID DOS]],Tableau1[[ID DOS]:[Groupe DOS]],4,FALSE) -> G5 | C40: B | D40: 39 | E40: ABC - data | F40: data | G40: data
A41: 25 | B41: =VLOOKUP(Tableau16[[#This Row],[ID DOS]],Tableau1[[ID DOS]:[Groupe DOS]],4,FALSE) -> G5 | C41: B | D41: 40 | E41: ABC - data | F41: data | G41: data
A42: 25 | B42: =VLOOKUP(Tableau16[[#This Row],[ID DOS]],Tableau1[[ID DOS]:[Groupe DOS]],4,FALSE) -> G5 | C42: B | D42: 41 | E42: AZ - data | F42: data | G42: data
A43: 25 | B43: =VLOOKUP(Tableau16[[#This Row],[ID DOS]],Tableau1[[ID DOS]:[Groupe DOS]],4,FALSE) -> G5 | C43: B | D43: 42 | E43: ABC - data | F43: data | G43: data
A44: 25 | B44: =VLOOKUP(Tableau16[[#This Row],[ID DOS]],Tableau1[[ID DOS]:[Groupe DOS]],4,FALSE) -> G5 | C44: B | D44: 43 | E44: ABC - data | F44: data | G44: data
A45: 26 | B45: =VLOOKUP(Tableau16[[#This Row],[ID DOS]],Tableau1[[ID DOS]:[Groupe DOS]],4,FALSE) -> G1 | C45: B
A46: 27 | B46: =VLOOKUP(Tableau16[[#This Row],[ID DOS]],Tableau1[[ID DOS]:[Groupe DOS]],4,FALSE) -> G2 | C46: C | D46: 45 | E46: ABC - data | F46: data | G46: data
...

Sheet Selection
A1: Liste Groupes | B1: Liste Types | E1: Groupe Sélectionné | G1: Types Sélectionnés
A2: {=IFERROR(INDEX(Tableau1[Groupe DOS],MATCH(0,INDEX(COUNTIF(Selection!$A$1:A1,Tableau1[Groupe DOS]),0,0),0)),"")} -> G1 | B2: =IFERROR(INDEX(Tableau1[Type DOS],MATCH(0,INDEX(COUNTIF(Selection!$B$1:B1,Tableau1[Type DOS]),0,0),0)),"") -> A | E2: G5 | G2: A
A3: {=IFERROR(INDEX(Tableau1[Groupe DOS],MATCH(0,INDEX(COUNTIF(Selection!$A$1:A2,Tableau1[Groupe DOS]),0,0),0)),"")} -> G2 | B3: =IFERROR(INDEX(Tableau1[Type DOS],MATCH(0,INDEX(COUNTIF(Selection!$B$1:B2,Tableau1[Type DOS]),0,0),0)),"") -> B | G3: B
A4: {=IFERROR(INDEX(Tableau1[Groupe DOS],MATCH(0,INDEX(COUNTIF(Selection!$A$1:A3,Tableau1[Groupe DOS]),0,0),0)),"")} -> G3 | B4: =IFERROR(INDEX(Tableau1[Type DOS],MATCH(0,INDEX(COUNTIF(Selection!$B$1:B3,Tableau1[Type DOS]),0,0),0)),"") -> C
A5: {=IFERROR(INDEX(Tableau1[Groupe DOS],MATCH(0,INDEX(COUNTIF(Selection!$A$1:A4,Tableau1[Groupe DOS]),0,0),0)),"")} -> G4
A6: {=IFERROR(INDEX(Tableau1[Groupe DOS],MATCH(0,INDEX(COUNTIF(Selection!$A$1:A5,Tableau1[Groupe DOS]),0,0),0)),"")} -> G5
A7: {=IFERROR(INDEX(Tableau1[Groupe DOS],MATCH(0,INDEX(COUNTIF(Selection!$A$1:A6,Tableau1[Groupe DOS]),0,0),0)),"")} -> G6
A8: {=IFERROR(INDEX(Tableau1[Groupe DOS],MATCH(0,INDEX(COUNTIF(Selection!$A$1:A7,Tableau1[Groupe DOS]),0,0),0)),"")}
A9: {=IFERROR(INDEX(Tableau1[Groupe DOS],MATCH(0,INDEX(COUNTIF(Selection!$A$1:A8,Tableau1[Groupe DOS]),0,0),0)),"")}
A10: {=IFERROR(INDEX(Tableau1[Groupe DOS],MATCH(0,INDEX(COUNTIF(Selection!$A$1:A9,Tableau1[Groupe DOS]),0,0),0)),"")}

Sheet Filtrage1
A1: ID DOS | B1: Titre DOS | C1: Description DOS | D1: Groupe DOS | E1: Type DOS | F1: Stade DOS | G1: % ABC | H1: %AZ
A2: 5 | B2: data | C2: data | D2: G5 | E2: A | F2: data | G2: =IFERROR(COUNTIFS(Tableau16_2[ID DOS],Tableau1_2[[#This Row],[ID DOS]],Tableau16_2[Critère Item],"ABC ")/COUNTIF(Tableau16_2[ID DOS],Tableau1_2[[#This Row],[ID DOS]]),"") -> 1 | H2: =IFERROR(COUNTIFS(Tableau16_2[ID DOS],Tableau1_2[[#This Row],[ID DOS]],Tableau16_2[Critère Item],"AZ ")/COUNTIF(Tableau16_2[ID DOS],Tableau1_2[[#This Row],[ID DOS]]),"") -> 0
A3: 10 | B3: data | C3: data | D3: G5 | E3: A | F3: data | G3: =IFERROR(COUNTIFS(Tableau16_2[ID DOS],Tableau1_2[[#This Row],[ID DOS]],Tableau16_2[Critère Item],"ABC ")/COUNTIF(Tableau16_2[ID DOS],Tableau1_2[[#This Row],[ID DOS]]),"") -> 0 | H3: =IFERROR(COUNTIFS(Tableau16_2[ID DOS],Tableau1_2[[#This Row],[ID DOS]],Tableau16_2[Critère Item],"AZ ")/COUNTIF(Tableau16_2[ID DOS],Tableau1_2[[#This Row],[ID DOS]]),"") -> 0
A4: 15 | B4: data | C4: data | D4: G5 | E4: B | F4: data | G4: =IFERROR(COUNTIFS(Tableau16_2[ID DOS],Tableau1_2[[#This Row],[ID DOS]],Tableau16_2[Critère Item],"ABC ")/COUNTIF(Tableau16_2[ID DOS],Tableau1_2[[#This Row],[ID DOS]]),"") -> 1 | H4: =IFERROR(COUNTIFS(Tableau16_2[ID DOS],Tableau1_2[[#This Row],[ID DOS]],Tableau16_2[Critère Item],"AZ ")/COUNTIF(Tableau16_2[ID DOS],Tableau1_2[[#This Row],[ID DOS]]),"") -> 0
A5: 20 | B5: data | C5: data | D5: G5 | E5: B | F5: data | G5: =IFERROR(COUNTIFS(Tableau16_2[ID DOS],Tableau1_2[[#This Row],[ID DOS]],Tableau16_2[Critère Item],"ABC ")/COUNTIF(Tableau16_2[ID DOS],Tableau1_2[[#This Row],[ID DOS]]),"") -> 0 | H5: =IFERROR(COUNTIFS(Tableau16_2[ID DOS],Tableau1_2[[#This Row],[ID DOS]],Tableau16_2[Critère Item],"AZ ")/COUNTIF(Tableau16_2[ID DOS],Tableau1_2[[#This Row],[ID DOS]]),"") -> 1
A6: 25 | B6: data | C6: data | D6: G5 | E6: B | F6: data | G6: =IFERROR(COUNTIFS(Tableau16_2[ID DOS],Tableau1_2[[#This Row],[ID DOS]],Tableau16_2[Critère Item],"ABC ")/COUNTIF(Tableau16_2[ID DOS],Tableau1_2[[#This Row],[ID DOS]]),"") -> 0.66666667 | H6: =IFERROR(COUNTIFS(Tableau16_2[ID DOS],Tableau1_2[[#This Row],[ID DOS]],Tableau16_2[Critère Item],"AZ ")/COUNTIF(Tableau16_2[ID DOS],Tableau1_2[[#This Row],[ID DOS]]),"") -> 0.33333333
G7: =IFERROR(COUNTIFS(Tableau16_2[ID DOS],Tableau1_2[[#This Row],[ID DOS]],Tableau16_2[Critère Item],"ABC ")/COUNTIF(Tableau16_2[ID DOS],Tableau1_2[[#This Row],[ID DOS]]),"") | H7: =IFERROR(COUNTIFS(Tableau16_2[ID DOS],Tableau1_2[[#This Row],[ID DOS]],Tableau16_2[Critère Item],"AZ ")/COUNTIF(Tableau16_2[ID DOS],Tableau1_2[[#This Row],[ID DOS]]),"")
G8: =IFERROR(COUNTIFS(Tableau16_2[ID DOS],Tableau1_2[[#This Row],[ID DOS]],Tableau16_2[Critère Item],"ABC ")/COUNTIF(Tableau16_2[ID DOS],Tableau1_2[[#This Row],[ID DOS]]),"") | H8: =IFERROR(COUNTIFS(Tableau16_2[ID DOS],Tableau1_2[[#This Row],[ID DOS]],Tableau16_2[Critère Item],"AZ ")/COUNTIF(Tableau16_2[ID DOS],Tableau1_2[[#This Row],[ID DOS]]),"")
G9: =IFERROR(COUNTIFS(Tableau16_2[ID DOS],Tableau1_2[[#This Row],[ID DOS]],Tableau16_2[Critère Item],"ABC ")/COUNTIF(Tableau16_2[ID DOS],Tableau1_2[[#This Row],[ID DOS]]),"") | H9: =IFERROR(COUNTIFS(Tableau16_2[ID DOS],Tableau1_2[[#This Row],[ID DOS]],Tableau16_2[Critère Item],"AZ ")/COUNTIF(Tableau16_2[ID DOS],Tableau1_2[[#This Row],[ID DOS]]),"")
G10: =IFERROR(COUNTIFS(Tableau16_2[ID DOS],Tableau1_2[[#This Row],[ID DOS]],Tableau16_2[Critère Item],"ABC ")/COUNTIF(Tableau16_2[ID DOS],Tableau1_2[[#This Row],[ID DOS]]),"") | H10: =IFERROR(COUNTIFS(Tableau16_2[ID DOS],Tableau1_2[[#This Row],[ID DOS]],Tableau16_2[Critère Item],"AZ ")/COUNTIF(Tableau16_2[ID DOS],Tableau1_2[[#This Row],[ID DOS]]),"")
G11: =IFERROR(COUNTIFS(Tableau16_2[ID DOS],Tableau1_2[[#This Row],[ID DOS]],Tableau16_2[Critère Item],"ABC ")/COUNTIF(Tableau16_2[ID DOS],Tableau1_2[[#This Row],[ID DOS]]),"") | H11: =IFERROR(COUNTIFS(Tableau16_2[ID DOS],Tableau1_2[[#This Row],[ID DOS]],Tableau16_2[Critère Item],"AZ ")/COUNTIF(Tableau16_2[ID DOS],Tableau1_2[[#This Row],[ID DOS]]),"")
G12: =IFERROR(COUNTIFS(Tableau16_2[ID DOS],Tableau1_2[[#This Row],[ID DOS]],Tableau16_2[Critère Item],"ABC ")/COUNTIF(Tableau16_2[ID DOS],Tableau1_2[[#This Row],[ID DOS]]),"") | H12: =IFERROR(COUNTIFS(Tableau16_2[ID DOS],Tableau1_2[[#This Row],[ID DOS]],Tableau16_2[Critère Item],"AZ ")/COUNTIF(Tableau16_2[ID DOS],Tableau1_2[[#This Row],[ID DOS]]),"")
G13: =IFERROR(COUNTIFS(Tableau16_2[ID DOS],Tableau1_2[[#This Row],[ID DOS]],Tableau16_2[Critère Item],"ABC ")/COUNTIF(Tableau16_2[ID DOS],Tableau1_2[[#This Row],[ID DOS]]),"") | H13: =IFERROR(COUNTIFS(Tableau16_2[ID DOS],Tableau1_2[[#This Row],[ID DOS]],Tableau16_2[Critère Item],"AZ ")/COUNTIF(Tableau16_2[ID DOS],Tableau1_2[[#This Row],[ID DOS]]),"")
G14: =IFERROR(COUNTIFS(Tableau16_2[ID DOS],Tableau1_2[[#This Row],[ID DOS]],Tableau16_2[Critère Item],"ABC ")/COUNTIF(Tableau16_2[ID DOS],Tableau1_2[[#This Row],[ID DOS]]),"") | H14: =IFERROR(COUNTIFS(Tableau16_2[ID DOS],Tableau1_2[[#This Row],[ID DOS]],Tableau16_2[Critère Item],"AZ ")/COUNTIF(Tableau16_2[ID DOS],Tableau1_2[[#This Row],[ID DOS]]),"")
G15: =IFERROR(COUNTIFS(Tableau16_2[ID DOS],Tableau1_2[[#This Row],[ID DOS]],Tableau16_2[Critère Item],"ABC ")/COUNTIF(Tableau16_2[ID DOS],Tableau1_2[[#This Row],[ID DOS]]),"") | H15: =IFERROR(COUNTIFS(Tableau16_2[ID DOS],Tableau1_2[[#This Row],[ID DOS]],Tableau16_2[Critère Item],"AZ ")/COUNTIF(Tableau16_2[ID DOS],Tableau1_2[[#This Row],[ID DOS]]),"")
G16: =IFERROR(COUNTIFS(Tableau16_2[ID DOS],Tableau1_2[[#This Row],[ID DOS]],Tableau16_2[Critère Item],"ABC ")/COUNTIF(Tableau16_2[ID DOS],Tableau1_2[[#This Row],[ID DOS]]),"") | H16: =IFERROR(COUNTIFS(Tableau16_2[ID DOS],Tableau1_2[[#This Row],[ID DOS]],Tableau16_2[Critère Item],"AZ ")/COUNTIF(Tableau16_2[ID DOS],Tableau1_2[[#This Row],[ID DOS]]),"")
G17: =IFERROR(COUNTIFS(Tableau16_2[ID DOS],Tableau1_2[[#This Row],[ID DOS]],Tableau16_2[Critère Item],"ABC ")/COUNTIF(Tableau16_2[ID DOS],Tableau1_2[[#This Row],[ID DOS]]),"") | H17: =IFERROR(COUNTIFS(Tableau16_2[ID DOS],Tableau1_2[[#This Row],[ID DOS]],Tableau16_2[Critère Item],"AZ ")/COUNTIF(Tableau16_2[ID DOS],Tableau1_2[[#This Row],[ID DOS]]),"")
G18: =IFERROR(COUNTIFS(Tableau16_2[ID DOS],Tableau1_2[[#This Row],[ID DOS]],Tableau16_2[Critère Item],"ABC ")/COUNTIF(Tableau16_2[ID DOS],Tableau1_2[[#This Row],[ID DOS]]),"") | H18: =IFERROR(COUNTIFS(Tableau16_2[ID DOS],Tableau1_2[[#This Row],[ID DOS]],Tableau16_2[Critère Item],"AZ ")/COUNTIF(Tableau16_2[ID DOS],Tableau1_2[[#This Row],[ID DOS]]),"")
... G20: =IFERROR(COUNTIFS(Tableau16_2[ID DOS],Tableau1_2[[#This Row],[ID DOS]],Tableau16_2[Critère Item],"ABC ")/COUNTIF(Tableau16_2[ID DOS],Tableau1_2[[#This Row],[ID DOS]]),"") | H20: =IFERROR(COUNTIFS(Tableau16_2[ID DOS],Tableau1_2[[#This Row],[ID DOS]],Tableau16_2[Critère Item],"AZ ")/COUNTIF(Tableau16_2[ID DOS],Tableau1_2[[#This Row],[ID DOS]]),"")

Sheet Filtrage2
A1: ID DOS | B1: Groupe DOS | C1: Type DOS | D1: ID Item | E1: Titre Item | F1: Description Item | G1: Stade Item | H1: Critère Item
A2: 5 | B2: G5 | C2: A | D2: 15 | E2: ABC - data | F2: data | G2: data | H2: ABC
A3: 10 | B3: G5 | C3: A
A4: 15 | B4: G5 | C4: B | D4: 25 | E4: ABC - data | F4: data | G4: data | H4: ABC
A5: 20 | B5: G5 | C5: B | D5: 30 | E5: AZ - data | F5: data | G5: data | H5: AZ
A6: 25 | B6: G5 | C6: B | D6: 38 | E6: AZ - data | F6: data | G6: data | H6: AZ
A7: 25 | B7: G5 | C7: B | D7: 39 | E7: ABC - data | F7: data | G7: data | H7: ABC
A8: 25 | B8: G5 | C8: B | D8: 40 | E8: ABC - data | F8: data | G8: data | H8: ABC
A9: 25 | B9: G5 | C9: B | D9: 41 | E9: AZ - data | F9: data | G9: data | H9: AZ
A10: 25 | B10: G5 | C10: B | D10: 42 | E10: ABC - data | F10: data | G10: data | H10: ABC
A11: 25 | B11: G5 | C11: B | D11: 43 | E11: ABC - data | F11: data | G11: data | H11: ABC

Sheet Test
A1: ID DOS | B1: Groupe DOS | C1: Type DOS | D1: ABC | E1: AZ
A2: 5 | B2: G5 | C2: A | D2: 1 | E2: 0
A3: 10 | B3: G5 | C3: A | D3: 0 | E3: 0
A4: 15 | B4: G5 | C4: B | D4: 1 | E4: 0
A5: 20 | B5: G5 | C5: B | D5: 0 | E5: 1
A6: 25 | B6: G5 | C6: B | D6: 4 | E6: 2
