Workbook
Name CindexComp: [1]Données!$B$34
Name CindexNote: [1]Données!$B$37
Name CindexReuss: [1]Données!$B$39
Name Compétences: #REF!
Name LindexComp: [1]Données!$A$34
Name LindexNote: [1]Données!$A$37
Name LindexReuss: [1]Données!$A$39
Name MarqueurA: [1]Données!$A$3
Name MarqueurB: [1]Données!$A$4
Name MarqueurC: [1]Données!$A$5
Name MarqueurD: [1]Données!$A$6
Name MarqueurNE: [1]Données!$A$7
Name Poids: #REF!
Name Seuil_max_A: #REF!
Name Seuil_max_B: #REF!
Name Seuil_max_C: #REF!
Name Seuil_max_D: #REF!
Name Seuil_min_E: #REF!
Name Seuil_mon_∅: #REF!
Name SeuilDev0: [1]Données!$B$31
Name SeuilDev1: [1]Données!$B$30
Name SeuilDev2: [1]Données!$B$29
Name SeuilDev3: [1]Données!$B$28
Name SeuilMaxB: [1]Données!$B$22
Name SeuilMaxC: [1]Données!$B$23
Name SeuilMaxD: [1]Données!$B$24

Sheet Bilan Session 2021
C3: Bilan des résultats 2021
C5: Par sujets pour les deux classes 1 & 2 | H5: Par sujets pour la classe 1
D6: Moy. | E6: Min. | F6: Max. | I6: Moy. | J6: Min. | K6: Max.
C7: Sujet n°1 | D7: =IFERROR(AVERAGEIFS('Récap Liste'!C:C,'Récap Liste'!D:D,C7),"") -> 12.833333 | E7: =IF(D7="","",_xlfn.MINIFS('Récap Liste'!C:C,'Récap Liste'!D:D,C7)) -> 6 | F7: =IF(D7="","",_xlfn.MAXIFS('Récap Liste'!C:C,'Récap Liste'!D:D,C7)) -> 18 | H7: Sujet n°1 | I7: =IFERROR(AVERAGEIFS('Récap Liste'!C:C,'Récap Liste'!D:D,H7,'Récap Liste'!A:A,"Classe 1"),"") -> 11.8 | J7: =IF(I7="","",_xlfn.MINIFS('Récap Liste'!C:C,'Récap Liste'!D:D,H7,'Récap Liste'!A:A,"Classe 1")) -> 6 | K7: =IF(I7="","",_xlfn.MAXIFS('Récap Liste'!C:C,'Récap Liste'!D:D,H7,'Récap Liste'!A:A,"Classe 1")) -> 16
C8: Sujet n°2 | D8: =IFERROR(AVERAGEIFS('Récap Liste'!C:C,'Récap Liste'!D:D,C8),"") -> 11.8 | E8: =IF(D8="","",_xlfn.MINIFS('Récap Liste'!C:C,'Récap Liste'!D:D,C8)) -> 8 | F8: =IF(D8="","",_xlfn.MAXIFS('Récap Liste'!C:C,'Récap Liste'!D:D,C8)) -> 16 | H8: Sujet n°2 | I8: =IFERROR(AVERAGEIFS('Récap Liste'!C:C,'Récap Liste'!D:D,H8,'Récap Liste'!A:A,"Classe 1"),"") -> 10.75 | J8: =IF(I8="","",_xlfn.MINIFS('Récap Liste'!C:C,'Récap Liste'!D:D,H8,'Récap Liste'!A:A,"Classe 1")) -> 8 | K8: =IF(I8="","",_xlfn.MAXIFS('Récap Liste'!C:C,'Récap Liste'!D:D,H8,'Récap Liste'!A:A,"Classe 1")) -> 16
C9: Sujet n°3 | D9: =IFERROR(AVERAGEIFS('Récap Liste'!C:C,'Récap Liste'!D:D,C9),"") -> 14.4 | E9: =IF(D9="","",_xlfn.MINIFS('Récap Liste'!C:C,'Récap Liste'!D:D,C9)) -> 10 | F9: =IF(D9="","",_xlfn.MAXIFS('Récap Liste'!C:C,'Récap Liste'!D:D,C9)) -> 18 | H9: Sujet n°3 | I9: =IFERROR(AVERAGEIFS('Récap Liste'!C:C,'Récap Liste'!D:D,H9,'Récap Liste'!A:A,"Classe 1"),"") -> 14.4 | J9: =IF(I9="","",_xlfn.MINIFS('Récap Liste'!C:C,'Récap Liste'!D:D,H9,'Récap Liste'!A:A,"Classe 1")) -> 10 | K9: =IF(I9="","",_xlfn.MAXIFS('Récap Liste'!C:C,'Récap Liste'!D:D,H9,'Récap Liste'!A:A,"Classe 1")) -> 18
C10: Sujet n°4 | D10: =IFERROR(AVERAGEIFS('Récap Liste'!C:C,'Récap Liste'!D:D,C10),"") -> 12.6 | E10: =IF(D10="","",_xlfn.MINIFS('Récap Liste'!C:C,'Récap Liste'!D:D,C10)) -> 11 | F10: =IF(D10="","",_xlfn.MAXIFS('Récap Liste'!C:C,'Récap Liste'!D:D,C10)) -> 14 | H10: Sujet n°4 | I10: =IFERROR(AVERAGEIFS('Récap Liste'!C:C,'Récap Liste'!D:D,H10,'Récap Liste'!A:A,"Classe 1"),"") -> 13.5 | J10: =IF(I10="","",_xlfn.MINIFS('Récap Liste'!C:C,'Récap Liste'!D:D,H10,'Récap Liste'!A:A,"Classe 1")) -> 13 | K10: =IF(I10="","",_xlfn.MAXIFS('Récap Liste'!C:C,'Récap Liste'!D:D,H10,'Récap Liste'!A:A,"Classe 1")) -> 14
C12: TOTAL | D12: =IFERROR(AVERAGE(D7:D10),"") -> 12.908333 | E12: =IF(D12="","",MIN(E7:E10)) -> 6 | F12: =IF(D12="","",MAX(F7:F10)) -> 18
H14: Par sujets pour la classe 2
I15: Moy. | J15: Min. | K15: Max.
H16: Sujet n°1 | I16: =IFERROR(AVERAGEIFS('Récap Liste'!C:C,'Récap Liste'!D:D,H16,'Récap Liste'!A:A,"Classe 2"),"") -> 18 | J16: =IF(I16="","",_xlfn.MINIFS('Récap Liste'!C:C,'Récap Liste'!D:D,H16,'Récap Liste'!A:A,"Classe 2")) -> 18 | K16: =IF(I16="","",_xlfn.MAXIFS('Récap Liste'!C:C,'Récap Liste'!D:D,H16,'Récap Liste'!A:A,"Classe 2")) -> 18
H17: Sujet n°2 | I17: =IFERROR(AVERAGEIFS('Récap Liste'!C:C,'Récap Liste'!D:D,H17,'Récap Liste'!A:A,"Classe 2"),"") -> 16 | J17: =IF(I17="","",_xlfn.MINIFS('Récap Liste'!C:C,'Récap Liste'!D:D,H17,'Récap Liste'!A:A,"Classe 2")) -> 16 | K17: =IF(I17="","",_xlfn.MAXIFS('Récap Liste'!C:C,'Récap Liste'!D:D,H17,'Récap Liste'!A:A,"Classe 2")) -> 16
H18: Sujet n°3 | I18: =IFERROR(AVERAGEIFS('Récap Liste'!C:C,'Récap Liste'!D:D,H18,'Récap Liste'!A:A,"Classe 2"),"") | J18: =IF(I18="","",_xlfn.MINIFS('Récap Liste'!C:C,'Récap Liste'!D:D,H18,'Récap Liste'!A:A,"Classe 2")) | K18: =IF(I18="","",_xlfn.MAXIFS('Récap Liste'!C:C,'Récap Liste'!D:D,H18,'Récap Liste'!A:A,"Classe 2"))
H19: Sujet n°4 | I19: =IFERROR(AVERAGEIFS('Récap Liste'!C:C,'Récap Liste'!D:D,H19,'Récap Liste'!A:A,"Classe 2"),"") -> 12 | J19: =IF(I19="","",_xlfn.MINIFS('Récap Liste'!C:C,'Récap Liste'!D:D,H19,'Récap Liste'!A:A,"Classe 2")) -> 11 | K19: =IF(I19="","",_xlfn.MAXIFS('Récap Liste'!C:C,'Récap Liste'!D:D,H19,'Récap Liste'!A:A,"Classe 2")) -> 13

Sheet Récap Liste
A1: Classe | B1: NOM Prénom | C1: NOTE /20 | D1: Sujet n°
A2: Classe 1 | B2: Élève 1 | C2: 12 | D2: Sujet n°3
A3: Classe 1 | B3: Élève 2 | C3: 12 | D3: Sujet n°1
A4: Classe 1 | B4: Élève 3 | C4: 13 | D4: Sujet n°1
A5: Classe 1 | B5: Élève 4 | C5: 14 | D5: Sujet n°4
A6: Classe 1 | B6: Élève 5 | C6: 16 | D6: Sujet n°2
A7: Classe 1 | B7: Élève 6 | C7: 12 | D7: Sujet n°1
A8: Classe 1 | B8: Élève 7 | C8: 9 | D8: Sujet n°2
A9: Classe 1 | B9: Élève 8 | C9: 8 | D9: Sujet n°2
A10: Classe 1 | B10: Élève 9 | C10: 6 | D10: Sujet n°1
A11: Classe 2 | B11: Élève 10 | C11: 18 | D11: Sujet n°1
A12: Classe 2 | B12: Élève 11 | C12: 16 | D12: Sujet n°2
A13: Classe 2 | B13: Élève 12 | C13: 13 | D13: Sujet n°4
... A22: Classe 1 | B22: Élève 21 | C22: 13 | D22: Sujet n°4
