Workbook

Sheet Data
A1: N° Dossier | B1: Groupe | C1: Description | D1: Item | E1: Notation
A2: DOS-001 | B2: G1 | C2: blablabla | D2: Item-001 | E2: A
A3: DOS-001 | B3: G1 | C3: blablabla | D3: Item-002
A4: DOS-001 | B4: G1 | C4: blablabla | D4: Item-003
A5: DOS-001 | B5: G1 | C5: blablabla | D5: Item-004 | E5: A
A6: DOS-001 | B6: G1 | C6: blablabla | D6: Item-005
A7: DOS-002 | B7: G2 | C7: blablabla | D7: Item-006
A8: DOS-002 | B8: G2 | C8: blablabla | D8: Item-007
A9: DOS-002 | B9: G2 | C9: blablabla | D9: Item-008
A10: DOS-003 | B10: G2 | C10: blablabla | D10: Item-009
A11: DOS-003 | B11: G2 | C11: blablabla | D11: Item-010 | E11: D
A12: DOS-003 | B12: G2 | C12: blablabla | D12: Item-011
A13: DOS-003 | B13: G2 | C13: blablabla | D13: Item-012
A14: DOS-004 | B14: G2 | C14: blablabla | D14: Item-013
A15: DOS-004 | B15: G2 | C15: blablabla | D15: Item-014
A16: DOS-004 | B16: G2 | C16: blablabla | D16: Item-015 | E16: A
A17: DOS-004 | B17: G2 | C17: blablabla | D17: Item-016 | E17: A
A18: DOS-004 | B18: G2 | C18: blablabla | D18: Item-017 | E18: A
A19: DOS-004 | B19: G2 | C19: blablabla | D19: Item-018
A20: DOS-004 | B20: G2 | C20: blablabla | D20: Item-019
A21: DOS-004 | B21: G2 | C21: blablabla | D21: Item-020
A22: DOS-004 | B22: G2 | C22: blablabla | D22: Item-021 | E22: D
A23: DOS-005 | B23: G1 | C23: blablabla | D23: Item-022
A24: DOS-005 | B24: G1 | C24: blablabla | D24: Item-023
A25: DOS-005 | B25: G1 | C25: blablabla | D25: Item-024 | E25: A
A26: DOS-005 | B26: G1 | C26: blablabla | D26: Item-025 | E26: A
A27: DOS-005 | B27: G1 | C27: blablabla | D27: Item-026 | E27: D
A28: DOS-005 | B28: G1 | C28: blablabla | D28: Item-027
A29: DOS-005 | B29: G1 | C29: blablabla | D29: Item-028

Sheet Feuil1
B1: Cases à figer
A3: DOS-001 | B3: =VLOOKUP($A3,Data!$A:$E,2,FALSE) -> G1 | C3: =VLOOKUP($A3,Data!$A:$E,3,FALSE) -> blablabla | D3: =COUNTIFS(Data!A:A,A3,Data!E:E,"A")/COUNTIF(Data!A:A,A3) -> 0.4 | E3: =COUNTIFS(Data!A:A,A3,Data!E:E,"D") -> 0 | F3: =COUNTIFS(Data!A:A,A3,Data!E:E,"") -> 3
A4: DOS-002 | B4: =VLOOKUP($A4,Data!$A:$E,2,FALSE) -> G2 | C4: =VLOOKUP($A4,Data!$A:$E,3,FALSE) -> blablabla | D4: =COUNTIFS(Data!A:A,A4,Data!E:E,"A")/COUNTIF(Data!A:A,A4) -> 0 | E4: =COUNTIFS(Data!A:A,A4,Data!E:E,"D") -> 0 | F4: =COUNTIFS(Data!A:A,A4,Data!E:E,"") -> 3
A5: DOS-003 | B5: =VLOOKUP($A5,Data!$A:$E,2,FALSE) -> G2 | C5: =VLOOKUP($A5,Data!$A:$E,3,FALSE) -> blablabla | D5: =COUNTIFS(Data!A:A,A5,Data!E:E,"A")/COUNTIF(Data!A:A,A5) -> 0 | E5: =COUNTIFS(Data!A:A,A5,Data!E:E,"D") -> 1 | F5: =COUNTIFS(Data!A:A,A5,Data!E:E,"") -> 3
A6: DOS-004 | B6: =VLOOKUP($A6,Data!$A:$E,2,FALSE) -> G2 | C6: =VLOOKUP($A6,Data!$A:$E,3,FALSE) -> blablabla | D6: =COUNTIFS(Data!A:A,A6,Data!E:E,"A")/COUNTIF(Data!A:A,A6) -> 0.33333333 | E6: =COUNTIFS(Data!A:A,A6,Data!E:E,"D") -> 1 | F6: =COUNTIFS(Data!A:A,A6,Data!E:E,"") -> 5
A7: DOS-005 | B7: =VLOOKUP($A7,Data!$A:$E,2,FALSE) -> G1 | C7: =VLOOKUP($A7,Data!$A:$E,3,FALSE) -> blablabla | D7: =COUNTIFS(Data!A:A,A7,Data!E:E,"A")/COUNTIF(Data!A:A,A7) -> 0.28571429 | E7: =COUNTIFS(Data!A:A,A7,Data!E:E,"D") -> 1 | F7: =COUNTIFS(Data!A:A,A7,Data!E:E,"") -> 4
