Workbook
Name Agents: #REF!
Name Dec: #REF!
Name ferie: [1]Roulement!$AW$1:$AW$13
Name Fériés: #REF!
Name Jours_Feries: #REF!
Name Juin: #REF!
Name mois: #REF!
Name Nov: #REF!
Name oct: #REF!
Name SEPT: #REF!
Name Vacances_Debut: #REF!
Name Vacances_Fin: #REF!

Sheet planning
A1: 2021 | B1: =B2 -> 44197 | C1: =C2 -> 44198 | D1: =D2 -> 44199 | E1: =E2 -> 44200 | F1: =F2 -> 44201 | G1: =G2 -> 44202 | H1: =H2 -> 44203 | I1: =I2 -> 44204 | ... AF1: =AF2 -> 44227 | AJ1: 1
A2: =DATE(A1,1,1) -> 44197 | B2: =A2 -> 44197 | C2: =B2+1 -> 44198 | D2: =C2+1 -> 44199 | E2: =D2+1 -> 44200 | F2: =E2+1 -> 44201 | G2: =F2+1 -> 44202 | H2: =G2+1 -> 44203 | I2: =H2+1 -> 44204 | J2: =I2+1 -> 44205 | ... AF2: =AE2+1 -> 44227 | AJ2: 2
A3: Agent 1 | B3: =IFERROR(OFFSET(Cycle!$B$3,1,MOD(B2+26,42)),"") -> 0 | C3: =IFERROR(OFFSET(Cycle!$B$3,1,MOD(C2+26,42)),"") -> 0 | D3: =IFERROR(OFFSET(Cycle!$B$3,1,MOD(D2+26,42)),"") -> 0 | E3: =IFERROR(OFFSET(Cycle!$B$3,1,MOD(E2+26,42)),"") -> 0 | F3: =IFERROR(OFFSET(Cycle!$B$3,1,MOD(F2+26,42)),"") -> 0 | G3: =IFERROR(OFFSET(Cycle!$B$3,1,MOD(G2+26,42)),"") -> 0 | H3: =IFERROR(OFFSET(Cycle!$B$3,1,MOD(H2+26,42)),"") -> 0 | I3: =IFERROR(OFFSET(Cycle!$B$3,1,MOD(I2+26,42)),"") -> 0 | ... AF3: =IFERROR(OFFSET(Cycle!$B$3,1,MOD(AF2+26,42)),"") -> 0
A4: Agent 2 | B4: =IFERROR(OFFSET(Cycle!$B$3,1,MOD(B2+33,42)),"") -> 0 | C4: =IFERROR(OFFSET(Cycle!$B$3,1,MOD(C2+33,42)),"") -> 0 | D4: =IFERROR(OFFSET(Cycle!$B$3,1,MOD(D2+33,42)),"") -> 0 | E4: =IFERROR(OFFSET(Cycle!$B$3,1,MOD(E2+33,42)),"") -> 0 | F4: =IFERROR(OFFSET(Cycle!$B$3,1,MOD(F2+33,42)),"") -> 0 | G4: =IFERROR(OFFSET(Cycle!$B$3,1,MOD(G2+33,42)),"") -> 0 | H4: =IFERROR(OFFSET(Cycle!$B$3,1,MOD(H2+33,42)),"") -> 0 | I4: =IFERROR(OFFSET(Cycle!$B$3,1,MOD(I2+33,42)),"") -> 0 | ... AF4: =IFERROR(OFFSET(Cycle!$B$3,1,MOD(AF2+33,42)),"") -> 0
A5: Agent 3 | B5: =IFERROR(OFFSET(Cycle!$B$3,1,MOD(B2+40,42)),"") -> 0 | C5: =IFERROR(OFFSET(Cycle!$B$3,1,MOD(C2+40,42)),"") -> 0 | D5: =IFERROR(OFFSET(Cycle!$B$3,1,MOD(D2+40,42)),"") -> 0 | E5: =IFERROR(OFFSET(Cycle!$B$3,1,MOD(E2+40,42)),"") -> 0 | F5: =IFERROR(OFFSET(Cycle!$B$3,1,MOD(F2+40,42)),"") -> 0 | G5: =IFERROR(OFFSET(Cycle!$B$3,1,MOD(G2+40,42)),"") -> 0 | H5: =IFERROR(OFFSET(Cycle!$B$3,1,MOD(H2+40,42)),"") -> 0 | I5: =IFERROR(OFFSET(Cycle!$B$3,1,MOD(I2+40,42)),"") -> 0 | ... AF5: =IFERROR(OFFSET(Cycle!$B$3,1,MOD(AF2+40,42)),"") -> 0
A6: Agent 4 | B6: =IFERROR(OFFSET(Cycle!$B$3,1,MOD(B2+5,42)),"") -> 0 | C6: =IFERROR(OFFSET(Cycle!$B$3,1,MOD(C2+5,42)),"") -> 0 | D6: =IFERROR(OFFSET(Cycle!$B$3,1,MOD(D2+5,42)),"") -> 0 | E6: =IFERROR(OFFSET(Cycle!$B$3,1,MOD(E2+5,42)),"") -> 0 | F6: =IFERROR(OFFSET(Cycle!$B$3,1,MOD(F2+5,42)),"") -> 0 | G6: =IFERROR(OFFSET(Cycle!$B$3,1,MOD(G2+5,42)),"") -> 0 | H6: =IFERROR(OFFSET(Cycle!$B$3,1,MOD(H2+5,42)),"") -> 0 | I6: =IFERROR(OFFSET(Cycle!$B$3,1,MOD(I2+5,42)),"") -> 0 | ... AF6: =IFERROR(OFFSET(Cycle!$B$3,1,MOD(AF2+5,42)),"") -> 0
A7: Agent 5 | B7: =IFERROR(OFFSET(Cycle!$B$3,1,MOD(B2+12,42)),"") -> 0 | C7: =IFERROR(OFFSET(Cycle!$B$3,1,MOD(C2+12,42)),"") -> 0 | D7: =IFERROR(OFFSET(Cycle!$B$3,1,MOD(D2+12,42)),"") -> 0 | E7: =IFERROR(OFFSET(Cycle!$B$3,1,MOD(E2+12,42)),"") -> 0 | F7: =IFERROR(OFFSET(Cycle!$B$3,1,MOD(F2+12,42)),"") -> 0 | G7: =IFERROR(OFFSET(Cycle!$B$3,1,MOD(G2+12,42)),"") -> 0 | H7: =IFERROR(OFFSET(Cycle!$B$3,1,MOD(H2+12,42)),"") -> 0 | I7: =IFERROR(OFFSET(Cycle!$B$3,1,MOD(I2+12,42)),"") -> 0 | ... AF7: =IFERROR(OFFSET(Cycle!$B$3,1,MOD(AF2+12,42)),"") -> 0
A8: Agent 6 | B8: =IFERROR(OFFSET(Cycle!$B$3,1,MOD(B2+19,42)),"") -> 0 | C8: =IFERROR(OFFSET(Cycle!$B$3,1,MOD(C2+19,42)),"") -> 0 | D8: =IFERROR(OFFSET(Cycle!$B$3,1,MOD(D2+19,42)),"") -> 0 | E8: =IFERROR(OFFSET(Cycle!$B$3,1,MOD(E2+19,42)),"") -> 0 | F8: =IFERROR(OFFSET(Cycle!$B$3,1,MOD(F2+19,42)),"") -> 0 | G8: =IFERROR(OFFSET(Cycle!$B$3,1,MOD(G2+19,42)),"") -> 0 | H8: =IFERROR(OFFSET(Cycle!$B$3,1,MOD(H2+19,42)),"") -> 0 | I8: =IFERROR(OFFSET(Cycle!$B$3,1,MOD(I2+19,42)),"") -> 0 | ... AF8: =IFERROR(OFFSET(Cycle!$B$3,1,MOD(AF2+19,42)),"") -> 0 | AJ8: 3
AJ9: 4
A10: =DATE(A1,2,1) -> 44228 | B10: =A10 -> 44228 | C10: =B10+1 -> 44229 | D10: =C10+1 -> 44230 | E10: =D10+1 -> 44231 | F10: =E10+1 -> 44232 | G10: =F10+1 -> 44233 | H10: =G10+1 -> 44234 | I10: =H10+1 -> 44235 | J10: =I10+1 -> 44236 | ... AC10: =AB10+1 -> 44255 | AD10: =IF(MONTH(AC10+1)=MONTH(AC10),AC10+1,"") | AJ10: 5
A11: Agent 1 | B11: =IFERROR(OFFSET(Cycle!$B$3,1,MOD(B10+26,42)),"") -> 0 | C11: =IFERROR(OFFSET(Cycle!$B$3,1,MOD(C10+26,42)),"") -> 0 | D11: =IFERROR(OFFSET(Cycle!$B$3,1,MOD(D10+26,42)),"") -> 0 | E11: =IFERROR(OFFSET(Cycle!$B$3,1,MOD(E10+26,42)),"") -> 0 | F11: =IFERROR(OFFSET(Cycle!$B$3,1,MOD(F10+26,42)),"") -> 0 | G11: =IFERROR(OFFSET(Cycle!$B$3,1,MOD(G10+26,42)),"") -> 0 | H11: =IFERROR(OFFSET(Cycle!$B$3,1,MOD(H10+26,42)),"") -> 0 | I11: =IFERROR(OFFSET(Cycle!$B$3,1,MOD(I10+26,42)),"") -> 0 | ... AF11: =IFERROR(OFFSET(Cycle!$B$3,1,MOD(AF10+26,42)),"") -> 0
A12: Agent 2 | B12: =IFERROR(OFFSET(Cycle!$B$3,1,MOD(B10+33,42)),"") -> 0 | C12: =IFERROR(OFFSET(Cycle!$B$3,1,MOD(C10+33,42)),"") -> 0 | D12: =IFERROR(OFFSET(Cycle!$B$3,1,MOD(D10+33,42)),"") -> 0 | E12: =IFERROR(OFFSET(Cycle!$B$3,1,MOD(E10+33,42)),"") -> 0 | F12: =IFERROR(OFFSET(Cycle!$B$3,1,MOD(F10+33,42)),"") -> 0 | G12: =IFERROR(OFFSET(Cycle!$B$3,1,MOD(G10+33,42)),"") -> 0 | H12: =IFERROR(OFFSET(Cycle!$B$3,1,MOD(H10+33,42)),"") -> 0 | I12: =IFERROR(OFFSET(Cycle!$B$3,1,MOD(I10+33,42)),"") -> 0 | ... AF12: =IFERROR(OFFSET(Cycle!$B$3,1,MOD(AF10+33,42)),"") -> 0
A13: Agent 3 | B13: =IFERROR(OFFSET(Cycle!$B$3,1,MOD(B10+40,42)),"") -> 0 | C13: =IFERROR(OFFSET(Cycle!$B$3,1,MOD(C10+40,42)),"") -> 0 | D13: =IFERROR(OFFSET(Cycle!$B$3,1,MOD(D10+40,42)),"") -> 0 | E13: =IFERROR(OFFSET(Cycle!$B$3,1,MOD(E10+40,42)),"") -> 0 | F13: =IFERROR(OFFSET(Cycle!$B$3,1,MOD(F10+40,42)),"") -> 0 | G13: =IFERROR(OFFSET(Cycle!$B$3,1,MOD(G10+40,42)),"") -> 0 | H13: =IFERROR(OFFSET(Cycle!$B$3,1,MOD(H10+40,42)),"") -> 0 | I13: =IFERROR(OFFSET(Cycle!$B$3,1,MOD(I10+40,42)),"") -> 0 | ... AF13: =IFERROR(OFFSET(Cycle!$B$3,1,MOD(AF10+40,42)),"") -> 0
A14: Agent 4 | B14: =IFERROR(OFFSET(Cycle!$B$3,1,MOD(B10+5,42)),"") -> 0 | C14: =IFERROR(OFFSET(Cycle!$B$3,1,MOD(C10+5,42)),"") -> 0 | D14: =IFERROR(OFFSET(Cycle!$B$3,1,MOD(D10+5,42)),"") -> 0 | E14: =IFERROR(OFFSET(Cycle!$B$3,1,MOD(E10+5,42)),"") -> 0 | F14: =IFERROR(OFFSET(Cycle!$B$3,1,MOD(F10+5,42)),"") -> 0 | G14: =IFERROR(OFFSET(Cycle!$B$3,1,MOD(G10+5,42)),"") -> 0 | H14: =IFERROR(OFFSET(Cycle!$B$3,1,MOD(H10+5,42)),"") -> 0 | I14: =IFERROR(OFFSET(Cycle!$B$3,1,MOD(I10+5,42)),"") -> 0 | ... AF14: =IFERROR(OFFSET(Cycle!$B$3,1,MOD(AF10+5,42)),"") -> 0
A15: Agent 5 | B15: =IFERROR(OFFSET(Cycle!$B$3,1,MOD(B10+12,42)),"") -> 0 | C15: =IFERROR(OFFSET(Cycle!$B$3,1,MOD(C10+12,42)),"") -> 0 | D15: =IFERROR(OFFSET(Cycle!$B$3,1,MOD(D10+12,42)),"") -> 0 | E15: =IFERROR(OFFSET(Cycle!$B$3,1,MOD(E10+12,42)),"") -> 0 | F15: =IFERROR(OFFSET(Cycle!$B$3,1,MOD(F10+12,42)),"") -> 0 | G15: =IFERROR(OFFSET(Cycle!$B$3,1,MOD(G10+12,42)),"") -> 0 | H15: =IFERROR(OFFSET(Cycle!$B$3,1,MOD(H10+12,42)),"") -> 0 | I15: =IFERROR(OFFSET(Cycle!$B$3,1,MOD(I10+12,42)),"") -> 0 | ... AF15: =IFERROR(OFFSET(Cycle!$B$3,1,MOD(AF10+12,42)),"") -> 0
A16: Agent 6 | B16: =IFERROR(OFFSET(Cycle!$B$3,1,MOD(B10+19,42)),"") -> 0 | C16: =IFERROR(OFFSET(Cycle!$B$3,1,MOD(C10+19,42)),"") -> 0 | D16: =IFERROR(OFFSET(Cycle!$B$3,1,MOD(D10+19,42)),"") -> 0 | E16: =IFERROR(OFFSET(Cycle!$B$3,1,MOD(E10+19,42)),"") -> 0 | F16: =IFERROR(OFFSET(Cycle!$B$3,1,MOD(F10+19,42)),"") -> 0 | G16: =IFERROR(OFFSET(Cycle!$B$3,1,MOD(G10+19,42)),"") -> 0 | H16: =IFERROR(OFFSET(Cycle!$B$3,1,MOD(H10+19,42)),"") -> 0 | I16: =IFERROR(OFFSET(Cycle!$B$3,1,MOD(I10+19,42)),"") -> 0 | ... AF16: =IFERROR(OFFSET(Cycle!$B$3,1,MOD(AF10+19,42)),"") -> 0 | AJ16: 3
A18: =DATE(A1,3,1) -> 44256 | B18: =A18 -> 44256 | C18: =B18+1 -> 44257 | D18: =C18+1 -> 44258 | E18: =D18+1 -> 44259 | F18: =E18+1 -> 44260 | G18: =F18+1 -> 44261 | H18: =G18+1 -> 44262 | I18: =H18+1 -> 44263 | J18: =I18+1 -> 44264 | ... AF18: =AE18+1 -> 44286
A19: Agent 1 | B19: =IFERROR(OFFSET(Cycle!$B$3,1,MOD(B18+26,42)),"") -> 0 | C19: =IFERROR(OFFSET(Cycle!$B$3,1,MOD(C18+26,42)),"") -> 0 | D19: =IFERROR(OFFSET(Cycle!$B$3,1,MOD(D18+26,42)),"") -> 0 | E19: =IFERROR(OFFSET(Cycle!$B$3,1,MOD(E18+26,42)),"") -> 0 | F19: =IFERROR(OFFSET(Cycle!$B$3,1,MOD(F18+26,42)),"") -> 0 | G19: =IFERROR(OFFSET(Cycle!$B$3,1,MOD(G18+26,42)),"") -> 0 | H19: =IFERROR(OFFSET(Cycle!$B$3,1,MOD(H18+26,42)),"") -> 0 | I19: =IFERROR(OFFSET(Cycle!$B$3,1,MOD(I18+26,42)),"") -> 0 | ... AF19: =IFERROR(OFFSET(Cycle!$B$3,1,MOD(AF18+26,42)),"") -> 0
A20: Agent 2 | B20: =IFERROR(OFFSET(Cycle!$B$3,1,MOD(B18+33,42)),"") -> 0 | C20: =IFERROR(OFFSET(Cycle!$B$3,1,MOD(C18+33,42)),"") -> 0 | D20: =IFERROR(OFFSET(Cycle!$B$3,1,MOD(D18+33,42)),"") -> 0 | E20: =IFERROR(OFFSET(Cycle!$B$3,1,MOD(E18+33,42)),"") -> 0 | F20: =IFERROR(OFFSET(Cycle!$B$3,1,MOD(F18+33,42)),"") -> 0 | G20: =IFERROR(OFFSET(Cycle!$B$3,1,MOD(G18+33,42)),"") -> 0 | H20: =IFERROR(OFFSET(Cycle!$B$3,1,MOD(H18+33,42)),"") -> 0 | I20: =IFERROR(OFFSET(Cycle!$B$3,1,MOD(I18+33,42)),"") -> 0 | ... AF20: =IFERROR(OFFSET(Cycle!$B$3,1,MOD(AF18+33,42)),"") -> 0
A21: Agent 3 | B21: =IFERROR(OFFSET(Cycle!$B$3,1,MOD(B18+40,42)),"") -> 0 | C21: =IFERROR(OFFSET(Cycle!$B$3,1,MOD(C18+40,42)),"") -> 0 | D21: =IFERROR(OFFSET(Cycle!$B$3,1,MOD(D18+40,42)),"") -> 0 | E21: =IFERROR(OFFSET(Cycle!$B$3,1,MOD(E18+40,42)),"") -> 0 | F21: =IFERROR(OFFSET(Cycle!$B$3,1,MOD(F18+40,42)),"") -> 0 | G21: =IFERROR(OFFSET(Cycle!$B$3,1,MOD(G18+40,42)),"") -> 0 | H21: =IFERROR(OFFSET(Cycle!$B$3,1,MOD(H18+40,42)),"") -> 0 | I21: =IFERROR(OFFSET(Cycle!$B$3,1,MOD(I18+40,42)),"") -> 0 | ... AF21: =IFERROR(OFFSET(Cycle!$B$3,1,MOD(AF18+40,42)),"") -> 0
A22: Agent 4 | B22: =IFERROR(OFFSET(Cycle!$B$3,1,MOD(B18+5,42)),"") -> 0 | C22: =IFERROR(OFFSET(Cycle!$B$3,1,MOD(C18+5,42)),"") -> 0 | D22: =IFERROR(OFFSET(Cycle!$B$3,1,MOD(D18+5,42)),"") -> 0 | E22: =IFERROR(OFFSET(Cycle!$B$3,1,MOD(E18+5,42)),"") -> 0 | F22: =IFERROR(OFFSET(Cycle!$B$3,1,MOD(F18+5,42)),"") -> 0 | G22: =IFERROR(OFFSET(Cycle!$B$3,1,MOD(G18+5,42)),"") -> 0 | H22: =IFERROR(OFFSET(Cycle!$B$3,1,MOD(H18+5,42)),"") -> 0 | I22: =IFERROR(OFFSET(Cycle!$B$3,1,MOD(I18+5,42)),"") -> 0 | ... AF22: =IFERROR(OFFSET(Cycle!$B$3,1,MOD(AF18+5,42)),"") -> 0
A23: Agent 5 | B23: =IFERROR(OFFSET(Cycle!$B$3,1,MOD(B18+12,42)),"") -> 0 | C23: =IFERROR(OFFSET(Cycle!$B$3,1,MOD(C18+12,42)),"") -> 0 | D23: =IFERROR(OFFSET(Cycle!$B$3,1,MOD(D18+12,42)),"") -> 0 | E23: =IFERROR(OFFSET(Cycle!$B$3,1,MOD(E18+12,42)),"") -> 0 | F23: =IFERROR(OFFSET(Cycle!$B$3,1,MOD(F18+12,42)),"") -> 0 | G23: =IFERROR(OFFSET(Cycle!$B$3,1,MOD(G18+12,42)),"") -> 0 | H23: =IFERROR(OFFSET(Cycle!$B$3,1,MOD(H18+12,42)),"") -> 0 | I23: =IFERROR(OFFSET(Cycle!$B$3,1,MOD(I18+12,42)),"") -> 0 | ... AF23: =IFERROR(OFFSET(Cycle!$B$3,1,MOD(AF18+12,42)),"") -> 0
A24: Agent 6 | B24: =IFERROR(OFFSET(Cycle!$B$3,1,MOD(B18+19,42)),"") -> 0 | C24: =IFERROR(OFFSET(Cycle!$B$3,1,MOD(C18+19,42)),"") -> 0 | D24: =IFERROR(OFFSET(Cycle!$B$3,1,MOD(D18+19,42)),"") -> 0 | E24: =IFERROR(OFFSET(Cycle!$B$3,1,MOD(E18+19,42)),"") -> 0 | F24: =IFERROR(OFFSET(Cycle!$B$3,1,MOD(F18+19,42)),"") -> 0 | G24: =IFERROR(OFFSET(Cycle!$B$3,1,MOD(G18+19,42)),"") -> 0 | H24: =IFERROR(OFFSET(Cycle!$B$3,1,MOD(H18+19,42)),"") -> 0 | I24: =IFERROR(OFFSET(Cycle!$B$3,1,MOD(I18+19,42)),"") -> 0 | ... AF24: =IFERROR(OFFSET(Cycle!$B$3,1,MOD(AF18+19,42)),"") -> 0 | AJ24: 3
A26: =DATE(A1,4,1) -> 44287 | B26: =A26 -> 44287 | C26: =B26+1 -> 44288 | D26: =C26+1 -> 44289 | E26: =D26+1 -> 44290 | F26: =E26+1 -> 44291 | G26: =F26+1 -> 44292 | H26: =G26+1 -> 44293 | I26: =H26+1 -> 44294 | J26: =I26+1 -> 44295 | ... AE26: =AD26+1 -> 44316
A27: Agent 1 | B27: =IFERROR(OFFSET(Cycle!$B$3,1,MOD(B26+26,42)),"") -> 0 | C27: =IFERROR(OFFSET(Cycle!$B$3,1,MOD(C26+26,42)),"") -> 0 | D27: =IFERROR(OFFSET(Cycle!$B$3,1,MOD(D26+26,42)),"") -> 0 | E27: =IFERROR(OFFSET(Cycle!$B$3,1,MOD(E26+26,42)),"") -> 0 | F27: =IFERROR(OFFSET(Cycle!$B$3,1,MOD(F26+26,42)),"") -> 0 | G27: =IFERROR(OFFSET(Cycle!$B$3,1,MOD(G26+26,42)),"") -> 0 | H27: =IFERROR(OFFSET(Cycle!$B$3,1,MOD(H26+26,42)),"") -> 0 | I27: =IFERROR(OFFSET(Cycle!$B$3,1,MOD(I26+26,42)),"") -> 0 | ... AF27: =IFERROR(OFFSET(Cycle!$B$3,1,MOD(AF26+26,42)),"") -> 0
A28: Agent 2 | B28: =IFERROR(OFFSET(Cycle!$B$3,1,MOD(B26+33,42)),"") -> 0 | C28: =IFERROR(OFFSET(Cycle!$B$3,1,MOD(C26+33,42)),"") -> 0 | D28: =IFERROR(OFFSET(Cycle!$B$3,1,MOD(D26+33,42)),"") -> 0 | E28: =IFERROR(OFFSET(Cycle!$B$3,1,MOD(E26+33,42)),"") -> 0 | F28: =IFERROR(OFFSET(Cycle!$B$3,1,MOD(F26+33,42)),"") -> 0 | G28: =IFERROR(OFFSET(Cycle!$B$3,1,MOD(G26+33,42)),"") -> 0 | H28: =IFERROR(OFFSET(Cycle!$B$3,1,MOD(H26+33,42)),"") -> 0 | I28: =IFERROR(OFFSET(Cycle!$B$3,1,MOD(I26+33,42)),"") -> 0 | ... AF28: =IFERROR(OFFSET(Cycle!$B$3,1,MOD(AF26+33,42)),"") -> 0
A29: Agent 3 | B29: =IFERROR(OFFSET(Cycle!$B$3,1,MOD(B26+40,42)),"") -> 0 | C29: =IFERROR(OFFSET(Cycle!$B$3,1,MOD(C26+40,42)),"") -> 0 | D29: =IFERROR(OFFSET(Cycle!$B$3,1,MOD(D26+40,42)),"") -> 0 | E29: =IFERROR(OFFSET(Cycle!$B$3,1,MOD(E26+40,42)),"") -> 0 | F29: =IFERROR(OFFSET(Cycle!$B$3,1,MOD(F26+40,42)),"") -> 0 | G29: =IFERROR(OFFSET(Cycle!$B$3,1,MOD(G26+40,42)),"") -> 0 | H29: =IFERROR(OFFSET(Cycle!$B$3,1,MOD(H26+40,42)),"") -> 0 | I29: =IFERROR(OFFSET(Cycle!$B$3,1,MOD(I26+40,42)),"") -> 0 | ... AF29: =IFERROR(OFFSET(Cycle!$B$3,1,MOD(AF26+40,42)),"") -> 0
A30: Agent 4 | B30: =IFERROR(OFFSET(Cycle!$B$3,1,MOD(B26+5,42)),"") -> 0 | C30: =IFERROR(OFFSET(Cycle!$B$3,1,MOD(C26+5,42)),"") -> 0 | D30: =IFERROR(OFFSET(Cycle!$B$3,1,MOD(D26+5,42)),"") -> 0 | E30: =IFERROR(OFFSET(Cycle!$B$3,1,MOD(E26+5,42)),"") -> 0 | F30: =IFERROR(OFFSET(Cycle!$B$3,1,MOD(F26+5,42)),"") -> 0 | G30: =IFERROR(OFFSET(Cycle!$B$3,1,MOD(G26+5,42)),"") -> 0 | H30: =IFERROR(OFFSET(Cycle!$B$3,1,MOD(H26+5,42)),"") -> 0 | I30: =IFERROR(OFFSET(Cycle!$B$3,1,MOD(I26+5,42)),"") -> 0 | ... AF30: =IFERROR(OFFSET(Cycle!$B$3,1,MOD(AF26+5,42)),"") -> 0
A31: Agent 5 | B31: =IFERROR(OFFSET(Cycle!$B$3,1,MOD(B26+12,42)),"") -> 0 | C31: =IFERROR(OFFSET(Cycle!$B$3,1,MOD(C26+12,42)),"") -> 0 | D31: =IFERROR(OFFSET(Cycle!$B$3,1,MOD(D26+12,42)),"") -> 0 | E31: =IFERROR(OFFSET(Cycle!$B$3,1,MOD(E26+12,42)),"") -> 0 | F31: =IFERROR(OFFSET(Cycle!$B$3,1,MOD(F26+12,42)),"") -> 0 | G31: =IFERROR(OFFSET(Cycle!$B$3,1,MOD(G26+12,42)),"") -> 0 | H31: =IFERROR(OFFSET(Cycle!$B$3,1,MOD(H26+12,42)),"") -> 0 | I31: =IFERROR(OFFSET(Cycle!$B$3,1,MOD(I26+12,42)),"") -> 0 | ... AF31: =IFERROR(OFFSET(Cycle!$B$3,1,MOD(AF26+12,42)),"") -> 0
A32: Agent 6 | B32: =IFERROR(OFFSET(Cycle!$B$3,1,MOD(B26+19,42)),"") -> 0 | C32: =IFERROR(OFFSET(Cycle!$B$3,1,MOD(C26+19,42)),"") -> 0 | D32: =IFERROR(OFFSET(Cycle!$B$3,1,MOD(D26+19,42)),"") -> 0 | E32: =IFERROR(OFFSET(Cycle!$B$3,1,MOD(E26+19,42)),"") -> 0 | F32: =IFERROR(OFFSET(Cycle!$B$3,1,MOD(F26+19,42)),"") -> 0 | G32: =IFERROR(OFFSET(Cycle!$B$3,1,MOD(G26+19,42)),"") -> 0 | H32: =IFERROR(OFFSET(Cycle!$B$3,1,MOD(H26+19,42)),"") -> 0 | I32: =IFERROR(OFFSET(Cycle!$B$3,1,MOD(I26+19,42)),"") -> 0 | ... AF32: =IFERROR(OFFSET(Cycle!$B$3,1,MOD(AF26+19,42)),"") -> 0 | AJ32: 3
A34: =DATE(A1,5,1) -> 44317 | B34: =A34 -> 44317 | C34: =B34+1 -> 44318 | D34: =C34+1 -> 44319 | E34: =D34+1 -> 44320 | F34: =E34+1 -> 44321 | G34: =F34+1 -> 44322 | H34: =G34+1 -> 44323 | I34: =H34+1 -> 44324 | J34: =I34+1 -> 44325 | ... AF34: =AE34+1 -> 44347
A35: Agent 1 | B35: =IFERROR(OFFSET(Cycle!$B$3,1,MOD(B34+26,42)),"") -> 0 | C35: =IFERROR(OFFSET(Cycle!$B$3,1,MOD(C34+26,42)),"") -> 0 | D35: =IFERROR(OFFSET(Cycle!$B$3,1,MOD(D34+26,42)),"") -> 0 | E35: =IFERROR(OFFSET(Cycle!$B$3,1,MOD(E34+26,42)),"") -> 0 | F35: =IFERROR(OFFSET(Cycle!$B$3,1,MOD(F34+26,42)),"") -> 0 | G35: =IFERROR(OFFSET(Cycle!$B$3,1,MOD(G34+26,42)),"") -> 0 | H35: =IFERROR(OFFSET(Cycle!$B$3,1,MOD(H34+26,42)),"") -> 0 | I35: =IFERROR(OFFSET(Cycle!$B$3,1,MOD(I34+26,42)),"") -> 0 | ... AF35: =IFERROR(OFFSET(Cycle!$B$3,1,MOD(AF34+26,42)),"") -> 0
A36: Agent 2 | B36: =IFERROR(OFFSET(Cycle!$B$3,1,MOD(B34+33,42)),"") -> 0 | C36: =IFERROR(OFFSET(Cycle!$B$3,1,MOD(C34+33,42)),"") -> 0 | D36: =IFERROR(OFFSET(Cycle!$B$3,1,MOD(D34+33,42)),"") -> 0 | E36: =IFERROR(OFFSET(Cycle!$B$3,1,MOD(E34+33,42)),"") -> 0 | F36: =IFERROR(OFFSET(Cycle!$B$3,1,MOD(F34+33,42)),"") -> 0 | G36: =IFERROR(OFFSET(Cycle!$B$3,1,MOD(G34+33,42)),"") -> 0 | H36: =IFERROR(OFFSET(Cycle!$B$3,1,MOD(H34+33,42)),"") -> 0 | I36: =IFERROR(OFFSET(Cycle!$B$3,1,MOD(I34+33,42)),"") -> 0 | ... AF36: =IFERROR(OFFSET(Cycle!$B$3,1,MOD(AF34+33,42)),"") -> 0
A37: Agent 3 | B37: =IFERROR(OFFSET(Cycle!$B$3,1,MOD(B34+40,42)),"") -> 0 | C37: =IFERROR(OFFSET(Cycle!$B$3,1,MOD(C34+40,42)),"") -> 0 | D37: =IFERROR(OFFSET(Cycle!$B$3,1,MOD(D34+40,42)),"") -> 0 | E37: =IFERROR(OFFSET(Cycle!$B$3,1,MOD(E34+40,42)),"") -> 0 | F37: =IFERROR(OFFSET(Cycle!$B$3,1,MOD(F34+40,42)),"") -> 0 | G37: =IFERROR(OFFSET(Cycle!$B$3,1,MOD(G34+40,42)),"") -> 0 | H37: =IFERROR(OFFSET(Cycle!$B$3,1,MOD(H34+40,42)),"") -> 0 | I37: =IFERROR(OFFSET(Cycle!$B$3,1,MOD(I34+40,42)),"") -> 0 | ... AF37: =IFERROR(OFFSET(Cycle!$B$3,1,MOD(AF34+40,42)),"") -> 0
A38: Agent 4 | B38: =IFERROR(OFFSET(Cycle!$B$3,1,MOD(B34+5,42)),"") -> 0 | C38: =IFERROR(OFFSET(Cycle!$B$3,1,MOD(C34+5,42)),"") -> 0 | D38: =IFERROR(OFFSET(Cycle!$B$3,1,MOD(D34+5,42)),"") -> 0 | E38: =IFERROR(OFFSET(Cycle!$B$3,1,MOD(E34+5,42)),"") -> 0 | F38: =IFERROR(OFFSET(Cycle!$B$3,1,MOD(F34+5,42)),"") -> 0 | G38: =IFERROR(OFFSET(Cycle!$B$3,1,MOD(G34+5,42)),"") -> 0 | H38: =IFERROR(OFFSET(Cycle!$B$3,1,MOD(H34+5,42)),"") -> 0 | I38: =IFERROR(OFFSET(Cycle!$B$3,1,MOD(I34+5,42)),"") -> 0 | ... AF38: =IFERROR(OFFSET(Cycle!$B$3,1,MOD(AF34+5,42)),"") -> 0
A39: Agent 5 | B39: =IFERROR(OFFSET(Cycle!$B$3,1,MOD(B34+12,42)),"") -> 0 | C39: =IFERROR(OFFSET(Cycle!$B$3,1,MOD(C34+12,42)),"") -> 0 | D39: =IFERROR(OFFSET(Cycle!$B$3,1,MOD(D34+12,42)),"") -> 0 | E39: =IFERROR(OFFSET(Cycle!$B$3,1,MOD(E34+12,42)),"") -> 0 | F39: =IFERROR(OFFSET(Cycle!$B$3,1,MOD(F34+12,42)),"") -> 0 | G39: =IFERROR(OFFSET(Cycle!$B$3,1,MOD(G34+12,42)),"") -> 0 | H39: =IFERROR(OFFSET(Cycle!$B$3,1,MOD(H34+12,42)),"") -> 0 | I39: =IFERROR(OFFSET(Cycle!$B$3,1,MOD(I34+12,42)),"") -> 0 | ... AF39: =IFERROR(OFFSET(Cycle!$B$3,1,MOD(AF34+12,42)),"") -> 0
A40: Agent 6 | B40: =IFERROR(OFFSET(Cycle!$B$3,1,MOD(B34+19,42)),"") -> 0 | C40: =IFERROR(OFFSET(Cycle!$B$3,1,MOD(C34+19,42)),"") -> 0 | D40: =IFERROR(OFFSET(Cycle!$B$3,1,MOD(D34+19,42)),"") -> 0 | E40: =IFERROR(OFFSET(Cycle!$B$3,1,MOD(E34+19,42)),"") -> 0 | F40: =IFERROR(OFFSET(Cycle!$B$3,1,MOD(F34+19,42)),"") -> 0 | G40: =IFERROR(OFFSET(Cycle!$B$3,1,MOD(G34+19,42)),"") -> 0 | H40: =IFERROR(OFFSET(Cycle!$B$3,1,MOD(H34+19,42)),"") -> 0 | I40: =IFERROR(OFFSET(Cycle!$B$3,1,MOD(I34+19,42)),"") -> 0 | ... AF40: =IFERROR(OFFSET(Cycle!$B$3,1,MOD(AF34+19,42)),"") -> 0 | AJ40: 3
A42: =DATE(A1,6,1) -> 44348 | B42: =A42 -> 44348 | C42: =B42+1 -> 44349 | D42: =C42+1 -> 44350 | E42: =D42+1 -> 44351 | F42: =E42+1 -> 44352 | G42: =F42+1 -> 44353 | H42: =G42+1 -> 44354 | I42: =H42+1 -> 44355 | J42: =I42+1 -> 44356 | ... AE42: =AD42+1 -> 44377
A43: Agent 1 | B43: =IFERROR(OFFSET(Cycle!$B$3,1,MOD(B42+26,42)),"") -> 0 | C43: =IFERROR(OFFSET(Cycle!$B$3,1,MOD(C42+26,42)),"") -> 0 | D43: =IFERROR(OFFSET(Cycle!$B$3,1,MOD(D42+26,42)),"") -> 0 | E43: =IFERROR(OFFSET(Cycle!$B$3,1,MOD(E42+26,42)),"") -> 0 | F43: =IFERROR(OFFSET(Cycle!$B$3,1,MOD(F42+26,42)),"") -> 0 | G43: =IFERROR(OFFSET(Cycle!$B$3,1,MOD(G42+26,42)),"") -> 0 | H43: =IFERROR(OFFSET(Cycle!$B$3,1,MOD(H42+26,42)),"") -> 0 | I43: =IFERROR(OFFSET(Cycle!$B$3,1,MOD(I42+26,42)),"") -> 0 | ... AF43: =IFERROR(OFFSET(Cycle!$B$3,1,MOD(AF42+26,42)),"") -> 0
A44: Agent 2 | B44: =IFERROR(OFFSET(Cycle!$B$3,1,MOD(B42+33,42)),"") -> 0 | C44: =IFERROR(OFFSET(Cycle!$B$3,1,MOD(C42+33,42)),"") -> 0 | D44: =IFERROR(OFFSET(Cycle!$B$3,1,MOD(D42+33,42)),"") -> 0 | E44: =IFERROR(OFFSET(Cycle!$B$3,1,MOD(E42+33,42)),"") -> 0 | F44: =IFERROR(OFFSET(Cycle!$B$3,1,MOD(F42+33,42)),"") -> 0 | G44: =IFERROR(OFFSET(Cycle!$B$3,1,MOD(G42+33,42)),"") -> 0 | H44: =IFERROR(OFFSET(Cycle!$B$3,1,MOD(H42+33,42)),"") -> 0 | I44: =IFERROR(OFFSET(Cycle!$B$3,1,MOD(I42+33,42)),"") -> 0 | ... AF44: =IFERROR(OFFSET(Cycle!$B$3,1,MOD(AF42+33,42)),"") -> 0
A45: Agent 3 | B45: =IFERROR(OFFSET(Cycle!$B$3,1,MOD(B42+40,42)),"") -> 0 | C45: =IFERROR(OFFSET(Cycle!$B$3,1,MOD(C42+40,42)),"") -> 0 | D45: =IFERROR(OFFSET(Cycle!$B$3,1,MOD(D42+40,42)),"") -> 0 | E45: =IFERROR(OFFSET(Cycle!$B$3,1,MOD(E42+40,42)),"") -> 0 | F45: =IFERROR(OFFSET(Cycle!$B$3,1,MOD(F42+40,42)),"") -> 0 | G45: =IFERROR(OFFSET(Cycle!$B$3,1,MOD(G42+40,42)),"") -> 0 | H45: =IFERROR(OFFSET(Cycle!$B$3,1,MOD(H42+40,42)),"") -> 0 | I45: =IFERROR(OFFSET(Cycle!$B$3,1,MOD(I42+40,42)),"") -> 0 | ... AF45: =IFERROR(OFFSET(Cycle!$B$3,1,MOD(AF42+40,42)),"") -> 0
A46: Agent 4 | B46: =IFERROR(OFFSET(Cycle!$B$3,1,MOD(B42+5,42)),"") -> 0 | C46: =IFERROR(OFFSET(Cycle!$B$3,1,MOD(C42+5,42)),"") -> 0 | D46: =IFERROR(OFFSET(Cycle!$B$3,1,MOD(D42+5,42)),"") -> 0 | E46: =IFERROR(OFFSET(Cycle!$B$3,1,MOD(E42+5,42)),"") -> 0 | F46: =IFERROR(OFFSET(Cycle!$B$3,1,MOD(F42+5,42)),"") -> 0 | G46: =IFERROR(OFFSET(Cycle!$B$3,1,MOD(G42+5,42)),"") -> 0 | H46: =IFERROR(OFFSET(Cycle!$B$3,1,MOD(H42+5,42)),"") -> 0 | I46: =IFERROR(OFFSET(Cycle!$B$3,1,MOD(I42+5,42)),"") -> 0 | ... AF46: =IFERROR(OFFSET(Cycle!$B$3,1,MOD(AF42+5,42)),"") -> 0
A47: Agent 5 | B47: =IFERROR(OFFSET(Cycle!$B$3,1,MOD(B42+12,42)),"") -> 0 | C47: =IFERROR(OFFSET(Cycle!$B$3,1,MOD(C42+12,42)),"") -> 0 | D47: =IFERROR(OFFSET(Cycle!$B$3,1,MOD(D42+12,42)),"") -> 0 | E47: =IFERROR(OFFSET(Cycle!$B$3,1,MOD(E42+12,42)),"") -> 0 | F47: =IFERROR(OFFSET(Cycle!$B$3,1,MOD(F42+12,42)),"") -> 0 | G47: =IFERROR(OFFSET(Cycle!$B$3,1,MOD(G42+12,42)),"") -> 0 | H47: =IFERROR(OFFSET(Cycle!$B$3,1,MOD(H42+12,42)),"") -> 0 | I47: =IFERROR(OFFSET(Cycle!$B$3,1,MOD(I42+12,42)),"") -> 0 | ... AF47: =IFERROR(OFFSET(Cycle!$B$3,1,MOD(AF42+12,42)),"") -> 0
A48: Agent 6 | B48: =IFERROR(OFFSET(Cycle!$B$3,1,MOD(B42+19,42)),"") -> 0 | C48: =IFERROR(OFFSET(Cycle!$B$3,1,MOD(C42+19,42)),"") -> 0 | D48: =IFERROR(OFFSET(Cycle!$B$3,1,MOD(D42+19,42)),"") -> 0 | E48: =IFERROR(OFFSET(Cycle!$B$3,1,MOD(E42+19,42)),"") -> 0 | F48: =IFERROR(OFFSET(Cycle!$B$3,1,MOD(F42+19,42)),"") -> 0 | G48: =IFERROR(OFFSET(Cycle!$B$3,1,MOD(G42+19,42)),"") -> 0 | H48: =IFERROR(OFFSET(Cycle!$B$3,1,MOD(H42+19,42)),"") -> 0 | I48: =IFERROR(OFFSET(Cycle!$B$3,1,MOD(I42+19,42)),"") -> 0 | ... AF48: =IFERROR(OFFSET(Cycle!$B$3,1,MOD(AF42+19,42)),"") -> 0 | AJ48: 3

Sheet Cycle
B2: Agent 1 | I2: Agent 2 | P2: Agent 3 | W2: Agent 4 | AD2: Agent 5 | AK2: Agent 6
B3: Lun | C3: Mar | D3: Mer | E3: Jeu | F3: Ven | G3: Sam | H3: Dim | I3: Lun | J3: Mar | K3: Mer | L3: Jeu | M3: Ven | N3: Sam | O3: Dim | P3: Lun | Q3: Mar | R3: Mer | S3: Jeu | T3: Ven | U3: Sam | V3: Dim | W3: Lun | X3: Mar | Y3: Mer | Z3: Jeu | AA3: Ven | AB3: Sam | AC3: Dim | AD3: Lun | AE3: Mar | AF3: Mer | AG3: Jeu | AH3: Ven | AI3: Sam | AJ3: Dim | AK3: Lun | AL3: Mar | AM3: Mer | AN3: Jeu | AO3: Ven | AP3: Sam | AQ3: Dim
A4: ROULEMENT
E7: Je te propose de mettre le roulement en ligne (comme ci-dessus)
E9: sur la feuille planning tu vois le résultat
E11: En B3 tu as la formule: | I11: =SIERREUR(DECALER(Cycle!$B$3;1;MOD(B2+26;42));"")
E13: En fait cette formule lit le roulement sur la feuille cycle à partir de la cellule B3 en divisant la date par le nombre de roulement
F14: (26 permet de régler pour agent 1)
B16: Lun. | C16: Mar. | D16: Mer. | E16: Jeu. | F16: Ven. | G16: Sam. | H16: Dim.
A17: Agent 1 | B17: 1 | C17: 2 | D17: 3 | E17: 4 | F17: 5 | G17: 6 | H17: 7 | I17: <-- | J17: Est-ce possible d'utiliser plutôt cette forme de tableau ?
A18: Agent 2 | B18: A | C18: B | D18: C | E18: D | F18: E | G18: F | H18: G | J18: Une fois que l'Agent 1 a fini sa semaine, il passe en semaine inférieur (semaine d el'Agent 2)
A19: Agent 3 | B19: Etc. | J19: et ainsi de suite : à la fin du cycle qui compte autant de semaine qu'il y a d'agents,
A20: Agent 4 | J20: on revient au début et on entame un nouveau cycle.
A21: Agent 5
A22: Agent 6
A28: https://forum.excel-pratique.com/excel/derouler-un-roulement-de-cycle-de-travail-154859
