Workbook

Sheet Base clients
A4: 10180 | B4: Bar des sports | C4: 1 rue XXX | D4: 59000 | E4: Lille
A5: 12067 | B5: Bar des sports | C5: 10 rue AAA | D5: 75000 | E5: Paris
A6: 10456 | B6: Cafe de la poste | C6: 20 rue BBB | D6: 69000 | E6: Lyon
A7: 12569 | B7: Cafe de la poste | C7: 30 rue CCC | D7: 13000 | E7: Marseille
A8: 13254 | B8: Cafe de la poste | C8: 40 rue LLL | D8: 31000 | E8: Toulouse
A9: 14526 | B9: Bar des sports | C9: 50 rue MMM | D9: 29000 | E9: Brest

Sheet Base produits
A4: Ref produit | B4: Description | C4: Prix | D4: TVA
A5: P001 | B5: Pomme
A6: P002 | B6: Ananas
A7: P003 | B7: Poire
A8: P004 | B8: Orange
A9: P005 | B9: Abricot
A10: P006 | B10: Produit 6
A11: P007 | B11: Produit 7
A12: P008 | B12: Produit 8
A13: P009 | B13: Produit 9
A14: P010 | B14: Produit 10
A15: P011 | B15: Produit 11
A16: P012 | B16: Produit 12
A17: P013 | B17: Produit 13

Sheet Base facturation
B2: Sélectionner le code client puis ajouter le nombre de chaque produit
A5: Numéro d'ordre Facture | B5: BC00001 | C5: BC00002 | D5: BC00003 | E5: BC00004 | F5: BC00005 | G5: BC00006 | H5: BC00007 | I5: BC00008 | J5: BC00009 | K5: BC00010 | L5: BC00011 | M5: BC00012 | N5: BC00013 | O5: BC00014 | P5: BC00015 | Q5: BC00016 | R5: BC00017 | S5: BC00018
A6: Selectionner client | B6: 10180 | C6: 12067 | D6: 10456
A7: Nom client | B7: =IF(ISBLANK(B6),"",VLOOKUP(B6,'Base clients'!$A$4:$E$9,2,0)) -> Bar des sports | C7: =IF(ISBLANK(C6),"",VLOOKUP(C6,'Base clients'!$A$4:$E$9,2,0)) -> Bar des sports | D7: =IF(ISBLANK(D6),"",VLOOKUP(D6,'Base clients'!$A$4:$E$9,2,0)) -> Cafe de la poste | E7: =IF(ISBLANK(E6),"",VLOOKUP(E6,'Base clients'!$A$4:$E$9,2,0)) | F7: =IF(ISBLANK(F6),"",VLOOKUP(F6,'Base clients'!$A$4:$E$9,2,0)) | G7: =IF(ISBLANK(G6),"",VLOOKUP(G6,'Base clients'!$A$4:$E$9,2,0)) | H7: =IF(ISBLANK(H6),"",VLOOKUP(H6,'Base clients'!$A$4:$E$9,2,0)) | I7: =IF(ISBLANK(I6),"",VLOOKUP(I6,'Base clients'!$A$4:$E$9,2,0)) | ... R7: =IF(ISBLANK(R6),"",VLOOKUP(R6,'Base clients'!$A$4:$E$9,2,0))
A9: Commentaire
A12: ='Base produits'!A5&"-"&'Base produits'!B5&":" -> P001-Pomme: | B12: 1 | C12: 5
A13: ='Base produits'!A6&"-"&'Base produits'!B6&":" -> P002-Ananas: | B13: 2 | C13: 4
A14: ='Base produits'!A7&"-"&'Base produits'!B7&":" -> P003-Poire: | B14: 3 | C14: 3
A15: ='Base produits'!A8&"-"&'Base produits'!B8&":" -> P004-Orange: | B15: 4 | C15: 2
A16: ='Base produits'!A9&"-"&'Base produits'!B9&":" -> P005-Abricot: | B16: 5 | C16: 1
A17: ='Base produits'!A10&"-"&'Base produits'!B10&":" -> P006-Produit 6:
A18: ='Base produits'!A11&"-"&'Base produits'!B11&":" -> P007-Produit 7:
A19: ='Base produits'!A12&"-"&'Base produits'!B12&":" -> P008-Produit 8:
A20: ='Base produits'!A13&"-"&'Base produits'!B13&":" -> P009-Produit 9:

Sheet Bon de commande
F2: selectionner N° facture | H2: BC00001 | K2: =IF(HLOOKUP($H$2,'Base facturation'!$B$5:$ALN$61,2,0)=0,"",HLOOKUP($H$2,'Base facturation'!$B$5:$ALN$61,2,0)) -> 10180
F7: Client livré | G7: =IF(ISERROR(VLOOKUP($K$2,'Base clients'!$A$4:$L$736,2,0)),"",VLOOKUP($K$2,'Base clients'!$A$4:$L$736,2,0)) -> Bar des sports
F8: Adresse | G8: =IF(IF(ISERROR(VLOOKUP($K$2,'Base clients'!$A$4:$L$736,3,0)),"",VLOOKUP($K$2,'Base clients'!$A$4:$L$736,3,0))=0,"",IF(ISERROR(VLOOKUP($K$2,'Base clients'!$A$4:$L$736,3,0)),"",VLOOKUP($K$2,'Base clients'!$A$4:$L$736,3,0))) -> 1 rue XXX
G10: =IF(IF(ISERROR(VLOOKUP($K$2,'Base clients'!$A$4:$L$736,4,0)),"",VLOOKUP($K$2,'Base clients'!$A$4:$L$736,4,0))=0,"",IF(ISERROR(VLOOKUP($K$2,'Base clients'!$A$4:$L$736,4,0)),"",VLOOKUP($K$2,'Base clients'!$A$4:$L$736,4,0))) -> 59000 | I10: =IF(IF(ISERROR(VLOOKUP($K$2,'Base clients'!$A$4:$L$736,5,0)),"",VLOOKUP($K$2,'Base clients'!$A$4:$L$736,5,0))=0,"",IF(ISERROR(VLOOKUP($K$2,'Base clients'!$A$4:$L$736,5,0)),"",VLOOKUP($K$2,'Base clients'!$A$4:$L$736,5,0))) -> Lille
F11: Code client | G11: =K2 -> 10180
A17: Référence | B17: Description | F17: Quantité
N18: Ordre | O18: Somme | P18: Référence | Q18: Quantité | R18: Rang | S18: Rang 2
A19: =IF(ISERROR(VLOOKUP($S20,$O$20:$R$29,2,0)),"",VLOOKUP($S20,$O$20:$R$29,2,0)) -> P001 | B19: =IF(ISERROR(VLOOKUP(A19,'Base produits'!$A$5:$H$607,2,0)),"",VLOOKUP(A19,'Base produits'!$A$5:$H$607,2,0)) -> Pomme | F19: =IF(ISERROR(VLOOKUP($S20,$O$20:$R$29,3,0)),"",VLOOKUP($S20,$O$20:$R$29,3,0)) -> 1
A20: =IF(ISERROR(VLOOKUP($S21,$O$20:$R$29,2,0)),"",VLOOKUP($S21,$O$20:$R$29,2,0)) -> P002 | B20: =IF(ISERROR(VLOOKUP(A20,'Base produits'!$A$5:$H$607,2,0)),"",VLOOKUP(A20,'Base produits'!$A$5:$H$607,2,0)) -> Ananas | F20: =IF(ISERROR(VLOOKUP($S21,$O$20:$R$29,3,0)),"",VLOOKUP($S21,$O$20:$R$29,3,0)) -> 2 | N20: =IF(Q20>0,1,"") -> 1 | O20: =N20 -> 1 | P20: ='Base produits'!A5 -> P001 | Q20: =HLOOKUP($H$2,'Base facturation'!$B$5:$ALN$611,R20,0) -> 1 | R20: 8 | S20: 1
A21: =IF(ISERROR(VLOOKUP($S22,$O$20:$R$29,2,0)),"",VLOOKUP($S22,$O$20:$R$29,2,0)) -> P003 | B21: =IF(ISERROR(VLOOKUP(A21,'Base produits'!$A$5:$H$607,2,0)),"",VLOOKUP(A21,'Base produits'!$A$5:$H$607,2,0)) -> Poire | F21: =IF(ISERROR(VLOOKUP($S22,$O$20:$R$29,3,0)),"",VLOOKUP($S22,$O$20:$R$29,3,0)) -> 3 | N21: =IF(Q21>0,1,"") -> 1 | O21: =SUM($N$20:N21) -> 2 | P21: ='Base produits'!A6 -> P002 | Q21: =HLOOKUP($H$2,'Base facturation'!$B$5:$ALN$611,R21,0) -> 2 | R21: 9 | S21: 2
A22: =IF(ISERROR(VLOOKUP($S23,$O$20:$R$29,2,0)),"",VLOOKUP($S23,$O$20:$R$29,2,0)) -> P004 | B22: =IF(ISERROR(VLOOKUP(A22,'Base produits'!$A$5:$H$607,2,0)),"",VLOOKUP(A22,'Base produits'!$A$5:$H$607,2,0)) -> Orange | F22: =IF(ISERROR(VLOOKUP($S23,$O$20:$R$29,3,0)),"",VLOOKUP($S23,$O$20:$R$29,3,0)) -> 4 | N22: =IF(Q22>0,1,"") -> 1 | O22: =SUM($N$20:N22) -> 3 | P22: ='Base produits'!A7 -> P003 | Q22: =HLOOKUP($H$2,'Base facturation'!$B$5:$ALN$611,R22,0) -> 3 | R22: 10 | S22: 3
A23: =IF(ISERROR(VLOOKUP($S24,$O$20:$R$29,2,0)),"",VLOOKUP($S24,$O$20:$R$29,2,0)) -> P005 | B23: =IF(ISERROR(VLOOKUP(A23,'Base produits'!$A$5:$H$607,2,0)),"",VLOOKUP(A23,'Base produits'!$A$5:$H$607,2,0)) -> Abricot | F23: =IF(ISERROR(VLOOKUP($S24,$O$20:$R$29,3,0)),"",VLOOKUP($S24,$O$20:$R$29,3,0)) -> 5 | N23: =IF(Q23>0,1,"") -> 1 | O23: =SUM($N$20:N23) -> 4 | P23: ='Base produits'!A8 -> P004 | Q23: =HLOOKUP($H$2,'Base facturation'!$B$5:$ALN$611,R23,0) -> 4 | R23: 11 | S23: 4
A24: =IF(ISERROR(VLOOKUP($S25,$O$20:$R$29,2,0)),"",VLOOKUP($S25,$O$20:$R$29,2,0)) | B24: =IF(ISERROR(VLOOKUP(A24,'Base produits'!$A$5:$H$607,2,0)),"",VLOOKUP(A24,'Base produits'!$A$5:$H$607,2,0)) | F24: =IF(ISERROR(VLOOKUP($S25,$O$20:$R$29,3,0)),"",VLOOKUP($S25,$O$20:$R$29,3,0)) | N24: =IF(Q24>0,1,"") -> 1 | O24: =SUM($N$20:N24) -> 5 | P24: ='Base produits'!A9 -> P005 | Q24: =HLOOKUP($H$2,'Base facturation'!$B$5:$ALN$611,R24,0) -> 5 | R24: 12 | S24: 5
A25: =IF(ISERROR(VLOOKUP($S26,$O$20:$R$29,2,0)),"",VLOOKUP($S26,$O$20:$R$29,2,0)) | B25: =IF(ISERROR(VLOOKUP(A25,'Base produits'!$A$5:$H$607,2,0)),"",VLOOKUP(A25,'Base produits'!$A$5:$H$607,2,0)) | F25: =IF(ISERROR(VLOOKUP($S26,$O$20:$R$29,3,0)),"",VLOOKUP($S26,$O$20:$R$29,3,0)) | N25: =IF(Q25>0,1,"") | O25: =SUM($N$20:N25) -> 5 | P25: ='Base produits'!A10 -> P006 | Q25: =HLOOKUP($H$2,'Base facturation'!$B$5:$ALN$611,R25,0) -> 0 | R25: 13 | S25: 6
A26: =IF(ISERROR(VLOOKUP($S27,$O$20:$R$29,2,0)),"",VLOOKUP($S27,$O$20:$R$29,2,0)) | B26: =IF(ISERROR(VLOOKUP(A26,'Base produits'!$A$5:$H$607,2,0)),"",VLOOKUP(A26,'Base produits'!$A$5:$H$607,2,0)) | F26: =IF(ISERROR(VLOOKUP($S27,$O$20:$R$29,3,0)),"",VLOOKUP($S27,$O$20:$R$29,3,0)) | N26: =IF(Q26>0,1,"") | O26: =SUM($N$20:N26) -> 5 | P26: ='Base produits'!A11 -> P007 | Q26: =HLOOKUP($H$2,'Base facturation'!$B$5:$ALN$611,R26,0) -> 0 | R26: 14 | S26: 7
B27: =IF(ISERROR(VLOOKUP(A27,'Base produits'!$A$5:$H$607,2,0)),"",VLOOKUP(A27,'Base produits'!$A$5:$H$607,2,0)) | N27: =IF(Q27>0,1,"") | O27: =SUM($N$20:N27) -> 5 | P27: ='Base produits'!A12 -> P008 | Q27: =HLOOKUP($H$2,'Base facturation'!$B$5:$ALN$611,R27,0) -> 0 | R27: 15 | S27: 8
N28: =IF(Q28>0,1,"") | O28: =SUM($N$20:N28) -> 5 | P28: ='Base produits'!A13 -> P009 | Q28: =HLOOKUP($H$2,'Base facturation'!$B$5:$ALN$611,R28,0) -> 0 | R28: 16 | S28: 9
N29: =IF(Q29>0,1,"") | O29: =SUM($N$20:N29) -> 5 | P29: ='Base produits'!A14 -> P010 | Q29: =HLOOKUP($H$2,'Base facturation'!$B$5:$ALN$611,R29,0) -> 0 | R29: 17 | S29: 10

Sheet Récap
B3: Quantité à commander
A6: ='Base produits'!A5 -> P001 | B6: ='Base produits'!B5 -> Pomme | C6: =SUM('Base facturation'!B12:S12) -> 6
A7: ='Base produits'!A6 -> P002 | B7: ='Base produits'!B6 -> Ananas | C7: =SUM('Base facturation'!B13:S13) -> 6
A8: ='Base produits'!A7 -> P003 | B8: ='Base produits'!B7 -> Poire | C8: =SUM('Base facturation'!B14:S14) -> 6
A9: ='Base produits'!A8 -> P004 | B9: ='Base produits'!B8 -> Orange | C9: =SUM('Base facturation'!B15:S15) -> 6
A10: ='Base produits'!A9 -> P005 | B10: ='Base produits'!B9 -> Abricot | C10: =SUM('Base facturation'!B16:S16) -> 6
A11: ='Base produits'!A10 -> P006
A12: ='Base produits'!A11 -> P007
A13: ='Base produits'!A12 -> P008
A14: ='Base produits'!A13 -> P009
A15: ='Base produits'!A14 -> P010
A16: ='Base produits'!A15 -> P011
A17: ='Base produits'!A16 -> P012
A18: ='Base produits'!A17 -> P013
