Workbook
Name FI: 'EN ATTENTE LIVRAISON (2)'!$A$35:$A$36
Name FI: LIV.AVRIL!$A$31:$A$32
Name FI: LIVRAISON!$A$31:$A$32
Name FI: 'Matrice commande'!$A$31:$A$32
Name FI: #REF!

Sheet Matrice commande
A1: COMMANDES AVRIL
B2: OBJECTIFS | C2: 2
B3: Nom du client | C3: Véhicule | D3: CAT. | E3: Stock | F3: Finan. | G3: Type | H3: CA | I3: ASSU | J3: PCP | K3: EGVN | L3: Pack comp | M3: Autosph. | N3: WAXOYL | O3: Traqueur | P3: Coyote | Q3: Liv. prévue | R3: Prime | S3: Validé
A4: 1 | B4: sdfsdf | C4: 208 | D4: =IFERROR(VLOOKUP(C4,Formule!$F$1:$G$23,2,0),"") -> A | F4: Oui | R4: =IFERROR(VLOOKUP(D4,Formule!$I$1:$K$4,(IF(E4="oui",2,3)),FALSE),"") -> 30 | S4: Oui
A5: 2 | B5: dfsfd | C5: 2008-Elec | D5: =IFERROR(VLOOKUP(C5,Formule!$F$1:$G$23,2,0),"") -> C | E5: Non | F5: Non | R5: =IFERROR(VLOOKUP(D5,Formule!$I$1:$K$4,(IF(E5="oui",2,3)),FALSE),"") -> 100
A6: 3 | D6: =IFERROR(VLOOKUP(C6,Formule!$F$1:$G$23,2,0),"") | R6: =IFERROR(VLOOKUP(D6,Formule!$I$1:$K$4,(IF(E6="oui",2,3)),FALSE),"")
A7: 4 | D7: =IFERROR(VLOOKUP(C7,Formule!$F$1:$G$23,2,0),"") | R7: =IFERROR(VLOOKUP(D7,Formule!$I$1:$K$4,(IF(E7="oui",2,3)),FALSE),"")
A8: 5 | D8: =IFERROR(VLOOKUP(C8,Formule!$F$1:$G$23,2,0),"") | R8: =IFERROR(VLOOKUP(D8,Formule!$I$1:$K$4,(IF(E8="oui",2,3)),FALSE),"")
A9: 6 | D9: =IFERROR(VLOOKUP(C9,Formule!$F$1:$G$23,2,0),"") | R9: =IFERROR(VLOOKUP(D9,Formule!$I$1:$K$4,(IF(E9="oui",2,3)),FALSE),"")
A10: 7 | D10: =IFERROR(VLOOKUP(C10,Formule!$F$1:$G$23,2,0),"") | R10: =IFERROR(VLOOKUP(D10,Formule!$I$1:$K$4,(IF(E10="oui",2,3)),FALSE),"")
A11: 8 | D11: =IFERROR(VLOOKUP(C11,Formule!$F$1:$G$23,2,0),"") | R11: =IFERROR(VLOOKUP(D11,Formule!$I$1:$K$4,(IF(E11="oui",2,3)),FALSE),"")
A12: 9 | D12: =IFERROR(VLOOKUP(C12,Formule!$F$1:$G$23,2,0),"") | R12: =IFERROR(VLOOKUP(D12,Formule!$I$1:$K$4,(IF(E12="oui",2,3)),FALSE),"")
A13: 10 | D13: =IFERROR(VLOOKUP(C13,Formule!$F$1:$G$23,2,0),"") | R13: =IFERROR(VLOOKUP(D13,Formule!$I$1:$K$4,(IF(E13="oui",2,3)),FALSE),"")
A14: 11 | D14: =IFERROR(VLOOKUP(C14,Formule!$F$1:$G$23,2,0),"") | R14: =IFERROR(VLOOKUP(D14,Formule!$I$1:$K$4,(IF(E14="oui",2,3)),FALSE),"")
A15: 12 | D15: =IFERROR(VLOOKUP(C15,Formule!$F$1:$G$23,2,0),"") | R15: =IFERROR(VLOOKUP(D15,Formule!$I$1:$K$4,(IF(E15="oui",2,3)),FALSE),"")
A16: 13 | D16: =IFERROR(VLOOKUP(C16,Formule!$F$1:$G$23,2,0),"") | R16: =IFERROR(VLOOKUP(D16,Formule!$I$1:$K$4,(IF(E16="oui",2,3)),FALSE),"")
A17: 14 | D17: =IFERROR(VLOOKUP(C17,Formule!$F$1:$G$23,2,0),"") | R17: =IFERROR(VLOOKUP(D17,Formule!$I$1:$K$4,(IF(E17="oui",2,3)),FALSE),"")
... A23: 20 | D23: =IFERROR(VLOOKUP(C23,Formule!$F$1:$G$23,2,0),"") | R23: =IFERROR(VLOOKUP(D23,Formule!$I$1:$K$4,(IF(E23="oui",2,3)),FALSE),"")
A24: 21 | R24: =IFERROR(VLOOKUP(D24,Formule!$I$1:$K$4,(IF(E24="oui",2,3)),FALSE),"")
A25: 22
A26: 23
A27: 24
A28: 25
D30: Nombre | E30: R/O
B31: TOTAL COMMANDE | D31: =COUNTIF(B4:B28,"*") -> 2 | E31: =D31/C2 -> 1 | G31: Pénétration | H31: >=80% | I31: >=100% | J31: >=110% | K31: >=120%
B32: Total Financement | D32: 2 | E32: =SUM(D32/D31) -> 1 | G32: >=55% | H32: 30 | I32: 80 | J32: 100 | K32: 120
B33: LOA | D33: =COUNTIFS(F4:F28,"LOA") -> 0 | E33: =SUM(D33/D32) -> 0 | G33: >=51% | H33: 20 | I33: 60 | J33: 80 | K33: 100
B34: TOTAL CA Financé | D34: =SUM(G4:G28) -> 0 | G34: >=45% | H34: 10 | I34: 20 | J34: 40 | K34: 60
B35: Moyenne CA | D35: =AVERAGE(G4:G28) -> #DIV/0! | G35: <45% | H35: 5 | I35: 10 | J35: 15 | K35: 20
B36: Total présta | D36: =SUM(H4:H28) -> 0 | E36: =SUM(D36/D32) -> 0
B37: PCP | D37: =SUM(I4:I28) -> 0 | E37: =D37/D31 -> 0
B38: EGVN | D38: =SUM(J4:J28) -> 0
B39: PACK COMPLET | D39: =SUM(K4:K28) -> 0 | E39: =D39/D31 -> 0 | I39: Prime commande | K39: {=IF(AND(E32<45%,E31>=80%),H35,"")=SI} -> #NAME?
B40: GRAVAGE | D40: =SUM(L4:L28) -> 0 | E40: =D40/D31 -> 0
B41: PACK AUTOSPHERE | D41: =SUM(M4:M28) -> 0
B42: WAXOYL | D42: =SUM(N4:N28) -> 0
B43: TRAQUEUR/GRAVAGE | D43: =SUM(O4:O28) -> 0 | E43: =SUM(D43/D31) -> 0
B44: COYOTTE/GRAVAGE | D44: =SUM(P4:P28) -> 0

Sheet EN ATTENTE LIVRAISON (2)
A1: EN ATTENTE DE LIVRAISON
B3: Nom du client | C3: Véhicule | D3: CAT. | E3: Stock | F3: Finan. | G3: Type | H3: CA | I3: ASSU | J3: PCP | K3: EGVN | L3: Pack comp | M3: Autosph. | N3: WAXOYL | O3: Traqueur | P3: Coyote | Q3: Liv. prévue | R3: Prime | S3: Observations
A4: 1 | B4: DIAZ | C4: RIFTER PT | D4: C | F4: NON | L4: 1 | M4: 1 | R4: 100
A5: 2 | B5: LAGUENS | C5: 208 PT | D5: B | E5: Non | F5: Non | G5: VAC | H5: 10000 | I5: 2 | J5: 1 | L5: 1 | M5: 1 | N5: 0
A6: 3 | B6: CHALENDARD | C6: 208 | E6: Non | F6: Oui | G6: LOA | H6: 23056.06 | I6: 3 | J6: 1 | L6: 1 | M6: 1 | N6: 1
A7: 4 | B7: TORRES | C7: 208 E | E7: Non | F7: Oui | G7: LOA | H7: 33400 | I7: 2 | J7: 0 | K7: 1 | L7: 1 | M7: 1 | N7: 0
A8: 5 | B8: DORRIDANT | C8: 208 E | E8: Non | F8: Oui | G8: VAC | H8: 33403 | I8: 2 | J8: 1 | L8: 1 | M8: 1 | N8: 1
A9: 6 | B9: DIGNE | C9: 5008 HDI | E9: Non | F9: Oui | G9: VAC | H9: 44756.2 | I9: 1 | J9: 0 | K9: 1 | L9: 1 | M9: 1 | N9: 1
A10: 7 | B10: COURTEL | C10: 2008 HDI | E10: Non | F10: Non | L10: 1 | M10: 1 | N10: 0
A11: 8 | B11: ASENCIO | C11: 2008 Puretech | E11: Non | F11: Oui | G11: LOA | H11: 31800 | I11: 2 | J11: 1 | K11: 0 | L11: 1 | M11: 1 | N11: 0
A12: 9 | B12: FOURCADE | C12: 308 Puretech | E12: Non | F12: Non | L12: 1 | M12: 0 | N12: 0
A13: 10 | B13: RICCOBENE | C13: 3008 ALL | E13: VD | F13: Non | I13: 0 | J13: 0 | K13: 0 | L13: 0 | M13: 1 | N13: 0
A14: 11 | B14: GOMEZ | C14: 3008-Hyb | D14: C | E14: Non | J14: 1 | L14: 1 | M14: 1 | R14: 100
A15: 12 | B15: DANESI | C15: EXPERT | D15: B | E15: Non
A16: 13 | B16: CHAUFFARD | C16: 2008 | E16: Non | J16: 1
A17: 14 | B17: MEYNIER | C17: 208-Elec | E17: Non
A18: 15 | B18: OLIBE | C18: 2008 | E18: Non | F18: Oui | H18: 31200 | I18: 1 | J18: 1 | K18: 1 | L18: 1 | M18: 0 | N18: 1
A19: 16 | B19: BLESTEL | C19: 108 | E19: Oui | F19: Non | N19: 1
A20: 17 | B20: ORTIS | C20: 208 | E20: Non | F20: Non | L20: 1 | M20: 1 | N20: 1
A21: 18
A22: 19
A23: 20
A24: 21
A25: 22
A26: 23
A27: 24
A28: 25
A29: 26
A30: 27
A31: 28
A32: 29
... A34: 31
A35: TOTAL = | G35: =SUM(G4:G34) -> 0 | I35: =SUM(I4:I34) -> 13 | J35: =SUM(J4:J34) -> 7 | K35: =SUM(K4:K34) -> 3 | L35: =SUM(L4:L34) -> 12 | M35: =SUM(M4:M34) -> 11 | N35: =SUM(N4:N34) -> 6 | P35: =SUM(P4:P34) -> 0
A39: OUI
A40: NON
A41: VD
A43: OUI
A44: NON

Sheet LIV.AVRIL
A1: LIVRAISON MARS
A2: COMMANDES | F2: CREDIT | L2: PERIPHERIQUES | Q2: LIVRAISONS
B3: Nom du client | C3: Véhicule | D3: CAT | E3: Stock | F3: Financement | G3: Type | H3: CA | I3: ASSU | J3: PCP | K3: EGVN | L3: Pack Liv. | M3: Autosph. | N3: Waxoyl | O3: Coyotte | P3: Traqueur | Q3: Livrée LE : | R3: Prime
A4: 1 | B4: simoni | C4: Rifter | D4: =IFERROR(VLOOKUP(C4,Formule!$F$1:$G$23,2,0),"") -> A | E4: Oui | F4: Oui | G4: LOA | H4: 29562.3 | I4: 3 | J4: 1 | L4: 1 | M4: 1 | N4: 1 | O4: 0 | P4: 1 | Q4: 44407 | R4: =IFERROR(VLOOKUP(D4,Formule!$I$1:$K$4,(IF(E4="oui",2,3)),FALSE),"") -> 60
A5: 2 | B5: Pascal | C5: 208-Elec | D5: =IFERROR(VLOOKUP(C5,Formule!$F$1:$G$23,2,0),"") -> C | E5: Oui | F5: Oui | G5: VAC | H5: 30000 | I5: 2 | J5: 1 | K5: 0 | L5: 1 | M5: 1 | N5: 1 | O5: 1 | P5: 0 | Q5: 44407 | R5: =IFERROR(VLOOKUP(D5,Formule!$I$1:$K$4,(IF(E5="oui",2,3)),FALSE),"") -> 150
A6: 3 | D6: =IFERROR(VLOOKUP(C6,Formule!$F$1:$G$23,2,0),"") | R6: =IFERROR(VLOOKUP(D6,Formule!$I$1:$K$4,(IF(E6="oui",2,3)),FALSE),"")
A7: 4 | D7: =IFERROR(VLOOKUP(C7,Formule!$F$1:$G$23,2,0),"") | R7: =IFERROR(VLOOKUP(D7,Formule!$I$1:$K$4,(IF(E7="oui",2,3)),FALSE),"")
A8: 5 | D8: =IFERROR(VLOOKUP(C8,Formule!$F$1:$G$23,2,0),"") | R8: =IFERROR(VLOOKUP(D8,Formule!$I$1:$K$4,(IF(E8="oui",2,3)),FALSE),"")
A9: 6 | D9: =IFERROR(VLOOKUP(C9,Formule!$F$1:$G$23,2,0),"") | R9: =IFERROR(VLOOKUP(D9,Formule!$I$1:$K$4,(IF(E9="oui",2,3)),FALSE),"")
A10: 7 | D10: =IFERROR(VLOOKUP(C10,Formule!$F$1:$G$23,2,0),"") | R10: =IFERROR(VLOOKUP(D10,Formule!$I$1:$K$4,(IF(E10="oui",2,3)),FALSE),"")
A11: 8 | D11: =IFERROR(VLOOKUP(C11,Formule!$F$1:$G$23,2,0),"") | R11: =IFERROR(VLOOKUP(D11,Formule!$I$1:$K$4,(IF(E11="oui",2,3)),FALSE),"")
A12: 9 | D12: =IFERROR(VLOOKUP(C12,Formule!$F$1:$G$23,2,0),"") | R12: =IFERROR(VLOOKUP(D12,Formule!$I$1:$K$4,(IF(E12="oui",2,3)),FALSE),"")
A13: 10 | D13: =IFERROR(VLOOKUP(C13,Formule!$F$1:$G$23,2,0),"") | R13: =IFERROR(VLOOKUP(D13,Formule!$I$1:$K$4,(IF(E13="oui",2,3)),FALSE),"")
A14: 11 | D14: =IFERROR(VLOOKUP(C14,Formule!$F$1:$G$23,2,0),"") | R14: =IFERROR(VLOOKUP(D14,Formule!$I$1:$K$4,(IF(E14="oui",2,3)),FALSE),"")
A15: 12 | D15: =IFERROR(VLOOKUP(C15,Formule!$F$1:$G$23,2,0),"") | R15: =IFERROR(VLOOKUP(D15,Formule!$I$1:$K$4,(IF(E15="oui",2,3)),FALSE),"")
A16: 13 | D16: =IFERROR(VLOOKUP(C16,Formule!$F$1:$G$23,2,0),"") | R16: =IFERROR(VLOOKUP(D16,Formule!$I$1:$K$4,(IF(E16="oui",2,3)),FALSE),"")
A17: 14 | D17: =IFERROR(VLOOKUP(C17,Formule!$F$1:$G$23,2,0),"") | R17: =IFERROR(VLOOKUP(D17,Formule!$I$1:$K$4,(IF(E17="oui",2,3)),FALSE),"")
... A23: 20 | D23: =IFERROR(VLOOKUP(C23,Formule!$F$1:$G$23,2,0),"") | R23: =IFERROR(VLOOKUP(D23,Formule!$I$1:$K$4,(IF(E23="oui",2,3)),FALSE),"")
A24: VD
A25: VD
A26: VD
A27: VD
A28: VD
E30: Nombre | F30: R/O | G30: Base de calcul | K30: PRIMES | M30: PRIME LIVRAISON | P30: =+SUM(R3:R22) -> 210 | Q30: Qualité | R30: 96
B31: TOTAL LIVRAISON | E31: =COUNTIF(B4:B28,"*") -> 2 | M31: Si Qualité >= 96% + | O31: 10 | P31: =IF(R30>=96,O31*E31,"") -> 20 | Q31: ESSAI | R31: 80
B32: Total Financement | E32: =COUNTIF(F4:F28,"oui") -> 2 | F32: =SUM(E32/E31) -> 1 | G32: Pénétration | H32: De 45% à 50.9% | I32: De 51% à 58% | J32: >58% | M32: Si Essai >=85% / + | O32: 10 | P32: =IF(R31>=85,O31*E31,"")
B33: Dont LOA | E33: =COUNTIF(G4:G28,"LOA") -> 1 | F33: =SUM(E33/E32) -> 0.5 | G33: ASS < 140% | H33: 0.3% | I33: 0.5% | J33: 0.7% | M33: PRIME VD | P33: =SUM(R24:R28) -> 0
B34: TOTAL CA Financé | E34: =SUM(H4:H28) -> 59562.3 | G34: ASS < 160% | H34: 0.5% | I34: 0.01 | J34: 1.2% | M34: Prime CREDIT | P34: 2044
B35: Moyenne CA | E35: =AVERAGE(H4:H28) -> 29781.15 | G35: ASS >= 160% | H35: 0.7% | I35: 0.012 | J35: 1.4% | M35: Si CA Moyen > 13300 X1,2 | P35: =IF(E35>=13300,P34*0.2) -> 408.8
B36: TOTAL ASSU | E36: =SUM(I4:I28) -> 5 | F36: =SUM(E36/E32) -> 2.5 | M36: Si 6 PP livré | P36: =IF(AND(E33>=6,E33<8),"450","0,00") -> 0,00
B37: PCP | E37: =SUM(J4:J28) -> 2 | F37: =E37/E31 -> 1 | G37: SI PCP >55% = 40€ | M37: Si 8 PP Livré | P37: =IF(E33>=8,"800","0,00") -> 0,00
B38: EGVN | E38: =SUM(K4:K28) -> 0 | F38: =SUM(E38/E31) -> 0 | G38: SI PCP >55% = 15€ | M38: PCP/EVGN | P38: =SUM(E37*40,E38*10) -> 80
B39: PACK COMPLET (Grav. + autosphere) | E39: =SUM(L4:L28) -> 2 | F39: =E39/E31 -> 1 | G39: 45 | M39: PACK LIVRAISON | P39: =SUM(E39*45) -> 90
B40: AUTOSPHERE ENTRETIEN | E40: =SUM(M4:M28) -> 2 | F40: =E40/E31 -> 1 | G40: 10 | M40: P.AUTO.Entretien | P40: =SUM(10*E40) -> 20
B41: WAXOYL | E41: =SUM(N4:N28) -> 2 | F41: =SUM(E41/E31) -> 1 | G41: 30€ (50€ si 5) | M41: WAXOYL | P41: =IF(E41<=5,30*E41,50*E41) -> 60
B42: COYOTTE | E42: =SUM(O4:O28) -> 1 | F42: =SUM(E42/E32) -> 0.5 | G42: 50 | M42: COYOTTE | P42: =SUM(50*E42) -> 50
B43: TRAQUEUR | E43: =SUM(P4:P28) -> 1 | F43: =SUM(E43/E31) -> 0.5 | G43: 75 | M43: TRAQUEUR | P43: =SUM(75*E43) -> 75

Sheet LIVRAISON
A1: LIVRAISON MARS
A2: COMMANDES | F2: CREDIT | L2: PERIPHERIQUES | Q2: LIVRAISONS
B3: Nom du client | C3: Véhicule | D3: CAT | E3: Stock | F3: Financement | G3: Type | H3: CA | I3: ASSU | J3: PCP | K3: EGVN | L3: Pack Liv. | M3: Autosph. | N3: Waxoyl | O3: Coyotte | P3: Traqueur | Q3: Livrée LE : | R3: Prime
A4: 1 | D4: =IFERROR(VLOOKUP(C4,Formule!$F$1:$G$23,2,0),"") | R4: =IFERROR(VLOOKUP(D4,Formule!$I$1:$K$4,(IF(E4="oui",2,3)),FALSE),"")
A5: 2 | D5: =IFERROR(VLOOKUP(C5,Formule!$F$1:$G$23,2,0),"") | R5: =IFERROR(VLOOKUP(D5,Formule!$I$1:$K$4,(IF(E5="oui",2,3)),FALSE),"")
A6: 3 | D6: =IFERROR(VLOOKUP(C6,Formule!$F$1:$G$23,2,0),"") | R6: =IFERROR(VLOOKUP(D6,Formule!$I$1:$K$4,(IF(E6="oui",2,3)),FALSE),"")
A7: 4 | D7: =IFERROR(VLOOKUP(C7,Formule!$F$1:$G$23,2,0),"") | R7: =IFERROR(VLOOKUP(D7,Formule!$I$1:$K$4,(IF(E7="oui",2,3)),FALSE),"")
A8: 5 | D8: =IFERROR(VLOOKUP(C8,Formule!$F$1:$G$23,2,0),"") | R8: =IFERROR(VLOOKUP(D8,Formule!$I$1:$K$4,(IF(E8="oui",2,3)),FALSE),"")
A9: 6 | D9: =IFERROR(VLOOKUP(C9,Formule!$F$1:$G$23,2,0),"") | R9: =IFERROR(VLOOKUP(D9,Formule!$I$1:$K$4,(IF(E9="oui",2,3)),FALSE),"")
A10: 7 | D10: =IFERROR(VLOOKUP(C10,Formule!$F$1:$G$23,2,0),"") | R10: =IFERROR(VLOOKUP(D10,Formule!$I$1:$K$4,(IF(E10="oui",2,3)),FALSE),"")
A11: 8 | D11: =IFERROR(VLOOKUP(C11,Formule!$F$1:$G$23,2,0),"") | R11: =IFERROR(VLOOKUP(D11,Formule!$I$1:$K$4,(IF(E11="oui",2,3)),FALSE),"")
A12: 9 | D12: =IFERROR(VLOOKUP(C12,Formule!$F$1:$G$23,2,0),"") | R12: =IFERROR(VLOOKUP(D12,Formule!$I$1:$K$4,(IF(E12="oui",2,3)),FALSE),"")
A13: 10 | D13: =IFERROR(VLOOKUP(C13,Formule!$F$1:$G$23,2,0),"") | R13: =IFERROR(VLOOKUP(D13,Formule!$I$1:$K$4,(IF(E13="oui",2,3)),FALSE),"")
A14: 11 | D14: =IFERROR(VLOOKUP(C14,Formule!$F$1:$G$23,2,0),"") | R14: =IFERROR(VLOOKUP(D14,Formule!$I$1:$K$4,(IF(E14="oui",2,3)),FALSE),"")
A15: 12 | D15: =IFERROR(VLOOKUP(C15,Formule!$F$1:$G$23,2,0),"") | R15: =IFERROR(VLOOKUP(D15,Formule!$I$1:$K$4,(IF(E15="oui",2,3)),FALSE),"")
... A23: 20 | D23: =IFERROR(VLOOKUP(C23,Formule!$F$1:$G$23,2,0),"") | R23: =IFERROR(VLOOKUP(D23,Formule!$I$1:$K$4,(IF(E23="oui",2,3)),FALSE),"")
A24: VD
A25: VD
A26: VD
A27: VD
A28: VD
E30: Nombre | F30: R/O | G30: Base de calcul | K30: PRIMES | M30: PRIME LIVRAISON | P30: =+SUM(R3:R22) -> 0 | Q30: Qualité | R30: 96
B31: TOTAL LIVRAISON | E31: =COUNTIF(B4:B28,"*") -> 0 | M31: Si Qualité >= 96% + | O31: 10 | P31: =IF(R30>=96,O31*E31,"") -> 0 | Q31: ESSAI | R31: 90
B32: Total Financement | E32: =COUNTIF(F4:F28,"oui") -> 0 | F32: =SUM(E32/E31) -> #DIV/0! | G32: Pénétration | H32: De 45% à 50.9% | I32: De 51% à 58% | J32: >58% | M32: Si Essai >=85% / + | O32: 10 | P32: =IF(R31>=85,O31*E31,"") -> 0
B33: Dont LOA | E33: =COUNTIF(G4:G28,"LOA") -> 0 | F33: =SUM(E33/E32) -> #DIV/0! | G33: ASS < 140% | H33: 0.3% | I33: 0.5% | J33: 0.7% | M33: PRIME VD | P33: =SUM(R24:R28) -> 0
B34: TOTAL CA Financé | E34: =SUM(H4:H28) -> 0 | G34: ASS < 160% | H34: 0.5% | I34: 0.01 | J34: 1.2% | M34: Prime CREDIT | P34: 2044
B35: Moyenne CA | E35: =AVERAGE(H4:H28) -> #DIV/0! | G35: ASS >= 160% | H35: 0.7% | I35: 0.012 | J35: 1.4% | M35: Si CA Moyen > 13300 X1,2 | P35: =IF(E35>=13300,P34*0.2) -> #DIV/0!
B36: TOTAL ASSU | E36: =SUM(I4:I28) -> 0 | F36: =SUM(E36/E32) -> #DIV/0! | M36: Si 6 PP livré | P36: =IF(AND(E33>=6,E33<8),"450","0,00") -> 0,00
B37: PCP | E37: =SUM(J4:J28) -> 0 | F37: =E37/E31 -> #DIV/0! | G37: SI PCP >55% = 40€ | M37: Si 8 PP Livré | P37: =IF(E33>=8,"800","0,00") -> 0,00
B38: EGVN | E38: =SUM(K4:K28) -> 0 | G38: SI PCP >55% = 15€ | M38: PCP/EVGN | P38: =SUM(E37*40,E38*10) -> 0
B39: PACK COMPLET (Grav. + autosphere) | E39: =SUM(L4:L28) -> 0 | F39: =E39/E31 -> #DIV/0! | G39: 45 | M39: PACK LIVRAISON | P39: =SUM(E39*45) -> 0
B40: AUTOSPHERE ENTRETIEN | E40: =SUM(M4:M28) -> 0 | F40: =E40/E31 -> #DIV/0! | G40: 10 | M40: P.AUTO.Entretien | P40: =SUM(10*E40) -> 0
B41: WAXOYL | E41: =SUM(N4:N28) -> 0 | F41: =SUM(E41/E31) -> #DIV/0! | G41: 30€ (50€ si 5) | M41: WAXOYL | P41: =IF(E41<=5,30*E41,50*E41) -> 0
B42: COYOTTE | E42: =SUM(O4:O28) -> 0 | G42: 50 | M42: COYOTTE | P42: =SUM(50*E42) -> 0
B43: TRAQUEUR | E43: =SUM(P4:P28) -> 0 | G43: 75 | M43: TRAQUEUR | P43: =SUM(75*E43) -> 0

Sheet Formule
A1: Oui | C1: LOA | F1: Modele | G1: Catégorie | I1: Categorie | J1: stock oui | K1: stock non
A2: Non | C2: VAC | F2: 108 | G2: A | I2: A | J2: 60 | K2: 30
A3: VD | C3: LLD | F3: 208 | G3: A | I3: B | J3: 90 | K3: 60
C4: C.BAIL | F4: 208-Elec | G4: C | I4: C | J4: 150 | K4: 100
F5: 2008-Elec | G5: C
F6: 2008 | G6: C
F7: 308 | G7: B
F8: 308-Hyb | G8: C
F9: 3008 | G9: B
F10: 3008-Hyb | G10: C
F11: 5008 | G11: B
F12: 508 | G12: C
F13: 508 Hyb | G13: C
F14: Rifter | G14: A
F15: Rifter-Elec | G15: C
F16: PARTNER | G16: A
F17: PARTNER-Elec | G17: C
F18: EXPERT | G18: B
F19: EXPERT-Elec | G19: C
F20: BOXER | G20: B
F21: BOXER-Elec | G21: C
F22: TRAVELLER | G22: B
F23: TRAVELLER-ELEC | G23: C
