Workbook
Name ChronologieNative_Date_réception: #N/A
Name Segment_Entreprise: #N/A
Name Segment_UAP: #N/A
Name TYPO: 'RESSOURCES BDD'!$G$1:$G$3

Sheet BDD
A1: UAP | B1: Entreprise | C1: Date réception | D1: Heure réception | E1: Date démarrage | F1: Heure démarrage | G1: Délais de prévenance | H1: Prévenance | I1: Criticité du retard | J1: Complétude2 | K1: Complétude | L1: Raison | M1: Annulation avant intervention DCI | N1: Complétude et Conformité des activités précédant l'intervention du DCI | O1: Raison Si Non conforme | P1: Nombre d'intervention | Q1: Raison si nbre d'intervetion > 1 | R1: Démarrage soudage | S1: Cause refus par le DCI
A2: UAP FS | B2: ENTREPRISE 3 | C2: 45037 | D2: 0.59305556 | E2: 45040 | F2: 0.36805556 | G2: =IFERROR(NETWORKDAYS.INTL(TEXT(Tableau1[[#This Row],[Date réception]],"jj/mm/aaaa")&" "&TEXT(Tableau1[[#This Row],[Heure réception]],"hh:mm"),TEXT(Tableau1[[#This Row],[Date démarrage]],"jj/mm/aaaa")&" "&TEXT(Tableau1[[#This Row],[Heure démarrage]],"hh:mm"),1,JoursFériés!$B$1:$B$12)-1-MOD(TEXT(Tableau1[[#This Row],[Date réception]],"jj/mm/aaaa")&" "&TEXT(Tableau1[[#This Row],[Heure réception]],"hh:mm"),1)+MOD(TEXT(Tableau1[[#This Row],[Date démarrage]],"jj/mm/aaaa")&" "&TEXT(Tableau1[[#This Row],[Heure démarrage]],"hh:mm"),1),"") -> 0.775 | H2: =IF(Tableau1[[#This Row],[Délais de prévenance]]<=TIMEVALUE("19:59:59"),"Non respecté","Respecté") -> Non respecté | I2: =IF(AND(Tableau1[[#This Row],[Délais de prévenance]]<TIMEVALUE("19:59:59"),Tableau1[[#This Row],[Délais de prévenance]]>=TIMEVALUE("10:00")),"1 : ]20h-10h]",IF(AND(Tableau1[[#This Row],[Délais de prévenance]]<TIMEVALUE("10:00"),Tableau1[[#This Row],[Délais de prévenance]]>=TIMEVALUE("5:00")),"2 : ]10h-05h]",IF(AND(Tableau1[[#This Row],[Délais de prévenance]]<TIMEVALUE("5:00"),Tableau1[[#This Row],[Délais de prévenance]]>=TIMEVALUE("2:00")),"3 : ]05h-02h]",IF(Tableau1[[#This Row],[Délais de prévenance]]<TIMEVALUE("2:00"),"4 : ]02h-00h]",0)))) -> 1 : ]20h-10h] | J2: Conforme | K2: Conforme | M2: Non | N2: Conforme | P2: 1 | R2: Démarré
A3: UAP FS | B3: ENTREPRISE 4 | C3: 45037 | D3: 0.79166667 | E3: 45040 | F3: 0.26041667 | G3: =IFERROR(NETWORKDAYS.INTL(TEXT(Tableau1[[#This Row],[Date réception]],"jj/mm/aaaa")&" "&TEXT(Tableau1[[#This Row],[Heure réception]],"hh:mm"),TEXT(Tableau1[[#This Row],[Date démarrage]],"jj/mm/aaaa")&" "&TEXT(Tableau1[[#This Row],[Heure démarrage]],"hh:mm"),1,JoursFériés!$B$1:$B$12)-1-MOD(TEXT(Tableau1[[#This Row],[Date réception]],"jj/mm/aaaa")&" "&TEXT(Tableau1[[#This Row],[Heure réception]],"hh:mm"),1)+MOD(TEXT(Tableau1[[#This Row],[Date démarrage]],"jj/mm/aaaa")&" "&TEXT(Tableau1[[#This Row],[Heure démarrage]],"hh:mm"),1),"") -> 0.46875 | H3: =IF(Tableau1[[#This Row],[Délais de prévenance]]<=TIMEVALUE("19:59:59"),"Non respecté","Respecté") -> Non respecté | I3: =IF(AND(Tableau1[[#This Row],[Délais de prévenance]]<TIMEVALUE("19:59:59"),Tableau1[[#This Row],[Délais de prévenance]]>=TIMEVALUE("10:00")),"1 : ]20h-10h]",IF(AND(Tableau1[[#This Row],[Délais de prévenance]]<TIMEVALUE("10:00"),Tableau1[[#This Row],[Délais de prévenance]]>=TIMEVALUE("5:00")),"2 : ]10h-05h]",IF(AND(Tableau1[[#This Row],[Délais de prévenance]]<TIMEVALUE("5:00"),Tableau1[[#This Row],[Délais de prévenance]]>=TIMEVALUE("2:00")),"3 : ]05h-02h]",IF(Tableau1[[#This Row],[Délais de prévenance]]<TIMEVALUE("2:00"),"4 : ]02h-00h]",0)))) -> 1 : ]20h-10h] | J3: Saisie manquante | K3: Non-conforme | L3: Saisie manquante | M3: Non | N3: Conforme | P3: 2 | Q3: Conditions générales d'environnement NC | R3: Démarré
A4: UAP FSC | B4: ENTREPRISE 3 | C4: 45037 | D4: 0.47222222 | E4: 45040 | F4: 0.26041667 | G4: =IFERROR(NETWORKDAYS.INTL(TEXT(Tableau1[[#This Row],[Date réception]],"jj/mm/aaaa")&" "&TEXT(Tableau1[[#This Row],[Heure réception]],"hh:mm"),TEXT(Tableau1[[#This Row],[Date démarrage]],"jj/mm/aaaa")&" "&TEXT(Tableau1[[#This Row],[Heure démarrage]],"hh:mm"),1,JoursFériés!$B$1:$B$12)-1-MOD(TEXT(Tableau1[[#This Row],[Date réception]],"jj/mm/aaaa")&" "&TEXT(Tableau1[[#This Row],[Heure réception]],"hh:mm"),1)+MOD(TEXT(Tableau1[[#This Row],[Date démarrage]],"jj/mm/aaaa")&" "&TEXT(Tableau1[[#This Row],[Heure démarrage]],"hh:mm"),1),"") -> 0.78819444 | H4: =IF(Tableau1[[#This Row],[Délais de prévenance]]<=TIMEVALUE("19:59:59"),"Non respecté","Respecté") -> Non respecté | I4: =IF(AND(Tableau1[[#This Row],[Délais de prévenance]]<TIMEVALUE("19:59:59"),Tableau1[[#This Row],[Délais de prévenance]]>=TIMEVALUE("10:00")),"1 : ]20h-10h]",IF(AND(Tableau1[[#This Row],[Délais de prévenance]]<TIMEVALUE("10:00"),Tableau1[[#This Row],[Délais de prévenance]]>=TIMEVALUE("5:00")),"2 : ]10h-05h]",IF(AND(Tableau1[[#This Row],[Délais de prévenance]]<TIMEVALUE("5:00"),Tableau1[[#This Row],[Délais de prévenance]]>=TIMEVALUE("2:00")),"3 : ]05h-02h]",IF(Tableau1[[#This Row],[Délais de prévenance]]<TIMEVALUE("2:00"),"4 : ]02h-00h]",0)))) -> 1 : ]20h-10h] | J4: Saisie erronnée | K4: Non-conforme | L4: Saisie erronnée | M4: Non | N4: Conforme | P4: 1 | R4: Démarré
A5: UAP FSC | B5: ENTREPRISE 4 | C5: 45037 | D5: 0.97430556 | E5: 45040 | F5: 0.27083333 | G5: =IFERROR(NETWORKDAYS.INTL(TEXT(Tableau1[[#This Row],[Date réception]],"jj/mm/aaaa")&" "&TEXT(Tableau1[[#This Row],[Heure réception]],"hh:mm"),TEXT(Tableau1[[#This Row],[Date démarrage]],"jj/mm/aaaa")&" "&TEXT(Tableau1[[#This Row],[Heure démarrage]],"hh:mm"),1,JoursFériés!$B$1:$B$12)-1-MOD(TEXT(Tableau1[[#This Row],[Date réception]],"jj/mm/aaaa")&" "&TEXT(Tableau1[[#This Row],[Heure réception]],"hh:mm"),1)+MOD(TEXT(Tableau1[[#This Row],[Date démarrage]],"jj/mm/aaaa")&" "&TEXT(Tableau1[[#This Row],[Heure démarrage]],"hh:mm"),1),"") -> 0.29652778 | H5: =IF(Tableau1[[#This Row],[Délais de prévenance]]<=TIMEVALUE("19:59:59"),"Non respecté","Respecté") -> Non respecté | I5: =IF(AND(Tableau1[[#This Row],[Délais de prévenance]]<TIMEVALUE("19:59:59"),Tableau1[[#This Row],[Délais de prévenance]]>=TIMEVALUE("10:00")),"1 : ]20h-10h]",IF(AND(Tableau1[[#This Row],[Délais de prévenance]]<TIMEVALUE("10:00"),Tableau1[[#This Row],[Délais de prévenance]]>=TIMEVALUE("5:00")),"2 : ]10h-05h]",IF(AND(Tableau1[[#This Row],[Délais de prévenance]]<TIMEVALUE("5:00"),Tableau1[[#This Row],[Délais de prévenance]]>=TIMEVALUE("2:00")),"3 : ]05h-02h]",IF(Tableau1[[#This Row],[Délais de prévenance]]<TIMEVALUE("2:00"),"4 : ]02h-00h]",0)))) -> 2 : ]10h-05h] | J5: Conforme | K5: Conforme | M5: Oui | N5: Conforme | P5: 0 | R5: Annulé par la Production
A6: UAP FC | B6: ENTREPRISE 2 | C6: 45040 | D6: 0.27430556 | E6: 45040 | F6: 0.33333333 | G6: =IFERROR(NETWORKDAYS.INTL(TEXT(Tableau1[[#This Row],[Date réception]],"jj/mm/aaaa")&" "&TEXT(Tableau1[[#This Row],[Heure réception]],"hh:mm"),TEXT(Tableau1[[#This Row],[Date démarrage]],"jj/mm/aaaa")&" "&TEXT(Tableau1[[#This Row],[Heure démarrage]],"hh:mm"),1,JoursFériés!$B$1:$B$12)-1-MOD(TEXT(Tableau1[[#This Row],[Date réception]],"jj/mm/aaaa")&" "&TEXT(Tableau1[[#This Row],[Heure réception]],"hh:mm"),1)+MOD(TEXT(Tableau1[[#This Row],[Date démarrage]],"jj/mm/aaaa")&" "&TEXT(Tableau1[[#This Row],[Heure démarrage]],"hh:mm"),1),"") -> 0.059027778 | H6: =IF(Tableau1[[#This Row],[Délais de prévenance]]<=TIMEVALUE("19:59:59"),"Non respecté","Respecté") -> Non respecté | I6: =IF(AND(Tableau1[[#This Row],[Délais de prévenance]]<TIMEVALUE("19:59:59"),Tableau1[[#This Row],[Délais de prévenance]]>=TIMEVALUE("10:00")),"1 : ]20h-10h]",IF(AND(Tableau1[[#This Row],[Délais de prévenance]]<TIMEVALUE("10:00"),Tableau1[[#This Row],[Délais de prévenance]]>=TIMEVALUE("5:00")),"2 : ]10h-05h]",IF(AND(Tableau1[[#This Row],[Délais de prévenance]]<TIMEVALUE("5:00"),Tableau1[[#This Row],[Délais de prévenance]]>=TIMEVALUE("2:00")),"3 : ]05h-02h]",IF(Tableau1[[#This Row],[Délais de prévenance]]<TIMEVALUE("2:00"),"4 : ]02h-00h]",0)))) -> 4 : ]02h-00h] | J6: Saisie erronnée | K6: Non-conforme | L6: Saisie erronnée | M6: Non | N6: Conforme | P6: 1 | R6: Refusé par le DCI | S6: Conditions générales d'environnement NC
A7: UAP FC | B7: ENTREPRISE 1 | C7: 45040 | D7: 0.33333333 | E7: 45040 | F7: 0.36458333 | G7: =IFERROR(NETWORKDAYS.INTL(TEXT(Tableau1[[#This Row],[Date réception]],"jj/mm/aaaa")&" "&TEXT(Tableau1[[#This Row],[Heure réception]],"hh:mm"),TEXT(Tableau1[[#This Row],[Date démarrage]],"jj/mm/aaaa")&" "&TEXT(Tableau1[[#This Row],[Heure démarrage]],"hh:mm"),1,JoursFériés!$B$1:$B$12)-1-MOD(TEXT(Tableau1[[#This Row],[Date réception]],"jj/mm/aaaa")&" "&TEXT(Tableau1[[#This Row],[Heure réception]],"hh:mm"),1)+MOD(TEXT(Tableau1[[#This Row],[Date démarrage]],"jj/mm/aaaa")&" "&TEXT(Tableau1[[#This Row],[Heure démarrage]],"hh:mm"),1),"") -> 0.03125 | H7: =IF(Tableau1[[#This Row],[Délais de prévenance]]<=TIMEVALUE("19:59:59"),"Non respecté","Respecté") -> Non respecté | I7: =IF(AND(Tableau1[[#This Row],[Délais de prévenance]]<TIMEVALUE("19:59:59"),Tableau1[[#This Row],[Délais de prévenance]]>=TIMEVALUE("10:00")),"1 : ]20h-10h]",IF(AND(Tableau1[[#This Row],[Délais de prévenance]]<TIMEVALUE("10:00"),Tableau1[[#This Row],[Délais de prévenance]]>=TIMEVALUE("5:00")),"2 : ]10h-05h]",IF(AND(Tableau1[[#This Row],[Délais de prévenance]]<TIMEVALUE("5:00"),Tableau1[[#This Row],[Délais de prévenance]]>=TIMEVALUE("2:00")),"3 : ]05h-02h]",IF(Tableau1[[#This Row],[Délais de prévenance]]<TIMEVALUE("2:00"),"4 : ]02h-00h]",0)))) -> 4 : ]02h-00h] | J7: Conforme | K7: Conforme | M7: Non | N7: Conforme | P7: 1 | R7: Démarré
A8: UAP FSC | B8: ENTREPRISE 4 | C8: 45040 | D8: 0.45138889 | E8: 45041 | F8: 0.27083333 | G8: =IFERROR(NETWORKDAYS.INTL(TEXT(Tableau1[[#This Row],[Date réception]],"jj/mm/aaaa")&" "&TEXT(Tableau1[[#This Row],[Heure réception]],"hh:mm"),TEXT(Tableau1[[#This Row],[Date démarrage]],"jj/mm/aaaa")&" "&TEXT(Tableau1[[#This Row],[Heure démarrage]],"hh:mm"),1,JoursFériés!$B$1:$B$12)-1-MOD(TEXT(Tableau1[[#This Row],[Date réception]],"jj/mm/aaaa")&" "&TEXT(Tableau1[[#This Row],[Heure réception]],"hh:mm"),1)+MOD(TEXT(Tableau1[[#This Row],[Date démarrage]],"jj/mm/aaaa")&" "&TEXT(Tableau1[[#This Row],[Heure démarrage]],"hh:mm"),1),"") -> 0.81944444 | H8: =IF(Tableau1[[#This Row],[Délais de prévenance]]<=TIMEVALUE("19:59:59"),"Non respecté","Respecté") -> Non respecté | I8: =IF(AND(Tableau1[[#This Row],[Délais de prévenance]]<TIMEVALUE("19:59:59"),Tableau1[[#This Row],[Délais de prévenance]]>=TIMEVALUE("10:00")),"1 : ]20h-10h]",IF(AND(Tableau1[[#This Row],[Délais de prévenance]]<TIMEVALUE("10:00"),Tableau1[[#This Row],[Délais de prévenance]]>=TIMEVALUE("5:00")),"2 : ]10h-05h]",IF(AND(Tableau1[[#This Row],[Délais de prévenance]]<TIMEVALUE("5:00"),Tableau1[[#This Row],[Délais de prévenance]]>=TIMEVALUE("2:00")),"3 : ]05h-02h]",IF(Tableau1[[#This Row],[Délais de prévenance]]<TIMEVALUE("2:00"),"4 : ]02h-00h]",0)))) -> 1 : ]20h-10h] | J8: Conforme | K8: Conforme | M8: Non | N8: Conforme | P8: 1 | R8: Démarré
A9: UAP FSC | B9: ENTREPRISE 4 | C9: 45040 | D9: 0.675 | E9: 45040 | F9: 0.89583333 | G9: =IFERROR(NETWORKDAYS.INTL(TEXT(Tableau1[[#This Row],[Date réception]],"jj/mm/aaaa")&" "&TEXT(Tableau1[[#This Row],[Heure réception]],"hh:mm"),TEXT(Tableau1[[#This Row],[Date démarrage]],"jj/mm/aaaa")&" "&TEXT(Tableau1[[#This Row],[Heure démarrage]],"hh:mm"),1,JoursFériés!$B$1:$B$12)-1-MOD(TEXT(Tableau1[[#This Row],[Date réception]],"jj/mm/aaaa")&" "&TEXT(Tableau1[[#This Row],[Heure réception]],"hh:mm"),1)+MOD(TEXT(Tableau1[[#This Row],[Date démarrage]],"jj/mm/aaaa")&" "&TEXT(Tableau1[[#This Row],[Heure démarrage]],"hh:mm"),1),"") -> 0.22083333 | H9: =IF(Tableau1[[#This Row],[Délais de prévenance]]<=TIMEVALUE("19:59:59"),"Non respecté","Respecté") -> Non respecté | I9: =IF(AND(Tableau1[[#This Row],[Délais de prévenance]]<TIMEVALUE("19:59:59"),Tableau1[[#This Row],[Délais de prévenance]]>=TIMEVALUE("10:00")),"1 : ]20h-10h]",IF(AND(Tableau1[[#This Row],[Délais de prévenance]]<TIMEVALUE("10:00"),Tableau1[[#This Row],[Délais de prévenance]]>=TIMEVALUE("5:00")),"2 : ]10h-05h]",IF(AND(Tableau1[[#This Row],[Délais de prévenance]]<TIMEVALUE("5:00"),Tableau1[[#This Row],[Délais de prévenance]]>=TIMEVALUE("2:00")),"3 : ]05h-02h]",IF(Tableau1[[#This Row],[Délais de prévenance]]<TIMEVALUE("2:00"),"4 : ]02h-00h]",0)))) -> 2 : ]10h-05h] | J9: Saisie erronnée | K9: Non-conforme | L9: Saisie erronnée | M9: Non | N9: Conforme | P9: 1 | R9: Démarré
A10: UAP FSC | B10: ENTREPRISE 4 | C10: 45040 | D10: 0.45138889 | E10: 45040 | F10: 0.88541667 | G10: =IFERROR(NETWORKDAYS.INTL(TEXT(Tableau1[[#This Row],[Date réception]],"jj/mm/aaaa")&" "&TEXT(Tableau1[[#This Row],[Heure réception]],"hh:mm"),TEXT(Tableau1[[#This Row],[Date démarrage]],"jj/mm/aaaa")&" "&TEXT(Tableau1[[#This Row],[Heure démarrage]],"hh:mm"),1,JoursFériés!$B$1:$B$12)-1-MOD(TEXT(Tableau1[[#This Row],[Date réception]],"jj/mm/aaaa")&" "&TEXT(Tableau1[[#This Row],[Heure réception]],"hh:mm"),1)+MOD(TEXT(Tableau1[[#This Row],[Date démarrage]],"jj/mm/aaaa")&" "&TEXT(Tableau1[[#This Row],[Heure démarrage]],"hh:mm"),1),"") -> 0.43402778 | H10: =IF(Tableau1[[#This Row],[Délais de prévenance]]<=TIMEVALUE("19:59:59"),"Non respecté","Respecté") -> Non respecté | I10: =IF(AND(Tableau1[[#This Row],[Délais de prévenance]]<TIMEVALUE("19:59:59"),Tableau1[[#This Row],[Délais de prévenance]]>=TIMEVALUE("10:00")),"1 : ]20h-10h]",IF(AND(Tableau1[[#This Row],[Délais de prévenance]]<TIMEVALUE("10:00"),Tableau1[[#This Row],[Délais de prévenance]]>=TIMEVALUE("5:00")),"2 : ]10h-05h]",IF(AND(Tableau1[[#This Row],[Délais de prévenance]]<TIMEVALUE("5:00"),Tableau1[[#This Row],[Délais de prévenance]]>=TIMEVALUE("2:00")),"3 : ]05h-02h]",IF(Tableau1[[#This Row],[Délais de prévenance]]<TIMEVALUE("2:00"),"4 : ]02h-00h]",0)))) -> 1 : ]20h-10h] | J10: Conforme | K10: Conforme | M10: Non | N10: Conforme | P10: 1 | R10: Démarré
A11: UAP FSC | B11: ENTREPRISE 4 | C11: 45040 | D11: 0.45138889 | E11: 45040 | F11: 0.88541667 | G11: =IFERROR(NETWORKDAYS.INTL(TEXT(Tableau1[[#This Row],[Date réception]],"jj/mm/aaaa")&" "&TEXT(Tableau1[[#This Row],[Heure réception]],"hh:mm"),TEXT(Tableau1[[#This Row],[Date démarrage]],"jj/mm/aaaa")&" "&TEXT(Tableau1[[#This Row],[Heure démarrage]],"hh:mm"),1,JoursFériés!$B$1:$B$12)-1-MOD(TEXT(Tableau1[[#This Row],[Date réception]],"jj/mm/aaaa")&" "&TEXT(Tableau1[[#This Row],[Heure réception]],"hh:mm"),1)+MOD(TEXT(Tableau1[[#This Row],[Date démarrage]],"jj/mm/aaaa")&" "&TEXT(Tableau1[[#This Row],[Heure démarrage]],"hh:mm"),1),"") -> 0.43402778 | H11: =IF(Tableau1[[#This Row],[Délais de prévenance]]<=TIMEVALUE("19:59:59"),"Non respecté","Respecté") -> Non respecté | I11: =IF(AND(Tableau1[[#This Row],[Délais de prévenance]]<TIMEVALUE("19:59:59"),Tableau1[[#This Row],[Délais de prévenance]]>=TIMEVALUE("10:00")),"1 : ]20h-10h]",IF(AND(Tableau1[[#This Row],[Délais de prévenance]]<TIMEVALUE("10:00"),Tableau1[[#This Row],[Délais de prévenance]]>=TIMEVALUE("5:00")),"2 : ]10h-05h]",IF(AND(Tableau1[[#This Row],[Délais de prévenance]]<TIMEVALUE("5:00"),Tableau1[[#This Row],[Délais de prévenance]]>=TIMEVALUE("2:00")),"3 : ]05h-02h]",IF(Tableau1[[#This Row],[Délais de prévenance]]<TIMEVALUE("2:00"),"4 : ]02h-00h]",0)))) -> 1 : ]20h-10h] | J11: Conforme | K11: Conforme | M11: Non | N11: Conforme | P11: 1 | R11: Démarré
A12: UAP FS | B12: ENTREPRISE 1 | C12: 45037 | D12: 0.54375 | E12: 45040 | F12: 0.79166667 | G12: =IFERROR(NETWORKDAYS.INTL(TEXT(Tableau1[[#This Row],[Date réception]],"jj/mm/aaaa")&" "&TEXT(Tableau1[[#This Row],[Heure réception]],"hh:mm"),TEXT(Tableau1[[#This Row],[Date démarrage]],"jj/mm/aaaa")&" "&TEXT(Tableau1[[#This Row],[Heure démarrage]],"hh:mm"),1,JoursFériés!$B$1:$B$12)-1-MOD(TEXT(Tableau1[[#This Row],[Date réception]],"jj/mm/aaaa")&" "&TEXT(Tableau1[[#This Row],[Heure réception]],"hh:mm"),1)+MOD(TEXT(Tableau1[[#This Row],[Date démarrage]],"jj/mm/aaaa")&" "&TEXT(Tableau1[[#This Row],[Heure démarrage]],"hh:mm"),1),"") -> 1.2479167 | H12: =IF(Tableau1[[#This Row],[Délais de prévenance]]<=TIMEVALUE("19:59:59"),"Non respecté","Respecté") -> Respecté | I12: =IF(AND(Tableau1[[#This Row],[Délais de prévenance]]<TIMEVALUE("19:59:59"),Tableau1[[#This Row],[Délais de prévenance]]>=TIMEVALUE("10:00")),"1 : ]20h-10h]",IF(AND(Tableau1[[#This Row],[Délais de prévenance]]<TIMEVALUE("10:00"),Tableau1[[#This Row],[Délais de prévenance]]>=TIMEVALUE("5:00")),"2 : ]10h-05h]",IF(AND(Tableau1[[#This Row],[Délais de prévenance]]<TIMEVALUE("5:00"),Tableau1[[#This Row],[Délais de prévenance]]>=TIMEVALUE("2:00")),"3 : ]05h-02h]",IF(Tableau1[[#This Row],[Délais de prévenance]]<TIMEVALUE("2:00"),"4 : ]02h-00h]",0)))) -> 0 | J12: Conforme | K12: Conforme | M12: Oui | N12: Sans objet | P12: 0 | R12: Annulé par la Production
A13: UAP FS | B13: ENTREPRISE 1 | C13: 45037 | D13: 0.54375 | E13: 45040 | F13: 0.375 | G13: =IFERROR(NETWORKDAYS.INTL(TEXT(Tableau1[[#This Row],[Date réception]],"jj/mm/aaaa")&" "&TEXT(Tableau1[[#This Row],[Heure réception]],"hh:mm"),TEXT(Tableau1[[#This Row],[Date démarrage]],"jj/mm/aaaa")&" "&TEXT(Tableau1[[#This Row],[Heure démarrage]],"hh:mm"),1,JoursFériés!$B$1:$B$12)-1-MOD(TEXT(Tableau1[[#This Row],[Date réception]],"jj/mm/aaaa")&" "&TEXT(Tableau1[[#This Row],[Heure réception]],"hh:mm"),1)+MOD(TEXT(Tableau1[[#This Row],[Date démarrage]],"jj/mm/aaaa")&" "&TEXT(Tableau1[[#This Row],[Heure démarrage]],"hh:mm"),1),"") -> 0.83125 | H13: =IF(Tableau1[[#This Row],[Délais de prévenance]]<=TIMEVALUE("19:59:59"),"Non respecté","Respecté") -> Non respecté | I13: =IF(AND(Tableau1[[#This Row],[Délais de prévenance]]<TIMEVALUE("19:59:59"),Tableau1[[#This Row],[Délais de prévenance]]>=TIMEVALUE("10:00")),"1 : ]20h-10h]",IF(AND(Tableau1[[#This Row],[Délais de prévenance]]<TIMEVALUE("10:00"),Tableau1[[#This Row],[Délais de prévenance]]>=TIMEVALUE("5:00")),"2 : ]10h-05h]",IF(AND(Tableau1[[#This Row],[Délais de prévenance]]<TIMEVALUE("5:00"),Tableau1[[#This Row],[Délais de prévenance]]>=TIMEVALUE("2:00")),"3 : ]05h-02h]",IF(Tableau1[[#This Row],[Délais de prévenance]]<TIMEVALUE("2:00"),"4 : ]02h-00h]",0)))) -> 1 : ]20h-10h] | J13: Conforme | K13: Conforme | M13: Oui | N13: Sans objet | P13: 0 | R13: Annulé par la Production
A14: UAP FC | B14: ENTREPRISE 1 | C14: 45041 | D14: 0.017361111 | E14: 45041 | F14: 0.29166667 | G14: =IFERROR(NETWORKDAYS.INTL(TEXT(Tableau1[[#This Row],[Date réception]],"jj/mm/aaaa")&" "&TEXT(Tableau1[[#This Row],[Heure réception]],"hh:mm"),TEXT(Tableau1[[#This Row],[Date démarrage]],"jj/mm/aaaa")&" "&TEXT(Tableau1[[#This Row],[Heure démarrage]],"hh:mm"),1,JoursFériés!$B$1:$B$12)-1-MOD(TEXT(Tableau1[[#This Row],[Date réception]],"jj/mm/aaaa")&" "&TEXT(Tableau1[[#This Row],[Heure réception]],"hh:mm"),1)+MOD(TEXT(Tableau1[[#This Row],[Date démarrage]],"jj/mm/aaaa")&" "&TEXT(Tableau1[[#This Row],[Heure démarrage]],"hh:mm"),1),"") -> 0.27430556 | H14: =IF(Tableau1[[#This Row],[Délais de prévenance]]<=TIMEVALUE("19:59:59"),"Non respecté","Respecté") -> Non respecté | I14: =IF(AND(Tableau1[[#This Row],[Délais de prévenance]]<TIMEVALUE("19:59:59"),Tableau1[[#This Row],[Délais de prévenance]]>=TIMEVALUE("10:00")),"1 : ]20h-10h]",IF(AND(Tableau1[[#This Row],[Délais de prévenance]]<TIMEVALUE("10:00"),Tableau1[[#This Row],[Délais de prévenance]]>=TIMEVALUE("5:00")),"2 : ]10h-05h]",IF(AND(Tableau1[[#This Row],[Délais de prévenance]]<TIMEVALUE("5:00"),Tableau1[[#This Row],[Délais de prévenance]]>=TIMEVALUE("2:00")),"3 : ]05h-02h]",IF(Tableau1[[#This Row],[Délais de prévenance]]<TIMEVALUE("2:00"),"4 : ]02h-00h]",0)))) -> 2 : ]10h-05h] | J14: Saisie erronnée | K14: Non-conforme | L14: Saisie erronnée | M14: Non | N14: Conforme | P14: 1 | R14: Démarré
A15: UAP FSC | B15: ENTREPRISE 1 | C15: 45040 | D15: 0.43402778 | E15: 45040 | F15: 0.54166667 | G15: =IFERROR(NETWORKDAYS.INTL(TEXT(Tableau1[[#This Row],[Date réception]],"jj/mm/aaaa")&" "&TEXT(Tableau1[[#This Row],[Heure réception]],"hh:mm"),TEXT(Tableau1[[#This Row],[Date démarrage]],"jj/mm/aaaa")&" "&TEXT(Tableau1[[#This Row],[Heure démarrage]],"hh:mm"),1,JoursFériés!$B$1:$B$12)-1-MOD(TEXT(Tableau1[[#This Row],[Date réception]],"jj/mm/aaaa")&" "&TEXT(Tableau1[[#This Row],[Heure réception]],"hh:mm"),1)+MOD(TEXT(Tableau1[[#This Row],[Date démarrage]],"jj/mm/aaaa")&" "&TEXT(Tableau1[[#This Row],[Heure démarrage]],"hh:mm"),1),"") -> 0.10763889 | H15: =IF(Tableau1[[#This Row],[Délais de prévenance]]<=TIMEVALUE("19:59:59"),"Non respecté","Respecté") -> Non respecté | I15: =IF(AND(Tableau1[[#This Row],[Délais de prévenance]]<TIMEVALUE("19:59:59"),Tableau1[[#This Row],[Délais de prévenance]]>=TIMEVALUE("10:00")),"1 : ]20h-10h]",IF(AND(Tableau1[[#This Row],[Délais de prévenance]]<TIMEVALUE("10:00"),Tableau1[[#This Row],[Délais de prévenance]]>=TIMEVALUE("5:00")),"2 : ]10h-05h]",IF(AND(Tableau1[[#This Row],[Délais de prévenance]]<TIMEVALUE("5:00"),Tableau1[[#This Row],[Délais de prévenance]]>=TIMEVALUE("2:00")),"3 : ]05h-02h]",IF(Tableau1[[#This Row],[Délais de prévenance]]<TIMEVALUE("2:00"),"4 : ]02h-00h]",0)))) -> 3 : ]05h-02h] | J15: Conforme | K15: Conforme | M15: Non | N15: Conforme | P15: 1 | R15: Démarré
A16: UAP FSC | B16: ENTREPRISE 3 | C16: 45037 | D16: 0.41666667 | E16: 45040 | F16: 0.5625 | G16: =IFERROR(NETWORKDAYS.INTL(TEXT(Tableau1[[#This Row],[Date réception]],"jj/mm/aaaa")&" "&TEXT(Tableau1[[#This Row],[Heure réception]],"hh:mm"),TEXT(Tableau1[[#This Row],[Date démarrage]],"jj/mm/aaaa")&" "&TEXT(Tableau1[[#This Row],[Heure démarrage]],"hh:mm"),1,JoursFériés!$B$1:$B$12)-1-MOD(TEXT(Tableau1[[#This Row],[Date réception]],"jj/mm/aaaa")&" "&TEXT(Tableau1[[#This Row],[Heure réception]],"hh:mm"),1)+MOD(TEXT(Tableau1[[#This Row],[Date démarrage]],"jj/mm/aaaa")&" "&TEXT(Tableau1[[#This Row],[Heure démarrage]],"hh:mm"),1),"") -> 1.1458333 | H16: =IF(Tableau1[[#This Row],[Délais de prévenance]]<=TIMEVALUE("19:59:59"),"Non respecté","Respecté") -> Respecté | I16: =IF(AND(Tableau1[[#This Row],[Délais de prévenance]]<TIMEVALUE("19:59:59"),Tableau1[[#This Row],[Délais de prévenance]]>=TIMEVALUE("10:00")),"1 : ]20h-10h]",IF(AND(Tableau1[[#This Row],[Délais de prévenance]]<TIMEVALUE("10:00"),Tableau1[[#This Row],[Délais de prévenance]]>=TIMEVALUE("5:00")),"2 : ]10h-05h]",IF(AND(Tableau1[[#This Row],[Délais de prévenance]]<TIMEVALUE("5:00"),Tableau1[[#This Row],[Délais de prévenance]]>=TIMEVALUE("2:00")),"3 : ]05h-02h]",IF(Tableau1[[#This Row],[Délais de prévenance]]<TIMEVALUE("2:00"),"4 : ]02h-00h]",0)))) -> 0 | J16: Conforme | K16: Conforme | M16: Non | N16: Conforme | P16: 1 | R16: Démarré
A17: UAP FSC | B17: ENTREPRISE 2 | C17: 45040 | D17: 0.45833333 | E17: 45040 | F17: 0.58333333 | G17: =IFERROR(NETWORKDAYS.INTL(TEXT(Tableau1[[#This Row],[Date réception]],"jj/mm/aaaa")&" "&TEXT(Tableau1[[#This Row],[Heure réception]],"hh:mm"),TEXT(Tableau1[[#This Row],[Date démarrage]],"jj/mm/aaaa")&" "&TEXT(Tableau1[[#This Row],[Heure démarrage]],"hh:mm"),1,JoursFériés!$B$1:$B$12)-1-MOD(TEXT(Tableau1[[#This Row],[Date réception]],"jj/mm/aaaa")&" "&TEXT(Tableau1[[#This Row],[Heure réception]],"hh:mm"),1)+MOD(TEXT(Tableau1[[#This Row],[Date démarrage]],"jj/mm/aaaa")&" "&TEXT(Tableau1[[#This Row],[Heure démarrage]],"hh:mm"),1),"") -> 0.125 | H17: =IF(Tableau1[[#This Row],[Délais de prévenance]]<=TIMEVALUE("19:59:59"),"Non respecté","Respecté") -> Non respecté | I17: =IF(AND(Tableau1[[#This Row],[Délais de prévenance]]<TIMEVALUE("19:59:59"),Tableau1[[#This Row],[Délais de prévenance]]>=TIMEVALUE("10:00")),"1 : ]20h-10h]",IF(AND(Tableau1[[#This Row],[Délais de prévenance]]<TIMEVALUE("10:00"),Tableau1[[#This Row],[Délais de prévenance]]>=TIMEVALUE("5:00")),"2 : ]10h-05h]",IF(AND(Tableau1[[#This Row],[Délais de prévenance]]<TIMEVALUE("5:00"),Tableau1[[#This Row],[Délais de prévenance]]>=TIMEVALUE("2:00")),"3 : ]05h-02h]",IF(Tableau1[[#This Row],[Délais de prévenance]]<TIMEVALUE("2:00"),"4 : ]02h-00h]",0)))) -> 3 : ]05h-02h] | J17: Conforme | K17: Conforme | M17: Non | N17: Conforme | P17: 1 | R17: Démarré
A18: UAP FC | B18: ENTREPRISE 1 | C18: 45040 | D18: 0.57777778 | E18: 45041 | F18: 0.25 | G18: =IFERROR(NETWORKDAYS.INTL(TEXT(Tableau1[[#This Row],[Date réception]],"jj/mm/aaaa")&" "&TEXT(Tableau1[[#This Row],[Heure réception]],"hh:mm"),TEXT(Tableau1[[#This Row],[Date démarrage]],"jj/mm/aaaa")&" "&TEXT(Tableau1[[#This Row],[Heure démarrage]],"hh:mm"),1,JoursFériés!$B$1:$B$12)-1-MOD(TEXT(Tableau1[[#This Row],[Date réception]],"jj/mm/aaaa")&" "&TEXT(Tableau1[[#This Row],[Heure réception]],"hh:mm"),1)+MOD(TEXT(Tableau1[[#This Row],[Date démarrage]],"jj/mm/aaaa")&" "&TEXT(Tableau1[[#This Row],[Heure démarrage]],"hh:mm"),1),"") -> 0.67222222 | H18: =IF(Tableau1[[#This Row],[Délais de prévenance]]<=TIMEVALUE("19:59:59"),"Non respecté","Respecté") -> Non respecté | I18: =IF(AND(Tableau1[[#This Row],[Délais de prévenance]]<TIMEVALUE("19:59:59"),Tableau1[[#This Row],[Délais de prévenance]]>=TIMEVALUE("10:00")),"1 : ]20h-10h]",IF(AND(Tableau1[[#This Row],[Délais de prévenance]]<TIMEVALUE("10:00"),Tableau1[[#This Row],[Délais de prévenance]]>=TIMEVALUE("5:00")),"2 : ]10h-05h]",IF(AND(Tableau1[[#This Row],[Délais de prévenance]]<TIMEVALUE("5:00"),Tableau1[[#This Row],[Délais de prévenance]]>=TIMEVALUE("2:00")),"3 : ]05h-02h]",IF(Tableau1[[#This Row],[Délais de prévenance]]<TIMEVALUE("2:00"),"4 : ]02h-00h]",0)))) -> 1 : ]20h-10h] | J18: Conforme | K18: Conforme | M18: Non | N18: Conforme | P18: 1 | R18: Démarré
A19: UAP FC | B19: ENTREPRISE 1 | C19: 45040 | D19: 0.61805556 | E19: 45041 | F19: 0.25 | G19: =IFERROR(NETWORKDAYS.INTL(TEXT(Tableau1[[#This Row],[Date réception]],"jj/mm/aaaa")&" "&TEXT(Tableau1[[#This Row],[Heure réception]],"hh:mm"),TEXT(Tableau1[[#This Row],[Date démarrage]],"jj/mm/aaaa")&" "&TEXT(Tableau1[[#This Row],[Heure démarrage]],"hh:mm"),1,JoursFériés!$B$1:$B$12)-1-MOD(TEXT(Tableau1[[#This Row],[Date réception]],"jj/mm/aaaa")&" "&TEXT(Tableau1[[#This Row],[Heure réception]],"hh:mm"),1)+MOD(TEXT(Tableau1[[#This Row],[Date démarrage]],"jj/mm/aaaa")&" "&TEXT(Tableau1[[#This Row],[Heure démarrage]],"hh:mm"),1),"") -> 0.63194444 | H19: =IF(Tableau1[[#This Row],[Délais de prévenance]]<=TIMEVALUE("19:59:59"),"Non respecté","Respecté") -> Non respecté | I19: =IF(AND(Tableau1[[#This Row],[Délais de prévenance]]<TIMEVALUE("19:59:59"),Tableau1[[#This Row],[Délais de prévenance]]>=TIMEVALUE("10:00")),"1 : ]20h-10h]",IF(AND(Tableau1[[#This Row],[Délais de prévenance]]<TIMEVALUE("10:00"),Tableau1[[#This Row],[Délais de prévenance]]>=TIMEVALUE("5:00")),"2 : ]10h-05h]",IF(AND(Tableau1[[#This Row],[Délais de prévenance]]<TIMEVALUE("5:00"),Tableau1[[#This Row],[Délais de prévenance]]>=TIMEVALUE("2:00")),"3 : ]05h-02h]",IF(Tableau1[[#This Row],[Délais de prévenance]]<TIMEVALUE("2:00"),"4 : ]02h-00h]",0)))) -> 1 : ]20h-10h] | J19: Conforme | K19: Conforme | M19: Non | N19: Conforme | P19: 1 | R19: Démarré
A20: UAP FS | B20: ENTREPRISE 3 | C20: 45040 | D20: 0.43541667 | E20: 45041 | F20: 0.26041667 | G20: =IFERROR(NETWORKDAYS.INTL(TEXT(Tableau1[[#This Row],[Date réception]],"jj/mm/aaaa")&" "&TEXT(Tableau1[[#This Row],[Heure réception]],"hh:mm"),TEXT(Tableau1[[#This Row],[Date démarrage]],"jj/mm/aaaa")&" "&TEXT(Tableau1[[#This Row],[Heure démarrage]],"hh:mm"),1,JoursFériés!$B$1:$B$12)-1-MOD(TEXT(Tableau1[[#This Row],[Date réception]],"jj/mm/aaaa")&" "&TEXT(Tableau1[[#This Row],[Heure réception]],"hh:mm"),1)+MOD(TEXT(Tableau1[[#This Row],[Date démarrage]],"jj/mm/aaaa")&" "&TEXT(Tableau1[[#This Row],[Heure démarrage]],"hh:mm"),1),"") -> 0.825 | H20: =IF(Tableau1[[#This Row],[Délais de prévenance]]<=TIMEVALUE("19:59:59"),"Non respecté","Respecté") -> Non respecté | I20: =IF(AND(Tableau1[[#This Row],[Délais de prévenance]]<TIMEVALUE("19:59:59"),Tableau1[[#This Row],[Délais de prévenance]]>=TIMEVALUE("10:00")),"1 : ]20h-10h]",IF(AND(Tableau1[[#This Row],[Délais de prévenance]]<TIMEVALUE("10:00"),Tableau1[[#This Row],[Délais de prévenance]]>=TIMEVALUE("5:00")),"2 : ]10h-05h]",IF(AND(Tableau1[[#This Row],[Délais de prévenance]]<TIMEVALUE("5:00"),Tableau1[[#This Row],[Délais de prévenance]]>=TIMEVALUE("2:00")),"3 : ]05h-02h]",IF(Tableau1[[#This Row],[Délais de prévenance]]<TIMEVALUE("2:00"),"4 : ]02h-00h]",0)))) -> 1 : ]20h-10h] | J20: Conforme | K20: Conforme | M20: Non | N20: Conforme | P20: 1 | R20: Démarré
A21: UAP FSC | B21: ENTREPRISE 1 | C21: 45037 | D21: 0.5 | E21: 45041 | F21: 0.25 | G21: =IFERROR(NETWORKDAYS.INTL(TEXT(Tableau1[[#This Row],[Date réception]],"jj/mm/aaaa")&" "&TEXT(Tableau1[[#This Row],[Heure réception]],"hh:mm"),TEXT(Tableau1[[#This Row],[Date démarrage]],"jj/mm/aaaa")&" "&TEXT(Tableau1[[#This Row],[Heure démarrage]],"hh:mm"),1,JoursFériés!$B$1:$B$12)-1-MOD(TEXT(Tableau1[[#This Row],[Date réception]],"jj/mm/aaaa")&" "&TEXT(Tableau1[[#This Row],[Heure réception]],"hh:mm"),1)+MOD(TEXT(Tableau1[[#This Row],[Date démarrage]],"jj/mm/aaaa")&" "&TEXT(Tableau1[[#This Row],[Heure démarrage]],"hh:mm"),1),"") -> 1.75 | H21: =IF(Tableau1[[#This Row],[Délais de prévenance]]<=TIMEVALUE("19:59:59"),"Non respecté","Respecté") -> Respecté | I21: =IF(AND(Tableau1[[#This Row],[Délais de prévenance]]<TIMEVALUE("19:59:59"),Tableau1[[#This Row],[Délais de prévenance]]>=TIMEVALUE("10:00")),"1 : ]20h-10h]",IF(AND(Tableau1[[#This Row],[Délais de prévenance]]<TIMEVALUE("10:00"),Tableau1[[#This Row],[Délais de prévenance]]>=TIMEVALUE("5:00")),"2 : ]10h-05h]",IF(AND(Tableau1[[#This Row],[Délais de prévenance]]<TIMEVALUE("5:00"),Tableau1[[#This Row],[Délais de prévenance]]>=TIMEVALUE("2:00")),"3 : ]05h-02h]",IF(Tableau1[[#This Row],[Délais de prévenance]]<TIMEVALUE("2:00"),"4 : ]02h-00h]",0)))) -> 0 | J21: Conforme | K21: Conforme | M21: Non | N21: Conforme | P21: 1 | R21: Démarré
A22: UAP FC | B22: ENTREPRISE 1 | C22: 45040 | D22: 0.57777778 | E22: 45041 | F22: 0.52083333 | G22: =IFERROR(NETWORKDAYS.INTL(TEXT(Tableau1[[#This Row],[Date réception]],"jj/mm/aaaa")&" "&TEXT(Tableau1[[#This Row],[Heure réception]],"hh:mm"),TEXT(Tableau1[[#This Row],[Date démarrage]],"jj/mm/aaaa")&" "&TEXT(Tableau1[[#This Row],[Heure démarrage]],"hh:mm"),1,JoursFériés!$B$1:$B$12)-1-MOD(TEXT(Tableau1[[#This Row],[Date réception]],"jj/mm/aaaa")&" "&TEXT(Tableau1[[#This Row],[Heure réception]],"hh:mm"),1)+MOD(TEXT(Tableau1[[#This Row],[Date démarrage]],"jj/mm/aaaa")&" "&TEXT(Tableau1[[#This Row],[Heure démarrage]],"hh:mm"),1),"") -> 0.94305556 | H22: =IF(Tableau1[[#This Row],[Délais de prévenance]]<=TIMEVALUE("19:59:59"),"Non respecté","Respecté") -> Respecté | I22: =IF(AND(Tableau1[[#This Row],[Délais de prévenance]]<TIMEVALUE("19:59:59"),Tableau1[[#This Row],[Délais de prévenance]]>=TIMEVALUE("10:00")),"1 : ]20h-10h]",IF(AND(Tableau1[[#This Row],[Délais de prévenance]]<TIMEVALUE("10:00"),Tableau1[[#This Row],[Délais de prévenance]]>=TIMEVALUE("5:00")),"2 : ]10h-05h]",IF(AND(Tableau1[[#This Row],[Délais de prévenance]]<TIMEVALUE("5:00"),Tableau1[[#This Row],[Délais de prévenance]]>=TIMEVALUE("2:00")),"3 : ]05h-02h]",IF(Tableau1[[#This Row],[Délais de prévenance]]<TIMEVALUE("2:00"),"4 : ]02h-00h]",0)))) -> 0 | J22: Conforme | K22: Conforme | M22: Non | N22: Conforme | P22: 2 | Q22: T°C de préchauffage NC | R22: Démarré
A23: UAP FC | B23: ENTREPRISE 1 | C23: 45040 | D23: 0.58402778 | E23: 45041 | F23: 0.52083333 | G23: =IFERROR(NETWORKDAYS.INTL(TEXT(Tableau1[[#This Row],[Date réception]],"jj/mm/aaaa")&" "&TEXT(Tableau1[[#This Row],[Heure réception]],"hh:mm"),TEXT(Tableau1[[#This Row],[Date démarrage]],"jj/mm/aaaa")&" "&TEXT(Tableau1[[#This Row],[Heure démarrage]],"hh:mm"),1,JoursFériés!$B$1:$B$12)-1-MOD(TEXT(Tableau1[[#This Row],[Date réception]],"jj/mm/aaaa")&" "&TEXT(Tableau1[[#This Row],[Heure réception]],"hh:mm"),1)+MOD(TEXT(Tableau1[[#This Row],[Date démarrage]],"jj/mm/aaaa")&" "&TEXT(Tableau1[[#This Row],[Heure démarrage]],"hh:mm"),1),"") -> 0.93680556 | H23: =IF(Tableau1[[#This Row],[Délais de prévenance]]<=TIMEVALUE("19:59:59"),"Non respecté","Respecté") -> Respecté | I23: =IF(AND(Tableau1[[#This Row],[Délais de prévenance]]<TIMEVALUE("19:59:59"),Tableau1[[#This Row],[Délais de prévenance]]>=TIMEVALUE("10:00")),"1 : ]20h-10h]",IF(AND(Tableau1[[#This Row],[Délais de prévenance]]<TIMEVALUE("10:00"),Tableau1[[#This Row],[Délais de prévenance]]>=TIMEVALUE("5:00")),"2 : ]10h-05h]",IF(AND(Tableau1[[#This Row],[Délais de prévenance]]<TIMEVALUE("5:00"),Tableau1[[#This Row],[Délais de prévenance]]>=TIMEVALUE("2:00")),"3 : ]05h-02h]",IF(Tableau1[[#This Row],[Délais de prévenance]]<TIMEVALUE("2:00"),"4 : ]02h-00h]",0)))) -> 0 | J23: Conforme | K23: Conforme | M23: Non | N23: Conforme | P23: 1 | R23: Démarré
A24: UAP FC | B24: ENTREPRISE 1 | C24: 45040 | D24: 0.67152778 | E24: 45041 | F24: 0.52083333 | G24: =IFERROR(NETWORKDAYS.INTL(TEXT(Tableau1[[#This Row],[Date réception]],"jj/mm/aaaa")&" "&TEXT(Tableau1[[#This Row],[Heure réception]],"hh:mm"),TEXT(Tableau1[[#This Row],[Date démarrage]],"jj/mm/aaaa")&" "&TEXT(Tableau1[[#This Row],[Heure démarrage]],"hh:mm"),1,JoursFériés!$B$1:$B$12)-1-MOD(TEXT(Tableau1[[#This Row],[Date réception]],"jj/mm/aaaa")&" "&TEXT(Tableau1[[#This Row],[Heure réception]],"hh:mm"),1)+MOD(TEXT(Tableau1[[#This Row],[Date démarrage]],"jj/mm/aaaa")&" "&TEXT(Tableau1[[#This Row],[Heure démarrage]],"hh:mm"),1),"") -> 0.84930556 | H24: =IF(Tableau1[[#This Row],[Délais de prévenance]]<=TIMEVALUE("19:59:59"),"Non respecté","Respecté") -> Respecté | I24: =IF(AND(Tableau1[[#This Row],[Délais de prévenance]]<TIMEVALUE("19:59:59"),Tableau1[[#This Row],[Délais de prévenance]]>=TIMEVALUE("10:00")),"1 : ]20h-10h]",IF(AND(Tableau1[[#This Row],[Délais de prévenance]]<TIMEVALUE("10:00"),Tableau1[[#This Row],[Délais de prévenance]]>=TIMEVALUE("5:00")),"2 : ]10h-05h]",IF(AND(Tableau1[[#This Row],[Délais de prévenance]]<TIMEVALUE("5:00"),Tableau1[[#This Row],[Délais de prévenance]]>=TIMEVALUE("2:00")),"3 : ]05h-02h]",IF(Tableau1[[#This Row],[Délais de prévenance]]<TIMEVALUE("2:00"),"4 : ]02h-00h]",0)))) -> 0 | J24: Conforme | K24: Conforme | M24: Non | N24: Conforme | P24: 1 | R24: Démarré
A25: UAP FS | B25: ENTREPRISE 4 | C25: 45041 | D25: 0.55416667 | E25: 45041 | F25: 0.60416667 | G25: =IFERROR(NETWORKDAYS.INTL(TEXT(Tableau1[[#This Row],[Date réception]],"jj/mm/aaaa")&" "&TEXT(Tableau1[[#This Row],[Heure réception]],"hh:mm"),TEXT(Tableau1[[#This Row],[Date démarrage]],"jj/mm/aaaa")&" "&TEXT(Tableau1[[#This Row],[Heure démarrage]],"hh:mm"),1,JoursFériés!$B$1:$B$12)-1-MOD(TEXT(Tableau1[[#This Row],[Date réception]],"jj/mm/aaaa")&" "&TEXT(Tableau1[[#This Row],[Heure réception]],"hh:mm"),1)+MOD(TEXT(Tableau1[[#This Row],[Date démarrage]],"jj/mm/aaaa")&" "&TEXT(Tableau1[[#This Row],[Heure démarrage]],"hh:mm"),1),"") -> 0.05 | H25: =IF(Tableau1[[#This Row],[Délais de prévenance]]<=TIMEVALUE("19:59:59"),"Non respecté","Respecté") -> Non respecté | I25: =IF(AND(Tableau1[[#This Row],[Délais de prévenance]]<TIMEVALUE("19:59:59"),Tableau1[[#This Row],[Délais de prévenance]]>=TIMEVALUE("10:00")),"1 : ]20h-10h]",IF(AND(Tableau1[[#This Row],[Délais de prévenance]]<TIMEVALUE("10:00"),Tableau1[[#This Row],[Délais de prévenance]]>=TIMEVALUE("5:00")),"2 : ]10h-05h]",IF(AND(Tableau1[[#This Row],[Délais de prévenance]]<TIMEVALUE("5:00"),Tableau1[[#This Row],[Délais de prévenance]]>=TIMEVALUE("2:00")),"3 : ]05h-02h]",IF(Tableau1[[#This Row],[Délais de prévenance]]<TIMEVALUE("2:00"),"4 : ]02h-00h]",0)))) -> 4 : ]02h-00h] | J25: Conforme | K25: Conforme | M25: Non | N25: Conforme | P25: 1 | R25: Démarré
A26: UAP FS | B26: ENTREPRISE 4 | C26: 45041 | D26: 0.55416667 | E26: 45041 | F26: 0.60416667 | G26: =IFERROR(NETWORKDAYS.INTL(TEXT(Tableau1[[#This Row],[Date réception]],"jj/mm/aaaa")&" "&TEXT(Tableau1[[#This Row],[Heure réception]],"hh:mm"),TEXT(Tableau1[[#This Row],[Date démarrage]],"jj/mm/aaaa")&" "&TEXT(Tableau1[[#This Row],[Heure démarrage]],"hh:mm"),1,JoursFériés!$B$1:$B$12)-1-MOD(TEXT(Tableau1[[#This Row],[Date réception]],"jj/mm/aaaa")&" "&TEXT(Tableau1[[#This Row],[Heure réception]],"hh:mm"),1)+MOD(TEXT(Tableau1[[#This Row],[Date démarrage]],"jj/mm/aaaa")&" "&TEXT(Tableau1[[#This Row],[Heure démarrage]],"hh:mm"),1),"") -> 0.05 | H26: =IF(Tableau1[[#This Row],[Délais de prévenance]]<=TIMEVALUE("19:59:59"),"Non respecté","Respecté") -> Non respecté | I26: =IF(AND(Tableau1[[#This Row],[Délais de prévenance]]<TIMEVALUE("19:59:59"),Tableau1[[#This Row],[Délais de prévenance]]>=TIMEVALUE("10:00")),"1 : ]20h-10h]",IF(AND(Tableau1[[#This Row],[Délais de prévenance]]<TIMEVALUE("10:00"),Tableau1[[#This Row],[Délais de prévenance]]>=TIMEVALUE("5:00")),"2 : ]10h-05h]",IF(AND(Tableau1[[#This Row],[Délais de prévenance]]<TIMEVALUE("5:00"),Tableau1[[#This Row],[Délais de prévenance]]>=TIMEVALUE("2:00")),"3 : ]05h-02h]",IF(Tableau1[[#This Row],[Délais de prévenance]]<TIMEVALUE("2:00"),"4 : ]02h-00h]",0)))) -> 4 : ]02h-00h] | J26: Conforme | K26: Conforme | M26: Non | N26: Conforme | P26: 1 | R26: Refusé par le DCI | S26: Absence de billet de risque
A27: UAP FS | B27: ENTREPRISE 4 | C27: 45041 | D27: 0.33333333 | E27: 45041 | F27: 0.58333333 | G27: =IFERROR(NETWORKDAYS.INTL(TEXT(Tableau1[[#This Row],[Date réception]],"jj/mm/aaaa")&" "&TEXT(Tableau1[[#This Row],[Heure réception]],"hh:mm"),TEXT(Tableau1[[#This Row],[Date démarrage]],"jj/mm/aaaa")&" "&TEXT(Tableau1[[#This Row],[Heure démarrage]],"hh:mm"),1,JoursFériés!$B$1:$B$12)-1-MOD(TEXT(Tableau1[[#This Row],[Date réception]],"jj/mm/aaaa")&" "&TEXT(Tableau1[[#This Row],[Heure réception]],"hh:mm"),1)+MOD(TEXT(Tableau1[[#This Row],[Date démarrage]],"jj/mm/aaaa")&" "&TEXT(Tableau1[[#This Row],[Heure démarrage]],"hh:mm"),1),"") -> 0.25 | H27: =IF(Tableau1[[#This Row],[Délais de prévenance]]<=TIMEVALUE("19:59:59"),"Non respecté","Respecté") -> Non respecté | I27: =IF(AND(Tableau1[[#This Row],[Délais de prévenance]]<TIMEVALUE("19:59:59"),Tableau1[[#This Row],[Délais de prévenance]]>=TIMEVALUE("10:00")),"1 : ]20h-10h]",IF(AND(Tableau1[[#This Row],[Délais de prévenance]]<TIMEVALUE("10:00"),Tableau1[[#This Row],[Délais de prévenance]]>=TIMEVALUE("5:00")),"2 : ]10h-05h]",IF(AND(Tableau1[[#This Row],[Délais de prévenance]]<TIMEVALUE("5:00"),Tableau1[[#This Row],[Délais de prévenance]]>=TIMEVALUE("2:00")),"3 : ]05h-02h]",IF(Tableau1[[#This Row],[Délais de prévenance]]<TIMEVALUE("2:00"),"4 : ]02h-00h]",0)))) -> 2 : ]10h-05h] | J27: Saisie erronnée | K27: Non-conforme | L27: Saisie erronnée | M27: Non | N27: Conforme | P27: 1 | R27: Démarré
A28: UAP FS | B28: ENTREPRISE 4 | C28: 45040 | D28: 0.42708333 | E28: 45041 | F28: 0.5625 | G28: =IFERROR(NETWORKDAYS.INTL(TEXT(Tableau1[[#This Row],[Date réception]],"jj/mm/aaaa")&" "&TEXT(Tableau1[[#This Row],[Heure réception]],"hh:mm"),TEXT(Tableau1[[#This Row],[Date démarrage]],"jj/mm/aaaa")&" "&TEXT(Tableau1[[#This Row],[Heure démarrage]],"hh:mm"),1,JoursFériés!$B$1:$B$12)-1-MOD(TEXT(Tableau1[[#This Row],[Date réception]],"jj/mm/aaaa")&" "&TEXT(Tableau1[[#This Row],[Heure réception]],"hh:mm"),1)+MOD(TEXT(Tableau1[[#This Row],[Date démarrage]],"jj/mm/aaaa")&" "&TEXT(Tableau1[[#This Row],[Heure démarrage]],"hh:mm"),1),"") -> 1.1354167 | H28: =IF(Tableau1[[#This Row],[Délais de prévenance]]<=TIMEVALUE("19:59:59"),"Non respecté","Respecté") -> Respecté | I28: =IF(AND(Tableau1[[#This Row],[Délais de prévenance]]<TIMEVALUE("19:59:59"),Tableau1[[#This Row],[Délais de prévenance]]>=TIMEVALUE("10:00")),"1 : ]20h-10h]",IF(AND(Tableau1[[#This Row],[Délais de prévenance]]<TIMEVALUE("10:00"),Tableau1[[#This Row],[Délais de prévenance]]>=TIMEVALUE("5:00")),"2 : ]10h-05h]",IF(AND(Tableau1[[#This Row],[Délais de prévenance]]<TIMEVALUE("5:00"),Tableau1[[#This Row],[Délais de prévenance]]>=TIMEVALUE("2:00")),"3 : ]05h-02h]",IF(Tableau1[[#This Row],[Délais de prévenance]]<TIMEVALUE("2:00"),"4 : ]02h-00h]",0)))) -> 0 | J28: Saisie manquante | K28: Non-conforme | L28: Saisie manquante | M28: Non | N28: Conforme | P28: 1 | R28: Démarré
A29: UAP FS | B29: ENTREPRISE 1 | C29: 45041 | D29: 0.41180556 | E29: 45041 | F29: 0.58333333 | G29: =IFERROR(NETWORKDAYS.INTL(TEXT(Tableau1[[#This Row],[Date réception]],"jj/mm/aaaa")&" "&TEXT(Tableau1[[#This Row],[Heure réception]],"hh:mm"),TEXT(Tableau1[[#This Row],[Date démarrage]],"jj/mm/aaaa")&" "&TEXT(Tableau1[[#This Row],[Heure démarrage]],"hh:mm"),1,JoursFériés!$B$1:$B$12)-1-MOD(TEXT(Tableau1[[#This Row],[Date réception]],"jj/mm/aaaa")&" "&TEXT(Tableau1[[#This Row],[Heure réception]],"hh:mm"),1)+MOD(TEXT(Tableau1[[#This Row],[Date démarrage]],"jj/mm/aaaa")&" "&TEXT(Tableau1[[#This Row],[Heure démarrage]],"hh:mm"),1),"") -> 0.17152778 | H29: =IF(Tableau1[[#This Row],[Délais de prévenance]]<=TIMEVALUE("19:59:59"),"Non respecté","Respecté") -> Non respecté | I29: =IF(AND(Tableau1[[#This Row],[Délais de prévenance]]<TIMEVALUE("19:59:59"),Tableau1[[#This Row],[Délais de prévenance]]>=TIMEVALUE("10:00")),"1 : ]20h-10h]",IF(AND(Tableau1[[#This Row],[Délais de prévenance]]<TIMEVALUE("10:00"),Tableau1[[#This Row],[Délais de prévenance]]>=TIMEVALUE("5:00")),"2 : ]10h-05h]",IF(AND(Tableau1[[#This Row],[Délais de prévenance]]<TIMEVALUE("5:00"),Tableau1[[#This Row],[Délais de prévenance]]>=TIMEVALUE("2:00")),"3 : ]05h-02h]",IF(Tableau1[[#This Row],[Délais de prévenance]]<TIMEVALUE("2:00"),"4 : ]02h-00h]",0)))) -> 3 : ]05h-02h] | J29: Conforme | K29: Conforme | M29: Non | N29: Conforme | P29: 2 | Q29: Soudeurs non présents | R29: Démarré
A30: UAP FC | B30: ENTREPRISE 2 | C30: 45041 | D30: 0.68055556 | E30: 45041 | F30: 0.70833333 | G30: =IFERROR(NETWORKDAYS.INTL(TEXT(Tableau1[[#This Row],[Date réception]],"jj/mm/aaaa")&" "&TEXT(Tableau1[[#This Row],[Heure réception]],"hh:mm"),TEXT(Tableau1[[#This Row],[Date démarrage]],"jj/mm/aaaa")&" "&TEXT(Tableau1[[#This Row],[Heure démarrage]],"hh:mm"),1,JoursFériés!$B$1:$B$12)-1-MOD(TEXT(Tableau1[[#This Row],[Date réception]],"jj/mm/aaaa")&" "&TEXT(Tableau1[[#This Row],[Heure réception]],"hh:mm"),1)+MOD(TEXT(Tableau1[[#This Row],[Date démarrage]],"jj/mm/aaaa")&" "&TEXT(Tableau1[[#This Row],[Heure démarrage]],"hh:mm"),1),"") -> 0.027777778 | H30: =IF(Tableau1[[#This Row],[Délais de prévenance]]<=TIMEVALUE("19:59:59"),"Non respecté","Respecté") -> Non respecté | I30: =IF(AND(Tableau1[[#This Row],[Délais de prévenance]]<TIMEVALUE("19:59:59"),Tableau1[[#This Row],[Délais de prévenance]]>=TIMEVALUE("10:00")),"1 : ]20h-10h]",IF(AND(Tableau1[[#This Row],[Délais de prévenance]]<TIMEVALUE("10:00"),Tableau1[[#This Row],[Délais de prévenance]]>=TIMEVALUE("5:00")),"2 : ]10h-05h]",IF(AND(Tableau1[[#This Row],[Délais de prévenance]]<TIMEVALUE("5:00"),Tableau1[[#This Row],[Délais de prévenance]]>=TIMEVALUE("2:00")),"3 : ]05h-02h]",IF(Tableau1[[#This Row],[Délais de prévenance]]<TIMEVALUE("2:00"),"4 : ]02h-00h]",0)))) -> 4 : ]02h-00h] | J30: Conforme | K30: Conforme | M30: Non | N30: Conforme | P30: 1 | R30: Démarré
A31: UAP FS | B31: ENTREPRISE 4 | C31: 45041 | D31: 0.32986111 | E31: 45041 | F31: 0.89583333 | G31: =IFERROR(NETWORKDAYS.INTL(TEXT(Tableau1[[#This Row],[Date réception]],"jj/mm/aaaa")&" "&TEXT(Tableau1[[#This Row],[Heure réception]],"hh:mm"),TEXT(Tableau1[[#This Row],[Date démarrage]],"jj/mm/aaaa")&" "&TEXT(Tableau1[[#This Row],[Heure démarrage]],"hh:mm"),1,JoursFériés!$B$1:$B$12)-1-MOD(TEXT(Tableau1[[#This Row],[Date réception]],"jj/mm/aaaa")&" "&TEXT(Tableau1[[#This Row],[Heure réception]],"hh:mm"),1)+MOD(TEXT(Tableau1[[#This Row],[Date démarrage]],"jj/mm/aaaa")&" "&TEXT(Tableau1[[#This Row],[Heure démarrage]],"hh:mm"),1),"") -> 0.56597222 | H31: =IF(Tableau1[[#This Row],[Délais de prévenance]]<=TIMEVALUE("19:59:59"),"Non respecté","Respecté") -> Non respecté | I31: =IF(AND(Tableau1[[#This Row],[Délais de prévenance]]<TIMEVALUE("19:59:59"),Tableau1[[#This Row],[Délais de prévenance]]>=TIMEVALUE("10:00")),"1 : ]20h-10h]",IF(AND(Tableau1[[#This Row],[Délais de prévenance]]<TIMEVALUE("10:00"),Tableau1[[#This Row],[Délais de prévenance]]>=TIMEVALUE("5:00")),"2 : ]10h-05h]",IF(AND(Tableau1[[#This Row],[Délais de prévenance]]<TIMEVALUE("5:00"),Tableau1[[#This Row],[Délais de prévenance]]>=TIMEVALUE("2:00")),"3 : ]05h-02h]",IF(Tableau1[[#This Row],[Délais de prévenance]]<TIMEVALUE("2:00"),"4 : ]02h-00h]",0)))) -> 1 : ]20h-10h] | J31: Conforme | K31: Conforme | M31: Oui | N31: Sans objet | P31: 0 | R31: Annulé par la Production
A32: UAP FS | B32: ENTREPRISE 4 | C32: 45041 | D32: 0.33333333 | E32: 45041 | F32: 0.89583333 | G32: =IFERROR(NETWORKDAYS.INTL(TEXT(Tableau1[[#This Row],[Date réception]],"jj/mm/aaaa")&" "&TEXT(Tableau1[[#This Row],[Heure réception]],"hh:mm"),TEXT(Tableau1[[#This Row],[Date démarrage]],"jj/mm/aaaa")&" "&TEXT(Tableau1[[#This Row],[Heure démarrage]],"hh:mm"),1,JoursFériés!$B$1:$B$12)-1-MOD(TEXT(Tableau1[[#This Row],[Date réception]],"jj/mm/aaaa")&" "&TEXT(Tableau1[[#This Row],[Heure réception]],"hh:mm"),1)+MOD(TEXT(Tableau1[[#This Row],[Date démarrage]],"jj/mm/aaaa")&" "&TEXT(Tableau1[[#This Row],[Heure démarrage]],"hh:mm"),1),"") -> 0.5625 | H32: =IF(Tableau1[[#This Row],[Délais de prévenance]]<=TIMEVALUE("19:59:59"),"Non respecté","Respecté") -> Non respecté | I32: =IF(AND(Tableau1[[#This Row],[Délais de prévenance]]<TIMEVALUE("19:59:59"),Tableau1[[#This Row],[Délais de prévenance]]>=TIMEVALUE("10:00")),"1 : ]20h-10h]",IF(AND(Tableau1[[#This Row],[Délais de prévenance]]<TIMEVALUE("10:00"),Tableau1[[#This Row],[Délais de prévenance]]>=TIMEVALUE("5:00")),"2 : ]10h-05h]",IF(AND(Tableau1[[#This Row],[Délais de prévenance]]<TIMEVALUE("5:00"),Tableau1[[#This Row],[Délais de prévenance]]>=TIMEVALUE("2:00")),"3 : ]05h-02h]",IF(Tableau1[[#This Row],[Délais de prévenance]]<TIMEVALUE("2:00"),"4 : ]02h-00h]",0)))) -> 1 : ]20h-10h] | J32: Conforme | K32: Conforme | M32: Oui | N32: Sans objet | P32: 0 | R32: Annulé par la Production
A33: UAP FS | B33: ENTREPRISE 4 | C33: 45041 | D33: 0.47916667 | E33: 45041 | F33: 0.875 | G33: =IFERROR(NETWORKDAYS.INTL(TEXT(Tableau1[[#This Row],[Date réception]],"jj/mm/aaaa")&" "&TEXT(Tableau1[[#This Row],[Heure réception]],"hh:mm"),TEXT(Tableau1[[#This Row],[Date démarrage]],"jj/mm/aaaa")&" "&TEXT(Tableau1[[#This Row],[Heure démarrage]],"hh:mm"),1,JoursFériés!$B$1:$B$12)-1-MOD(TEXT(Tableau1[[#This Row],[Date réception]],"jj/mm/aaaa")&" "&TEXT(Tableau1[[#This Row],[Heure réception]],"hh:mm"),1)+MOD(TEXT(Tableau1[[#This Row],[Date démarrage]],"jj/mm/aaaa")&" "&TEXT(Tableau1[[#This Row],[Heure démarrage]],"hh:mm"),1),"") -> 0.39583333 | H33: =IF(Tableau1[[#This Row],[Délais de prévenance]]<=TIMEVALUE("19:59:59"),"Non respecté","Respecté") -> Non respecté | I33: =IF(AND(Tableau1[[#This Row],[Délais de prévenance]]<TIMEVALUE("19:59:59"),Tableau1[[#This Row],[Délais de prévenance]]>=TIMEVALUE("10:00")),"1 : ]20h-10h]",IF(AND(Tableau1[[#This Row],[Délais de prévenance]]<TIMEVALUE("10:00"),Tableau1[[#This Row],[Délais de prévenance]]>=TIMEVALUE("5:00")),"2 : ]10h-05h]",IF(AND(Tableau1[[#This Row],[Délais de prévenance]]<TIMEVALUE("5:00"),Tableau1[[#This Row],[Délais de prévenance]]>=TIMEVALUE("2:00")),"3 : ]05h-02h]",IF(Tableau1[[#This Row],[Délais de prévenance]]<TIMEVALUE("2:00"),"4 : ]02h-00h]",0)))) -> 2 : ]10h-05h] | J33: Conforme | K33: Conforme | M33: Non | N33: Conforme | P33: 1 | R33: Démarré
A34: UAP FS | B34: ENTREPRISE 3 | C34: 45040 | D34: 0.42708333 | E34: 45041 | F34: 0.26041667 | G34: =IFERROR(NETWORKDAYS.INTL(TEXT(Tableau1[[#This Row],[Date réception]],"jj/mm/aaaa")&" "&TEXT(Tableau1[[#This Row],[Heure réception]],"hh:mm"),TEXT(Tableau1[[#This Row],[Date démarrage]],"jj/mm/aaaa")&" "&TEXT(Tableau1[[#This Row],[Heure démarrage]],"hh:mm"),1,JoursFériés!$B$1:$B$12)-1-MOD(TEXT(Tableau1[[#This Row],[Date réception]],"jj/mm/aaaa")&" "&TEXT(Tableau1[[#This Row],[Heure réception]],"hh:mm"),1)+MOD(TEXT(Tableau1[[#This Row],[Date démarrage]],"jj/mm/aaaa")&" "&TEXT(Tableau1[[#This Row],[Heure démarrage]],"hh:mm"),1),"") -> 0.83333333 | H34: =IF(Tableau1[[#This Row],[Délais de prévenance]]<=TIMEVALUE("19:59:59"),"Non respecté","Respecté") -> Respecté | I34: =IF(AND(Tableau1[[#This Row],[Délais de prévenance]]<TIMEVALUE("19:59:59"),Tableau1[[#This Row],[Délais de prévenance]]>=TIMEVALUE("10:00")),"1 : ]20h-10h]",IF(AND(Tableau1[[#This Row],[Délais de prévenance]]<TIMEVALUE("10:00"),Tableau1[[#This Row],[Délais de prévenance]]>=TIMEVALUE("5:00")),"2 : ]10h-05h]",IF(AND(Tableau1[[#This Row],[Délais de prévenance]]<TIMEVALUE("5:00"),Tableau1[[#This Row],[Délais de prévenance]]>=TIMEVALUE("2:00")),"3 : ]05h-02h]",IF(Tableau1[[#This Row],[Délais de prévenance]]<TIMEVALUE("2:00"),"4 : ]02h-00h]",0)))) -> 0 | J34: Conforme | K34: Conforme | M34: Oui | N34: Sans objet | P34: 0 | R34: Annulé par la Production
A35: UAP FC | B35: ENTREPRISE 1 | C35: 45041 | D35: 0.58333333 | E35: 45042 | F35: 0.52083333 | G35: =IFERROR(NETWORKDAYS.INTL(TEXT(Tableau1[[#This Row],[Date réception]],"jj/mm/aaaa")&" "&TEXT(Tableau1[[#This Row],[Heure réception]],"hh:mm"),TEXT(Tableau1[[#This Row],[Date démarrage]],"jj/mm/aaaa")&" "&TEXT(Tableau1[[#This Row],[Heure démarrage]],"hh:mm"),1,JoursFériés!$B$1:$B$12)-1-MOD(TEXT(Tableau1[[#This Row],[Date réception]],"jj/mm/aaaa")&" "&TEXT(Tableau1[[#This Row],[Heure réception]],"hh:mm"),1)+MOD(TEXT(Tableau1[[#This Row],[Date démarrage]],"jj/mm/aaaa")&" "&TEXT(Tableau1[[#This Row],[Heure démarrage]],"hh:mm"),1),"") -> 0.9375 | H35: =IF(Tableau1[[#This Row],[Délais de prévenance]]<=TIMEVALUE("19:59:59"),"Non respecté","Respecté") -> Respecté | I35: =IF(AND(Tableau1[[#This Row],[Délais de prévenance]]<TIMEVALUE("19:59:59"),Tableau1[[#This Row],[Délais de prévenance]]>=TIMEVALUE("10:00")),"1 : ]20h-10h]",IF(AND(Tableau1[[#This Row],[Délais de prévenance]]<TIMEVALUE("10:00"),Tableau1[[#This Row],[Délais de prévenance]]>=TIMEVALUE("5:00")),"2 : ]10h-05h]",IF(AND(Tableau1[[#This Row],[Délais de prévenance]]<TIMEVALUE("5:00"),Tableau1[[#This Row],[Délais de prévenance]]>=TIMEVALUE("2:00")),"3 : ]05h-02h]",IF(Tableau1[[#This Row],[Délais de prévenance]]<TIMEVALUE("2:00"),"4 : ]02h-00h]",0)))) -> 0 | J35: Conforme | K35: Conforme | M35: Non | N35: Conforme | P35: 1 | R35: Démarré
A36: UAP FS | B36: ENTREPRISE 4 | C36: 45041 | D36: 0.81944444 | E36: 45042 | F36: 0.58333333 | G36: =IFERROR(NETWORKDAYS.INTL(TEXT(Tableau1[[#This Row],[Date réception]],"jj/mm/aaaa")&" "&TEXT(Tableau1[[#This Row],[Heure réception]],"hh:mm"),TEXT(Tableau1[[#This Row],[Date démarrage]],"jj/mm/aaaa")&" "&TEXT(Tableau1[[#This Row],[Heure démarrage]],"hh:mm"),1,JoursFériés!$B$1:$B$12)-1-MOD(TEXT(Tableau1[[#This Row],[Date réception]],"jj/mm/aaaa")&" "&TEXT(Tableau1[[#This Row],[Heure réception]],"hh:mm"),1)+MOD(TEXT(Tableau1[[#This Row],[Date démarrage]],"jj/mm/aaaa")&" "&TEXT(Tableau1[[#This Row],[Heure démarrage]],"hh:mm"),1),"") -> 0.76388889 | H36: =IF(Tableau1[[#This Row],[Délais de prévenance]]<=TIMEVALUE("19:59:59"),"Non respecté","Respecté") -> Non respecté | I36: =IF(AND(Tableau1[[#This Row],[Délais de prévenance]]<TIMEVALUE("19:59:59"),Tableau1[[#This Row],[Délais de prévenance]]>=TIMEVALUE("10:00")),"1 : ]20h-10h]",IF(AND(Tableau1[[#This Row],[Délais de prévenance]]<TIMEVALUE("10:00"),Tableau1[[#This Row],[Délais de prévenance]]>=TIMEVALUE("5:00")),"2 : ]10h-05h]",IF(AND(Tableau1[[#This Row],[Délais de prévenance]]<TIMEVALUE("5:00"),Tableau1[[#This Row],[Délais de prévenance]]>=TIMEVALUE("2:00")),"3 : ]05h-02h]",IF(Tableau1[[#This Row],[Délais de prévenance]]<TIMEVALUE("2:00"),"4 : ]02h-00h]",0)))) -> 1 : ]20h-10h] | J36: Saisie erronnée | K36: Non-conforme | L36: Saisie erronnée | M36: Non | N36: Conforme | P36: 1 | R36: Démarré
A37: UAP FC | B37: ENTREPRISE 2 | C37: 45041 | D37: 0.54305556 | E37: 45042 | F37: 0.29166667 | G37: =IFERROR(NETWORKDAYS.INTL(TEXT(Tableau1[[#This Row],[Date réception]],"jj/mm/aaaa")&" "&TEXT(Tableau1[[#This Row],[Heure réception]],"hh:mm"),TEXT(Tableau1[[#This Row],[Date démarrage]],"jj/mm/aaaa")&" "&TEXT(Tableau1[[#This Row],[Heure démarrage]],"hh:mm"),1,JoursFériés!$B$1:$B$12)-1-MOD(TEXT(Tableau1[[#This Row],[Date réception]],"jj/mm/aaaa")&" "&TEXT(Tableau1[[#This Row],[Heure réception]],"hh:mm"),1)+MOD(TEXT(Tableau1[[#This Row],[Date démarrage]],"jj/mm/aaaa")&" "&TEXT(Tableau1[[#This Row],[Heure démarrage]],"hh:mm"),1),"") -> 0.74861111 | H37: =IF(Tableau1[[#This Row],[Délais de prévenance]]<=TIMEVALUE("19:59:59"),"Non respecté","Respecté") -> Non respecté | I37: =IF(AND(Tableau1[[#This Row],[Délais de prévenance]]<TIMEVALUE("19:59:59"),Tableau1[[#This Row],[Délais de prévenance]]>=TIMEVALUE("10:00")),"1 : ]20h-10h]",IF(AND(Tableau1[[#This Row],[Délais de prévenance]]<TIMEVALUE("10:00"),Tableau1[[#This Row],[Délais de prévenance]]>=TIMEVALUE("5:00")),"2 : ]10h-05h]",IF(AND(Tableau1[[#This Row],[Délais de prévenance]]<TIMEVALUE("5:00"),Tableau1[[#This Row],[Délais de prévenance]]>=TIMEVALUE("2:00")),"3 : ]05h-02h]",IF(Tableau1[[#This Row],[Délais de prévenance]]<TIMEVALUE("2:00"),"4 : ]02h-00h]",0)))) -> 1 : ]20h-10h] | J37: Saisie erronnée | K37: Non-conforme | L37: Saisie erronnée | M37: Non | N37: Conforme | P37: 1 | R37: Démarré
A38: UAP FC | B38: ENTREPRISE 2 | C38: 45043 | D38: 0.29166667 | E38: 45043 | F38: 0.29166667 | G38: =IFERROR(NETWORKDAYS.INTL(TEXT(Tableau1[[#This Row],[Date réception]],"jj/mm/aaaa")&" "&TEXT(Tableau1[[#This Row],[Heure réception]],"hh:mm"),TEXT(Tableau1[[#This Row],[Date démarrage]],"jj/mm/aaaa")&" "&TEXT(Tableau1[[#This Row],[Heure démarrage]],"hh:mm"),1,JoursFériés!$B$1:$B$12)-1-MOD(TEXT(Tableau1[[#This Row],[Date réception]],"jj/mm/aaaa")&" "&TEXT(Tableau1[[#This Row],[Heure réception]],"hh:mm"),1)+MOD(TEXT(Tableau1[[#This Row],[Date démarrage]],"jj/mm/aaaa")&" "&TEXT(Tableau1[[#This Row],[Heure démarrage]],"hh:mm"),1),"") -> 0 | H38: =IF(Tableau1[[#This Row],[Délais de prévenance]]<=TIMEVALUE("19:59:59"),"Non respecté","Respecté") -> Non respecté | I38: =IF(AND(Tableau1[[#This Row],[Délais de prévenance]]<TIMEVALUE("19:59:59"),Tableau1[[#This Row],[Délais de prévenance]]>=TIMEVALUE("10:00")),"1 : ]20h-10h]",IF(AND(Tableau1[[#This Row],[Délais de prévenance]]<TIMEVALUE("10:00"),Tableau1[[#This Row],[Délais de prévenance]]>=TIMEVALUE("5:00")),"2 : ]10h-05h]",IF(AND(Tableau1[[#This Row],[Délais de prévenance]]<TIMEVALUE("5:00"),Tableau1[[#This Row],[Délais de prévenance]]>=TIMEVALUE("2:00")),"3 : ]05h-02h]",IF(Tableau1[[#This Row],[Délais de prévenance]]<TIMEVALUE("2:00"),"4 : ]02h-00h]",0)))) -> 4 : ]02h-00h] | J38: Conforme | K38: Conforme | M38: Non | N38: Conforme | P38: 1 | R38: Démarré
A39: UAP FC | B39: ENTREPRISE 2 | C39: 45043 | D39: 0.29166667 | E39: 45043 | F39: 0.29166667 | G39: =IFERROR(NETWORKDAYS.INTL(TEXT(Tableau1[[#This Row],[Date réception]],"jj/mm/aaaa")&" "&TEXT(Tableau1[[#This Row],[Heure réception]],"hh:mm"),TEXT(Tableau1[[#This Row],[Date démarrage]],"jj/mm/aaaa")&" "&TEXT(Tableau1[[#This Row],[Heure démarrage]],"hh:mm"),1,JoursFériés!$B$1:$B$12)-1-MOD(TEXT(Tableau1[[#This Row],[Date réception]],"jj/mm/aaaa")&" "&TEXT(Tableau1[[#This Row],[Heure réception]],"hh:mm"),1)+MOD(TEXT(Tableau1[[#This Row],[Date démarrage]],"jj/mm/aaaa")&" "&TEXT(Tableau1[[#This Row],[Heure démarrage]],"hh:mm"),1),"") -> 0 | H39: =IF(Tableau1[[#This Row],[Délais de prévenance]]<=TIMEVALUE("19:59:59"),"Non respecté","Respecté") -> Non respecté | I39: =IF(AND(Tableau1[[#This Row],[Délais de prévenance]]<TIMEVALUE("19:59:59"),Tableau1[[#This Row],[Délais de prévenance]]>=TIMEVALUE("10:00")),"1 : ]20h-10h]",IF(AND(Tableau1[[#This Row],[Délais de prévenance]]<TIMEVALUE("10:00"),Tableau1[[#This Row],[Délais de prévenance]]>=TIMEVALUE("5:00")),"2 : ]10h-05h]",IF(AND(Tableau1[[#This Row],[Délais de prévenance]]<TIMEVALUE("5:00"),Tableau1[[#This Row],[Délais de prévenance]]>=TIMEVALUE("2:00")),"3 : ]05h-02h]",IF(Tableau1[[#This Row],[Délais de prévenance]]<TIMEVALUE("2:00"),"4 : ]02h-00h]",0)))) -> 4 : ]02h-00h] | J39: Conforme | K39: Conforme | M39: Non | N39: Conforme | P39: 1 | R39: Démarré
A40: UAP FS | B40: ENTREPRISE 3 | C40: 45043 | D40: 0.28125 | E40: 45043 | F40: 0.29166667 | G40: =IFERROR(NETWORKDAYS.INTL(TEXT(Tableau1[[#This Row],[Date réception]],"jj/mm/aaaa")&" "&TEXT(Tableau1[[#This Row],[Heure réception]],"hh:mm"),TEXT(Tableau1[[#This Row],[Date démarrage]],"jj/mm/aaaa")&" "&TEXT(Tableau1[[#This Row],[Heure démarrage]],"hh:mm"),1,JoursFériés!$B$1:$B$12)-1-MOD(TEXT(Tableau1[[#This Row],[Date réception]],"jj/mm/aaaa")&" "&TEXT(Tableau1[[#This Row],[Heure réception]],"hh:mm"),1)+MOD(TEXT(Tableau1[[#This Row],[Date démarrage]],"jj/mm/aaaa")&" "&TEXT(Tableau1[[#This Row],[Heure démarrage]],"hh:mm"),1),"") -> 0.010416667 | H40: =IF(Tableau1[[#This Row],[Délais de prévenance]]<=TIMEVALUE("19:59:59"),"Non respecté","Respecté") -> Non respecté | I40: =IF(AND(Tableau1[[#This Row],[Délais de prévenance]]<TIMEVALUE("19:59:59"),Tableau1[[#This Row],[Délais de prévenance]]>=TIMEVALUE("10:00")),"1 : ]20h-10h]",IF(AND(Tableau1[[#This Row],[Délais de prévenance]]<TIMEVALUE("10:00"),Tableau1[[#This Row],[Délais de prévenance]]>=TIMEVALUE("5:00")),"2 : ]10h-05h]",IF(AND(Tableau1[[#This Row],[Délais de prévenance]]<TIMEVALUE("5:00"),Tableau1[[#This Row],[Délais de prévenance]]>=TIMEVALUE("2:00")),"3 : ]05h-02h]",IF(Tableau1[[#This Row],[Délais de prévenance]]<TIMEVALUE("2:00"),"4 : ]02h-00h]",0)))) -> 4 : ]02h-00h] | J40: Conforme | K40: Conforme | M40: Non | N40: Conforme | P40: 1 | R40: Démarré
A41: UAP FS | B41: ENTREPRISE 4 | C41: 45043 | D41: 0.40833333 | E41: 45043 | F41: 0.83333333 | G41: =IFERROR(NETWORKDAYS.INTL(TEXT(Tableau1[[#This Row],[Date réception]],"jj/mm/aaaa")&" "&TEXT(Tableau1[[#This Row],[Heure réception]],"hh:mm"),TEXT(Tableau1[[#This Row],[Date démarrage]],"jj/mm/aaaa")&" "&TEXT(Tableau1[[#This Row],[Heure démarrage]],"hh:mm"),1,JoursFériés!$B$1:$B$12)-1-MOD(TEXT(Tableau1[[#This Row],[Date réception]],"jj/mm/aaaa")&" "&TEXT(Tableau1[[#This Row],[Heure réception]],"hh:mm"),1)+MOD(TEXT(Tableau1[[#This Row],[Date démarrage]],"jj/mm/aaaa")&" "&TEXT(Tableau1[[#This Row],[Heure démarrage]],"hh:mm"),1),"") -> 0.425 | H41: =IF(Tableau1[[#This Row],[Délais de prévenance]]<=TIMEVALUE("19:59:59"),"Non respecté","Respecté") -> Non respecté | I41: =IF(AND(Tableau1[[#This Row],[Délais de prévenance]]<TIMEVALUE("19:59:59"),Tableau1[[#This Row],[Délais de prévenance]]>=TIMEVALUE("10:00")),"1 : ]20h-10h]",IF(AND(Tableau1[[#This Row],[Délais de prévenance]]<TIMEVALUE("10:00"),Tableau1[[#This Row],[Délais de prévenance]]>=TIMEVALUE("5:00")),"2 : ]10h-05h]",IF(AND(Tableau1[[#This Row],[Délais de prévenance]]<TIMEVALUE("5:00"),Tableau1[[#This Row],[Délais de prévenance]]>=TIMEVALUE("2:00")),"3 : ]05h-02h]",IF(Tableau1[[#This Row],[Délais de prévenance]]<TIMEVALUE("2:00"),"4 : ]02h-00h]",0)))) -> 1 : ]20h-10h] | J41: Conforme | K41: Conforme | M41: Non | N41: Conforme | P41: 1 | R41: Démarré
A42: UAP FS | B42: ENTREPRISE 4 | C42: 45043 | D42: 0.42152778 | E42: 45043 | F42: 0.45833333 | G42: =IFERROR(NETWORKDAYS.INTL(TEXT(Tableau1[[#This Row],[Date réception]],"jj/mm/aaaa")&" "&TEXT(Tableau1[[#This Row],[Heure réception]],"hh:mm"),TEXT(Tableau1[[#This Row],[Date démarrage]],"jj/mm/aaaa")&" "&TEXT(Tableau1[[#This Row],[Heure démarrage]],"hh:mm"),1,JoursFériés!$B$1:$B$12)-1-MOD(TEXT(Tableau1[[#This Row],[Date réception]],"jj/mm/aaaa")&" "&TEXT(Tableau1[[#This Row],[Heure réception]],"hh:mm"),1)+MOD(TEXT(Tableau1[[#This Row],[Date démarrage]],"jj/mm/aaaa")&" "&TEXT(Tableau1[[#This Row],[Heure démarrage]],"hh:mm"),1),"") -> 0.036805556 | H42: =IF(Tableau1[[#This Row],[Délais de prévenance]]<=TIMEVALUE("19:59:59"),"Non respecté","Respecté") -> Non respecté | I42: =IF(AND(Tableau1[[#This Row],[Délais de prévenance]]<TIMEVALUE("19:59:59"),Tableau1[[#This Row],[Délais de prévenance]]>=TIMEVALUE("10:00")),"1 : ]20h-10h]",IF(AND(Tableau1[[#This Row],[Délais de prévenance]]<TIMEVALUE("10:00"),Tableau1[[#This Row],[Délais de prévenance]]>=TIMEVALUE("5:00")),"2 : ]10h-05h]",IF(AND(Tableau1[[#This Row],[Délais de prévenance]]<TIMEVALUE("5:00"),Tableau1[[#This Row],[Délais de prévenance]]>=TIMEVALUE("2:00")),"3 : ]05h-02h]",IF(Tableau1[[#This Row],[Délais de prévenance]]<TIMEVALUE("2:00"),"4 : ]02h-00h]",0)))) -> 4 : ]02h-00h] | J42: Conforme | K42: Conforme | M42: Non | N42: Conforme | P42: 1 | R42: Démarré
A43: UAP FS | B43: ENTREPRISE 2 | C43: 45044 | D43: 0.35833333 | E43: 45044 | F43: 0.41666667 | G43: =IFERROR(NETWORKDAYS.INTL(TEXT(Tableau1[[#This Row],[Date réception]],"jj/mm/aaaa")&" "&TEXT(Tableau1[[#This Row],[Heure réception]],"hh:mm"),TEXT(Tableau1[[#This Row],[Date démarrage]],"jj/mm/aaaa")&" "&TEXT(Tableau1[[#This Row],[Heure démarrage]],"hh:mm"),1,JoursFériés!$B$1:$B$12)-1-MOD(TEXT(Tableau1[[#This Row],[Date réception]],"jj/mm/aaaa")&" "&TEXT(Tableau1[[#This Row],[Heure réception]],"hh:mm"),1)+MOD(TEXT(Tableau1[[#This Row],[Date démarrage]],"jj/mm/aaaa")&" "&TEXT(Tableau1[[#This Row],[Heure démarrage]],"hh:mm"),1),"") -> 0.058333333 | H43: =IF(Tableau1[[#This Row],[Délais de prévenance]]<=TIMEVALUE("19:59:59"),"Non respecté","Respecté") -> Non respecté | I43: =IF(AND(Tableau1[[#This Row],[Délais de prévenance]]<TIMEVALUE("19:59:59"),Tableau1[[#This Row],[Délais de prévenance]]>=TIMEVALUE("10:00")),"1 : ]20h-10h]",IF(AND(Tableau1[[#This Row],[Délais de prévenance]]<TIMEVALUE("10:00"),Tableau1[[#This Row],[Délais de prévenance]]>=TIMEVALUE("5:00")),"2 : ]10h-05h]",IF(AND(Tableau1[[#This Row],[Délais de prévenance]]<TIMEVALUE("5:00"),Tableau1[[#This Row],[Délais de prévenance]]>=TIMEVALUE("2:00")),"3 : ]05h-02h]",IF(Tableau1[[#This Row],[Délais de prévenance]]<TIMEVALUE("2:00"),"4 : ]02h-00h]",0)))) -> 4 : ]02h-00h] | J43: Saisie erronnée | K43: Non-conforme | L43: Saisie erronnée | M43: Non | N43: Non-conforme | P43: 1 | R43: Démarré
A44: UAP FS | B44: ENTREPRISE 1 | C44: 45043 | D44: 0.47013889 | E44: 45044 | F44: 0.25 | G44: =IFERROR(NETWORKDAYS.INTL(TEXT(Tableau1[[#This Row],[Date réception]],"jj/mm/aaaa")&" "&TEXT(Tableau1[[#This Row],[Heure réception]],"hh:mm"),TEXT(Tableau1[[#This Row],[Date démarrage]],"jj/mm/aaaa")&" "&TEXT(Tableau1[[#This Row],[Heure démarrage]],"hh:mm"),1,JoursFériés!$B$1:$B$12)-1-MOD(TEXT(Tableau1[[#This Row],[Date réception]],"jj/mm/aaaa")&" "&TEXT(Tableau1[[#This Row],[Heure réception]],"hh:mm"),1)+MOD(TEXT(Tableau1[[#This Row],[Date démarrage]],"jj/mm/aaaa")&" "&TEXT(Tableau1[[#This Row],[Heure démarrage]],"hh:mm"),1),"") -> 0.77986111 | H44: =IF(Tableau1[[#This Row],[Délais de prévenance]]<=TIMEVALUE("19:59:59"),"Non respecté","Respecté") -> Non respecté | I44: =IF(AND(Tableau1[[#This Row],[Délais de prévenance]]<TIMEVALUE("19:59:59"),Tableau1[[#This Row],[Délais de prévenance]]>=TIMEVALUE("10:00")),"1 : ]20h-10h]",IF(AND(Tableau1[[#This Row],[Délais de prévenance]]<TIMEVALUE("10:00"),Tableau1[[#This Row],[Délais de prévenance]]>=TIMEVALUE("5:00")),"2 : ]10h-05h]",IF(AND(Tableau1[[#This Row],[Délais de prévenance]]<TIMEVALUE("5:00"),Tableau1[[#This Row],[Délais de prévenance]]>=TIMEVALUE("2:00")),"3 : ]05h-02h]",IF(Tableau1[[#This Row],[Délais de prévenance]]<TIMEVALUE("2:00"),"4 : ]02h-00h]",0)))) -> 1 : ]20h-10h] | J44: Conforme | K44: Conforme | M44: Non | N44: Conforme | P44: 1 | R44: Démarré
A45: UAP FC | B45: ENTREPRISE 1 | C45: 45044 | D45: 0.29166667 | E45: 45044 | F45: 0.29166667 | G45: =IFERROR(NETWORKDAYS.INTL(TEXT(Tableau1[[#This Row],[Date réception]],"jj/mm/aaaa")&" "&TEXT(Tableau1[[#This Row],[Heure réception]],"hh:mm"),TEXT(Tableau1[[#This Row],[Date démarrage]],"jj/mm/aaaa")&" "&TEXT(Tableau1[[#This Row],[Heure démarrage]],"hh:mm"),1,JoursFériés!$B$1:$B$12)-1-MOD(TEXT(Tableau1[[#This Row],[Date réception]],"jj/mm/aaaa")&" "&TEXT(Tableau1[[#This Row],[Heure réception]],"hh:mm"),1)+MOD(TEXT(Tableau1[[#This Row],[Date démarrage]],"jj/mm/aaaa")&" "&TEXT(Tableau1[[#This Row],[Heure démarrage]],"hh:mm"),1),"") -> 0 | H45: =IF(Tableau1[[#This Row],[Délais de prévenance]]<=TIMEVALUE("19:59:59"),"Non respecté","Respecté") -> Non respecté | I45: =IF(AND(Tableau1[[#This Row],[Délais de prévenance]]<TIMEVALUE("19:59:59"),Tableau1[[#This Row],[Délais de prévenance]]>=TIMEVALUE("10:00")),"1 : ]20h-10h]",IF(AND(Tableau1[[#This Row],[Délais de prévenance]]<TIMEVALUE("10:00"),Tableau1[[#This Row],[Délais de prévenance]]>=TIMEVALUE("5:00")),"2 : ]10h-05h]",IF(AND(Tableau1[[#This Row],[Délais de prévenance]]<TIMEVALUE("5:00"),Tableau1[[#This Row],[Délais de prévenance]]>=TIMEVALUE("2:00")),"3 : ]05h-02h]",IF(Tableau1[[#This Row],[Délais de prévenance]]<TIMEVALUE("2:00"),"4 : ]02h-00h]",0)))) -> 4 : ]02h-00h] | J45: Conforme | K45: Conforme | M45: Non | N45: Conforme | P45: 1 | R45: Démarré
A46: UAP FC | B46: ENTREPRISE 1 | C46: 45044 | D46: 0.28125 | E46: 45044 | F46: 0.30555556 | G46: =IFERROR(NETWORKDAYS.INTL(TEXT(Tableau1[[#This Row],[Date réception]],"jj/mm/aaaa")&" "&TEXT(Tableau1[[#This Row],[Heure réception]],"hh:mm"),TEXT(Tableau1[[#This Row],[Date démarrage]],"jj/mm/aaaa")&" "&TEXT(Tableau1[[#This Row],[Heure démarrage]],"hh:mm"),1,JoursFériés!$B$1:$B$12)-1-MOD(TEXT(Tableau1[[#This Row],[Date réception]],"jj/mm/aaaa")&" "&TEXT(Tableau1[[#This Row],[Heure réception]],"hh:mm"),1)+MOD(TEXT(Tableau1[[#This Row],[Date démarrage]],"jj/mm/aaaa")&" "&TEXT(Tableau1[[#This Row],[Heure démarrage]],"hh:mm"),1),"") -> 0.024305556 | H46: =IF(Tableau1[[#This Row],[Délais de prévenance]]<=TIMEVALUE("19:59:59"),"Non respecté","Respecté") -> Non respecté | I46: =IF(AND(Tableau1[[#This Row],[Délais de prévenance]]<TIMEVALUE("19:59:59"),Tableau1[[#This Row],[Délais de prévenance]]>=TIMEVALUE("10:00")),"1 : ]20h-10h]",IF(AND(Tableau1[[#This Row],[Délais de prévenance]]<TIMEVALUE("10:00"),Tableau1[[#This Row],[Délais de prévenance]]>=TIMEVALUE("5:00")),"2 : ]10h-05h]",IF(AND(Tableau1[[#This Row],[Délais de prévenance]]<TIMEVALUE("5:00"),Tableau1[[#This Row],[Délais de prévenance]]>=TIMEVALUE("2:00")),"3 : ]05h-02h]",IF(Tableau1[[#This Row],[Délais de prévenance]]<TIMEVALUE("2:00"),"4 : ]02h-00h]",0)))) -> 4 : ]02h-00h] | J46: Conforme | K46: Conforme | M46: Non | N46: Conforme | P46: 1 | R46: Démarré
A47: UAP FC | B47: ENTREPRISE 1 | C47: 45043 | D47: 0.52083333 | E47: 45044 | F47: 0.33333333 | G47: =IFERROR(NETWORKDAYS.INTL(TEXT(Tableau1[[#This Row],[Date réception]],"jj/mm/aaaa")&" "&TEXT(Tableau1[[#This Row],[Heure réception]],"hh:mm"),TEXT(Tableau1[[#This Row],[Date démarrage]],"jj/mm/aaaa")&" "&TEXT(Tableau1[[#This Row],[Heure démarrage]],"hh:mm"),1,JoursFériés!$B$1:$B$12)-1-MOD(TEXT(Tableau1[[#This Row],[Date réception]],"jj/mm/aaaa")&" "&TEXT(Tableau1[[#This Row],[Heure réception]],"hh:mm"),1)+MOD(TEXT(Tableau1[[#This Row],[Date démarrage]],"jj/mm/aaaa")&" "&TEXT(Tableau1[[#This Row],[Heure démarrage]],"hh:mm"),1),"") -> 0.8125 | H47: =IF(Tableau1[[#This Row],[Délais de prévenance]]<=TIMEVALUE("19:59:59"),"Non respecté","Respecté") -> Non respecté | I47: =IF(AND(Tableau1[[#This Row],[Délais de prévenance]]<TIMEVALUE("19:59:59"),Tableau1[[#This Row],[Délais de prévenance]]>=TIMEVALUE("10:00")),"1 : ]20h-10h]",IF(AND(Tableau1[[#This Row],[Délais de prévenance]]<TIMEVALUE("10:00"),Tableau1[[#This Row],[Délais de prévenance]]>=TIMEVALUE("5:00")),"2 : ]10h-05h]",IF(AND(Tableau1[[#This Row],[Délais de prévenance]]<TIMEVALUE("5:00"),Tableau1[[#This Row],[Délais de prévenance]]>=TIMEVALUE("2:00")),"3 : ]05h-02h]",IF(Tableau1[[#This Row],[Délais de prévenance]]<TIMEVALUE("2:00"),"4 : ]02h-00h]",0)))) -> 1 : ]20h-10h] | J47: Conforme | K47: Conforme | M47: Oui | N47: Sans objet | P47: 0 | R47: Annulé par la Production
A48: UAP FS | B48: ENTREPRISE 3 | C48: 45044 | D48: 0.33333333 | E48: 45044 | F48: 0.33333333 | G48: =IFERROR(NETWORKDAYS.INTL(TEXT(Tableau1[[#This Row],[Date réception]],"jj/mm/aaaa")&" "&TEXT(Tableau1[[#This Row],[Heure réception]],"hh:mm"),TEXT(Tableau1[[#This Row],[Date démarrage]],"jj/mm/aaaa")&" "&TEXT(Tableau1[[#This Row],[Heure démarrage]],"hh:mm"),1,JoursFériés!$B$1:$B$12)-1-MOD(TEXT(Tableau1[[#This Row],[Date réception]],"jj/mm/aaaa")&" "&TEXT(Tableau1[[#This Row],[Heure réception]],"hh:mm"),1)+MOD(TEXT(Tableau1[[#This Row],[Date démarrage]],"jj/mm/aaaa")&" "&TEXT(Tableau1[[#This Row],[Heure démarrage]],"hh:mm"),1),"") -> 0 | H48: =IF(Tableau1[[#This Row],[Délais de prévenance]]<=TIMEVALUE("19:59:59"),"Non respecté","Respecté") -> Non respecté | I48: =IF(AND(Tableau1[[#This Row],[Délais de prévenance]]<TIMEVALUE("19:59:59"),Tableau1[[#This Row],[Délais de prévenance]]>=TIMEVALUE("10:00")),"1 : ]20h-10h]",IF(AND(Tableau1[[#This Row],[Délais de prévenance]]<TIMEVALUE("10:00"),Tableau1[[#This Row],[Délais de prévenance]]>=TIMEVALUE("5:00")),"2 : ]10h-05h]",IF(AND(Tableau1[[#This Row],[Délais de prévenance]]<TIMEVALUE("5:00"),Tableau1[[#This Row],[Délais de prévenance]]>=TIMEVALUE("2:00")),"3 : ]05h-02h]",IF(Tableau1[[#This Row],[Délais de prévenance]]<TIMEVALUE("2:00"),"4 : ]02h-00h]",0)))) -> 4 : ]02h-00h] | J48: Conforme | K48: Conforme | M48: Oui | N48: Sans objet | P48: 0 | R48: Annulé par la Production
A49: UAP FS | B49: ENTREPRISE 4 | C49: 45044 | D49: 0.875 | E49: 45048 | F49: 0.875 | G49: =IFERROR(NETWORKDAYS.INTL(TEXT(Tableau1[[#This Row],[Date réception]],"jj/mm/aaaa")&" "&TEXT(Tableau1[[#This Row],[Heure réception]],"hh:mm"),TEXT(Tableau1[[#This Row],[Date démarrage]],"jj/mm/aaaa")&" "&TEXT(Tableau1[[#This Row],[Heure démarrage]],"hh:mm"),1,JoursFériés!$B$1:$B$12)-1-MOD(TEXT(Tableau1[[#This Row],[Date réception]],"jj/mm/aaaa")&" "&TEXT(Tableau1[[#This Row],[Heure réception]],"hh:mm"),1)+MOD(TEXT(Tableau1[[#This Row],[Date démarrage]],"jj/mm/aaaa")&" "&TEXT(Tableau1[[#This Row],[Heure démarrage]],"hh:mm"),1),"") -> 1 | H49: =IF(Tableau1[[#This Row],[Délais de prévenance]]<=TIMEVALUE("19:59:59"),"Non respecté","Respecté") -> Respecté | I49: =IF(AND(Tableau1[[#This Row],[Délais de prévenance]]<TIMEVALUE("19:59:59"),Tableau1[[#This Row],[Délais de prévenance]]>=TIMEVALUE("10:00")),"1 : ]20h-10h]",IF(AND(Tableau1[[#This Row],[Délais de prévenance]]<TIMEVALUE("10:00"),Tableau1[[#This Row],[Délais de prévenance]]>=TIMEVALUE("5:00")),"2 : ]10h-05h]",IF(AND(Tableau1[[#This Row],[Délais de prévenance]]<TIMEVALUE("5:00"),Tableau1[[#This Row],[Délais de prévenance]]>=TIMEVALUE("2:00")),"3 : ]05h-02h]",IF(Tableau1[[#This Row],[Délais de prévenance]]<TIMEVALUE("2:00"),"4 : ]02h-00h]",0)))) -> 0 | J49: Conforme | K49: Conforme | M49: Non | N49: Conforme | P49: 1 | R49: Démarré
A50: UAP FS | B50: ENTREPRISE 4 | C50: 45044 | D50: 0.66666667 | E50: 45048 | F50: 0.25 | G50: =IFERROR(NETWORKDAYS.INTL(TEXT(Tableau1[[#This Row],[Date réception]],"jj/mm/aaaa")&" "&TEXT(Tableau1[[#This Row],[Heure réception]],"hh:mm"),TEXT(Tableau1[[#This Row],[Date démarrage]],"jj/mm/aaaa")&" "&TEXT(Tableau1[[#This Row],[Heure démarrage]],"hh:mm"),1,JoursFériés!$B$1:$B$12)-1-MOD(TEXT(Tableau1[[#This Row],[Date réception]],"jj/mm/aaaa")&" "&TEXT(Tableau1[[#This Row],[Heure réception]],"hh:mm"),1)+MOD(TEXT(Tableau1[[#This Row],[Date démarrage]],"jj/mm/aaaa")&" "&TEXT(Tableau1[[#This Row],[Heure démarrage]],"hh:mm"),1),"") -> 0.58333333 | H50: =IF(Tableau1[[#This Row],[Délais de prévenance]]<=TIMEVALUE("19:59:59"),"Non respecté","Respecté") -> Non respecté | I50: =IF(AND(Tableau1[[#This Row],[Délais de prévenance]]<TIMEVALUE("19:59:59"),Tableau1[[#This Row],[Délais de prévenance]]>=TIMEVALUE("10:00")),"1 : ]20h-10h]",IF(AND(Tableau1[[#This Row],[Délais de prévenance]]<TIMEVALUE("10:00"),Tableau1[[#This Row],[Délais de prévenance]]>=TIMEVALUE("5:00")),"2 : ]10h-05h]",IF(AND(Tableau1[[#This Row],[Délais de prévenance]]<TIMEVALUE("5:00"),Tableau1[[#This Row],[Délais de prévenance]]>=TIMEVALUE("2:00")),"3 : ]05h-02h]",IF(Tableau1[[#This Row],[Délais de prévenance]]<TIMEVALUE("2:00"),"4 : ]02h-00h]",0)))) -> 1 : ]20h-10h] | J50: Conforme | K50: Conforme | M50: Non | N50: Conforme | P50: 1 | R50: Démarré
A51: UAP FS | B51: ENTREPRISE 1 | C51: 45044 | D51: 0.34027778 | E51: 45048 | F51: 0.25 | G51: =IFERROR(NETWORKDAYS.INTL(TEXT(Tableau1[[#This Row],[Date réception]],"jj/mm/aaaa")&" "&TEXT(Tableau1[[#This Row],[Heure réception]],"hh:mm"),TEXT(Tableau1[[#This Row],[Date démarrage]],"jj/mm/aaaa")&" "&TEXT(Tableau1[[#This Row],[Heure démarrage]],"hh:mm"),1,JoursFériés!$B$1:$B$12)-1-MOD(TEXT(Tableau1[[#This Row],[Date réception]],"jj/mm/aaaa")&" "&TEXT(Tableau1[[#This Row],[Heure réception]],"hh:mm"),1)+MOD(TEXT(Tableau1[[#This Row],[Date démarrage]],"jj/mm/aaaa")&" "&TEXT(Tableau1[[#This Row],[Heure démarrage]],"hh:mm"),1),"") -> 0.90972222 | H51: =IF(Tableau1[[#This Row],[Délais de prévenance]]<=TIMEVALUE("19:59:59"),"Non respecté","Respecté") -> Respecté | I51: =IF(AND(Tableau1[[#This Row],[Délais de prévenance]]<TIMEVALUE("19:59:59"),Tableau1[[#This Row],[Délais de prévenance]]>=TIMEVALUE("10:00")),"1 : ]20h-10h]",IF(AND(Tableau1[[#This Row],[Délais de prévenance]]<TIMEVALUE("10:00"),Tableau1[[#This Row],[Délais de prévenance]]>=TIMEVALUE("5:00")),"2 : ]10h-05h]",IF(AND(Tableau1[[#This Row],[Délais de prévenance]]<TIMEVALUE("5:00"),Tableau1[[#This Row],[Délais de prévenance]]>=TIMEVALUE("2:00")),"3 : ]05h-02h]",IF(Tableau1[[#This Row],[Délais de prévenance]]<TIMEVALUE("2:00"),"4 : ]02h-00h]",0)))) -> 0 | J51: Conforme | K51: Conforme | M51: Non | N51: Conforme | P51: 1 | R51: Démarré
A52: UAP FS | B52: ENTREPRISE 3 | C52: 45044 | D52: 0.42361111 | E52: 45048 | F52: 0.33333333 | G52: =IFERROR(NETWORKDAYS.INTL(TEXT(Tableau1[[#This Row],[Date réception]],"jj/mm/aaaa")&" "&TEXT(Tableau1[[#This Row],[Heure réception]],"hh:mm"),TEXT(Tableau1[[#This Row],[Date démarrage]],"jj/mm/aaaa")&" "&TEXT(Tableau1[[#This Row],[Heure démarrage]],"hh:mm"),1,JoursFériés!$B$1:$B$12)-1-MOD(TEXT(Tableau1[[#This Row],[Date réception]],"jj/mm/aaaa")&" "&TEXT(Tableau1[[#This Row],[Heure réception]],"hh:mm"),1)+MOD(TEXT(Tableau1[[#This Row],[Date démarrage]],"jj/mm/aaaa")&" "&TEXT(Tableau1[[#This Row],[Heure démarrage]],"hh:mm"),1),"") -> 0.90972222 | H52: =IF(Tableau1[[#This Row],[Délais de prévenance]]<=TIMEVALUE("19:59:59"),"Non respecté","Respecté") -> Respecté | I52: =IF(AND(Tableau1[[#This Row],[Délais de prévenance]]<TIMEVALUE("19:59:59"),Tableau1[[#This Row],[Délais de prévenance]]>=TIMEVALUE("10:00")),"1 : ]20h-10h]",IF(AND(Tableau1[[#This Row],[Délais de prévenance]]<TIMEVALUE("10:00"),Tableau1[[#This Row],[Délais de prévenance]]>=TIMEVALUE("5:00")),"2 : ]10h-05h]",IF(AND(Tableau1[[#This Row],[Délais de prévenance]]<TIMEVALUE("5:00"),Tableau1[[#This Row],[Délais de prévenance]]>=TIMEVALUE("2:00")),"3 : ]05h-02h]",IF(Tableau1[[#This Row],[Délais de prévenance]]<TIMEVALUE("2:00"),"4 : ]02h-00h]",0)))) -> 0 | J52: Conforme | K52: Conforme | M52: Non | N52: Conforme | P52: 1 | R52: Démarré
A53: UAP FS | B53: ENTREPRISE 3 | C53: 45048 | D53: 0.33958333 | E53: 45048 | F53: 0.58333333 | G53: =IFERROR(NETWORKDAYS.INTL(TEXT(Tableau1[[#This Row],[Date réception]],"jj/mm/aaaa")&" "&TEXT(Tableau1[[#This Row],[Heure réception]],"hh:mm"),TEXT(Tableau1[[#This Row],[Date démarrage]],"jj/mm/aaaa")&" "&TEXT(Tableau1[[#This Row],[Heure démarrage]],"hh:mm"),1,JoursFériés!$B$1:$B$12)-1-MOD(TEXT(Tableau1[[#This Row],[Date réception]],"jj/mm/aaaa")&" "&TEXT(Tableau1[[#This Row],[Heure réception]],"hh:mm"),1)+MOD(TEXT(Tableau1[[#This Row],[Date démarrage]],"jj/mm/aaaa")&" "&TEXT(Tableau1[[#This Row],[Heure démarrage]],"hh:mm"),1),"") -> 0.24375 | H53: =IF(Tableau1[[#This Row],[Délais de prévenance]]<=TIMEVALUE("19:59:59"),"Non respecté","Respecté") -> Non respecté | I53: =IF(AND(Tableau1[[#This Row],[Délais de prévenance]]<TIMEVALUE("19:59:59"),Tableau1[[#This Row],[Délais de prévenance]]>=TIMEVALUE("10:00")),"1 : ]20h-10h]",IF(AND(Tableau1[[#This Row],[Délais de prévenance]]<TIMEVALUE("10:00"),Tableau1[[#This Row],[Délais de prévenance]]>=TIMEVALUE("5:00")),"2 : ]10h-05h]",IF(AND(Tableau1[[#This Row],[Délais de prévenance]]<TIMEVALUE("5:00"),Tableau1[[#This Row],[Délais de prévenance]]>=TIMEVALUE("2:00")),"3 : ]05h-02h]",IF(Tableau1[[#This Row],[Délais de prévenance]]<TIMEVALUE("2:00"),"4 : ]02h-00h]",0)))) -> 2 : ]10h-05h] | J53: Conforme | K53: Conforme | M53: Non | N53: Conforme | P53: 1 | R53: Démarré
A54: UAP FS | B54: ENTREPRISE 4 | C54: 45048 | D54: 0.84375 | E54: 45048 | F54: 0.89583333 | G54: =IFERROR(NETWORKDAYS.INTL(TEXT(Tableau1[[#This Row],[Date réception]],"jj/mm/aaaa")&" "&TEXT(Tableau1[[#This Row],[Heure réception]],"hh:mm"),TEXT(Tableau1[[#This Row],[Date démarrage]],"jj/mm/aaaa")&" "&TEXT(Tableau1[[#This Row],[Heure démarrage]],"hh:mm"),1,JoursFériés!$B$1:$B$12)-1-MOD(TEXT(Tableau1[[#This Row],[Date réception]],"jj/mm/aaaa")&" "&TEXT(Tableau1[[#This Row],[Heure réception]],"hh:mm"),1)+MOD(TEXT(Tableau1[[#This Row],[Date démarrage]],"jj/mm/aaaa")&" "&TEXT(Tableau1[[#This Row],[Heure démarrage]],"hh:mm"),1),"") -> 0.052083333 | H54: =IF(Tableau1[[#This Row],[Délais de prévenance]]<=TIMEVALUE("19:59:59"),"Non respecté","Respecté") -> Non respecté | I54: =IF(AND(Tableau1[[#This Row],[Délais de prévenance]]<TIMEVALUE("19:59:59"),Tableau1[[#This Row],[Délais de prévenance]]>=TIMEVALUE("10:00")),"1 : ]20h-10h]",IF(AND(Tableau1[[#This Row],[Délais de prévenance]]<TIMEVALUE("10:00"),Tableau1[[#This Row],[Délais de prévenance]]>=TIMEVALUE("5:00")),"2 : ]10h-05h]",IF(AND(Tableau1[[#This Row],[Délais de prévenance]]<TIMEVALUE("5:00"),Tableau1[[#This Row],[Délais de prévenance]]>=TIMEVALUE("2:00")),"3 : ]05h-02h]",IF(Tableau1[[#This Row],[Délais de prévenance]]<TIMEVALUE("2:00"),"4 : ]02h-00h]",0)))) -> 4 : ]02h-00h] | J54: Conforme | K54: Conforme | M54: Non | N54: Conforme | P54: 1 | R54: Démarré
A55: UAP FS | B55: ENTREPRISE 2 | C55: 45049 | D55: 0.33333333 | E55: 45049 | F55: 0.375 | G55: =IFERROR(NETWORKDAYS.INTL(TEXT(Tableau1[[#This Row],[Date réception]],"jj/mm/aaaa")&" "&TEXT(Tableau1[[#This Row],[Heure réception]],"hh:mm"),TEXT(Tableau1[[#This Row],[Date démarrage]],"jj/mm/aaaa")&" "&TEXT(Tableau1[[#This Row],[Heure démarrage]],"hh:mm"),1,JoursFériés!$B$1:$B$12)-1-MOD(TEXT(Tableau1[[#This Row],[Date réception]],"jj/mm/aaaa")&" "&TEXT(Tableau1[[#This Row],[Heure réception]],"hh:mm"),1)+MOD(TEXT(Tableau1[[#This Row],[Date démarrage]],"jj/mm/aaaa")&" "&TEXT(Tableau1[[#This Row],[Heure démarrage]],"hh:mm"),1),"") -> 0.041666667 | H55: =IF(Tableau1[[#This Row],[Délais de prévenance]]<=TIMEVALUE("19:59:59"),"Non respecté","Respecté") -> Non respecté | I55: =IF(AND(Tableau1[[#This Row],[Délais de prévenance]]<TIMEVALUE("19:59:59"),Tableau1[[#This Row],[Délais de prévenance]]>=TIMEVALUE("10:00")),"1 : ]20h-10h]",IF(AND(Tableau1[[#This Row],[Délais de prévenance]]<TIMEVALUE("10:00"),Tableau1[[#This Row],[Délais de prévenance]]>=TIMEVALUE("5:00")),"2 : ]10h-05h]",IF(AND(Tableau1[[#This Row],[Délais de prévenance]]<TIMEVALUE("5:00"),Tableau1[[#This Row],[Délais de prévenance]]>=TIMEVALUE("2:00")),"3 : ]05h-02h]",IF(Tableau1[[#This Row],[Délais de prévenance]]<TIMEVALUE("2:00"),"4 : ]02h-00h]",0)))) -> 4 : ]02h-00h] | J55: Saisie manquante | K55: Non-conforme | L55: Saisie manquante | M55: Non | N55: Conforme | P55: 1 | R55: Démarré
A56: UAP FS | B56: ENTREPRISE 4 | C56: 45050 | D56: 0.10555556 | E56: 45050 | F56: 0.26041667 | G56: =IFERROR(NETWORKDAYS.INTL(TEXT(Tableau1[[#This Row],[Date réception]],"jj/mm/aaaa")&" "&TEXT(Tableau1[[#This Row],[Heure réception]],"hh:mm"),TEXT(Tableau1[[#This Row],[Date démarrage]],"jj/mm/aaaa")&" "&TEXT(Tableau1[[#This Row],[Heure démarrage]],"hh:mm"),1,JoursFériés!$B$1:$B$12)-1-MOD(TEXT(Tableau1[[#This Row],[Date réception]],"jj/mm/aaaa")&" "&TEXT(Tableau1[[#This Row],[Heure réception]],"hh:mm"),1)+MOD(TEXT(Tableau1[[#This Row],[Date démarrage]],"jj/mm/aaaa")&" "&TEXT(Tableau1[[#This Row],[Heure démarrage]],"hh:mm"),1),"") -> 0.15486111 | H56: =IF(Tableau1[[#This Row],[Délais de prévenance]]<=TIMEVALUE("19:59:59"),"Non respecté","Respecté") -> Non respecté | I56: =IF(AND(Tableau1[[#This Row],[Délais de prévenance]]<TIMEVALUE("19:59:59"),Tableau1[[#This Row],[Délais de prévenance]]>=TIMEVALUE("10:00")),"1 : ]20h-10h]",IF(AND(Tableau1[[#This Row],[Délais de prévenance]]<TIMEVALUE("10:00"),Tableau1[[#This Row],[Délais de prévenance]]>=TIMEVALUE("5:00")),"2 : ]10h-05h]",IF(AND(Tableau1[[#This Row],[Délais de prévenance]]<TIMEVALUE("5:00"),Tableau1[[#This Row],[Délais de prévenance]]>=TIMEVALUE("2:00")),"3 : ]05h-02h]",IF(Tableau1[[#This Row],[Délais de prévenance]]<TIMEVALUE("2:00"),"4 : ]02h-00h]",0)))) -> 3 : ]05h-02h] | J56: Conforme | K56: Conforme | M56: Non | N56: Conforme | P56: 1 | R56: Démarré
A57: UAP FS | B57: ENTREPRISE 4 | C57: 45049 | D57: 0.80208333 | E57: 45050 | F57: 0.80208333 | G57: =IFERROR(NETWORKDAYS.INTL(TEXT(Tableau1[[#This Row],[Date réception]],"jj/mm/aaaa")&" "&TEXT(Tableau1[[#This Row],[Heure réception]],"hh:mm"),TEXT(Tableau1[[#This Row],[Date démarrage]],"jj/mm/aaaa")&" "&TEXT(Tableau1[[#This Row],[Heure démarrage]],"hh:mm"),1,JoursFériés!$B$1:$B$12)-1-MOD(TEXT(Tableau1[[#This Row],[Date réception]],"jj/mm/aaaa")&" "&TEXT(Tableau1[[#This Row],[Heure réception]],"hh:mm"),1)+MOD(TEXT(Tableau1[[#This Row],[Date démarrage]],"jj/mm/aaaa")&" "&TEXT(Tableau1[[#This Row],[Heure démarrage]],"hh:mm"),1),"") -> 1 | H57: =IF(Tableau1[[#This Row],[Délais de prévenance]]<=TIMEVALUE("19:59:59"),"Non respecté","Respecté") -> Respecté | I57: =IF(AND(Tableau1[[#This Row],[Délais de prévenance]]<TIMEVALUE("19:59:59"),Tableau1[[#This Row],[Délais de prévenance]]>=TIMEVALUE("10:00")),"1 : ]20h-10h]",IF(AND(Tableau1[[#This Row],[Délais de prévenance]]<TIMEVALUE("10:00"),Tableau1[[#This Row],[Délais de prévenance]]>=TIMEVALUE("5:00")),"2 : ]10h-05h]",IF(AND(Tableau1[[#This Row],[Délais de prévenance]]<TIMEVALUE("5:00"),Tableau1[[#This Row],[Délais de prévenance]]>=TIMEVALUE("2:00")),"3 : ]05h-02h]",IF(Tableau1[[#This Row],[Délais de prévenance]]<TIMEVALUE("2:00"),"4 : ]02h-00h]",0)))) -> 0 | J57: Conforme | K57: Conforme | M57: Non | N57: Conforme | P57: 1 | R57: Démarré
A58: UAP FS | B58: ENTREPRISE 4 | C58: 45049 | D58: 0.73958333 | E58: 45050 | F58: 0.26041667 | G58: =IFERROR(NETWORKDAYS.INTL(TEXT(Tableau1[[#This Row],[Date réception]],"jj/mm/aaaa")&" "&TEXT(Tableau1[[#This Row],[Heure réception]],"hh:mm"),TEXT(Tableau1[[#This Row],[Date démarrage]],"jj/mm/aaaa")&" "&TEXT(Tableau1[[#This Row],[Heure démarrage]],"hh:mm"),1,JoursFériés!$B$1:$B$12)-1-MOD(TEXT(Tableau1[[#This Row],[Date réception]],"jj/mm/aaaa")&" "&TEXT(Tableau1[[#This Row],[Heure réception]],"hh:mm"),1)+MOD(TEXT(Tableau1[[#This Row],[Date démarrage]],"jj/mm/aaaa")&" "&TEXT(Tableau1[[#This Row],[Heure démarrage]],"hh:mm"),1),"") -> 0.52083333 | H58: =IF(Tableau1[[#This Row],[Délais de prévenance]]<=TIMEVALUE("19:59:59"),"Non respecté","Respecté") -> Non respecté | I58: =IF(AND(Tableau1[[#This Row],[Délais de prévenance]]<TIMEVALUE("19:59:59"),Tableau1[[#This Row],[Délais de prévenance]]>=TIMEVALUE("10:00")),"1 : ]20h-10h]",IF(AND(Tableau1[[#This Row],[Délais de prévenance]]<TIMEVALUE("10:00"),Tableau1[[#This Row],[Délais de prévenance]]>=TIMEVALUE("5:00")),"2 : ]10h-05h]",IF(AND(Tableau1[[#This Row],[Délais de prévenance]]<TIMEVALUE("5:00"),Tableau1[[#This Row],[Délais de prévenance]]>=TIMEVALUE("2:00")),"3 : ]05h-02h]",IF(Tableau1[[#This Row],[Délais de prévenance]]<TIMEVALUE("2:00"),"4 : ]02h-00h]",0)))) -> 1 : ]20h-10h] | J58: Conforme | K58: Conforme | M58: Non | N58: Conforme | P58: 1 | R58: Démarré
A59: UAP FS | B59: ENTREPRISE 4 | C59: 45049 | D59: 0.51736111 | E59: 45049 | F59: 0.58333333 | G59: =IFERROR(NETWORKDAYS.INTL(TEXT(Tableau1[[#This Row],[Date réception]],"jj/mm/aaaa")&" "&TEXT(Tableau1[[#This Row],[Heure réception]],"hh:mm"),TEXT(Tableau1[[#This Row],[Date démarrage]],"jj/mm/aaaa")&" "&TEXT(Tableau1[[#This Row],[Heure démarrage]],"hh:mm"),1,JoursFériés!$B$1:$B$12)-1-MOD(TEXT(Tableau1[[#This Row],[Date réception]],"jj/mm/aaaa")&" "&TEXT(Tableau1[[#This Row],[Heure réception]],"hh:mm"),1)+MOD(TEXT(Tableau1[[#This Row],[Date démarrage]],"jj/mm/aaaa")&" "&TEXT(Tableau1[[#This Row],[Heure démarrage]],"hh:mm"),1),"") -> 0.065972222 | H59: =IF(Tableau1[[#This Row],[Délais de prévenance]]<=TIMEVALUE("19:59:59"),"Non respecté","Respecté") -> Non respecté | I59: =IF(AND(Tableau1[[#This Row],[Délais de prévenance]]<TIMEVALUE("19:59:59"),Tableau1[[#This Row],[Délais de prévenance]]>=TIMEVALUE("10:00")),"1 : ]20h-10h]",IF(AND(Tableau1[[#This Row],[Délais de prévenance]]<TIMEVALUE("10:00"),Tableau1[[#This Row],[Délais de prévenance]]>=TIMEVALUE("5:00")),"2 : ]10h-05h]",IF(AND(Tableau1[[#This Row],[Délais de prévenance]]<TIMEVALUE("5:00"),Tableau1[[#This Row],[Délais de prévenance]]>=TIMEVALUE("2:00")),"3 : ]05h-02h]",IF(Tableau1[[#This Row],[Délais de prévenance]]<TIMEVALUE("2:00"),"4 : ]02h-00h]",0)))) -> 4 : ]02h-00h] | J59: Conforme | K59: Conforme | M59: Oui | N59: Sans objet | P59: 0 | R59: Annulé par la Production
A60: UAP FS | B60: ENTREPRISE 4 | C60: 45048 | D60: 0.74027778 | E60: 45049 | F60: 0.58333333 | G60: =IFERROR(NETWORKDAYS.INTL(TEXT(Tableau1[[#This Row],[Date réception]],"jj/mm/aaaa")&" "&TEXT(Tableau1[[#This Row],[Heure réception]],"hh:mm"),TEXT(Tableau1[[#This Row],[Date démarrage]],"jj/mm/aaaa")&" "&TEXT(Tableau1[[#This Row],[Heure démarrage]],"hh:mm"),1,JoursFériés!$B$1:$B$12)-1-MOD(TEXT(Tableau1[[#This Row],[Date réception]],"jj/mm/aaaa")&" "&TEXT(Tableau1[[#This Row],[Heure réception]],"hh:mm"),1)+MOD(TEXT(Tableau1[[#This Row],[Date démarrage]],"jj/mm/aaaa")&" "&TEXT(Tableau1[[#This Row],[Heure démarrage]],"hh:mm"),1),"") -> 0.84305556 | H60: =IF(Tableau1[[#This Row],[Délais de prévenance]]<=TIMEVALUE("19:59:59"),"Non respecté","Respecté") -> Respecté | I60: =IF(AND(Tableau1[[#This Row],[Délais de prévenance]]<TIMEVALUE("19:59:59"),Tableau1[[#This Row],[Délais de prévenance]]>=TIMEVALUE("10:00")),"1 : ]20h-10h]",IF(AND(Tableau1[[#This Row],[Délais de prévenance]]<TIMEVALUE("10:00"),Tableau1[[#This Row],[Délais de prévenance]]>=TIMEVALUE("5:00")),"2 : ]10h-05h]",IF(AND(Tableau1[[#This Row],[Délais de prévenance]]<TIMEVALUE("5:00"),Tableau1[[#This Row],[Délais de prévenance]]>=TIMEVALUE("2:00")),"3 : ]05h-02h]",IF(Tableau1[[#This Row],[Délais de prévenance]]<TIMEVALUE("2:00"),"4 : ]02h-00h]",0)))) -> 0 | J60: Conforme | K60: Conforme | M60: Non | N60: Conforme | P60: 2 | Q60: Propreté du joint NC | R60: Démarré
A61: UAP FS | B61: ENTREPRISE 3 | C61: 45049 | D61: 0.30277778 | E61: 45049 | F61: 0.5625 | G61: =IFERROR(NETWORKDAYS.INTL(TEXT(Tableau1[[#This Row],[Date réception]],"jj/mm/aaaa")&" "&TEXT(Tableau1[[#This Row],[Heure réception]],"hh:mm"),TEXT(Tableau1[[#This Row],[Date démarrage]],"jj/mm/aaaa")&" "&TEXT(Tableau1[[#This Row],[Heure démarrage]],"hh:mm"),1,JoursFériés!$B$1:$B$12)-1-MOD(TEXT(Tableau1[[#This Row],[Date réception]],"jj/mm/aaaa")&" "&TEXT(Tableau1[[#This Row],[Heure réception]],"hh:mm"),1)+MOD(TEXT(Tableau1[[#This Row],[Date démarrage]],"jj/mm/aaaa")&" "&TEXT(Tableau1[[#This Row],[Heure démarrage]],"hh:mm"),1),"") -> 0.25972222 | H61: =IF(Tableau1[[#This Row],[Délais de prévenance]]<=TIMEVALUE("19:59:59"),"Non respecté","Respecté") -> Non respecté | I61: =IF(AND(Tableau1[[#This Row],[Délais de prévenance]]<TIMEVALUE("19:59:59"),Tableau1[[#This Row],[Délais de prévenance]]>=TIMEVALUE("10:00")),"1 : ]20h-10h]",IF(AND(Tableau1[[#This Row],[Délais de prévenance]]<TIMEVALUE("10:00"),Tableau1[[#This Row],[Délais de prévenance]]>=TIMEVALUE("5:00")),"2 : ]10h-05h]",IF(AND(Tableau1[[#This Row],[Délais de prévenance]]<TIMEVALUE("5:00"),Tableau1[[#This Row],[Délais de prévenance]]>=TIMEVALUE("2:00")),"3 : ]05h-02h]",IF(Tableau1[[#This Row],[Délais de prévenance]]<TIMEVALUE("2:00"),"4 : ]02h-00h]",0)))) -> 2 : ]10h-05h] | J61: Conforme | K61: Conforme | M61: Non | N61: Conforme | P61: 1 | R61: Démarré
A62: UAP FS | B62: ENTREPRISE 3 | C62: 45049 | D62: 0.58333333 | E62: 45049 | F62: 0.58333333 | G62: =IFERROR(NETWORKDAYS.INTL(TEXT(Tableau1[[#This Row],[Date réception]],"jj/mm/aaaa")&" "&TEXT(Tableau1[[#This Row],[Heure réception]],"hh:mm"),TEXT(Tableau1[[#This Row],[Date démarrage]],"jj/mm/aaaa")&" "&TEXT(Tableau1[[#This Row],[Heure démarrage]],"hh:mm"),1,JoursFériés!$B$1:$B$12)-1-MOD(TEXT(Tableau1[[#This Row],[Date réception]],"jj/mm/aaaa")&" "&TEXT(Tableau1[[#This Row],[Heure réception]],"hh:mm"),1)+MOD(TEXT(Tableau1[[#This Row],[Date démarrage]],"jj/mm/aaaa")&" "&TEXT(Tableau1[[#This Row],[Heure démarrage]],"hh:mm"),1),"") -> 0 | H62: =IF(Tableau1[[#This Row],[Délais de prévenance]]<=TIMEVALUE("19:59:59"),"Non respecté","Respecté") -> Non respecté | I62: =IF(AND(Tableau1[[#This Row],[Délais de prévenance]]<TIMEVALUE("19:59:59"),Tableau1[[#This Row],[Délais de prévenance]]>=TIMEVALUE("10:00")),"1 : ]20h-10h]",IF(AND(Tableau1[[#This Row],[Délais de prévenance]]<TIMEVALUE("10:00"),Tableau1[[#This Row],[Délais de prévenance]]>=TIMEVALUE("5:00")),"2 : ]10h-05h]",IF(AND(Tableau1[[#This Row],[Délais de prévenance]]<TIMEVALUE("5:00"),Tableau1[[#This Row],[Délais de prévenance]]>=TIMEVALUE("2:00")),"3 : ]05h-02h]",IF(Tableau1[[#This Row],[Délais de prévenance]]<TIMEVALUE("2:00"),"4 : ]02h-00h]",0)))) -> 4 : ]02h-00h] | J62: Conforme | K62: Conforme | M62: Non | N62: Conforme | P62: 1 | R62: Démarré
A63: UAP FS | B63: ENTREPRISE 4 | C63: 45048 | D63: 0.33680556 | E63: 45049 | F63: 0.33333333 | G63: =IFERROR(NETWORKDAYS.INTL(TEXT(Tableau1[[#This Row],[Date réception]],"jj/mm/aaaa")&" "&TEXT(Tableau1[[#This Row],[Heure réception]],"hh:mm"),TEXT(Tableau1[[#This Row],[Date démarrage]],"jj/mm/aaaa")&" "&TEXT(Tableau1[[#This Row],[Heure démarrage]],"hh:mm"),1,JoursFériés!$B$1:$B$12)-1-MOD(TEXT(Tableau1[[#This Row],[Date réception]],"jj/mm/aaaa")&" "&TEXT(Tableau1[[#This Row],[Heure réception]],"hh:mm"),1)+MOD(TEXT(Tableau1[[#This Row],[Date démarrage]],"jj/mm/aaaa")&" "&TEXT(Tableau1[[#This Row],[Heure démarrage]],"hh:mm"),1),"") -> 0.99652778 | H63: =IF(Tableau1[[#This Row],[Délais de prévenance]]<=TIMEVALUE("19:59:59"),"Non respecté","Respecté") -> Respecté | I63: =IF(AND(Tableau1[[#This Row],[Délais de prévenance]]<TIMEVALUE("19:59:59"),Tableau1[[#This Row],[Délais de prévenance]]>=TIMEVALUE("10:00")),"1 : ]20h-10h]",IF(AND(Tableau1[[#This Row],[Délais de prévenance]]<TIMEVALUE("10:00"),Tableau1[[#This Row],[Délais de prévenance]]>=TIMEVALUE("5:00")),"2 : ]10h-05h]",IF(AND(Tableau1[[#This Row],[Délais de prévenance]]<TIMEVALUE("5:00"),Tableau1[[#This Row],[Délais de prévenance]]>=TIMEVALUE("2:00")),"3 : ]05h-02h]",IF(Tableau1[[#This Row],[Délais de prévenance]]<TIMEVALUE("2:00"),"4 : ]02h-00h]",0)))) -> 0 | J63: Conforme | K63: Conforme | M63: Oui | N63: Sans objet | P63: 0 | R63: Annulé par la Production
A64: UAP FS | B64: ENTREPRISE 4 | C64: 45044 | D64: 0.87638889 | E64: 45048 | F64: 0.33333333 | G64: =IFERROR(NETWORKDAYS.INTL(TEXT(Tableau1[[#This Row],[Date réception]],"jj/mm/aaaa")&" "&TEXT(Tableau1[[#This Row],[Heure réception]],"hh:mm"),TEXT(Tableau1[[#This Row],[Date démarrage]],"jj/mm/aaaa")&" "&TEXT(Tableau1[[#This Row],[Heure démarrage]],"hh:mm"),1,JoursFériés!$B$1:$B$12)-1-MOD(TEXT(Tableau1[[#This Row],[Date réception]],"jj/mm/aaaa")&" "&TEXT(Tableau1[[#This Row],[Heure réception]],"hh:mm"),1)+MOD(TEXT(Tableau1[[#This Row],[Date démarrage]],"jj/mm/aaaa")&" "&TEXT(Tableau1[[#This Row],[Heure démarrage]],"hh:mm"),1),"") -> 0.45694444 | H64: =IF(Tableau1[[#This Row],[Délais de prévenance]]<=TIMEVALUE("19:59:59"),"Non respecté","Respecté") -> Non respecté | I64: =IF(AND(Tableau1[[#This Row],[Délais de prévenance]]<TIMEVALUE("19:59:59"),Tableau1[[#This Row],[Délais de prévenance]]>=TIMEVALUE("10:00")),"1 : ]20h-10h]",IF(AND(Tableau1[[#This Row],[Délais de prévenance]]<TIMEVALUE("10:00"),Tableau1[[#This Row],[Délais de prévenance]]>=TIMEVALUE("5:00")),"2 : ]10h-05h]",IF(AND(Tableau1[[#This Row],[Délais de prévenance]]<TIMEVALUE("5:00"),Tableau1[[#This Row],[Délais de prévenance]]>=TIMEVALUE("2:00")),"3 : ]05h-02h]",IF(Tableau1[[#This Row],[Délais de prévenance]]<TIMEVALUE("2:00"),"4 : ]02h-00h]",0)))) -> 1 : ]20h-10h] | J64: Conforme | K64: Conforme | M64: Oui | N64: Sans objet | P64: 0 | R64: Annulé par la Production
A65: UAP FS | B65: ENTREPRISE 1 | C65: 45048 | D65: 0.28125 | E65: 45048 | F65: 0.375 | G65: =IFERROR(NETWORKDAYS.INTL(TEXT(Tableau1[[#This Row],[Date réception]],"jj/mm/aaaa")&" "&TEXT(Tableau1[[#This Row],[Heure réception]],"hh:mm"),TEXT(Tableau1[[#This Row],[Date démarrage]],"jj/mm/aaaa")&" "&TEXT(Tableau1[[#This Row],[Heure démarrage]],"hh:mm"),1,JoursFériés!$B$1:$B$12)-1-MOD(TEXT(Tableau1[[#This Row],[Date réception]],"jj/mm/aaaa")&" "&TEXT(Tableau1[[#This Row],[Heure réception]],"hh:mm"),1)+MOD(TEXT(Tableau1[[#This Row],[Date démarrage]],"jj/mm/aaaa")&" "&TEXT(Tableau1[[#This Row],[Heure démarrage]],"hh:mm"),1),"") -> 0.09375 | H65: =IF(Tableau1[[#This Row],[Délais de prévenance]]<=TIMEVALUE("19:59:59"),"Non respecté","Respecté") -> Non respecté | I65: =IF(AND(Tableau1[[#This Row],[Délais de prévenance]]<TIMEVALUE("19:59:59"),Tableau1[[#This Row],[Délais de prévenance]]>=TIMEVALUE("10:00")),"1 : ]20h-10h]",IF(AND(Tableau1[[#This Row],[Délais de prévenance]]<TIMEVALUE("10:00"),Tableau1[[#This Row],[Délais de prévenance]]>=TIMEVALUE("5:00")),"2 : ]10h-05h]",IF(AND(Tableau1[[#This Row],[Délais de prévenance]]<TIMEVALUE("5:00"),Tableau1[[#This Row],[Délais de prévenance]]>=TIMEVALUE("2:00")),"3 : ]05h-02h]",IF(Tableau1[[#This Row],[Délais de prévenance]]<TIMEVALUE("2:00"),"4 : ]02h-00h]",0)))) -> 3 : ]05h-02h] | J65: Conforme | K65: Conforme | M65: Non | N65: Conforme | P65: 1 | R65: Démarré
A66: UAP FS | B66: ENTREPRISE 1 | C66: 45049 | D66: 0.28125 | E66: 45049 | F66: 0.28125 | G66: =IFERROR(NETWORKDAYS.INTL(TEXT(Tableau1[[#This Row],[Date réception]],"jj/mm/aaaa")&" "&TEXT(Tableau1[[#This Row],[Heure réception]],"hh:mm"),TEXT(Tableau1[[#This Row],[Date démarrage]],"jj/mm/aaaa")&" "&TEXT(Tableau1[[#This Row],[Heure démarrage]],"hh:mm"),1,JoursFériés!$B$1:$B$12)-1-MOD(TEXT(Tableau1[[#This Row],[Date réception]],"jj/mm/aaaa")&" "&TEXT(Tableau1[[#This Row],[Heure réception]],"hh:mm"),1)+MOD(TEXT(Tableau1[[#This Row],[Date démarrage]],"jj/mm/aaaa")&" "&TEXT(Tableau1[[#This Row],[Heure démarrage]],"hh:mm"),1),"") -> 0 | H66: =IF(Tableau1[[#This Row],[Délais de prévenance]]<=TIMEVALUE("19:59:59"),"Non respecté","Respecté") -> Non respecté | I66: =IF(AND(Tableau1[[#This Row],[Délais de prévenance]]<TIMEVALUE("19:59:59"),Tableau1[[#This Row],[Délais de prévenance]]>=TIMEVALUE("10:00")),"1 : ]20h-10h]",IF(AND(Tableau1[[#This Row],[Délais de prévenance]]<TIMEVALUE("10:00"),Tableau1[[#This Row],[Délais de prévenance]]>=TIMEVALUE("5:00")),"2 : ]10h-05h]",IF(AND(Tableau1[[#This Row],[Délais de prévenance]]<TIMEVALUE("5:00"),Tableau1[[#This Row],[Délais de prévenance]]>=TIMEVALUE("2:00")),"3 : ]05h-02h]",IF(Tableau1[[#This Row],[Délais de prévenance]]<TIMEVALUE("2:00"),"4 : ]02h-00h]",0)))) -> 4 : ]02h-00h] | J66: Conforme | K66: Conforme | M66: Non | N66: Conforme | P66: 1 | R66: Démarré
A67: UAP FS | B67: ENTREPRISE 4 | C67: 45048 | D67: 0.67430556 | E67: 45049 | F67: 0.25 | G67: =IFERROR(NETWORKDAYS.INTL(TEXT(Tableau1[[#This Row],[Date réception]],"jj/mm/aaaa")&" "&TEXT(Tableau1[[#This Row],[Heure réception]],"hh:mm"),TEXT(Tableau1[[#This Row],[Date démarrage]],"jj/mm/aaaa")&" "&TEXT(Tableau1[[#This Row],[Heure démarrage]],"hh:mm"),1,JoursFériés!$B$1:$B$12)-1-MOD(TEXT(Tableau1[[#This Row],[Date réception]],"jj/mm/aaaa")&" "&TEXT(Tableau1[[#This Row],[Heure réception]],"hh:mm"),1)+MOD(TEXT(Tableau1[[#This Row],[Date démarrage]],"jj/mm/aaaa")&" "&TEXT(Tableau1[[#This Row],[Heure démarrage]],"hh:mm"),1),"") -> 0.57569444 | H67: =IF(Tableau1[[#This Row],[Délais de prévenance]]<=TIMEVALUE("19:59:59"),"Non respecté","Respecté") -> Non respecté | I67: =IF(AND(Tableau1[[#This Row],[Délais de prévenance]]<TIMEVALUE("19:59:59"),Tableau1[[#This Row],[Délais de prévenance]]>=TIMEVALUE("10:00")),"1 : ]20h-10h]",IF(AND(Tableau1[[#This Row],[Délais de prévenance]]<TIMEVALUE("10:00"),Tableau1[[#This Row],[Délais de prévenance]]>=TIMEVALUE("5:00")),"2 : ]10h-05h]",IF(AND(Tableau1[[#This Row],[Délais de prévenance]]<TIMEVALUE("5:00"),Tableau1[[#This Row],[Délais de prévenance]]>=TIMEVALUE("2:00")),"3 : ]05h-02h]",IF(Tableau1[[#This Row],[Délais de prévenance]]<TIMEVALUE("2:00"),"4 : ]02h-00h]",0)))) -> 1 : ]20h-10h] | J67: Conforme | K67: Conforme | M67: Non | N67: Non-conforme | O67: Plan de calage manquant | P67: 2 | Q67: Profil de joint NC | R67: Démarré
A68: UAP FC | B68: ENTREPRISE 1 | C68: 45049 | D68: 0.43263889 | E68: 45050 | F68: 0.25 | G68: =IFERROR(NETWORKDAYS.INTL(TEXT(Tableau1[[#This Row],[Date réception]],"jj/mm/aaaa")&" "&TEXT(Tableau1[[#This Row],[Heure réception]],"hh:mm"),TEXT(Tableau1[[#This Row],[Date démarrage]],"jj/mm/aaaa")&" "&TEXT(Tableau1[[#This Row],[Heure démarrage]],"hh:mm"),1,JoursFériés!$B$1:$B$12)-1-MOD(TEXT(Tableau1[[#This Row],[Date réception]],"jj/mm/aaaa")&" "&TEXT(Tableau1[[#This Row],[Heure réception]],"hh:mm"),1)+MOD(TEXT(Tableau1[[#This Row],[Date démarrage]],"jj/mm/aaaa")&" "&TEXT(Tableau1[[#This Row],[Heure démarrage]],"hh:mm"),1),"") -> 0.81736111 | H68: =IF(Tableau1[[#This Row],[Délais de prévenance]]<=TIMEVALUE("19:59:59"),"Non respecté","Respecté") -> Non respecté | I68: =IF(AND(Tableau1[[#This Row],[Délais de prévenance]]<TIMEVALUE("19:59:59"),Tableau1[[#This Row],[Délais de prévenance]]>=TIMEVALUE("10:00")),"1 : ]20h-10h]",IF(AND(Tableau1[[#This Row],[Délais de prévenance]]<TIMEVALUE("10:00"),Tableau1[[#This Row],[Délais de prévenance]]>=TIMEVALUE("5:00")),"2 : ]10h-05h]",IF(AND(Tableau1[[#This Row],[Délais de prévenance]]<TIMEVALUE("5:00"),Tableau1[[#This Row],[Délais de prévenance]]>=TIMEVALUE("2:00")),"3 : ]05h-02h]",IF(Tableau1[[#This Row],[Délais de prévenance]]<TIMEVALUE("2:00"),"4 : ]02h-00h]",0)))) -> 1 : ]20h-10h] | J68: Conforme | K68: Conforme | M68: Non | N68: Non-conforme | O68: Montage du joint non renseigné | P68: 1 | R68: Démarré
G69: =IFERROR(NETWORKDAYS.INTL(TEXT(Tableau1[[#This Row],[Date réception]],"jj/mm/aaaa")&" "&TEXT(Tableau1[[#This Row],[Heure réception]],"hh:mm"),TEXT(Tableau1[[#This Row],[Date démarrage]],"jj/mm/aaaa")&" "&TEXT(Tableau1[[#This Row],[Heure démarrage]],"hh:mm"),1,JoursFériés!$B$1:$B$12)-1-MOD(TEXT(Tableau1[[#This Row],[Date réception]],"jj/mm/aaaa")&" "&TEXT(Tableau1[[#This Row],[Heure réception]],"hh:mm"),1)+MOD(TEXT(Tableau1[[#This Row],[Date démarrage]],"jj/mm/aaaa")&" "&TEXT(Tableau1[[#This Row],[Heure démarrage]],"hh:mm"),1),"")
G70: =IFERROR(NETWORKDAYS.INTL(TEXT(Tableau1[[#This Row],[Date réception]],"jj/mm/aaaa")&" "&TEXT(Tableau1[[#This Row],[Heure réception]],"hh:mm"),TEXT(Tableau1[[#This Row],[Date démarrage]],"jj/mm/aaaa")&" "&TEXT(Tableau1[[#This Row],[Heure démarrage]],"hh:mm"),1,JoursFériés!$B$1:$B$12)-1-MOD(TEXT(Tableau1[[#This Row],[Date réception]],"jj/mm/aaaa")&" "&TEXT(Tableau1[[#This Row],[Heure réception]],"hh:mm"),1)+MOD(TEXT(Tableau1[[#This Row],[Date démarrage]],"jj/mm/aaaa")&" "&TEXT(Tableau1[[#This Row],[Heure démarrage]],"hh:mm"),1),"")
G71: =IFERROR(NETWORKDAYS.INTL(TEXT(Tableau1[[#This Row],[Date réception]],"jj/mm/aaaa")&" "&TEXT(Tableau1[[#This Row],[Heure réception]],"hh:mm"),TEXT(Tableau1[[#This Row],[Date démarrage]],"jj/mm/aaaa")&" "&TEXT(Tableau1[[#This Row],[Heure démarrage]],"hh:mm"),1,JoursFériés!$B$1:$B$12)-1-MOD(TEXT(Tableau1[[#This Row],[Date réception]],"jj/mm/aaaa")&" "&TEXT(Tableau1[[#This Row],[Heure réception]],"hh:mm"),1)+MOD(TEXT(Tableau1[[#This Row],[Date démarrage]],"jj/mm/aaaa")&" "&TEXT(Tableau1[[#This Row],[Heure démarrage]],"hh:mm"),1),"")
G72: =IFERROR(NETWORKDAYS.INTL(TEXT(Tableau1[[#This Row],[Date réception]],"jj/mm/aaaa")&" "&TEXT(Tableau1[[#This Row],[Heure réception]],"hh:mm"),TEXT(Tableau1[[#This Row],[Date démarrage]],"jj/mm/aaaa")&" "&TEXT(Tableau1[[#This Row],[Heure démarrage]],"hh:mm"),1,JoursFériés!$B$1:$B$12)-1-MOD(TEXT(Tableau1[[#This Row],[Date réception]],"jj/mm/aaaa")&" "&TEXT(Tableau1[[#This Row],[Heure réception]],"hh:mm"),1)+MOD(TEXT(Tableau1[[#This Row],[Date démarrage]],"jj/mm/aaaa")&" "&TEXT(Tableau1[[#This Row],[Heure démarrage]],"hh:mm"),1),"")
G73: =IFERROR(NETWORKDAYS.INTL(TEXT(Tableau1[[#This Row],[Date réception]],"jj/mm/aaaa")&" "&TEXT(Tableau1[[#This Row],[Heure réception]],"hh:mm"),TEXT(Tableau1[[#This Row],[Date démarrage]],"jj/mm/aaaa")&" "&TEXT(Tableau1[[#This Row],[Heure démarrage]],"hh:mm"),1,JoursFériés!$B$1:$B$12)-1-MOD(TEXT(Tableau1[[#This Row],[Date réception]],"jj/mm/aaaa")&" "&TEXT(Tableau1[[#This Row],[Heure réception]],"hh:mm"),1)+MOD(TEXT(Tableau1[[#This Row],[Date démarrage]],"jj/mm/aaaa")&" "&TEXT(Tableau1[[#This Row],[Heure démarrage]],"hh:mm"),1),"")
G74: =IFERROR(NETWORKDAYS.INTL(TEXT(Tableau1[[#This Row],[Date réception]],"jj/mm/aaaa")&" "&TEXT(Tableau1[[#This Row],[Heure réception]],"hh:mm"),TEXT(Tableau1[[#This Row],[Date démarrage]],"jj/mm/aaaa")&" "&TEXT(Tableau1[[#This Row],[Heure démarrage]],"hh:mm"),1,JoursFériés!$B$1:$B$12)-1-MOD(TEXT(Tableau1[[#This Row],[Date réception]],"jj/mm/aaaa")&" "&TEXT(Tableau1[[#This Row],[Heure réception]],"hh:mm"),1)+MOD(TEXT(Tableau1[[#This Row],[Date démarrage]],"jj/mm/aaaa")&" "&TEXT(Tableau1[[#This Row],[Heure démarrage]],"hh:mm"),1),"")
G75: =IFERROR(NETWORKDAYS.INTL(TEXT(Tableau1[[#This Row],[Date réception]],"jj/mm/aaaa")&" "&TEXT(Tableau1[[#This Row],[Heure réception]],"hh:mm"),TEXT(Tableau1[[#This Row],[Date démarrage]],"jj/mm/aaaa")&" "&TEXT(Tableau1[[#This Row],[Heure démarrage]],"hh:mm"),1,JoursFériés!$B$1:$B$12)-1-MOD(TEXT(Tableau1[[#This Row],[Date réception]],"jj/mm/aaaa")&" "&TEXT(Tableau1[[#This Row],[Heure réception]],"hh:mm"),1)+MOD(TEXT(Tableau1[[#This Row],[Date démarrage]],"jj/mm/aaaa")&" "&TEXT(Tableau1[[#This Row],[Heure démarrage]],"hh:mm"),1),"")
G76: =IFERROR(NETWORKDAYS.INTL(TEXT(Tableau1[[#This Row],[Date réception]],"jj/mm/aaaa")&" "&TEXT(Tableau1[[#This Row],[Heure réception]],"hh:mm"),TEXT(Tableau1[[#This Row],[Date démarrage]],"jj/mm/aaaa")&" "&TEXT(Tableau1[[#This Row],[Heure démarrage]],"hh:mm"),1,JoursFériés!$B$1:$B$12)-1-MOD(TEXT(Tableau1[[#This Row],[Date réception]],"jj/mm/aaaa")&" "&TEXT(Tableau1[[#This Row],[Heure réception]],"hh:mm"),1)+MOD(TEXT(Tableau1[[#This Row],[Date démarrage]],"jj/mm/aaaa")&" "&TEXT(Tableau1[[#This Row],[Heure démarrage]],"hh:mm"),1),"")
G77: =IFERROR(NETWORKDAYS.INTL(TEXT(Tableau1[[#This Row],[Date réception]],"jj/mm/aaaa")&" "&TEXT(Tableau1[[#This Row],[Heure réception]],"hh:mm"),TEXT(Tableau1[[#This Row],[Date démarrage]],"jj/mm/aaaa")&" "&TEXT(Tableau1[[#This Row],[Heure démarrage]],"hh:mm"),1,JoursFériés!$B$1:$B$12)-1-MOD(TEXT(Tableau1[[#This Row],[Date réception]],"jj/mm/aaaa")&" "&TEXT(Tableau1[[#This Row],[Heure réception]],"hh:mm"),1)+MOD(TEXT(Tableau1[[#This Row],[Date démarrage]],"jj/mm/aaaa")&" "&TEXT(Tableau1[[#This Row],[Heure démarrage]],"hh:mm"),1),"")
G78: =IFERROR(NETWORKDAYS.INTL(TEXT(Tableau1[[#This Row],[Date réception]],"jj/mm/aaaa")&" "&TEXT(Tableau1[[#This Row],[Heure réception]],"hh:mm"),TEXT(Tableau1[[#This Row],[Date démarrage]],"jj/mm/aaaa")&" "&TEXT(Tableau1[[#This Row],[Heure démarrage]],"hh:mm"),1,JoursFériés!$B$1:$B$12)-1-MOD(TEXT(Tableau1[[#This Row],[Date réception]],"jj/mm/aaaa")&" "&TEXT(Tableau1[[#This Row],[Heure réception]],"hh:mm"),1)+MOD(TEXT(Tableau1[[#This Row],[Date démarrage]],"jj/mm/aaaa")&" "&TEXT(Tableau1[[#This Row],[Heure démarrage]],"hh:mm"),1),"")
G79: =IFERROR(NETWORKDAYS.INTL(TEXT(Tableau1[[#This Row],[Date réception]],"jj/mm/aaaa")&" "&TEXT(Tableau1[[#This Row],[Heure réception]],"hh:mm"),TEXT(Tableau1[[#This Row],[Date démarrage]],"jj/mm/aaaa")&" "&TEXT(Tableau1[[#This Row],[Heure démarrage]],"hh:mm"),1,JoursFériés!$B$1:$B$12)-1-MOD(TEXT(Tableau1[[#This Row],[Date réception]],"jj/mm/aaaa")&" "&TEXT(Tableau1[[#This Row],[Heure réception]],"hh:mm"),1)+MOD(TEXT(Tableau1[[#This Row],[Date démarrage]],"jj/mm/aaaa")&" "&TEXT(Tableau1[[#This Row],[Heure démarrage]],"hh:mm"),1),"")
G80: =IFERROR(NETWORKDAYS.INTL(TEXT(Tableau1[[#This Row],[Date réception]],"jj/mm/aaaa")&" "&TEXT(Tableau1[[#This Row],[Heure réception]],"hh:mm"),TEXT(Tableau1[[#This Row],[Date démarrage]],"jj/mm/aaaa")&" "&TEXT(Tableau1[[#This Row],[Heure démarrage]],"hh:mm"),1,JoursFériés!$B$1:$B$12)-1-MOD(TEXT(Tableau1[[#This Row],[Date réception]],"jj/mm/aaaa")&" "&TEXT(Tableau1[[#This Row],[Heure réception]],"hh:mm"),1)+MOD(TEXT(Tableau1[[#This Row],[Date démarrage]],"jj/mm/aaaa")&" "&TEXT(Tableau1[[#This Row],[Heure démarrage]],"hh:mm"),1),"")
... G293: =IFERROR(NETWORKDAYS.INTL(TEXT(Tableau1[[#This Row],[Date réception]],"jj/mm/aaaa")&" "&TEXT(Tableau1[[#This Row],[Heure réception]],"hh:mm"),TEXT(Tableau1[[#This Row],[Date démarrage]],"jj/mm/aaaa")&" "&TEXT(Tableau1[[#This Row],[Heure démarrage]],"hh:mm"),1,JoursFériés!$B$1:$B$12)-1-MOD(TEXT(Tableau1[[#This Row],[Date réception]],"jj/mm/aaaa")&" "&TEXT(Tableau1[[#This Row],[Heure réception]],"hh:mm"),1)+MOD(TEXT(Tableau1[[#This Row],[Date démarrage]],"jj/mm/aaaa")&" "&TEXT(Tableau1[[#This Row],[Heure démarrage]],"hh:mm"),1),"")

Sheet TCD
A4: Nombre de Prévenance | B4: Étiquettes de colonnes
A5: Étiquettes de lignes | B5: Non respecté | C5: Respecté | D5: Total général
A6: avr | B6: 0.76923077 | C6: 0.23076923 | D6: 1
A7: mai | B7: 0.8 | C7: 0.2 | D7: 1
A29: Nombre de Criticité du retard | B29: Étiquettes de colonnes
A30: Étiquettes de lignes | B30: 1 : ]20h-10h] | C30: 2 : ]10h-05h] | D30: 3 : ]05h-02h] | E30: 4 : ]02h-00h]
A31: avr | B31: 0.475 | C31: 0.125 | D31: 0.075 | E31: 0.325
A32: mai | B32: 0.25 | C32: 0.16666667 | D32: 0.16666667 | E32: 0.41666667
A44: Nombre de Démarrage soudage | B44: Étiquettes de colonnes
A45: Étiquettes de lignes | B45: Démarré | C45: Annulé par la Production | D45: Refusé par le DCI
A46: avr | B46: 0.78846154 | C46: 0.17307692 | D46: 0.038461538
A47: mai | B47: 0.86666667 | C47: 0.13333333 | D47: 0
A48: Total général | B48: 0.80597015 | C48: 0.1641791 | D48: 0.029850746
A63: Étiquettes de lignes | B63: Nombre de Cause refus par le DCI
A64: Absence de billet de risque | B64: 0.5
A65: Conditions générales d'environnement NC | B65: 0.5
A66: Total général | B66: 1
A82: Nombre de Nombre d'intervention | B82: Étiquettes de colonnes
A83: Étiquettes de lignes | B83: 1 | C83: 2 | D83: Total général
A84: avr | B84: 40 | C84: 3 | D84: 43
A85: mai | B85: 11 | C85: 2 | D85: 13
A100: Étiquettes de lignes | B100: Nombre de Raison si nbre d'intervetion > 1
A101: Conditions générales d'environnement NC | B101: 0.2
A102: Profil de joint NC | B102: 0.2
A103: Propreté du joint NC | B103: 0.2
A104: T°C de préchauffage NC | B104: 0.2
A105: Soudeurs non présents | B105: 0.2
A119: Nombre de Complétude | B119: Étiquettes de colonnes
A120: Étiquettes de lignes | B120: Saisie erronnée | C120: Saisie manquante | D120: (vide) | E120: Total général
A121: Conforme | D121: 56 | E121: 56
A122: Non-conforme | B122: 8 | C122: 3 | E122: 11
A123: Total général | B123: 8 | C123: 3 | D123: 56 | E123: 67
A134: Étiquettes de lignes | B134: Nombre de Prévenance
A135: avr | B135: 52
A136: mai | B136: 15
A137: Total général | B137: 67 | D137: Nbre de convocations reçu
A142: Nombre de Prévenance | B142: Étiquettes de colonnes
A143: Étiquettes de lignes | B143: Non respecté | C143: Respecté | D143: Total général
A144: avr | B144: 0.76923077 | C144: 0.23076923 | D144: 1
A145: mai | B145: 0.8 | C145: 0.2 | D145: 1
A146: Total général | B146: 0.7761194 | C146: 0.2238806 | D146: 1 | F146: % convocations hors délais
A154: Nombre de Complétude | B154: Étiquettes de colonnes
A155: Étiquettes de lignes | B155: Conforme | C155: Non-conforme | D155: Total général
A156: avr | B156: 0.80769231 | C156: 0.19230769 | D156: 1
A157: mai | B157: 0.93333333 | C157: 0.066666667 | D157: 1
A158: Total général | B158: 0.8358209 | C158: 0.1641791 | D158: 1 | F158: % convocations conformes
A168: Nombre de Démarrage soudage | B168: Étiquettes de colonnes
A169: Étiquettes de lignes | B169: Annulé par la Production | C169: Démarré | D169: Refusé par le DCI | E169: Total général
A170: avr | B170: 0.17307692 | C170: 0.78846154 | D170: 0.038461538 | E170: 1
A171: mai | B171: 0.13333333 | C171: 0.86666667 | D171: 0 | E171: 1
A172: Total général | B172: 0.1641791 | C172: 0.80597015 | D172: 0.029850746 | E172: 1 | G172: % de convocations démarrées
G173: % de démarage refusé
A181: Moyenne de Nombre d'intervention | B181: Étiquettes de colonnes
A182: Étiquettes de lignes | B182: 1 | C182: 2 | D182: Total général
A183: avr | B183: 1 | C183: 2 | D183: 1.0697674
A184: mai | B184: 1 | C184: 2 | D184: 1.1538462
A185: Total général | B185: 1 | C185: 2 | D185: 1.0892857 | F185: Nbre moyen d'intervention
A196: Nombre de Complétude2 | B196: Étiquettes de colonnes
A197: Étiquettes de lignes | B197: Conforme | C197: Saisie erronnée | D197: Saisie manquante | E197: Total général
A198: avr | B198: 0.80769231 | C198: 0.15384615 | D198: 0.038461538 | E198: 1
A199: mai | B199: 0.93333333 | C199: 0 | D199: 0.066666667 | E199: 1
A200: Total général | B200: 0.8358209 | C200: 0.11940299 | D200: 0.044776119 | E200: 1

Sheet TDB

Sheet RESSOURCES BDD
A1: UAP | B1: ENTREPRISE | C1: Complétude | D1: TYPOLOGIE | E1: Annulation avant intervention | F1: Démarrage | G1: LISTECOMPLETUDE | H1: Raison NC phases précédent le démarrage | I1: Nombre d'intervention
A2: UAP FS | B2: ENTREPRISE 1 | C2: Conforme | D2: Saisie manquante | E2: Oui | F2: Démarré | G2: Conforme | I2: 0
A3: UAP FSC | B3: ENTREPRISE 2 | C3: Non-conforme | D3: Saisie erronnée | E3: Non | F3: Refusé par le DCI | G3: Saisie erronnée | I3: 1
A4: UAP FC | B4: ENTREPRISE 3 | C4: Sans objet | F4: Annulé par la Production | G4: Saisie manquante | I4: 2
B5: ENTREPRISE 4 | I5: 3
B6: ENTREPRISE 5 | I6: 4
I7: 5

Sheet JoursFériés
A1: =YEAR(TODAY()) -> 2023 | B1: =DATE(A1,1,1) -> 44927 | C1: Jour de l'an
B2: =FLOOR(DAY(MINUTE(A1/38)/2+56)&"/5/"&A1,7)-34 -> 45025 | C2: Pâques
B3: =B2+1 -> 45026 | C3: Lundi de Pâques
B4: =DATE(A1,5,1) -> 45047 | C4: Fête du travail
B5: =B2+39 -> 45064 | C5: Ascension
B6: =B2+49 -> 45074 | C6: Pentecôte
B7: =B2+50 -> 45075 | C7: Lundi de Pentecôte
B8: =DATE(A1,7,14) -> 45121 | C8: Fête nationale
B9: =DATE(A1,8,15) -> 45153 | C9: Assomption
B10: =DATE(A1,11,1) -> 45231 | C10: Toussaint
B11: =DATE(A1,11,11) -> 45241 | C11: Armistice 14/18
B12: =DATE(A1,12,25) -> 45285 | C12: Noël
