Workbook
Name ChronologieNative_Date_réception: #N/A
Name Segment_Entreprise: #N/A
Name Segment_UAP: #N/A
Name TYPO: 'RESSOURCES BDD'!$G$1:$G$3

Sheet BDD
A1: UAP | B1: Entreprise | C1: Date réception | D1: Heure réception | E1: Date démarrage | F1: Heure démarrage | G1: Délais de prévenance | H1: Prévenance | I1: Criticité du retard | J1: Complétude2 | K1: Complétude | L1: Raison | M1: Annulation avant intervention DCI | N1: Complétude et Conformité des activités précédant l'intervention du DCI | O1: Raison Si Non conforme | P1: Nombre d'intervention | Q1: Raison si nbre d'intervetion > 1 | R1: Démarrage soudage | S1: Cause refus par le DCI
A2: UAP FS | B2: ENTREPRISE 3 | C2: 45037 | D2: 0.59305556 | E2: 45040 | F2: 0.36805556 | G2: =IFERROR(NETWORKDAYS.INTL(TEXT(Tableau1[[#This Row],[Date réception]],"jj/mm/aaaa")&" "&TEXT(Tableau1[[#This Row],[Heure réception]],"hh:mm"),TEXT(Tableau1[[#This Row],[Date démarrage]],"jj/mm/aaaa")&" "&TEXT(Tableau1[[#This Row],[Heure démarrage]],"hh:mm"),1,JoursFériés!$B$1:$B$12)-1-MOD(TEXT(Tableau1[[#This Row],[Date réception]],"jj/mm/aaaa")&" "&TEXT(Tableau1[[#This Row],[Heure réception]],"hh:mm"),1)+MOD(TEXT(Tableau1[[#This Row],[Date démarrage]],"jj/mm/aaaa")&" "&TEXT(Tableau1[[#This Row],[Heure démarrage]],"hh:mm"),1),"") -> 0.775 | H2: =IF(Tableau1[[#This Row],[Délais de prévenance]]<=TIMEVALUE("19:59:59"),"Non respecté","Respecté") -> Non respecté | I2: =IF(AND(Tableau1[[#This Row],[Délais de prévenance]]<TIMEVALUE("19:59:59"),Tableau1[[#This Row],[Délais de prévenance]]>=TIMEVALUE("10:00")),"1 : ]20h-10h]",IF(AND(Tableau1[[#This Row],[Délais de prévenance]]<TIMEVALUE("10:00"),Tableau1[[#This Row],[Délais de prévenance]]>=TIMEVALUE("5:00")),"2 : ]10h-05h]",IF(AND(Tableau1[[#This Row],[Délais de prévenance]]<TIMEVALUE("5:00"),Tableau1[[#This Row],[Délais de prévenance]]>=TIMEVALUE("2:00")),"3 : ]05h-02h]",IF(Tableau1[[#This Row],[Délais de prévenance]]<TIMEVALUE("2:00"),"4 : ]02h-00h]",0)))) -> 1 : ]20h-10h] | J2: Conforme | K2: Conforme | M2: Non | N2: Conforme | P2: 1 | R2: Démarré
A3: UAP FS | B3: ENTREPRISE 4 | C3: 45037 | D3: 0.79166667 | E3: 45040 | F3: 0.26041667 | G3: =IFERROR(NETWORKDAYS.INTL(TEXT(Tableau1[[#This Row],[Date réception]],"jj/mm/aaaa")&" "&TEXT(Tableau1[[#This Row],[Heure réception]],"hh:mm"),TEXT(Tableau1[[#This Row],[Date démarrage]],"jj/mm/aaaa")&" "&TEXT(Tableau1[[#This Row],[Heure démarrage]],"hh:mm"),1,JoursFériés!$B$1:$B$12)-1-MOD(TEXT(Tableau1[[#This Row],[Date réception]],"jj/mm/aaaa")&" "&TEXT(Tableau1[[#This Row],[Heure réception]],"hh:mm"),1)+MOD(TEXT(Tableau1[[#This Row],[Date démarrage]],"jj/mm/aaaa")&" "&TEXT(Tableau1[[#This Row],[Heure démarrage]],"hh:mm"),1),"") -> 0.46875 | H3: =IF(Tableau1[[#This Row],[Délais de prévenance]]<=TIMEVALUE("19:59:59"),"Non respecté","Respecté") -> Non respecté | I3: =IF(AND(Tableau1[[#This Row],[Délais de prévenance]]<TIMEVALUE("19:59:59"),Tableau1[[#This Row],[Délais de prévenance]]>=TIMEVALUE("10:00")),"1 : ]20h-10h]",IF(AND(Tableau1[[#This Row],[Délais de prévenance]]<TIMEVALUE("10:00"),Tableau1[[#This Row],[Délais de prévenance]]>=TIMEVALUE("5:00")),"2 : ]10h-05h]",IF(AND(Tableau1[[#This Row],[Délais de prévenance]]<TIMEVALUE("5:00"),Tableau1[[#This Row],[Délais de prévenance]]>=TIMEVALUE("2:00")),"3 : ]05h-02h]",IF(Tableau1[[#This Row],[Délais de prévenance]]<TIMEVALUE("2:00"),"4 : ]02h-00h]",0)))) -> 1 : ]20h-10h] | J3: Saisie manquante | K3: Non-conforme | L3: Saisie manquante | M3: Non | N3: Conforme | P3: 2 | Q3: Conditions générales d'environnement NC | R3: Démarré
A4: UAP FSC | B4: ENTREPRISE 3 | C4: 45037 | D4: 0.47222222 | E4: 45040 | F4: 0.26041667 | G4: =IFERROR(NETWORKDAYS.INTL(TEXT(Tableau1[[#This Row],[Date réception]],"jj/mm/aaaa")&" "&TEXT(Tableau1[[#This Row],[Heure réception]],"hh:mm"),TEXT(Tableau1[[#This Row],[Date démarrage]],"jj/mm/aaaa")&" "&TEXT(Tableau1[[#This Row],[Heure démarrage]],"hh:mm"),1,JoursFériés!$B$1:$B$12)-1-MOD(TEXT(Tableau1[[#This Row],[Date réception]],"jj/mm/aaaa")&" "&TEXT(Tableau1[[#This Row],[Heure réception]],"hh:mm"),1)+MOD(TEXT(Tableau1[[#This Row],[Date démarrage]],"jj/mm/aaaa")&" "&TEXT(Tableau1[[#This Row],[Heure démarrage]],"hh:mm"),1),"") -> 0.78819444 | H4: =IF(Tableau1[[#This Row],[Délais de prévenance]]<=TIMEVALUE("19:59:59"),"Non respecté","Respecté") -> Non respecté | I4: =IF(AND(Tableau1[[#This Row],[Délais de prévenance]]<TIMEVALUE("19:59:59"),Tableau1[[#This Row],[Délais de prévenance]]>=TIMEVALUE("10:00")),"1 : ]20h-10h]",IF(AND(Tableau1[[#This Row],[Délais de prévenance]]<TIMEVALUE("10:00"),Tableau1[[#This Row],[Délais de prévenance]]>=TIMEVALUE("5:00")),"2 : ]10h-05h]",IF(AND(Tableau1[[#This Row],[Délais de prévenance]]<TIMEVALUE("5:00"),Tableau1[[#This Row],[Délais de prévenance]]>=TIMEVALUE("2:00")),"3 : ]05h-02h]",IF(Tableau1[[#This Row],[Délais de prévenance]]<TIMEVALUE("2:00"),"4 : ]02h-00h]",0)))) -> 1 : ]20h-10h] | J4: Saisie erronnée | K4: Non-conforme | L4: Saisie erronnée | M4: Non | N4: Conforme | P4: 1 | R4: Démarré
A5: UAP FSC | B5: ENTREPRISE 4 | C5: 45037 | D5: 0.97430556 | E5: 45040 | F5: 0.27083333 | G5: =IFERROR(NETWORKDAYS.INTL(TEXT(Tableau1[[#This Row],[Date réception]],"jj/mm/aaaa")&" "&TEXT(Tableau1[[#This Row],[Heure réception]],"hh:mm"),TEXT(Tableau1[[#This Row],[Date démarrage]],"jj/mm/aaaa")&" "&TEXT(Tableau1[[#This Row],[Heure démarrage]],"hh:mm"),1,JoursFériés!$B$1:$B$12)-1-MOD(TEXT(Tableau1[[#This Row],[Date réception]],"jj/mm/aaaa")&" "&TEXT(Tableau1[[#This Row],[Heure réception]],"hh:mm"),1)+MOD(TEXT(Tableau1[[#This Row],[Date démarrage]],"jj/mm/aaaa")&" "&TEXT(Tableau1[[#This Row],[Heure démarrage]],"hh:mm"),1),"") -> 0.29652778 | H5: =IF(Tableau1[[#This Row],[Délais de prévenance]]<=TIMEVALUE("19:59:59"),"Non respecté","Respecté") -> Non respecté | I5: =IF(AND(Tableau1[[#This Row],[Délais de prévenance]]<TIMEVALUE("19:59:59"),Tableau1[[#This Row],[Délais de prévenance]]>=TIMEVALUE("10:00")),"1 : ]20h-10h]",IF(AND(Tableau1[[#This Row],[Délais de prévenance]]<TIMEVALUE("10:00"),Tableau1[[#This Row],[Délais de prévenance]]>=TIMEVALUE("5:00")),"2 : ]10h-05h]",IF(AND(Tableau1[[#This Row],[Délais de prévenance]]<TIMEVALUE("5:00"),Tableau1[[#This Row],[Délais de prévenance]]>=TIMEVALUE("2:00")),"3 : ]05h-02h]",IF(Tableau1[[#This Row],[Délais de prévenance]]<TIMEVALUE("2:00"),"4 : ]02h-00h]",0)))) -> 2 : ]10h-05h] | J5: Conforme | K5: Conforme | M5: Oui | N5: Conforme | P5: 0 | R5: Annulé par la Production
A6: UAP FC | B6: ENTREPRISE 2 | C6: 45040 | D6: 0.27430556 | E6: 45040 | F6: 0.33333333 | G6: =IFERROR(NETWORKDAYS.INTL(TEXT(Tableau1[[#This Row],[Date réception]],"jj/mm/aaaa")&" "&TEXT(Tableau1[[#This Row],[Heure réception]],"hh:mm"),TEXT(Tableau1[[#This Row],[Date démarrage]],"jj/mm/aaaa")&" "&TEXT(Tableau1[[#This Row],[Heure démarrage]],"hh:mm"),1,JoursFériés!$B$1:$B$12)-1-MOD(TEXT(Tableau1[[#This Row],[Date réception]],"jj/mm/aaaa")&" "&TEXT(Tableau1[[#This Row],[Heure réception]],"hh:mm"),1)+MOD(TEXT(Tableau1[[#This Row],[Date démarrage]],"jj/mm/aaaa")&" "&TEXT(Tableau1[[#This Row],[Heure démarrage]],"hh:mm"),1),"") -> 0.059027778 | H6: =IF(Tableau1[[#This Row],[Délais de prévenance]]<=TIMEVALUE("19:59:59"),"Non respecté","Respecté") -> Non respecté | I6: =IF(AND(Tableau1[[#This Row],[Délais de prévenance]]<TIMEVALUE("19:59:59"),Tableau1[[#This Row],[Délais de prévenance]]>=TIMEVALUE("10:00")),"1 : ]20h-10h]",IF(AND(Tableau1[[#This Row],[Délais de prévenance]]<TIMEVALUE("10:00"),Tableau1[[#This Row],[Délais de prévenance]]>=TIMEVALUE("5:00")),"2 : ]10h-05h]",IF(AND(Tableau1[[#This Row],[Délais de prévenance]]<TIMEVALUE("5:00"),Tableau1[[#This Row],[Délais de prévenance]]>=TIMEVALUE("2:00")),"3 : ]05h-02h]",IF(Tableau1[[#This Row],[Délais de prévenance]]<TIMEVALUE("2:00"),"4 : ]02h-00h]",0)))) -> 4 : ]02h-00h] | J6: Saisie erronnée | K6: Non-conforme | L6: Saisie erronnée | M6: Non | N6: Conforme | P6: 1 | R6: Refusé par le DCI | S6: Conditions générales d'environnement NC
A7: UAP FC | B7: ENTREPRISE 1 | C7: 45040 | D7: 0.33333333 | E7: 45040 | F7: 0.36458333 | G7: =IFERROR(NETWORKDAYS.INTL(TEXT(Tableau1[[#This Row],[Date réception]],"jj/mm/aaaa")&" "&TEXT(Tableau1[[#This Row],[Heure réception]],"hh:mm"),TEXT(Tableau1[[#This Row],[Date démarrage]],"jj/mm/aaaa")&" "&TEXT(Tableau1[[#This Row],[Heure démarrage]],"hh:mm"),1,JoursFériés!$B$1:$B$12)-1-MOD(TEXT(Tableau1[[#This Row],[Date réception]],"jj/mm/aaaa")&" "&TEXT(Tableau1[[#This Row],[Heure réception]],"hh:mm"),1)+MOD(TEXT(Tableau1[[#This Row],[Date démarrage]],"jj/mm/aaaa")&" "&TEXT(Tableau1[[#This Row],[Heure démarrage]],"hh:mm"),1),"") -> 0.03125 | H7: =IF(Tableau1[[#This Row],[Délais de prévenance]]<=TIMEVALUE("19:59:59"),"Non respecté","Respecté") -> Non respecté | I7: =IF(AND(Tableau1[[#This Row],[Délais de prévenance]]<TIMEVALUE("19:59:59"),Tableau1[[#This Row],[Délais de prévenance]]>=TIMEVALUE("10:00")),"1 : ]20h-10h]",IF(AND(Tableau1[[#This Row],[Délais de prévenance]]<TIMEVALUE("10:00"),Tableau1[[#This Row],[Délais de prévenance]]>=TIMEVALUE("5:00")),"2 : ]10h-05h]",IF(AND(Tableau1[[#This Row],[Délais de prévenance]]<TIMEVALUE("5:00"),Tableau1[[#This Row],[Délais de prévenance]]>=TIMEVALUE("2:00")),"3 : ]05h-02h]",IF(Tableau1[[#This Row],[Délais de prévenance]]<TIMEVALUE("2:00"),"4 : ]02h-00h]",0)))) -> 4 : ]02h-00h] | J7: Conforme | K7: Conforme | M7: Non | N7: Conforme | P7: 1 | R7: Démarré
A8: UAP FSC | B8: ENTREPRISE 4 | C8: 45040 | D8: 0.45138889 | E8: 45041 | F8: 0.27083333 | G8: =IFERROR(NETWORKDAYS.INTL(TEXT(Tableau1[[#This Row],[Date réception]],"jj/mm/aaaa")&" "&TEXT(Tableau1[[#This Row],[Heure réception]],"hh:mm"),TEXT(Tableau1[[#This Row],[Date démarrage]],"jj/mm/aaaa")&" "&TEXT(Tableau1[[#This Row],[Heure démarrage]],"hh:mm"),1,JoursFériés!$B$1:$B$12)-1-MOD(TEXT(Tableau1[[#This Row],[Date réception]],"jj/mm/aaaa")&" "&TEXT(Tableau1[[#This Row],[Heure réception]],"hh:mm"),1)+MOD(TEXT(Tableau1[[#This Row],[Date démarrage]],"jj/mm/aaaa")&" "&TEXT(Tableau1[[#This Row],[Heure démarrage]],"hh:mm"),1),"") -> 0.81944444 | H8: =IF(Tableau1[[#This Row],[Délais de prévenance]]<=TIMEVALUE("19:59:59"),"Non respecté","Respecté") -> Non respecté | I8: =IF(AND(Tableau1[[#This Row],[Délais de prévenance]]<TIMEVALUE("19:59:59"),Tableau1[[#This Row],[Délais de prévenance]]>=TIMEVALUE("10:00")),"1 : ]20h-10h]",IF(AND(Tableau1[[#This Row],[Délais de prévenance]]<TIMEVALUE("10:00"),Tableau1[[#This Row],[Délais de prévenance]]>=TIMEVALUE("5:00")),"2 : ]10h-05h]",IF(AND(Tableau1[[#This Row],[Délais de prévenance]]<TIMEVALUE("5:00"),Tableau1[[#This Row],[Délais de prévenance]]>=TIMEVALUE("2:00")),"3 : ]05h-02h]",IF(Tableau1[[#This Row],[Délais de prévenance]]<TIMEVALUE("2:00"),"4 : ]02h-00h]",0)))) -> 1 : ]20h-10h] | J8: Conforme | K8: Conforme | M8: Non | N8: Conforme | P8: 1 | R8: Démarré
A9: UAP FSC | B9: ENTREPRISE 4 | C9: 45040 | D9: 0.675 | E9: 45040 | F9: 0.89583333 | G9: =IFERROR(NETWORKDAYS.INTL(TEXT(Tableau1[[#This Row],[Date réception]],"jj/mm/aaaa")&" "&TEXT(Tableau1[[#This Row],[Heure réception]],"hh:mm"),TEXT(Tableau1[[#This Row],[Date démarrage]],"jj/mm/aaaa")&" "&TEXT(Tableau1[[#This Row],[Heure démarrage]],"hh:mm"),1,JoursFériés!$B$1:$B$12)-1-MOD(TEXT(Tableau1[[#This Row],[Date réception]],"jj/mm/aaaa")&" "&TEXT(Tableau1[[#This Row],[Heure réception]],"hh:mm"),1)+MOD(TEXT(Tableau1[[#This Row],[Date démarrage]],"jj/mm/aaaa")&" "&TEXT(Tableau1[[#This Row],[Heure démarrage]],"hh:mm"),1),"") -> 0.22083333 | H9: =IF(Tableau1[[#This Row],[Délais de prévenance]]<=TIMEVALUE("19:59:59"),"Non respecté","Respecté") -> Non respecté | I9: =IF(AND(Tableau1[[#This Row],[Délais de prévenance]]<TIMEVALUE("19:59:59"),Tableau1[[#This Row],[Délais de prévenance]]>=TIMEVALUE("10:00")),"1 : ]20h-10h]",IF(AND(Tableau1[[#This Row],[Délais de prévenance]]<TIMEVALUE("10:00"),Tableau1[[#This Row],[Délais de prévenance]]>=TIMEVALUE("5:00")),"2 : ]10h-05h]",IF(AND(Tableau1[[#This Row],[Délais de prévenance]]<TIMEVALUE("5:00"),Tableau1[[#This Row],[Délais de prévenance]]>=TIMEVALUE("2:00")),"3 : ]05h-02h]",IF(Tableau1[[#This Row],[Délais de prévenance]]<TIMEVALUE("2:00"),"4 : ]02h-00h]",0)))) -> 2 : ]10h-05h] | J9: Saisie erronnée | K9: Non-conforme | L9: Saisie erronnée | M9: Non | N9: Conforme | P9: 1 | R9: Démarré
A10: UAP FSC | B10: ENTREPRISE 4 | C10: 45040 | D10: 0.45138889 | E10: 45040 | F10: 0.88541667 | G10: =IFERROR(NETWORKDAYS.INTL(TEXT(Tableau1[[#This Row],[Date réception]],"jj/mm/aaaa")&" "&TEXT(Tableau1[[#This Row],[Heure réception]],"hh:mm"),TEXT(Tableau1[[#This Row],[Date démarrage]],"jj/mm/aaaa")&" "&TEXT(Tableau1[[#This Row],[Heure démarrage]],"hh:mm"),1,JoursFériés!$B$1:$B$12)-1-MOD(TEXT(Tableau1[[#This Row],[Date réception]],"jj/mm/aaaa")&" "&TEXT(Tableau1[[#This Row],[Heure réception]],"hh:mm"),1)+MOD(TEXT(Tableau1[[#This Row],[Date démarrage]],"jj/mm/aaaa")&" "&TEXT(Tableau1[[#This Row],[Heure démarrage]],"hh:mm"),1),"") -> 0.43402778 | H10: =IF(Tableau1[[#This Row],[Délais de prévenance]]<=TIMEVALUE("19:59:59"),"Non respecté","Respecté") -> Non respecté | I10: =IF(AND(Tableau1[[#This Row],[Délais de prévenance]]<TIMEVALUE("19:59:59"),Tableau1[[#This Row],[Délais de prévenance]]>=TIMEVALUE("10:00")),"1 : ]20h-10h]",IF(AND(Tableau1[[#This Row],[Délais de prévenance]]<TIMEVALUE("10:00"),Tableau1[[#This Row],[Délais de prévenance]]>=TIMEVALUE("5:00")),"2 : ]10h-05h]",IF(AND(Tableau1[[#This Row],[Délais de prévenance]]<TIMEVALUE("5:00"),Tableau1[[#This Row],[Délais de prévenance]]>=TIMEVALUE("2:00")),"3 : ]05h-02h]",IF(Tableau1[[#This Row],[Délais de prévenance]]<TIMEVALUE("2:00"),"4 : ]02h-00h]",0)))) -> 1 : ]20h-10h] | J10: Conforme | K10: Conforme | M10: Non | N10: Conforme | P10: 1 | R10: Démarré
A11: UAP FSC | B11: ENTREPRISE 4 | C11: 45040 | D11: 0.45138889 | E11: 45040 | F11: 0.88541667 | G11: =IFERROR(NETWORKDAYS.INTL(TEXT(Tableau1[[#This Row],[Date réception]],"jj/mm/aaaa")&" "&TEXT(Tableau1[[#This Row],[Heure réception]],"hh:mm"),TEXT(Tableau1[[#This Row],[Date démarrage]],"jj/mm/aaaa")&" "&TEXT(Tableau1[[#This Row],[Heure démarrage]],"hh:mm"),1,JoursFériés!$B$1:$B$12)-1-MOD(TEXT(Tableau1[[#This Row],[Date réception]],"jj/mm/aaaa")&" "&TEXT(Tableau1[[#This Row],[Heure réception]],"hh:mm"),1)+MOD(TEXT(Tableau1[[#This Row],[Date démarrage]],"jj/mm/aaaa")&" "&TEXT(Tableau1[[#This Row],[Heure démarrage]],"hh:mm"),1),"") -> 0.43402778 | H11: =IF(Tableau1[[#This Row],[Délais de prévenance]]<=TIMEVALUE("19:59:59"),"Non respecté","Respecté") -> Non respecté | I11: =IF(AND(Tableau1[[#This Row],[Délais de prévenance]]<TIMEVALUE("19:59:59"),Tableau1[[#This Row],[Délais de prévenance]]>=TIMEVALUE("10:00")),"1 : ]20h-10h]",IF(AND(Tableau1[[#This Row],[Délais de prévenance]]<TIMEVALUE("10:00"),Tableau1[[#This Row],[Délais de prévenance]]>=TIMEVALUE("5:00")),"2 : ]10h-05h]",IF(AND(Tableau1[[#This Row],[Délais de prévenance]]<TIMEVALUE("5:00"),Tableau1[[#This Row],[Délais de prévenance]]>=TIMEVALUE("2:00")),"3 : ]05h-02h]",IF(Tableau1[[#This Row],[Délais de prévenance]]<TIMEVALUE("2:00"),"4 : ]02h-00h]",0)))) -> 1 : ]20h-10h] | J11: Conforme | K11: Conforme | M11: Non | N11: Conforme | P11: 1 | R11: Démarré
A12: UAP FS | B12: ENTREPRISE 1 | C12: 45037 | D12: 0.54375 | E12: 45040 | F12: 0.79166667 | G12: =IFERROR(NETWORKDAYS.INTL(TEXT(Tableau1[[#This Row],[Date réception]],"jj/mm/aaaa")&" "&TEXT(Tableau1[[#This Row],[Heure réception]],"hh:mm"),TEXT(Tableau1[[#This Row],[Date démarrage]],"jj/mm/aaaa")&" "&TEXT(Tableau1[[#This Row],[Heure démarrage]],"hh:mm"),1,JoursFériés!$B$1:$B$12)-1-MOD(TEXT(Tableau1[[#This Row],[Date réception]],"jj/mm/aaaa")&" "&TEXT(Tableau1[[#This Row],[Heure réception]],"hh:mm"),1)+MOD(TEXT(Tableau1[[#This Row],[Date démarrage]],"jj/mm/aaaa")&" "&TEXT(Tableau1[[#This Row],[Heure démarrage]],"hh:mm"),1),"") -> 1.2479167 | H12: =IF(Tableau1[[#This Row],[Délais de prévenance]]<=TIMEVALUE("19:59:59"),"Non respecté","Respecté") -> Respecté | I12: =IF(AND(Tableau1[[#This Row],[Délais de prévenance]]<TIMEVALUE("19:59:59"),Tableau1[[#This Row],[Délais de prévenance]]>=TIMEVALUE("10:00")),"1 : ]20h-10h]",IF(AND(Tableau1[[#This Row],[Délais de prévenance]]<TIMEVALUE("10:00"),Tableau1[[#This Row],[Délais de prévenance]]>=TIMEVALUE("5:00")),"2 : ]10h-05h]",IF(AND(Tableau1[[#This Row],[Délais de prévenance]]<TIMEVALUE("5:00"),Tableau1[[#This Row],[Délais de prévenance]]>=TIMEVALUE("2:00")),"3 : ]05h-02h]",IF(Tableau1[[#This Row],[Délais de prévenance]]<TIMEVALUE("2:00"),"4 : ]02h-00h]",0)))) -> 0 | J12: Conforme | K12: Conforme | M12: Oui | N12: Sans objet | P12: 0 | R12: Annulé par la Production
A13: UAP FS | B13: ENTREPRISE 1 | C13: 45037 | D13: 0.54375 | E13: 45040 | F13: 0.375 | G13: =IFERROR(NETWORKDAYS.INTL(TEXT(Tableau1[[#This Row],[Date réception]],"jj/mm/aaaa")&" "&TEXT(Tableau1[[#This Row],[Heure réception]],"hh:mm"),TEXT(Tableau1[[#This Row],[Date démarrage]],"jj/mm/aaaa")&" "&TEXT(Tableau1[[#This Row],[Heure démarrage]],"hh:mm"),1,JoursFériés!$B$1:$B$12)-1-MOD(TEXT(Tableau1[[#This Row],[Date réception]],"jj/mm/aaaa")&" "&TEXT(Tableau1[[#This Row],[Heure réception]],"hh:mm"),1)+MOD(TEXT(Tableau1[[#This Row],[Date démarrage]],"jj/mm/aaaa")&" "&TEXT(Tableau1[[#This Row],[Heure démarrage]],"hh:mm"),1),"") -> 0.83125 | H13: =IF(Tableau1[[#This Row],[Délais de prévenance]]<=TIMEVALUE("19:59:59"),"Non respecté","Respecté") -> Non respecté | I13: =IF(AND(Tableau1[[#This Row],[Délais de prévenance]]<TIMEVALUE("19:59:59"),Tableau1[[#This Row],[Délais de prévenance]]>=TIMEVALUE("10:00")),"1 : ]20h-10h]",IF(AND(Tableau1[[#This Row],[Délais de prévenance]]<TIMEVALUE("10:00"),Tableau1[[#This Row],[Délais de prévenance]]>=TIMEVALUE("5:00")),"2 : ]10h-05h]",IF(AND(Tableau1[[#This Row],[Délais de prévenance]]<TIMEVALUE("5:00"),Tableau1[[#This Row],[Délais de prévenance]]>=TIMEVALUE("2:00")),"3 : ]05h-02h]",IF(Tableau1[[#This Row],[Délais de prévenance]]<TIMEVALUE("2:00"),"4 : ]02h-00h]",0)))) -> 1 : ]20h-10h] | J13: Conforme | K13: Conforme | M13: Oui | N13: Sans objet | P13: 0 | R13: Annulé par la Production
A14: UAP FC | B14: ENTREPRISE 1 | C14: 45041 | D14: 0.017361111 | E14: 45041 | F14: 0.29166667 | G14: =IFERROR(NETWORKDAYS.INTL(TEXT(Tableau1[[#This Row],[Date réception]],"jj/mm/aaaa")&" "&TEXT(Tableau1[[#This Row],[Heure réception]],"hh:mm"),TEXT(Tableau1[[#This Row],[Date démarrage]],"jj/mm/aaaa")&" "&TEXT(Tableau1[[#This Row],[Heure démarrage]],"hh:mm"),1,JoursFériés!$B$1:$B$12)-1-MOD(TEXT(Tableau1[[#This Row],[Date réception]],"jj/mm/aaaa")&" "&TEXT(Tableau1[[#This Row],[Heure réception]],"hh:mm"),1)+MOD(TEXT(Tableau1[[#This Row],[Date démarrage]],"jj/mm/aaaa")&" "&TEXT(Tableau1[[#This Row],[Heure démarrage]],"hh:mm"),1),"") -> 0.27430556 | H14: =IF(Tableau1[[#This Row],[Délais de prévenance]]<=TIMEVALUE("19:59:59"),"Non respecté","Respecté") -> Non respecté | I14: =IF(AND(Tableau1[[#This Row],[Délais de prévenance]]<TIMEVALUE("19:59:59"),Tableau1[[#This Row],[Délais de prévenance]]>=TIMEVALUE("10:00")),"1 : ]20h-10h]",IF(AND(Tableau1[[#This Row],[Délais de prévenance]]<TIMEVALUE("10:00"),Tableau1[[#This Row],[Délais de prévenance]]>=TIMEVALUE("5:00")),"2 : ]10h-05h]",IF(AND(Tableau1[[#This Row],[Délais de prévenance]]<TIMEVALUE("5:00"),Tableau1[[#This Row],[Délais de prévenance]]>=TIMEVALUE("2:00")),"3 : ]05h-02h]",IF(Tableau1[[#This Row],[Délais de prévenance]]<TIMEVALUE("2:00"),"4 : ]02h-00h]",0)))) -> 2 : ]10h-05h] | J14: Saisie erronnée | K14: Non-conforme | L14: Saisie erronnée | M14: Non | N14: Conforme | P14: 1 | R14: Démarré
A15: UAP FSC | B15: ENTREPRISE 1 | C15: 45040 | D15: 0.43402778 | E15: 45040 | F15: 0.54166667 | G15: =IFERROR(NETWORKDAYS.INTL(TEXT(Tableau1[[#This Row],[Date réception]],"jj/mm/aaaa")&" "&TEXT(Tableau1[[#This Row],[Heure réception]],"hh:mm"),TEXT(Tableau1[[#This Row],[Date démarrage]],"jj/mm/aaaa")&" "&TEXT(Tableau1[[#This Row],[Heure démarrage]],"hh:mm"),1,JoursFériés!$B$1:$B$12)-1-MOD(TEXT(Tableau1[[#This Row],[Date réception]],"jj/mm/aaaa")&" "&TEXT(Tableau1[[#This Row],[Heure réception]],"hh:mm"),1)+MOD(TEXT(Tableau1[[#This Row],[Date démarrage]],"jj/mm/aaaa")&" "&TEXT(Tableau1[[#This Row],[Heure démarrage]],"hh:mm"),1),"") -> 0.10763889 | H15: =IF(Tableau1[[#This Row],[Délais de prévenance]]<=TIMEVALUE("19:59:59"),"Non respecté","Respecté") -> Non respecté | I15: =IF(AND(Tableau1[[#This Row],[Délais de prévenance]]<TIMEVALUE("19:59:59"),Tableau1[[#This Row],[Délais de prévenance]]>=TIMEVALUE("10:00")),"1 : ]20h-10h]",IF(AND(Tableau1[[#This Row],[Délais de prévenance]]<TIMEVALUE("10:00"),Tableau1[[#This Row],[Délais de prévenance]]>=TIMEVALUE("5:00")),"2 : ]10h-05h]",IF(AND(Tableau1[[#This Row],[Délais de prévenance]]<TIMEVALUE("5:00"),Tableau1[[#This Row],[Délais de prévenance]]>=TIMEVALUE("2:00")),"3 : ]05h-02h]",IF(Tableau1[[#This Row],[Délais de prévenance]]<TIMEVALUE("2:00"),"4 : ]02h-00h]",0)))) -> 3 : ]05h-02h] | J15: Conforme | K15: Conforme | M15: Non | N15: Conforme | P15: 1 | R15: Démarré
A16: UAP FSC | B16: ENTREPRISE 3 | C16: 45037 | D16: 0.41666667 | E16: 45040 | F16: 0.5625 | G16: =IFERROR(NETWORKDAYS.INTL(TEXT(Tableau1[[#This Row],[Date réception]],"jj/mm/aaaa")&" "&TEXT(Tableau1[[#This Row],[Heure réception]],"hh:mm"),TEXT(Tableau1[[#This Row],[Date démarrage]],"jj/mm/aaaa")&" "&TEXT(Tableau1[[#This Row],[Heure démarrage]],"hh:mm"),1,JoursFériés!$B$1:$B$12)-1-MOD(TEXT(Tableau1[[#This Row],[Date réception]],"jj/mm/aaaa")&" "&TEXT(Tableau1[[#This Row],[Heure réception]],"hh:mm"),1)+MOD(TEXT(Tableau1[[#This Row],[Date démarrage]],"jj/mm/aaaa")&" "&TEXT(Tableau1[[#This Row],[Heure démarrage]],"hh:mm"),1),"") -> 1.1458333 | H16: =IF(Tableau1[[#This Row],[Délais de prévenance]]<=TIMEVALUE("19:59:59"),"Non respecté","Respecté") -> Respecté | I16: =IF(AND(Tableau1[[#This Row],[Délais de prévenance]]<TIMEVALUE("19:59:59"),Tableau1[[#This Row],[Délais de prévenance]]>=TIMEVALUE("10:00")),"1 : ]20h-10h]",IF(AND(Tableau1[[#This Row],[Délais de prévenance]]<TIMEVALUE("10:00"),Tableau1[[#This Row],[Délais de prévenance]]>=TIMEVALUE("5:00")),"2 : ]10h-05h]",IF(AND(Tableau1[[#This Row],[Délais de prévenance]]<TIMEVALUE("5:00"),Tableau1[[#This Row],[Délais de prévenance]]>=TIMEVALUE("2:00")),"3 : ]05h-02h]",IF(Tableau1[[#This Row],[Délais de prévenance]]<TIMEVALUE("2:00"),"4 : ]02h-00h]",0)))) -> 0 | J16: Conforme | K16: Conforme | M16: Non | N16: Conforme | P16: 1 | R16: Démarré
A17: UAP FSC | B17: ENTREPRISE 2 | C17: 45040 | D17: 0.45833333 | E17: 45040 | F17: 0.58333333 | G17: =IFERROR(NETWORKDAYS.INTL(TEXT(Tableau1[[#This Row],[Date réception]],"jj/mm/aaaa")&" "&TEXT(Tableau1[[#This Row],[Heure réception]],"hh:mm"),TEXT(Tableau1[[#This Row],[Date démarrage]],"jj/mm/aaaa")&" "&TEXT(Tableau1[[#This Row],[Heure démarrage]],"hh:mm"),1,JoursFériés!$B$1:$B$12)-1-MOD(TEXT(Tableau1[[#This Row],[Date réception]],"jj/mm/aaaa")&" "&TEXT(Tableau1[[#This Row],[Heure réception]],"hh:mm"),1)+MOD(TEXT(Tableau1[[#This Row],[Date démarrage]],"jj/mm/aaaa")&" "&TEXT(Tableau1[[#This Row],[Heure démarrage]],"hh:mm"),1),"") -> 0.125 | H17: =IF(Tableau1[[#This Row],[Délais de prévenance]]<=TIMEVALUE("19:59:59"),"Non respecté","Respecté") -> Non respecté | I17: =IF(AND(Tableau1[[#This Row],[Délais de prévenance]]<TIMEVALUE("19:59:59"),Tableau1[[#This Row],[Délais de prévenance]]>=TIMEVALUE("10:00")),"1 : ]20h-10h]",IF(AND(Tableau1[[#This Row],[Délais de prévenance]]<TIMEVALUE("10:00"),Tableau1[[#This Row],[Délais de prévenance]]>=TIMEVALUE("5:00")),"2 : ]10h-05h]",IF(AND(Tableau1[[#This Row],[Délais de prévenance]]<TIMEVALUE("5:00"),Tableau1[[#This Row],[Délais de prévenance]]>=TIMEVALUE("2:00")),"3 : ]05h-02h]",IF(Tableau1[[#This Row],[Délais de prévenance]]<TIMEVALUE("2:00"),"4 : ]02h-00h]",0)))) -> 3 : ]05h-02h] | J17: Conforme | K17: Conforme | M17: Non | N17: Conforme | P17: 1 | R17: Démarré
A18: UAP FC | B18: ENTREPRISE 1 | C18: 45040 | D18: 0.57777778 | E18: 45041 | F18: 0.25 | G18: =IFERROR(NETWORKDAYS.INTL(TEXT(Tableau1[[#This Row],[Date réception]],"jj/mm/aaaa")&" "&TEXT(Tableau1[[#This Row],[Heure réception]],"hh:mm"),TEXT(Tableau1[[#This Row],[Date démarrage]],"jj/mm/aaaa")&" "&TEXT(Tableau1[[#This Row],[Heure démarrage]],"hh:mm"),1,JoursFériés!$B$1:$B$12)-1-MOD(TEXT(Tableau1[[#This Row],[Date réception]],"jj/mm/aaaa")&" "&TEXT(Tableau1[[#This Row],[Heure réception]],"hh:mm"),1)+MOD(TEXT(Tableau1[[#This Row],[Date démarrage]],"jj/mm/aaaa")&" "&TEXT(Tableau1[[#This Row],[Heure démarrage]],"hh:mm"),1),"") -> 0.67222222 | H18: =IF(Tableau1[[#This Row],[Délais de prévenance]]<=TIMEVALUE("19:59:59"),"Non respecté","Respecté") -> Non respecté | I18: =IF(AND(Tableau1[[#This Row],[Délais de prévenance]]<TIMEVALUE("19:59:59"),Tableau1[[#This Row],[Délais de prévenance]]>=TIMEVALUE("10:00")),"1 : ]20h-10h]",IF(AND(Tableau1[[#This Row],[Délais de prévenance]]<TIMEVALUE("10:00"),Tableau1[[#This Row],[Délais de prévenance]]>=TIMEVALUE("5:00")),"2 : ]10h-05h]",IF(AND(Tableau1[[#This Row],[Délais de prévenance]]<TIMEVALUE("5:00"),Tableau1[[#This Row],[Délais de prévenance]]>=TIMEVALUE("2:00")),"3 : ]05h-02h]",IF(Tableau1[[#This Row],[Délais de prévenance]]<TIMEVALUE("2:00"),"4 : ]02h-00h]",0)))) -> 1 : ]20h-10h] | J18: Conforme | K18: Conforme | M18: Non | N18: Conforme | P18: 1 | R18: Démarré
A19: UAP FC | B19: ENTREPRISE 1 | C19: 45040 | D19: 0.61805556 | E19: 45041 | F19: 0.25 | G19: =IFERROR(NETWORKDAYS.INTL(TEXT(Tableau1[[#This Row],[Date réception]],"jj/mm/aaaa")&" "&TEXT(Tableau1[[#This Row],[Heure réception]],"hh:mm"),TEXT(Tableau1[[#This Row],[Date démarrage]],"jj/mm/aaaa")&" "&TEXT(Tableau1[[#This Row],[Heure démarrage]],"hh:mm"),1,JoursFériés!$B$1:$B$12)-1-MOD(TEXT(Tableau1[[#This Row],[Date réception]],"jj/mm/aaaa")&" "&TEXT(Tableau1[[#This Row],[Heure réception]],"hh:mm"),1)+MOD(TEXT(Tableau1[[#This Row],[Date démarrage]],"jj/mm/aaaa")&" "&TEXT(Tableau1[[#This Row],[Heure démarrage]],"hh:mm"),1),"") -> 0.63194444 | H19: =IF(Tableau1[[#This Row],[Délais de prévenance]]<=TIMEVALUE("19:59:59"),"Non respecté","Respecté") -> Non respecté | I19: =IF(AND(Tableau1[[#This Row],[Délais de prévenance]]<TIMEVALUE("19:59:59"),Tableau1[[#This Row],[Délais de prévenance]]>=TIMEVALUE("10:00")),"1 : ]20h-10h]",IF(AND(Tableau1[[#This Row],[Délais de prévenance]]<TIMEVALUE("10:00"),Tableau1[[#This Row],[Délais de prévenance]]>=TIMEVALUE("5:00")),"2 : ]10h-05h]",IF(AND(Tableau1[[#This Row],[Délais de prévenance]]<TIMEVALUE("5:00"),Tableau1[[#This Row],[Délais de prévenance]]>=TIMEVALUE("2:00")),"3 : ]05h-02h]",IF(Tableau1[[#This Row],[Délais de prévenance]]<TIMEVALUE("2:00"),"4 : ]02h-00h]",0)))) -> 1 : ]20h-10h] | J19: Conforme | K19: Conforme | M19: Non | N19: Conforme | P19: 1 | R19: Démarré
A20: UAP FS | B20: ENTREPRISE 3 | C20: 45040 | D20: 0.43541667 | E20: 45041 | F20: 0.26041667 | G20: =IFERROR(NETWORKDAYS.INTL(TEXT(Tableau1[[#This Row],[Date réception]],"jj/mm/aaaa")&" "&TEXT(Tableau1[[#This Row],[Heure réception]],"hh:mm"),TEXT(Tableau1[[#This Row],[Date démarrage]],"jj/mm/aaaa")&" "&TEXT(Tableau1[[#This Row],[Heure démarrage]],"hh:mm"),1,JoursFériés!$B$1:$B$12)-1-MOD(TEXT(Tableau1[[#This Row],[Date réception]],"jj/mm/aaaa")&" "&TEXT(Tableau1[[#This Row],[Heure réception]],"hh:mm"),1)+MOD(TEXT(Tableau1[[#This Row],[Date démarrage]],"jj/mm/aaaa")&" "&TEXT(Tableau1[[#This Row],[Heure démarrage]],"hh:mm"),1),"") -> 0.825 | H20: =IF(Tableau1[[#This Row],[Délais de prévenance]]<=TIMEVALUE("19:59:59"),"Non respecté","Respecté") -> Non respecté | I20: =IF(AND(Tableau1[[#This Row],[Délais de prévenance]]<TIMEVALUE("19:59:59"),Tableau1[[#This Row],[Délais de prévenance]]>=TIMEVALUE("10:00")),"1 : ]20h-10h]",IF(AND(Tableau1[[#This Row],[Délais de prévenance]]<TIMEVALUE("10:00"),Tableau1[[#This Row],[Délais de prévenance]]>=TIMEVALUE("5:00")),"2 : ]10h-05h]",IF(AND(Tableau1[[#This Row],[Délais de prévenance]]<TIMEVALUE("5:00"),Tableau1[[#This Row],[Délais de prévenance]]>=TIMEVALUE("2:00")),"3 : ]05h-02h]",IF(Tableau1[[#This Row],[Délais de prévenance]]<TIMEVALUE("2:00"),"4 : ]02h-00h]",0)))) -> 1 : ]20h-10h] | J20: Conforme | K20: Conforme | M20: Non | N20: Conforme | P20: 1 | R20: Démarré
A21: UAP FSC | B21: ENTREPRISE 1 | C21: 45037 | D21: 0.5 | E21: 45041 | F21: 0.25 | G21: =IFERROR(NETWORKDAYS.INTL(TEXT(Tableau1[[#This Row],[Date réception]],"jj/mm/aaaa")&" "&TEXT(Tableau1[[#This Row],[Heure réception]],"hh:mm"),TEXT(Tableau1[[#This Row],[Date démarrage]],"jj/mm/aaaa")&" "&TEXT(Tableau1[[#This Row],[Heure démarrage]],"hh:mm"),1,JoursFériés!$B$1:$B$12)-1-MOD(TEXT(Tableau1[[#This Row],[Date réception]],"jj/mm/aaaa")&" "&TEXT(Tableau1[[#This Row],[Heure réception]],"hh:mm"),1)+MOD(TEXT(Tableau1[[#This Row],[Date démarrage]],"jj/mm/aaaa")&" "&TEXT(Tableau1[[#This Row],[Heure démarrage]],"hh:mm"),1),"") -> 1.75 | H21: =IF(Tableau1[[#This Row],[Délais de prévenance]]<=TIMEVALUE("19:59:59"),"Non respecté","Respecté") -> Respecté | I21: =IF(AND(Tableau1[[#This Row],[Délais de prévenance]]<TIMEVALUE("19:59:59"),Tableau1[[#This Row],[Délais de prévenance]]>=TIMEVALUE("10:00")),"1 : ]20h-10h]",IF(AND(Tableau1[[#This Row],[Délais de prévenance]]<TIMEVALUE("10:00"),Tableau1[[#This Row],[Délais de prévenance]]>=TIMEVALUE("5:00")),"2 : ]10h-05h]",IF(AND(Tableau1[[#This Row],[Délais de prévenance]]<TIMEVALUE("5:00"),Tableau1[[#This Row],[Délais de prévenance]]>=TIMEVALUE("2:00")),"3 : ]05h-02h]",IF(Tableau1[[#This Row],[Délais de prévenance]]<TIMEVALUE("2:00"),"4 : ]02h-00h]",0)))) -> 0 | J21: Conforme | K21: Conforme | M21: Non | N21: Conforme | P21: 1 | R21: Démarré
A22: UAP FC | B22: ENTREPRISE 1 | C22: 45040 | D22: 0.57777778 | E22: 45041 | F22: 0.52083333 | G22: =IFERROR(NETWORKDAYS.INTL(TEXT(Tableau1[[#This Row],[Date réception]],"jj/mm/aaaa")&" "&TEXT(Tableau1[[#This Row],[Heure réception]],"hh:mm"),TEXT(Tableau1[[#This Row],[Date démarrage]],"jj/mm/aaaa")&" "&TEXT(Tableau1[[#This Row],[Heure démarrage]],"hh:mm"),1,JoursFériés!$B$1:$B$12)-1-MOD(TEXT(Tableau1[[#This Row],[Date réception]],"jj/mm/aaaa")&" "&TEXT(Tableau1[[#This Row],[Heure réception]],"hh:mm"),1)+MOD(TEXT(Tableau1[[#This Row],[Date démarrage]],"jj/mm/aaaa")&" "&TEXT(Tableau1[[#This Row],[Heure démarrage]],"hh:mm"),1),"") -> 0.94305556 | H22: =IF(Tableau1[[#This Row],[Délais de prévenance]]<=TIMEVALUE("19:59:59"),"Non respecté","Respecté") -> Respecté | I22: =IF(AND(Tableau1[[#This Row],[Délais de prévenance]]<TIMEVALUE("19:59:59"),Tableau1[[#This Row],[Délais de prévenance]]>=TIMEVALUE("10:00")),"1 : ]20h-10h]",IF(AND(Tableau1[[#This Row],[Délais de prévenance]]<TIMEVALUE("10:00"),Tableau1[[#This Row],[Délais de prévenance]]>=TIMEVALUE("5:00")),"2 : ]10h-05h]",IF(AND(Tableau1[[#This Row],[Délais de prévenance]]<TIMEVALUE("5:00"),Tableau1[[#This Row],[Délais de prévenance]]>=TIMEVALUE("2:00")),"3 : ]05h-02h]",IF(Tableau1[[#This Row],[Délais de prévenance]]<TIMEVALUE("2:00"),"4 : ]02h-00h]",0)))) -> 0 | J22: Conforme | K22: Conforme | M22: Non | N22: Conforme | P22: 2 | Q22: T°C de préchauffage NC | R22: Démarré
A23: UAP FC | B23: ENTREPRISE 1 | C23: 45040 | D23: 0.58402778 | E23: 45041 | F23: 0.52083333 | G23: =IFERROR(NETWORKDAYS.INTL(TEXT(Tableau1[[#This Row],[Date réception]],"jj/mm/aaaa")&" "&TEXT(Tableau1[[#This Row],[Heure réception]],"hh:mm"),TEXT(Tableau1[[#This Row],[Date démarrage]],"jj/mm/aaaa")&" "&TEXT(Tableau1[[#This Row],[Heure démarrage]],"hh:mm"),1,JoursFériés!$B$1:$B$12)-1-MOD(TEXT(Tableau1[[#This Row],[Date réception]],"jj/mm/aaaa")&" "&TEXT(Tableau1[[#This Row],[Heure réception]],"hh:mm"),1)+MOD(TEXT(Tableau1[[#This Row],[Date démarrage]],"jj/mm/aaaa")&" "&TEXT(Tableau1[[#This Row],[Heure démarrage]],"hh:mm"),1),"") -> 0.93680556 | H23: =IF(Tableau1[[#This Row],[Délais de prévenance]]<=TIMEVALUE("19:59:59"),"Non respecté","Respecté") -> Respecté | I23: =IF(AND(Tableau1[[#This Row],[Délais de prévenance]]<TIMEVALUE("19:59:59"),Tableau1[[#This Row],[Délais de prévenance]]>=TIMEVALUE("10:00")),"1 : ]20h-10h]",IF(AND(Tableau1[[#This Row],[Délais de prévenance]]<TIMEVALUE("10:00"),Tableau1[[#This Row],[Délais de prévenance]]>=TIMEVALUE("5:00")),"2 : ]10h-05h]",IF(AND(Tableau1[[#This Row],[Délais de prévenance]]<TIMEVALUE("5:00"),Tableau1[[#This Row],[Délais de prévenance]]>=TIMEVALUE("2:00")),"3 : ]05h-02h]",IF(Tableau1[[#This Row],[Délais de prévenance]]<TIMEVALUE("2:00"),"4 : ]02h-00h]",0)))) -> 0 | J23: Conforme | K23: Conforme | M23: Non | N23: Conforme | P23: 1 | R23: Démarré
A24: UAP FC | B24: ENTREPRISE 1 | C24: 45040 | D24: 0.67152778 | E24: 45041 | F24: 0.52083333 | G24: =IFERROR(NETWORKDAYS.INTL(TEXT(Tableau1[[#This Row],[Date réception]],"jj/mm/aaaa")&" "&TEXT(Tableau1[[#This Row],[Heure réception]],"hh:mm"),TEXT(Tableau1[[#This Row],[Date démarrage]],"jj/mm/aaaa")&" "&TEXT(Tableau1[[#This Row],[Heure démarrage]],"hh:mm"),1,JoursFériés!$B$1:$B$12)-1-MOD(TEXT(Tableau1[[#This Row],[Date réception]],"jj/mm/aaaa")&" "&TEXT(Tableau1[[#This Row],[Heure réception]],"hh:mm"),1)+MOD(TEXT(Tableau1[[#This Row],[Date démarrage]],"jj/mm/aaaa")&" "&TEXT(Tableau1[[#This Row],[Heure démarrage]],"hh:mm"),1),"") -> 0.84930556 | H24: =IF(Tableau1[[#This Row],[Délais de prévenance]]<=TIMEVALUE("19:59:59"),"Non respecté","Respecté") -> Respecté | I24: =IF(AND(Tableau1[[#This Row],[Délais de prévenance]]<TIMEVALUE("19:59:59"),Tableau1[[#This Row],[Délais de prévenance]]>=TIMEVALUE("10:00")),"1 : ]20h-10h]",IF(AND(Tableau1[[#This Row],[Délais de prévenance]]<TIMEVALUE("10:00"),Tableau1[[#This Row],[Délais de prévenance]]>=TIMEVALUE("5:00")),"2 : ]10h-05h]",IF(AND(Tableau1[[#This Row],[Délais de prévenance]]<TIMEVALUE("5:00"),Tableau1[[#This Row],[Délais de prévenance]]>=TIMEVALUE("2:00")),"3 : ]05h-02h]",IF(Tableau1[[#This Row],[Délais de prévenance]]<TIMEVALUE("2:00"),"4 : ]02h-00h]",0)))) -> 0 | J24: Conforme | K24: Conforme | M24: Non | N24: Conforme | P24: 1 | R24: Démarré
A25: UAP FS | B25: ENTREPRISE 4 | C25: 45041 | D25: 0.55416667 | E25: 45041 | F25: 0.60416667 | G25: =IFERROR(NETWORKDAYS.INTL(TEXT(Tableau1[[#This Row],[Date réception]],"jj/mm/aaaa")&" "&TEXT(Tableau1[[#This Row],[Heure réception]],"hh:mm"),TEXT(Tableau1[[#This Row],[Date démarrage]],"jj/mm/aaaa")&" "&TEXT(Tableau1[[#This Row],[Heure démarrage]],"hh:mm"),1,JoursFériés!$B$1:$B$12)-1-MOD(TEXT(Tableau1[[#This Row],[Date réception]],"jj/mm/aaaa")&" "&TEXT(Tableau1[[#This Row],[Heure réception]],"hh:mm"),1)+MOD(TEXT(Tableau1[[#This Row],[Date démarrage]],"jj/mm/aaaa")&" "&TEXT(Tableau1[[#This Row],[Heure démarrage]],"hh:mm"),1),"") -> 0.05 | H25: =IF(Tableau1[[#This Row],[Délais de prévenance]]<=TIMEVALUE("19:59:59"),"Non respecté","Respecté") -> Non respecté | I25: =IF(AND(Tableau1[[#This Row],[Délais de prévenance]]<TIMEVALUE("19:59:59"),Tableau1[[#This Row],[Délais de prévenance]]>=TIMEVALUE("10:00")),"1 : ]20h-10h]",IF(AND(Tableau1[[#This Row],[Délais de prévenance]]<TIMEVALUE("10:00"),Tableau1[[#This Row],[Délais de prévenance]]>=TIMEVALUE("5:00")),"2 : ]10h-05h]",IF(AND(Tableau1[[#This Row],[Délais de prévenance]]<TIMEVALUE("5:00"),Tableau1[[#This Row],[Délais de prévenance]]>=TIMEVALUE("2:00")),"3 : ]05h-02h]",IF(Tableau1[[#This Row],[Délais de prévenance]]<TIMEVALUE("2:00"),"4 : ]02h-00h]",0)))) -> 4 : ]02h-00h] | J25: Conforme | K25: Conforme | M25: Non | N25: Conforme | P25: 1 | R25: Démarré
A26: UAP FS | B26: ENTREPRISE 4 | C26: 45041 | D26: 0.55416667 | E26: 45041 | F26: 0.60416667 | G26: =IFERROR(NETWORKDAYS.INTL(TEXT(Tableau1[[#This Row],[Date réception]],"jj/mm/aaaa")&" "&TEXT(Tableau1[[#This Row],[Heure réception]],"hh:mm"),TEXT(Tableau1[[#This Row],[Date démarrage]],"jj/mm/aaaa")&" "&TEXT(Tableau1[[#This Row],[Heure démarrage]],"hh:mm"),1,JoursFériés!$B$1:$B$12)-1-MOD(TEXT(Tableau1[[#This Row],[Date réception]],"jj/mm/aaaa")&" "&TEXT(Tableau1[[#This Row],[Heure réception]],"hh:mm"),1)+MOD(TEXT(Tableau1[[#This Row],[Date démarrage]],"jj/mm/aaaa")&" "&TEXT(Tableau1[[#This Row],[Heure démarrage]],"hh:mm"),1),"") -> 0.05 | H26: =IF(Tableau1[[#This Row],[Délais de prévenance]]<=TIMEVALUE("19:59:59"),"Non respecté","Respecté") -> Non respecté | I26: =IF(AND(Tableau1[[#This Row],[Délais de prévenance]]<TIMEVALUE("19:59:59"),Tableau1[[#This Row],[Délais de prévenance]]>=TIMEVALUE("10:00")),"1 : ]20h-10h]",IF(AND(Tableau1[[#This Row],[Délais de prévenance]]<TIMEVALUE("10:00"),Tableau1[[#This Row],[Délais de prévenance]]>=TIMEVALUE("5:00")),"2 : ]10h-05h]",IF(AND(Tableau1[[#This Row],[Délais de prévenance]]<TIMEVALUE("5:00"),Tableau1[[#This Row],[Délais de prévenance]]>=TIMEVALUE("2:00")),"3 : ]05h-02h]",IF(Tableau1[[#This Row],[Délais de prévenance]]<TIMEVALUE("2:00"),"4 : ]02h-00h]",0)))) -> 4 : ]02h-00h] | J26: Conforme | K26: Conforme | M26: Non | N26: Conforme | P26: 1 | R26: Refusé par le DCI | S26: Absence de billet de risque
A27: UAP FS | B27: ENTREPRISE 4 | C27: 45041 | D27: 0.33333333 | E27: 45041 | F27: 0.58333333 | G27: =IFERROR(NETWORKDAYS.INTL(TEXT(Tableau1[[#This Row],[Date réception]],"jj/mm/aaaa")&" "&TEXT(Tableau1[[#This Row],[Heure réception]],"hh:mm"),TEXT(Tableau1[[#This Row],[Date démarrage]],"jj/mm/aaaa")&" "&TEXT(Tableau1[[#This Row],[Heure démarrage]],"hh:mm"),1,JoursFériés!$B$1:$B$12)-1-MOD(TEXT(Tableau1[[#This Row],[Date réception]],"jj/mm/aaaa")&" "&TEXT(Tableau1[[#This Row],[Heure réception]],"hh:mm"),1)+MOD(TEXT(Tableau1[[#This Row],[Date démarrage]],"jj/mm/aaaa")&" "&TEXT(Tableau1[[#This Row],[Heure démarrage]],"hh:mm"),1),"") -> 0.25 | H27: =IF(Tableau1[[#This Row],[Délais de prévenance]]<=TIMEVALUE("19:59:59"),"Non respecté","Respecté") -> Non respecté | I27: =IF(AND(Tableau1[[#This Row],[Délais de prévenance]]<TIMEVALUE("19:59:59"),Tableau1[[#This Row],[Délais de prévenance]]>=TIMEVALUE("10:00")),"1 : ]20h-10h]",IF(AND(Tableau1[[#This Row],[Délais de prévenance]]<TIMEVALUE("10:00"),Tableau1[[#This Row],[Délais de prévenance]]>=TIMEVALUE("5:00")),"2 : ]10h-05h]",IF(AND(Tableau1[[#This Row],[Délais de prévenance]]<TIMEVALUE("5:00"),Tableau1[[#This Row],[Délais de prévenance]]>=TIMEVALUE("2:00")),"3 : ]05h-02h]",IF(Tableau1[[#This Row],[Délais de prévenance]]<TIMEVALUE("2:00"),"4 : ]02h-00h]",0)))) -> 2 : ]10h-05h] | J27: Saisie erronnée | K27: Non-conforme | L27: Saisie erronnée | M27: Non | N27: Conforme | P27: 1 | R27: Démarré
A28: UAP FS | B28: ENTREPRISE 4 | C28: 45040 | D28: 0.42708333 | E28: 45041 | F28: 0.5625 | G28: =IFERROR(NETWORKDAYS.INTL(TEXT(Tableau1[[#This Row],[Date réception]],"jj/mm/aaaa")&" "&TEXT(Tableau1[[#This Row],[Heure réception]],"hh:mm"),TEXT(Tableau1[[#This Row],[Date démarrage]],"jj/mm/aaaa")&" "&TEXT(Tableau1[[#This Row],[Heure démarrage]],"hh:mm"),1,JoursFériés!$B$1:$B$12)-1-MOD(TEXT(Tableau1[[#This Row],[Date réception]],"jj/mm/aaaa")&" "&TEXT(Tableau1[[#This Row],[Heure réception]],"hh:mm"),1)+MOD(TEXT(Tableau1[[#This Row],[Date démarrage]],"jj/mm/aaaa")&" "&TEXT(Tableau1[[#This Row],[Heure démarrage]],"hh:mm"),1),"") -> 1.1354167 | H28: =IF(Tableau1[[#This Row],[Délais de prévenance]]<=TIMEVALUE("19:59:59"),"Non respecté","Respecté") -> Respecté | I28: =IF(AND(Tableau1[[#This Row],[Délais de prévenance]]<TIMEVALUE("19:59:59"),Tableau1[[#This Row],[Délais de prévenance]]>=TIMEVALUE("10:00")),"1 : ]20h-10h]",IF(AND(Tableau1[[#This Row],[Délais de prévenance]]<TIMEVALUE("10:00"),Tableau1[[#This Row],[Délais de prévenance]]>=TIMEVALUE("5:00")),"2 : ]10h-05h]",IF(AND(Tableau1[[#This Row],[Délais de prévenance]]<TIMEVALUE("5:00"),Tableau1[[#This Row],[Délais de prévenance]]>=TIMEVALUE("2:00")),"3 : ]05h-02h]",IF(Tableau1[[#This Row],[Délais de prévenance]]<TIMEVALUE("2:00"),"4 : ]02h-00h]",0)))) -> 0 | J28: Saisie manquante | K28: Non-conforme | L28: Saisie manquante | M28: Non | N28: Conforme | P28: 1 | R28: Démarré
A29: UAP FS | B29: ENTREPRISE 1 | C29: 45041 | D29: 0.41180556 | E29: 45041 | F29: 0.58333333 | G29: =IFERROR(NETWORKDAYS.INTL(TEXT(Tableau1[[#This Row],[Date réception]],"jj/mm/aaaa")&" "&TEXT(Tableau1[[#This Row],[Heure réception]],"hh:mm"),TEXT(Tableau1[[#This Row],[Date démarrage]],"jj/mm/aaaa")&" "&TEXT(Tableau1[[#This Row],[Heure démarrage]],"hh:mm"),1,JoursFériés!$B$1:$B$12)-1-MOD(TEXT(Tableau1[[#This Row],[Date réception]],"jj/mm/aaaa")&" "&TEXT(Tableau1[[#This Row],[Heure réception]],"hh:mm"),1)+MOD(TEXT(Tableau1[[#This Row],[Date démarrage]],"jj/mm/aaaa")&" "&TEXT(Tableau1[[#This Row],[Heure démarrage]],"hh:mm"),1),"") -> 0.17152778 | H29: =IF(Tableau1[[#This Row],[Délais de prévenance]]<=TIMEVALUE("19:59:59"),"Non respecté","Respecté") -> Non respecté | I29: =IF(AND(Tableau1[[#This Row],[Délais de prévenance]]<TIMEVALUE("19:59:59"),Tableau1[[#This Row],[Délais de prévenance]]>=TIMEVALUE("10:00")),"1 : ]20h-10h]",IF(AND(Tableau1[[#This Row],[Délais de prévenance]]<TIMEVALUE("10:00"),Tableau1[[#This Row],[Délais de prévenance]]>=TIMEVALUE("5:00")),"2 : ]10h-05h]",IF(AND(Tableau1[[#This Row],[Délais de prévenance]]<TIMEVALUE("5:00"),Tableau1[[#This Row],[Délais de prévenance]]>=TIMEVALUE("2:00")),"3 : ]05h-02h]",IF(Tableau1[[#This Row],[Délais de prévenance]]<TIMEVALUE("2:00"),"4 : ]02h-00h]",0)))) -> 3 : ]05h-02h] | J29: Conforme | K29: Conforme | M29: Non | N29: Conforme | P29: 2 | Q29: Soudeurs non présents | R29: Démarré
A30: UAP FC | B30: ENTREPRISE 2 | C30: 45041 | D30: 0.68055556 | E30: 45041 | F30: 0.70833333 | G30: =IFERROR(NETWORKDAYS.INTL(TEXT(Tableau1[[#This Row],[Date réception]],"jj/mm/aaaa")&" "&TEXT(Tableau1[[#This Row],[Heure réception]],"hh:mm"),TEXT(Tableau1[[#This Row],[Date démarrage]],"jj/mm/aaaa")&" "&TEXT(Tableau1[[#This Row],[Heure démarrage]],"hh:mm"),1,JoursFériés!$B$1:$B$12)-1-MOD(TEXT(Tableau1[[#This Row],[Date réception]],"jj/mm/aaaa")&" "&TEXT(Tableau1[[#This Row],[Heure réception]],"hh:mm"),1)+MOD(TEXT(Tableau1[[#This Row],[Date démarrage]],"jj/mm/aaaa")&" "&TEXT(Tableau1[[#This Row],[Heure démarrage]],"hh:mm"),1),"") -> 0.027777778 | H30: =IF(Tableau1[[#This Row],[Délais de prévenance]]<=TIMEVALUE("19:59:59"),"Non respecté","Respecté") -> Non respecté | I30: =IF(AND(Tableau1[[#This Row],[Délais de prévenance]]<TIMEVALUE("19:59:59"),Tableau1[[#This Row],[Délais de prévenance]]>=TIMEVALUE("10:00")),"1 : ]20h-10h]",IF(AND(Tableau1[[#This Row],[Délais de prévenance]]<TIMEVALUE("10:00"),Tableau1[[#This Row],[Délais de prévenance]]>=TIMEVALUE("5:00")),"2 : ]10h-05h]",IF(AND(Tableau1[[#This Row],[Délais de prévenance]]<TIMEVALUE("5:00"),Tableau1[[#This Row],[Délais de prévenance]]>=TIMEVALUE("2:00")),"3 : ]05h-02h]",IF(Tableau1[[#This Row],[Délais de prévenance]]<TIMEVALUE("2:00"),"4 : ]02h-00h]",0)))) -> 4 : ]02h-00h] | J30: Conforme | K30: Conforme | M30: Non | N30: Conforme | P30: 1 | R30: Démarré
A31: UAP FS | B31: ENTREPRISE 4 | C31: 45041 | D31: 0.32986111 | E31: 45041 | F31: 0.89583333 | G31: =IFERROR(NETWORKDAYS.INTL(TEXT(Tableau1[[#This Row],[Date réception]],"jj/mm/aaaa")&" "&TEXT(Tableau1[[#This Row],[Heure réception]],"hh:mm"),TEXT(Tableau1[[#This Row],[Date démarrage]],"jj/mm/aaaa")&" "&TEXT(Tableau1[[#This Row],[Heure démarrage]],"hh:mm"),1,JoursFériés!$B$1:$B$12)-1-MOD(TEXT(Tableau1[[#This Row],[Date réception]],"jj/mm/aaaa")&" "&TEXT(Tableau1[[#This Row],[Heure réception]],"hh:mm"),1)+MOD(TEXT(Tableau1[[#This Row],[Date démarrage]],"jj/mm/aaaa")&" "&TEXT(Tableau1[[#This Row],[Heure démarrage]],"hh:mm"),1),"") -> 0.56597222 | H31: =IF(Tableau1[[#This Row],[Délais de prévenance]]<=TIMEVALUE("19:59:59"),"Non respecté","Respecté") -> Non respecté | I31: =IF(AND(Tableau1[[#This Row],[Délais de prévenance]]<TIMEVALUE("19:59:59"),Tableau1[[#This Row],[Délais de prévenance]]>=TIMEVALUE("10:00")),"1 : ]20h-10h]",IF(AND(Tableau1[[#This Row],[Délais de prévenance]]<TIMEVALUE("10:00"),Tableau1[[#This Row],[Délais de prévenance]]>=TIMEVALUE("5:00")),"2 : ]10h-05h]",IF(AND(Tableau1[[#This Row],[Délais de prévenance]]<TIMEVALUE("5:00"),Tableau1[[#This Row],[Délais de prévenance]]>=TIMEVALUE("2:00")),"3 : ]05h-02h]",IF(Tableau1[[#This Row],[Délais de prévenance]]<TIMEVALUE("2:00"),"4 : ]02h-00h]",0)))) -> 1 : ]20h-10h] | J31: Conforme | K31: Conforme | M31: Oui | N31: Sans objet | P31: 0 | R31: Annulé par la Production
A32: UAP FS | B32: ENTREPRISE 4 | C32: 45041 | D32: 0.33333333 | E32: 45041 | F32: 0.89583333 | G32: =IFERROR(NETWORKDAYS.INTL(TEXT(Tableau1[[#This Row],[Date réception]],"jj/mm/aaaa")&" "&TEXT(Tableau1[[#This Row],[Heure réception]],"hh:mm"),TEXT(Tableau1[[#This Row],[Date démarrage]],"jj/mm/aaaa")&" "&TEXT(Tableau1[[#This Row],[Heure démarrage]],"hh:mm"),1,JoursFériés!$B$1:$B$12)-1-MOD(TEXT(Tableau1[[#This Row],[Date réception]],"jj/mm/aaaa")&" "&TEXT(Tableau1[[#This Row],[Heure réception]],"hh:mm"),1)+MOD(TEXT(Tableau1[[#This Row],[Date démarrage]],"jj/mm/aaaa")&" "&TEXT(Tableau1[[#This Row],[Heure démarrage]],"hh:mm"),1),"") -> 0.5625 | H32: =IF(Tableau1[[#This Row],[Délais de prévenance]]<=TIMEVALUE("19:59:59"),"Non respecté","Respecté") -> Non respecté | I32: =IF(AND(Tableau1[[#This Row],[Délais de prévenance]]<TIMEVALUE("19:59:59"),Tableau1[[#This Row],[Délais de prévenance]]>=TIMEVALUE("10:00")),"1 : ]20h-10h]",IF(AND(Tableau1[[#This Row],[Délais de prévenance]]<TIMEVALUE("10:00"),Tableau1[[#This Row],[Délais de prévenance]]>=TIMEVALUE("5:00")),"2 : ]10h-05h]",IF(AND(Tableau1[[#This Row],[Délais de prévenance]]<TIMEVALUE("5:00"),Tableau1[[#This Row],[Délais de prévenance]]>=TIMEVALUE("2:00")),"3 : ]05h-02h]",IF(Tableau1[[#This Row],[Délais de prévenance]]<TIMEVALUE("2:00"),"4 : ]02h-00h]",0)))) -> 1 : ]20h-10h] | J32: Conforme | K32: Conforme | M32: Oui | N32: Sans objet | P32: 0 | R32: Annulé par la Production
A33: UAP FS | B33: ENTREPRISE 4 | C33: 45041 | D33: 0.47916667 | E33: 45041 | F33: 0.875 | G33: =IFERROR(NETWORKDAYS.INTL(TEXT(Tableau1[[#This Row],[Date réception]],"jj/mm/aaaa")&" "&TEXT(Tableau1[[#This Row],[Heure réception]],"hh:mm"),TEXT(Tableau1[[#This Row],[Date démarrage]],"jj/mm/aaaa")&" "&TEXT(Tableau1[[#This Row],[Heure démarrage]],"hh:mm"),1,JoursFériés!$B$1:$B$12)-1-MOD(TEXT(Tableau1[[#This Row],[Date réception]],"jj/mm/aaaa")&" "&TEXT(Tableau1[[#This Row],[Heure réception]],"hh:mm"),1)+MOD(TEXT(Tableau1[[#This Row],[Date démarrage]],"jj/mm/aaaa")&" "&TEXT(Tableau1[[#This Row],[Heure démarrage]],"hh:mm"),1),"") -> 0.39583333 | H33: =IF(Tableau1[[#This Row],[Délais de prévenance]]<=TIMEVALUE("19:59:59"),"Non respecté","Respecté") -> Non respecté | I33: =IF(AND(Tableau1[[#This Row],[Délais de prévenance]]<TIMEVALUE("19:59:59"),Tableau1[[#This Row],[Délais de prévenance]]>=TIMEVALUE("10:00")),"1 : ]20h-10h]",IF(AND(Tableau1[[#This Row],[Délais de prévenance]]<TIMEVALUE("10:00"),Tableau1[[#This Row],[Délais de prévenance]]>=TIMEVALUE("5:00")),"2 : ]10h-05h]",IF(AND(Tableau1[[#This Row],[Délais de prévenance]]<TIMEVALUE("5:00"),Tableau1[[#This Row],[Délais de prévenance]]>=TIMEVALUE("2:00")),"3 : ]05h-02h]",IF(Tableau1[[#This Row],[Délais de prévenance]]<TIMEVALUE("2:00"),"4 : ]02h-00h]",0)))) -> 2 : ]10h-05h] | J33: Conforme | K33: Conforme | M33: Non | N33: Conforme | P33: 1 | R33: Démarré
A34: UAP FS | B34: ENTREPRISE 3 | C34: 45040 | D34: 0.42708333 | E34: 45041 | F34: 0.26041667 | G34: =IFERROR(NETWORKDAYS.INTL(TEXT(Tableau1[[#This Row],[Date réception]],"jj/mm/aaaa")&" "&TEXT(Tableau1[[#This Row],[Heure réception]],"hh:mm"),TEXT(Tableau1[[#This Row],[Date démarrage]],"jj/mm/aaaa")&" "&TEXT(Tableau1[[#This Row],[Heure démarrage]],"hh:mm"),1,JoursFériés!$B$1:$B$12)-1-MOD(TEXT(Tableau1[[#This Row],[Date réception]],"jj/mm/aaaa")&" "&TEXT(Tableau1[[#This Row],[Heure réception]],"hh:mm"),1)+MOD(TEXT(Tableau1[[#This Row],[Date démarrage]],"jj/mm/aaaa")&" "&TEXT(Tableau1[[#This Row],[Heure démarrage]],"hh:mm"),1),"") -> 0.83333333 | H34: =IF(Tableau1[[#This Row],[Délais de prévenance]]<=TIMEVALUE("19:59:59"),"Non respecté","Respecté") -> Respecté | I34: =IF(AND(Tableau1[[#This Row],[Délais de prévenance]]<TIMEVALUE("19:59:59"),Tableau1[[#This Row],[Délais de prévenance]]>=TIMEVALUE("10:00")),"1 : ]20h-10h]",IF(AND(Tableau1[[#This Row],[Délais de prévenance]]<TIMEVALUE("10:00"),Tableau1[[#This Row],[Délais de prévenance]]>=TIMEVALUE("5:00")),"2 : ]10h-05h]",IF(AND(Tableau1[[#This Row],[Délais de prévenance]]<TIMEVALUE("5:00"),Tableau1[[#This Row],[Délais de prévenance]]>=TIMEVALUE("2:00")),"3 : ]05h-02h]",IF(Tableau1[[#This Row],[Délais de prévenance]]<TIMEVALUE("2:00"),"4 : ]02h-00h]",0)))) -> 0 | J34: Conforme | K34: Conforme | M34: Oui | N34: Sans objet | P34: 0 | R34: Annulé par la Production
A35: UAP FC | B35: ENTREPRISE 1 | C35: 45041 | D35: 0.58333333 | E35: 45042 | F35: 0.52083333 | G35: =IFERROR(NETWORKDAYS.INTL(TEXT(Tableau1[[#This Row],[Date réception]],"jj/mm/aaaa")&" "&TEXT(Tableau1[[#This Row],[Heure réception]],"hh:mm"),TEXT(Tableau1[[#This Row],[Date démarrage]],"jj/mm/aaaa")&" "&TEXT(Tableau1[[#This Row],[Heure démarrage]],"hh:mm"),1,JoursFériés!$B$1:$B$12)-1-MOD(TEXT(Tableau1[[#This Row],[Date réception]],"jj/mm/aaaa")&" "&TEXT(Tableau1[[#This Row],[Heure réception]],"hh:mm"),1)+MOD(TEXT(Tableau1[[#This Row],[Date démarrage]],"jj/mm/aaaa")&" "&TEXT(Tableau1[[#This Row],[Heure démarrage]],"hh:mm"),1),"") -> 0.9375 | H35: =IF(Tableau1[[#This Row],[Délais de prévenance]]<=TIMEVALUE("19:59:59"),"Non respecté","Respecté") -> Respecté | I35: =IF(AND(Tableau1[[#This Row],[Délais de prévenance]]<TIMEVALUE("19:59:59"),Tableau1[[#This Row],[Délais de prévenance]]>=TIMEVALUE("10:00")),"1 : ]20h-10h]",IF(AND(Tableau1[[#This Row],[Délais de prévenance]]<TIMEVALUE("10:00"),Tableau1[[#This Row],[Délais de prévenance]]>=TIMEVALUE("5:00")),"2 : ]10h-05h]",IF(AND(Tableau1[[#This Row],[Délais de prévenance]]<TIMEVALUE("5:00"),Tableau1[[#This Row],[Délais de prévenance]]>=TIMEVALUE("2:00")),"3 : ]05h-02h]",IF(Tableau1[[#This Row],[Délais de prévenance]]<TIMEVALUE("2:00"),"4 : ]02h-00h]",0)))) -> 0 | J35: Conforme | K35: Conforme | M35: Non | N35: Conforme | P35: 1 | R35: Démarré
A36: UAP FS | B36: ENTREPRISE 4 | C36: 45041 | D36: 0.81944444 | E36: 45042 | F36: 0.58333333 | G36: =IFERROR(NETWORKDAYS.INTL(TEXT(Tableau1[[#This Row],[Date réception]],"jj/mm/aaaa")&" "&TEXT(Tableau1[[#This Row],[Heure réception]],"hh:mm"),TEXT(Tableau1[[#This Row],[Date démarrage]],"jj/mm/aaaa")&" "&TEXT(Tableau1[[#This Row],[Heure démarrage]],"hh:mm"),1,JoursFériés!$B$1:$B$12)-1-MOD(TEXT(Tableau1[[#This Row],[Date réception]],"jj/mm/aaaa")&" "&TEXT(Tableau1[[#This Row],[Heure réception]],"hh:mm"),1)+MOD(TEXT(Tableau1[[#This Row],[Date démarrage]],"jj/mm/aaaa")&" "&TEXT(Tableau1[[#This Row],[Heure démarrage]],"hh:mm"),1),"") -> 0.76388889 | H36: =IF(Tableau1[[#This Row],[Délais de prévenance]]<=TIMEVALUE("19:59:59"),"Non respecté","Respecté") -> Non respecté | I36: =IF(AND(Tableau1[[#This Row],[Délais de prévenance]]<TIMEVALUE("19:59:59"),Tableau1[[#This Row],[Délais de prévenance]]>=TIMEVALUE("10:00")),"1 : ]20h-10h]",IF(AND(Tableau1[[#This Row],[Délais de prévenance]]<TIMEVALUE("10:00"),Tableau1[[#This Row],[Délais de prévenance]]>=TIMEVALUE("5:00")),"2 : ]10h-05h]",IF(AND(Tableau1[[#This Row],[Délais de prévenance]]<TIMEVALUE("5:00"),Tableau1[[#This Row],[Délais de prévenance]]>=TIMEVALUE("2:00")),"3 : ]05h-02h]",IF(Tableau1[[#This Row],[Délais de prévenance]]<TIMEVALUE("2:00"),"4 : ]02h-00h]",0)))) -> 1 : ]20h-10h] | J36: Saisie erronnée | K36: Non-conforme | L36: Saisie erronnée | M36: Non | N36: Conforme | P36: 1 | R36: Démarré
A37: UAP FC | B37: ENTREPRISE 2 | C37: 45041 | D37: 0.54305556 | E37: 45042 | F37: 0.29166667 | G37: =IFERROR(NETWORKDAYS.INTL(TEXT(Tableau1[[#This Row],[Date réception]],"jj/mm/aaaa")&" "&TEXT(Tableau1[[#This Row],[Heure réception]],"hh:mm"),TEXT(Tableau1[[#This Row],[Date démarrage]],"jj/mm/aaaa")&" "&TEXT(Tableau1[[#This Row],[Heure démarrage]],"hh:mm"),1,JoursFériés!$B$1:$B$12)-1-MOD(TEXT(Tableau1[[#This Row],[Date réception]],"jj/mm/aaaa")&" "&TEXT(Tableau1[[#This Row],[Heure réception]],"hh:mm"),1)+MOD(TEXT(Tableau1[[#This Row],[Date démarrage]],"jj/mm/aaaa")&" "&TEXT(Tableau1[[#This Row],[Heure démarrage]],"hh:mm"),1),"") -> 0.74861111 | H37: =IF(Tableau1[[#This Row],[Délais de prévenance]]<=TIMEVALUE("19:59:59"),"Non respecté","Respecté") -> Non respecté | I37: =IF(AND(Tableau1[[#This Row],[Délais de prévenance]]<TIMEVALUE("19:59:59"),Tableau1[[#This Row],[Délais de prévenance]]>=TIMEVALUE("10:00")),"1 : ]20h-10h]",IF(AND(Tableau1[[#This Row],[Délais de prévenance]]<TIMEVALUE("10:00"),Tableau1[[#This Row],[Délais de prévenance]]>=TIMEVALUE("5:00")),"2 : ]10h-05h]",IF(AND(Tableau1[[#This Row],[Délais de prévenance]]<TIMEVALUE("5:00"),Tableau1[[#This Row],[Délais de prévenance]]>=TIMEVALUE("2:00")),"3 : ]05h-02h]",IF(Tableau1[[#This Row],[Délais de prévenance]]<TIMEVALUE("2:00"),"4 : ]02h-00h]",0)))) -> 1 : ]20h-10h] | J37: Saisie erronnée | K37: Non-conforme | L37: Saisie erronnée | M37: Non | N37: Conforme | P37: 1 | R37: Démarré
A38: UAP FC | B38: ENTREPRISE 2 | C38: 45043 | D38: 0.29166667 | E38: 45043 | F38: 0.29166667 | G38: =IFERROR(NETWORKDAYS.INTL(TEXT(Tableau1[[#This Row],[Date réception]],"jj/mm/aaaa")&" "&TEXT(Tableau1[[#This Row],[Heure réception]],"hh:mm"),TEXT(Tableau1[[#This Row],[Date démarrage]],"jj/mm/aaaa")&" "&TEXT(Tableau1[[#This Row],[Heure démarrage]],"hh:mm"),1,JoursFériés!$B$1:$B$12)-1-MOD(TEXT(Tableau1[[#This Row],[Date réception]],"jj/mm/aaaa")&" "&TEXT(Tableau1[[#This Row],[Heure réception]],"hh:mm"),1)+MOD(TEXT(Tableau1[[#This Row],[Date démarrage]],"jj/mm/aaaa")&" "&TEXT(Tableau1[[#This Row],[Heure démarrage]],"hh:mm"),1),"") -> 0 | H38: =IF(Tableau1[[#This Row],[Délais de prévenance]]<=TIMEVALUE("19:59:59"),"Non respecté","Respecté") -> Non respecté | I38: =IF(AND(Tableau1[[#This Row],[Délais de prévenance]]<TIMEVALUE("19:59:59"),Tableau1[[#This Row],[Délais de prévenance]]>=TIMEVALUE("10:00")),"1 : ]20h-10h]",IF(AND(Tableau1[[#This Row],[Délais de prévenance]]<TIMEVALUE("10:00"),Tableau1[[#This Row],[Délais de prévenance]]>=TIMEVALUE("5:00")),"2 : ]10h-05h]",IF(AND(Tableau1[[#This Row],[Délais de prévenance]]<TIMEVALUE("5:00"),Tableau1[[#This Row],[Délais de prévenance]]>=TIMEVALUE("2:00")),"3 : ]05h-02h]",IF(Tableau1[[#This Row],[Délais de prévenance]]<TIMEVALUE("2:00"),"4 : ]02h-00h]",0)))) -> 4 : ]02h-00h] | J38: Conforme | K38: Conforme | M38: Non | N38: Conforme | P38: 1 | R38: Démarré
A39: UAP FC | B39: ENTREPRISE 2 | C39: 45043 | D39: 0.29166667 | E39: 45043 | F39: 0.29166667 | G39: =IFERROR(NETWORKDAYS.INTL(TEXT(Tableau1[[#This Row],[Date réception]],"jj/mm/aaaa")&" "&TEXT(Tableau1[[#This Row],[Heure réception]],"hh:mm"),TEXT(Tableau1[[#This Row],[Date démarrage]],"jj/mm/aaaa")&" "&TEXT(Tableau1[[#This Row],[Heure démarrage]],"hh:mm"),1,JoursFériés!$B$1:$B$12)-1-MOD(TEXT(Tableau1[[#This Row],[Date réception]],"jj/mm/aaaa")&" "&TEXT(Tableau1[[#This Row],[Heure réception]],"hh:mm"),1)+MOD(TEXT(Tableau1[[#This Row],[Date démarrage]],"jj/mm/aaaa")&" "&TEXT(Tableau1[[#This Row],[Heure démarrage]],"hh:mm"),1),"") -> 0 | H39: =IF(Tableau1[[#This Row],[Délais de prévenance]]<=TIMEVALUE("19:59:59"),"Non respecté","Respecté") -> Non respecté | I39: =IF(AND(Tableau1[[#This Row],[Délais de prévenance]]<TIMEVALUE("19:59:59"),Tableau1[[#This Row],[Délais de prévenance]]>=TIMEVALUE("10:00")),"1 : ]20h-10h]",IF(AND(Tableau1[[#This Row],[Délais de prévenance]]<TIMEVALUE("10:00"),Tableau1[[#This Row],[Délais de prévenance]]>=TIMEVALUE("5:00")),"2 : ]10h-05h]",IF(AND(Tableau1[[#This Row],[Délais de prévenance]]<TIMEVALUE("5:00"),Tableau1[[#This Row],[Délais de prévenance]]>=TIMEVALUE("2:00")),"3 : ]05h-02h]",IF(Tableau1[[#This Row],[Délais de prévenance]]<TIMEVALUE("2:00"),"4 : ]02h-00h]",0)))) -> 4 : ]02h-00h] | J39: Conforme | K39: Conforme | M39: Non | N39: Conforme | P39: 1 | R39: Démarré
A40: UAP FS | B40: ENTREPRISE 3 | C40: 45043 | D40: 0.28125 | E40: 45043 | F40: 0.29166667 | G40: =IFERROR(NETWORKDAYS.INTL(TEXT(Tableau1[[#This Row],[Date réception]],"jj/mm/aaaa")&" "&TEXT(Tableau1[[#This Row],[Heure réception]],"hh:mm"),TEXT(Tableau1[[#This Row],[Date démarrage]],"jj/mm/aaaa")&" "&TEXT(Tableau1[[#This Row],[Heure démarrage]],"hh:mm"),1,JoursFériés!$B$1:$B$12)-1-MOD(TEXT(Tableau1[[#This Row],[Date réception]],"jj/mm/aaaa")&" "&TEXT(Tableau1[[#This Row],[Heure réception]],"hh:mm"),1)+MOD(TEXT(Tableau1[[#This Row],[Date démarrage]],"jj/mm/aaaa")&" "&TEXT(Tableau1[[#This Row],[Heure démarrage]],"hh:mm"),1),"") -> 0.010416667 | H40: =IF(Tableau1[[#This Row],[Délais de prévenance]]<=TIMEVALUE("19:59:59"),"Non respecté","Respecté") -> Non respecté | I40: =IF(AND(Tableau1[[#This Row],[Délais de prévenance]]<TIMEVALUE("19:59:59"),Tableau1[[#This Row],[Délais de prévenance]]>=TIMEVALUE("10:00")),"1 : ]20h-10h]",IF(AND(Tableau1[[#This Row],[Délais de prévenance]]<TIMEVALUE("10:00"),Tableau1[[#This Row],[Délais de prévenance]]>=TIMEVALUE("5:00")),"2 : ]10h-05h]",IF(AND(Tableau1[[#This Row],[Délais de prévenance]]<TIMEVALUE("5:00"),Tableau1[[#This Row],[Délais de prévenance]]>=TIMEVALUE("2:00")),"3 : ]05h-02h]",IF(Tableau1[[#This Row],[Délais de prévenance]]<TIMEVALUE("2:00"),"4 : ]02h-00h]",0)))) -> 4 : ]02h-00h] | J40: Conforme | K40: Conforme | M40: Non | N40: Conforme | P40: 1 | R40: Démarré
...

Sheet TCD
A4: Nombre de Prévenance | B4: Étiquettes de colonnes
A5: Étiquettes de lignes | B5: Non respecté | C5: Respecté | D5: Total général
A6: avr | B6: 0.76923077 | C6: 0.23076923 | D6: 1
A7: mai | B7: 0.8 | C7: 0.2 | D7: 1
A29: Nombre de Criticité du retard | B29: Étiquettes de colonnes
A30: Étiquettes de lignes | B30: 1 : ]20h-10h] | C30: 2 : ]10h-05h] | D30: 3 : ]05h-02h] | E30: 4 : ]02h-00h]
A31: avr | B31: 0.475 | C31: 0.125 | D31: 0.075 | E31: 0.325
A32: mai | B32: 0.25 | C32: 0.16666667 | D32: 0.16666667 | E32: 0.41666667
A44: Nombre de Démarrage soudage | B44: Étiquettes de colonnes
A45: Étiquettes de lignes | B45: Démarré | C45: Annulé par la Production | D45: Refusé par le DCI
A46: avr | B46: 0.78846154 | C46: 0.17307692 | D46: 0.038461538
A47: mai | B47: 0.86666667 | C47: 0.13333333 | D47: 0
A48: Total général | B48: 0.80597015 | C48: 0.1641791 | D48: 0.029850746
A63: Étiquettes de lignes | B63: Nombre de Cause refus par le DCI
A64: Absence de billet de risque | B64: 0.5
A65: Conditions générales d'environnement NC | B65: 0.5
A66: Total général | B66: 1
A82: Nombre de Nombre d'intervention | B82: Étiquettes de colonnes
A83: Étiquettes de lignes | B83: 1 | C83: 2 | D83: Total général
A84: avr | B84: 40 | C84: 3 | D84: 43
A85: mai | B85: 11 | C85: 2 | D85: 13
A100: Étiquettes de lignes | B100: Nombre de Raison si nbre d'intervetion > 1
A101: Conditions générales d'environnement NC | B101: 0.2
A102: Profil de joint NC | B102: 0.2
A103: Propreté du joint NC | B103: 0.2
A104: T°C de préchauffage NC | B104: 0.2
A105: Soudeurs non présents | B105: 0.2
A119: Nombre de Complétude | B119: Étiquettes de colonnes
A120: Étiquettes de lignes | B120: Saisie erronnée | C120: Saisie manquante | D120: (vide) | E120: Total général
A121: Conforme | D121: 56 | E121: 56
A122: Non-conforme | B122: 8 | C122: 3 | E122: 11
A123: Total général | B123: 8 | C123: 3 | D123: 56 | E123: 67
A134: Étiquettes de lignes | B134: Nombre de Prévenance
A135: avr | B135: 52
A136: mai | B136: 15
A137: Total général | B137: 67 | D137: Nbre de convocations reçu
A142: Nombre de Prévenance | B142: Étiquettes de colonnes
A143: Étiquettes de lignes | B143: Non respecté | C143: Respecté | D143: Total général
A144: avr | B144: 0.76923077 | C144: 0.23076923 | D144: 1
A145: mai | B145: 0.8 | C145: 0.2 | D145: 1
...

Sheet TDB

Sheet RESSOURCES BDD
A1: UAP | B1: ENTREPRISE | C1: Complétude | D1: TYPOLOGIE | E1: Annulation avant intervention | F1: Démarrage | G1: LISTECOMPLETUDE | H1: Raison NC phases précédent le démarrage | I1: Nombre d'intervention
A2: UAP FS | B2: ENTREPRISE 1 | C2: Conforme | D2: Saisie manquante | E2: Oui | F2: Démarré | G2: Conforme | I2: 0
A3: UAP FSC | B3: ENTREPRISE 2 | C3: Non-conforme | D3: Saisie erronnée | E3: Non | F3: Refusé par le DCI | G3: Saisie erronnée | I3: 1
A4: UAP FC | B4: ENTREPRISE 3 | C4: Sans objet | F4: Annulé par la Production | G4: Saisie manquante | I4: 2
B5: ENTREPRISE 4 | I5: 3
B6: ENTREPRISE 5 | I6: 4
I7: 5

Sheet JoursFériés
A1: =YEAR(TODAY()) -> 2023 | B1: =DATE(A1,1,1) -> 44927 | C1: Jour de l'an
B2: =FLOOR(DAY(MINUTE(A1/38)/2+56)&"/5/"&A1,7)-34 -> 45025 | C2: Pâques
B3: =B2+1 -> 45026 | C3: Lundi de Pâques
B4: =DATE(A1,5,1) -> 45047 | C4: Fête du travail
B5: =B2+39 -> 45064 | C5: Ascension
B6: =B2+49 -> 45074 | C6: Pentecôte
B7: =B2+50 -> 45075 | C7: Lundi de Pentecôte
B8: =DATE(A1,7,14) -> 45121 | C8: Fête nationale
