Workbook

Sheet BDD
B1: ARRIVEE | D1: SORTIE | F1: Le délais doit être à minima de 20H pour être respecté | H1: CRITICITE DU RETARD Δtr correspond au retard
A2: N° Convocation Soudage | B2: Date réception | C2: Heure réception | D2: Date démarrage | E2: Heure démarrage | F2: Délais de prévenance | G2: Respect du délais de prévenance | H2: Criticité 1 | I2: Criticité 2 | J2: Criticité 3 | K2: Criticité 4
A3: CLC100001 | B3: 45037 | C3: 0.59305556 | D3: 45040 | E3: 0.36805556 | F3: =IFERROR(NETWORKDAYS.INTL(TEXT(Tableau1[[#This Row],[Date réception]],"jj/mm/aaaa")&" "&TEXT(Tableau1[[#This Row],[Heure réception]],"hh:mm"),TEXT(Tableau1[[#This Row],[Date démarrage]],"jj/mm/aaaa")&" "&TEXT(Tableau1[[#This Row],[Heure démarrage]],"hh:mm"),1,JoursFériés!$B$1:$B$12)-1-MOD(TEXT(Tableau1[[#This Row],[Date réception]],"jj/mm/aaaa")&" "&TEXT(Tableau1[[#This Row],[Heure réception]],"hh:mm"),1)+MOD(TEXT(Tableau1[[#This Row],[Date démarrage]],"jj/mm/aaaa")&" "&TEXT(Tableau1[[#This Row],[Heure démarrage]],"hh:mm"),1),"") -> 0.775 | G3: =IF(Tableau1[[#This Row],[Délais de prévenance]]="","",IF(Tableau1[[#This Row],[Délais de prévenance]]<=TIMEVALUE("19:59:59"),"Non respecté","Respecté")) -> Non respecté | H3: =IF(AND(Tableau1[[#This Row],[Délais de prévenance]]<TIMEVALUE("19:59:59"),Tableau1[[#This Row],[Délais de prévenance]]>=TIMEVALUE("10:00")),1,0) -> 1 | I3: =IF(AND(Tableau1[[#This Row],[Délais de prévenance]]<TIMEVALUE("10:00"),Tableau1[[#This Row],[Délais de prévenance]]>=TIMEVALUE("5:00")),1,0) -> 0 | J3: =IF(AND(Tableau1[[#This Row],[Délais de prévenance]]<TIMEVALUE("5:00"),Tableau1[[#This Row],[Délais de prévenance]]>=TIMEVALUE("2:00")),1,0) -> 0 | K3: =IF(Tableau1[[#This Row],[Délais de prévenance]]<TIMEVALUE("2:00"),1,0) -> 0
A4: CLC100002 | B4: 45037 | C4: 0.79166667 | D4: 45040 | E4: 0.26041667 | F4: =IFERROR(NETWORKDAYS.INTL(TEXT(Tableau1[[#This Row],[Date réception]],"jj/mm/aaaa")&" "&TEXT(Tableau1[[#This Row],[Heure réception]],"hh:mm"),TEXT(Tableau1[[#This Row],[Date démarrage]],"jj/mm/aaaa")&" "&TEXT(Tableau1[[#This Row],[Heure démarrage]],"hh:mm"),1,JoursFériés!$B$1:$B$12)-1-MOD(TEXT(Tableau1[[#This Row],[Date réception]],"jj/mm/aaaa")&" "&TEXT(Tableau1[[#This Row],[Heure réception]],"hh:mm"),1)+MOD(TEXT(Tableau1[[#This Row],[Date démarrage]],"jj/mm/aaaa")&" "&TEXT(Tableau1[[#This Row],[Heure démarrage]],"hh:mm"),1),"") -> 0.46875 | G4: =IF(Tableau1[[#This Row],[Délais de prévenance]]="","",IF(Tableau1[[#This Row],[Délais de prévenance]]<=TIMEVALUE("19:59:59"),"Non respecté","Respecté")) -> Non respecté | H4: =IF(AND(Tableau1[[#This Row],[Délais de prévenance]]<TIMEVALUE("19:59:59"),Tableau1[[#This Row],[Délais de prévenance]]>=TIMEVALUE("10:00")),1,0) -> 1 | I4: =IF(AND(Tableau1[[#This Row],[Délais de prévenance]]<TIMEVALUE("10:00"),Tableau1[[#This Row],[Délais de prévenance]]>=TIMEVALUE("5:00")),1,0) -> 0 | J4: =IF(AND(Tableau1[[#This Row],[Délais de prévenance]]<TIMEVALUE("5:00"),Tableau1[[#This Row],[Délais de prévenance]]>=TIMEVALUE("2:00")),1,0) -> 0 | K4: =IF(Tableau1[[#This Row],[Délais de prévenance]]<TIMEVALUE("2:00"),1,0) -> 0
A5: CLC100003 | B5: 45037 | C5: 0.47222222 | D5: 45040 | E5: 0.26041667 | F5: =IFERROR(NETWORKDAYS.INTL(TEXT(Tableau1[[#This Row],[Date réception]],"jj/mm/aaaa")&" "&TEXT(Tableau1[[#This Row],[Heure réception]],"hh:mm"),TEXT(Tableau1[[#This Row],[Date démarrage]],"jj/mm/aaaa")&" "&TEXT(Tableau1[[#This Row],[Heure démarrage]],"hh:mm"),1,JoursFériés!$B$1:$B$12)-1-MOD(TEXT(Tableau1[[#This Row],[Date réception]],"jj/mm/aaaa")&" "&TEXT(Tableau1[[#This Row],[Heure réception]],"hh:mm"),1)+MOD(TEXT(Tableau1[[#This Row],[Date démarrage]],"jj/mm/aaaa")&" "&TEXT(Tableau1[[#This Row],[Heure démarrage]],"hh:mm"),1),"") -> 0.78819444 | G5: =IF(Tableau1[[#This Row],[Délais de prévenance]]="","",IF(Tableau1[[#This Row],[Délais de prévenance]]<=TIMEVALUE("19:59:59"),"Non respecté","Respecté")) -> Non respecté | H5: =IF(AND(Tableau1[[#This Row],[Délais de prévenance]]<TIMEVALUE("19:59:59"),Tableau1[[#This Row],[Délais de prévenance]]>=TIMEVALUE("10:00")),1,0) -> 1 | I5: =IF(AND(Tableau1[[#This Row],[Délais de prévenance]]<TIMEVALUE("10:00"),Tableau1[[#This Row],[Délais de prévenance]]>=TIMEVALUE("5:00")),1,0) -> 0 | J5: =IF(AND(Tableau1[[#This Row],[Délais de prévenance]]<TIMEVALUE("5:00"),Tableau1[[#This Row],[Délais de prévenance]]>=TIMEVALUE("2:00")),1,0) -> 0 | K5: =IF(Tableau1[[#This Row],[Délais de prévenance]]<TIMEVALUE("2:00"),1,0) -> 0
A6: CLC100004 | B6: 45037 | C6: 0.97430556 | D6: 45040 | E6: 0.27083333 | F6: =IFERROR(NETWORKDAYS.INTL(TEXT(Tableau1[[#This Row],[Date réception]],"jj/mm/aaaa")&" "&TEXT(Tableau1[[#This Row],[Heure réception]],"hh:mm"),TEXT(Tableau1[[#This Row],[Date démarrage]],"jj/mm/aaaa")&" "&TEXT(Tableau1[[#This Row],[Heure démarrage]],"hh:mm"),1,JoursFériés!$B$1:$B$12)-1-MOD(TEXT(Tableau1[[#This Row],[Date réception]],"jj/mm/aaaa")&" "&TEXT(Tableau1[[#This Row],[Heure réception]],"hh:mm"),1)+MOD(TEXT(Tableau1[[#This Row],[Date démarrage]],"jj/mm/aaaa")&" "&TEXT(Tableau1[[#This Row],[Heure démarrage]],"hh:mm"),1),"") -> 0.29652778 | G6: =IF(Tableau1[[#This Row],[Délais de prévenance]]="","",IF(Tableau1[[#This Row],[Délais de prévenance]]<=TIMEVALUE("19:59:59"),"Non respecté","Respecté")) -> Non respecté | H6: =IF(AND(Tableau1[[#This Row],[Délais de prévenance]]<TIMEVALUE("19:59:59"),Tableau1[[#This Row],[Délais de prévenance]]>=TIMEVALUE("10:00")),1,0) -> 0 | I6: =IF(AND(Tableau1[[#This Row],[Délais de prévenance]]<TIMEVALUE("10:00"),Tableau1[[#This Row],[Délais de prévenance]]>=TIMEVALUE("5:00")),1,0) -> 1 | J6: =IF(AND(Tableau1[[#This Row],[Délais de prévenance]]<TIMEVALUE("5:00"),Tableau1[[#This Row],[Délais de prévenance]]>=TIMEVALUE("2:00")),1,0) -> 0 | K6: =IF(Tableau1[[#This Row],[Délais de prévenance]]<TIMEVALUE("2:00"),1,0) -> 0
A7: CLC100005 | B7: 45040 | C7: 0.27430556 | D7: 45040 | E7: 0.33333333 | F7: =IFERROR(NETWORKDAYS.INTL(TEXT(Tableau1[[#This Row],[Date réception]],"jj/mm/aaaa")&" "&TEXT(Tableau1[[#This Row],[Heure réception]],"hh:mm"),TEXT(Tableau1[[#This Row],[Date démarrage]],"jj/mm/aaaa")&" "&TEXT(Tableau1[[#This Row],[Heure démarrage]],"hh:mm"),1,JoursFériés!$B$1:$B$12)-1-MOD(TEXT(Tableau1[[#This Row],[Date réception]],"jj/mm/aaaa")&" "&TEXT(Tableau1[[#This Row],[Heure réception]],"hh:mm"),1)+MOD(TEXT(Tableau1[[#This Row],[Date démarrage]],"jj/mm/aaaa")&" "&TEXT(Tableau1[[#This Row],[Heure démarrage]],"hh:mm"),1),"") -> 0.059027778 | G7: =IF(Tableau1[[#This Row],[Délais de prévenance]]="","",IF(Tableau1[[#This Row],[Délais de prévenance]]<=TIMEVALUE("19:59:59"),"Non respecté","Respecté")) -> Non respecté | H7: =IF(AND(Tableau1[[#This Row],[Délais de prévenance]]<TIMEVALUE("19:59:59"),Tableau1[[#This Row],[Délais de prévenance]]>=TIMEVALUE("10:00")),1,0) -> 0 | I7: =IF(AND(Tableau1[[#This Row],[Délais de prévenance]]<TIMEVALUE("10:00"),Tableau1[[#This Row],[Délais de prévenance]]>=TIMEVALUE("5:00")),1,0) -> 0 | J7: =IF(AND(Tableau1[[#This Row],[Délais de prévenance]]<TIMEVALUE("5:00"),Tableau1[[#This Row],[Délais de prévenance]]>=TIMEVALUE("2:00")),1,0) -> 0 | K7: =IF(Tableau1[[#This Row],[Délais de prévenance]]<TIMEVALUE("2:00"),1,0) -> 1
A8: CLC100006 | B8: 45040 | C8: 0.33333333 | D8: 45040 | E8: 0.36458333 | F8: =IFERROR(NETWORKDAYS.INTL(TEXT(Tableau1[[#This Row],[Date réception]],"jj/mm/aaaa")&" "&TEXT(Tableau1[[#This Row],[Heure réception]],"hh:mm"),TEXT(Tableau1[[#This Row],[Date démarrage]],"jj/mm/aaaa")&" "&TEXT(Tableau1[[#This Row],[Heure démarrage]],"hh:mm"),1,JoursFériés!$B$1:$B$12)-1-MOD(TEXT(Tableau1[[#This Row],[Date réception]],"jj/mm/aaaa")&" "&TEXT(Tableau1[[#This Row],[Heure réception]],"hh:mm"),1)+MOD(TEXT(Tableau1[[#This Row],[Date démarrage]],"jj/mm/aaaa")&" "&TEXT(Tableau1[[#This Row],[Heure démarrage]],"hh:mm"),1),"") -> 0.03125 | G8: =IF(Tableau1[[#This Row],[Délais de prévenance]]="","",IF(Tableau1[[#This Row],[Délais de prévenance]]<=TIMEVALUE("19:59:59"),"Non respecté","Respecté")) -> Non respecté | H8: =IF(AND(Tableau1[[#This Row],[Délais de prévenance]]<TIMEVALUE("19:59:59"),Tableau1[[#This Row],[Délais de prévenance]]>=TIMEVALUE("10:00")),1,0) -> 0 | I8: =IF(AND(Tableau1[[#This Row],[Délais de prévenance]]<TIMEVALUE("10:00"),Tableau1[[#This Row],[Délais de prévenance]]>=TIMEVALUE("5:00")),1,0) -> 0 | J8: =IF(AND(Tableau1[[#This Row],[Délais de prévenance]]<TIMEVALUE("5:00"),Tableau1[[#This Row],[Délais de prévenance]]>=TIMEVALUE("2:00")),1,0) -> 0 | K8: =IF(Tableau1[[#This Row],[Délais de prévenance]]<TIMEVALUE("2:00"),1,0) -> 1
A9: CLC100007 | B9: 45040 | C9: 0.45138889 | D9: 45041 | E9: 0.27083333 | F9: =IFERROR(NETWORKDAYS.INTL(TEXT(Tableau1[[#This Row],[Date réception]],"jj/mm/aaaa")&" "&TEXT(Tableau1[[#This Row],[Heure réception]],"hh:mm"),TEXT(Tableau1[[#This Row],[Date démarrage]],"jj/mm/aaaa")&" "&TEXT(Tableau1[[#This Row],[Heure démarrage]],"hh:mm"),1,JoursFériés!$B$1:$B$12)-1-MOD(TEXT(Tableau1[[#This Row],[Date réception]],"jj/mm/aaaa")&" "&TEXT(Tableau1[[#This Row],[Heure réception]],"hh:mm"),1)+MOD(TEXT(Tableau1[[#This Row],[Date démarrage]],"jj/mm/aaaa")&" "&TEXT(Tableau1[[#This Row],[Heure démarrage]],"hh:mm"),1),"") -> 0.81944444 | G9: =IF(Tableau1[[#This Row],[Délais de prévenance]]="","",IF(Tableau1[[#This Row],[Délais de prévenance]]<=TIMEVALUE("19:59:59"),"Non respecté","Respecté")) -> Non respecté | H9: =IF(AND(Tableau1[[#This Row],[Délais de prévenance]]<TIMEVALUE("19:59:59"),Tableau1[[#This Row],[Délais de prévenance]]>=TIMEVALUE("10:00")),1,0) -> 1 | I9: =IF(AND(Tableau1[[#This Row],[Délais de prévenance]]<TIMEVALUE("10:00"),Tableau1[[#This Row],[Délais de prévenance]]>=TIMEVALUE("5:00")),1,0) -> 0 | J9: =IF(AND(Tableau1[[#This Row],[Délais de prévenance]]<TIMEVALUE("5:00"),Tableau1[[#This Row],[Délais de prévenance]]>=TIMEVALUE("2:00")),1,0) -> 0 | K9: =IF(Tableau1[[#This Row],[Délais de prévenance]]<TIMEVALUE("2:00"),1,0) -> 0
A10: CLC100008 | B10: 45040 | C10: 0.675 | D10: 45040 | E10: 0.89583333 | F10: =IFERROR(NETWORKDAYS.INTL(TEXT(Tableau1[[#This Row],[Date réception]],"jj/mm/aaaa")&" "&TEXT(Tableau1[[#This Row],[Heure réception]],"hh:mm"),TEXT(Tableau1[[#This Row],[Date démarrage]],"jj/mm/aaaa")&" "&TEXT(Tableau1[[#This Row],[Heure démarrage]],"hh:mm"),1,JoursFériés!$B$1:$B$12)-1-MOD(TEXT(Tableau1[[#This Row],[Date réception]],"jj/mm/aaaa")&" "&TEXT(Tableau1[[#This Row],[Heure réception]],"hh:mm"),1)+MOD(TEXT(Tableau1[[#This Row],[Date démarrage]],"jj/mm/aaaa")&" "&TEXT(Tableau1[[#This Row],[Heure démarrage]],"hh:mm"),1),"") -> 0.22083333 | G10: =IF(Tableau1[[#This Row],[Délais de prévenance]]="","",IF(Tableau1[[#This Row],[Délais de prévenance]]<=TIMEVALUE("19:59:59"),"Non respecté","Respecté")) -> Non respecté | H10: =IF(AND(Tableau1[[#This Row],[Délais de prévenance]]<TIMEVALUE("19:59:59"),Tableau1[[#This Row],[Délais de prévenance]]>=TIMEVALUE("10:00")),1,0) -> 0 | I10: =IF(AND(Tableau1[[#This Row],[Délais de prévenance]]<TIMEVALUE("10:00"),Tableau1[[#This Row],[Délais de prévenance]]>=TIMEVALUE("5:00")),1,0) -> 1 | J10: =IF(AND(Tableau1[[#This Row],[Délais de prévenance]]<TIMEVALUE("5:00"),Tableau1[[#This Row],[Délais de prévenance]]>=TIMEVALUE("2:00")),1,0) -> 0 | K10: =IF(Tableau1[[#This Row],[Délais de prévenance]]<TIMEVALUE("2:00"),1,0) -> 0
A11: CLC100009 | B11: 45040 | C11: 0.45138889 | D11: 45040 | E11: 0.88541667 | F11: =IFERROR(NETWORKDAYS.INTL(TEXT(Tableau1[[#This Row],[Date réception]],"jj/mm/aaaa")&" "&TEXT(Tableau1[[#This Row],[Heure réception]],"hh:mm"),TEXT(Tableau1[[#This Row],[Date démarrage]],"jj/mm/aaaa")&" "&TEXT(Tableau1[[#This Row],[Heure démarrage]],"hh:mm"),1,JoursFériés!$B$1:$B$12)-1-MOD(TEXT(Tableau1[[#This Row],[Date réception]],"jj/mm/aaaa")&" "&TEXT(Tableau1[[#This Row],[Heure réception]],"hh:mm"),1)+MOD(TEXT(Tableau1[[#This Row],[Date démarrage]],"jj/mm/aaaa")&" "&TEXT(Tableau1[[#This Row],[Heure démarrage]],"hh:mm"),1),"") -> 0.43402778 | G11: =IF(Tableau1[[#This Row],[Délais de prévenance]]="","",IF(Tableau1[[#This Row],[Délais de prévenance]]<=TIMEVALUE("19:59:59"),"Non respecté","Respecté")) -> Non respecté | H11: =IF(AND(Tableau1[[#This Row],[Délais de prévenance]]<TIMEVALUE("19:59:59"),Tableau1[[#This Row],[Délais de prévenance]]>=TIMEVALUE("10:00")),1,0) -> 1 | I11: =IF(AND(Tableau1[[#This Row],[Délais de prévenance]]<TIMEVALUE("10:00"),Tableau1[[#This Row],[Délais de prévenance]]>=TIMEVALUE("5:00")),1,0) -> 0 | J11: =IF(AND(Tableau1[[#This Row],[Délais de prévenance]]<TIMEVALUE("5:00"),Tableau1[[#This Row],[Délais de prévenance]]>=TIMEVALUE("2:00")),1,0) -> 0 | K11: =IF(Tableau1[[#This Row],[Délais de prévenance]]<TIMEVALUE("2:00"),1,0) -> 0
A12: CLC100010 | B12: 45040 | C12: 0.45138889 | D12: 45040 | E12: 0.88541667 | F12: =IFERROR(NETWORKDAYS.INTL(TEXT(Tableau1[[#This Row],[Date réception]],"jj/mm/aaaa")&" "&TEXT(Tableau1[[#This Row],[Heure réception]],"hh:mm"),TEXT(Tableau1[[#This Row],[Date démarrage]],"jj/mm/aaaa")&" "&TEXT(Tableau1[[#This Row],[Heure démarrage]],"hh:mm"),1,JoursFériés!$B$1:$B$12)-1-MOD(TEXT(Tableau1[[#This Row],[Date réception]],"jj/mm/aaaa")&" "&TEXT(Tableau1[[#This Row],[Heure réception]],"hh:mm"),1)+MOD(TEXT(Tableau1[[#This Row],[Date démarrage]],"jj/mm/aaaa")&" "&TEXT(Tableau1[[#This Row],[Heure démarrage]],"hh:mm"),1),"") -> 0.43402778 | G12: =IF(Tableau1[[#This Row],[Délais de prévenance]]="","",IF(Tableau1[[#This Row],[Délais de prévenance]]<=TIMEVALUE("19:59:59"),"Non respecté","Respecté")) -> Non respecté | H12: =IF(AND(Tableau1[[#This Row],[Délais de prévenance]]<TIMEVALUE("19:59:59"),Tableau1[[#This Row],[Délais de prévenance]]>=TIMEVALUE("10:00")),1,0) -> 1 | I12: =IF(AND(Tableau1[[#This Row],[Délais de prévenance]]<TIMEVALUE("10:00"),Tableau1[[#This Row],[Délais de prévenance]]>=TIMEVALUE("5:00")),1,0) -> 0 | J12: =IF(AND(Tableau1[[#This Row],[Délais de prévenance]]<TIMEVALUE("5:00"),Tableau1[[#This Row],[Délais de prévenance]]>=TIMEVALUE("2:00")),1,0) -> 0 | K12: =IF(Tableau1[[#This Row],[Délais de prévenance]]<TIMEVALUE("2:00"),1,0) -> 0
A13: CLC100011 | B13: 45037 | C13: 0.54375 | D13: 45040 | E13: 0.79166667 | F13: =IFERROR(NETWORKDAYS.INTL(TEXT(Tableau1[[#This Row],[Date réception]],"jj/mm/aaaa")&" "&TEXT(Tableau1[[#This Row],[Heure réception]],"hh:mm"),TEXT(Tableau1[[#This Row],[Date démarrage]],"jj/mm/aaaa")&" "&TEXT(Tableau1[[#This Row],[Heure démarrage]],"hh:mm"),1,JoursFériés!$B$1:$B$12)-1-MOD(TEXT(Tableau1[[#This Row],[Date réception]],"jj/mm/aaaa")&" "&TEXT(Tableau1[[#This Row],[Heure réception]],"hh:mm"),1)+MOD(TEXT(Tableau1[[#This Row],[Date démarrage]],"jj/mm/aaaa")&" "&TEXT(Tableau1[[#This Row],[Heure démarrage]],"hh:mm"),1),"") -> 1.2479167 | G13: =IF(Tableau1[[#This Row],[Délais de prévenance]]="","",IF(Tableau1[[#This Row],[Délais de prévenance]]<=TIMEVALUE("19:59:59"),"Non respecté","Respecté")) -> Respecté | H13: =IF(AND(Tableau1[[#This Row],[Délais de prévenance]]<TIMEVALUE("19:59:59"),Tableau1[[#This Row],[Délais de prévenance]]>=TIMEVALUE("10:00")),1,0) -> 0 | I13: =IF(AND(Tableau1[[#This Row],[Délais de prévenance]]<TIMEVALUE("10:00"),Tableau1[[#This Row],[Délais de prévenance]]>=TIMEVALUE("5:00")),1,0) -> 0 | J13: =IF(AND(Tableau1[[#This Row],[Délais de prévenance]]<TIMEVALUE("5:00"),Tableau1[[#This Row],[Délais de prévenance]]>=TIMEVALUE("2:00")),1,0) -> 0 | K13: =IF(Tableau1[[#This Row],[Délais de prévenance]]<TIMEVALUE("2:00"),1,0) -> 0
A14: CLC100012 | B14: 45037 | C14: 0.54375 | D14: 45040 | E14: 0.375 | F14: =IFERROR(NETWORKDAYS.INTL(TEXT(Tableau1[[#This Row],[Date réception]],"jj/mm/aaaa")&" "&TEXT(Tableau1[[#This Row],[Heure réception]],"hh:mm"),TEXT(Tableau1[[#This Row],[Date démarrage]],"jj/mm/aaaa")&" "&TEXT(Tableau1[[#This Row],[Heure démarrage]],"hh:mm"),1,JoursFériés!$B$1:$B$12)-1-MOD(TEXT(Tableau1[[#This Row],[Date réception]],"jj/mm/aaaa")&" "&TEXT(Tableau1[[#This Row],[Heure réception]],"hh:mm"),1)+MOD(TEXT(Tableau1[[#This Row],[Date démarrage]],"jj/mm/aaaa")&" "&TEXT(Tableau1[[#This Row],[Heure démarrage]],"hh:mm"),1),"") -> 0.83125 | G14: =IF(Tableau1[[#This Row],[Délais de prévenance]]="","",IF(Tableau1[[#This Row],[Délais de prévenance]]<=TIMEVALUE("19:59:59"),"Non respecté","Respecté")) -> Non respecté | H14: =IF(AND(Tableau1[[#This Row],[Délais de prévenance]]<TIMEVALUE("19:59:59"),Tableau1[[#This Row],[Délais de prévenance]]>=TIMEVALUE("10:00")),1,0) -> 1 | I14: =IF(AND(Tableau1[[#This Row],[Délais de prévenance]]<TIMEVALUE("10:00"),Tableau1[[#This Row],[Délais de prévenance]]>=TIMEVALUE("5:00")),1,0) -> 0 | J14: =IF(AND(Tableau1[[#This Row],[Délais de prévenance]]<TIMEVALUE("5:00"),Tableau1[[#This Row],[Délais de prévenance]]>=TIMEVALUE("2:00")),1,0) -> 0 | K14: =IF(Tableau1[[#This Row],[Délais de prévenance]]<TIMEVALUE("2:00"),1,0) -> 0
... A69: CLC100067 | B69: 45049 | C69: 0.43263889 | D69: 45050 | E69: 0.25 | F69: =IFERROR(NETWORKDAYS.INTL(TEXT(Tableau1[[#This Row],[Date réception]],"jj/mm/aaaa")&" "&TEXT(Tableau1[[#This Row],[Heure réception]],"hh:mm"),TEXT(Tableau1[[#This Row],[Date démarrage]],"jj/mm/aaaa")&" "&TEXT(Tableau1[[#This Row],[Heure démarrage]],"hh:mm"),1,JoursFériés!$B$1:$B$12)-1-MOD(TEXT(Tableau1[[#This Row],[Date réception]],"jj/mm/aaaa")&" "&TEXT(Tableau1[[#This Row],[Heure réception]],"hh:mm"),1)+MOD(TEXT(Tableau1[[#This Row],[Date démarrage]],"jj/mm/aaaa")&" "&TEXT(Tableau1[[#This Row],[Heure démarrage]],"hh:mm"),1),"") -> 0.81736111 | G69: =IF(Tableau1[[#This Row],[Délais de prévenance]]="","",IF(Tableau1[[#This Row],[Délais de prévenance]]<=TIMEVALUE("19:59:59"),"Non respecté","Respecté")) -> Non respecté | H69: =IF(AND(Tableau1[[#This Row],[Délais de prévenance]]<TIMEVALUE("19:59:59"),Tableau1[[#This Row],[Délais de prévenance]]>=TIMEVALUE("10:00")),1,0) -> 1 | I69: =IF(AND(Tableau1[[#This Row],[Délais de prévenance]]<TIMEVALUE("10:00"),Tableau1[[#This Row],[Délais de prévenance]]>=TIMEVALUE("5:00")),1,0) -> 0 | J69: =IF(AND(Tableau1[[#This Row],[Délais de prévenance]]<TIMEVALUE("5:00"),Tableau1[[#This Row],[Délais de prévenance]]>=TIMEVALUE("2:00")),1,0) -> 0 | K69: =IF(Tableau1[[#This Row],[Délais de prévenance]]<TIMEVALUE("2:00"),1,0) -> 0
F70: =IFERROR(NETWORKDAYS.INTL(TEXT(Tableau1[[#This Row],[Date réception]],"jj/mm/aaaa")&" "&TEXT(Tableau1[[#This Row],[Heure réception]],"hh:mm"),TEXT(Tableau1[[#This Row],[Date démarrage]],"jj/mm/aaaa")&" "&TEXT(Tableau1[[#This Row],[Heure démarrage]],"hh:mm"),1,JoursFériés!$B$1:$B$12)-1-MOD(TEXT(Tableau1[[#This Row],[Date réception]],"jj/mm/aaaa")&" "&TEXT(Tableau1[[#This Row],[Heure réception]],"hh:mm"),1)+MOD(TEXT(Tableau1[[#This Row],[Date démarrage]],"jj/mm/aaaa")&" "&TEXT(Tableau1[[#This Row],[Heure démarrage]],"hh:mm"),1),"")
F71: =IFERROR(NETWORKDAYS.INTL(TEXT(Tableau1[[#This Row],[Date réception]],"jj/mm/aaaa")&" "&TEXT(Tableau1[[#This Row],[Heure réception]],"hh:mm"),TEXT(Tableau1[[#This Row],[Date démarrage]],"jj/mm/aaaa")&" "&TEXT(Tableau1[[#This Row],[Heure démarrage]],"hh:mm"),1,JoursFériés!$B$1:$B$12)-1-MOD(TEXT(Tableau1[[#This Row],[Date réception]],"jj/mm/aaaa")&" "&TEXT(Tableau1[[#This Row],[Heure réception]],"hh:mm"),1)+MOD(TEXT(Tableau1[[#This Row],[Date démarrage]],"jj/mm/aaaa")&" "&TEXT(Tableau1[[#This Row],[Heure démarrage]],"hh:mm"),1),"")
F72: =IFERROR(NETWORKDAYS.INTL(TEXT(Tableau1[[#This Row],[Date réception]],"jj/mm/aaaa")&" "&TEXT(Tableau1[[#This Row],[Heure réception]],"hh:mm"),TEXT(Tableau1[[#This Row],[Date démarrage]],"jj/mm/aaaa")&" "&TEXT(Tableau1[[#This Row],[Heure démarrage]],"hh:mm"),1,JoursFériés!$B$1:$B$12)-1-MOD(TEXT(Tableau1[[#This Row],[Date réception]],"jj/mm/aaaa")&" "&TEXT(Tableau1[[#This Row],[Heure réception]],"hh:mm"),1)+MOD(TEXT(Tableau1[[#This Row],[Date démarrage]],"jj/mm/aaaa")&" "&TEXT(Tableau1[[#This Row],[Heure démarrage]],"hh:mm"),1),"")
F73: =IFERROR(NETWORKDAYS.INTL(TEXT(Tableau1[[#This Row],[Date réception]],"jj/mm/aaaa")&" "&TEXT(Tableau1[[#This Row],[Heure réception]],"hh:mm"),TEXT(Tableau1[[#This Row],[Date démarrage]],"jj/mm/aaaa")&" "&TEXT(Tableau1[[#This Row],[Heure démarrage]],"hh:mm"),1,JoursFériés!$B$1:$B$12)-1-MOD(TEXT(Tableau1[[#This Row],[Date réception]],"jj/mm/aaaa")&" "&TEXT(Tableau1[[#This Row],[Heure réception]],"hh:mm"),1)+MOD(TEXT(Tableau1[[#This Row],[Date démarrage]],"jj/mm/aaaa")&" "&TEXT(Tableau1[[#This Row],[Heure démarrage]],"hh:mm"),1),"")
F74: =IFERROR(NETWORKDAYS.INTL(TEXT(Tableau1[[#This Row],[Date réception]],"jj/mm/aaaa")&" "&TEXT(Tableau1[[#This Row],[Heure réception]],"hh:mm"),TEXT(Tableau1[[#This Row],[Date démarrage]],"jj/mm/aaaa")&" "&TEXT(Tableau1[[#This Row],[Heure démarrage]],"hh:mm"),1,JoursFériés!$B$1:$B$12)-1-MOD(TEXT(Tableau1[[#This Row],[Date réception]],"jj/mm/aaaa")&" "&TEXT(Tableau1[[#This Row],[Heure réception]],"hh:mm"),1)+MOD(TEXT(Tableau1[[#This Row],[Date démarrage]],"jj/mm/aaaa")&" "&TEXT(Tableau1[[#This Row],[Heure démarrage]],"hh:mm"),1),"")
F75: =IFERROR(NETWORKDAYS.INTL(TEXT(Tableau1[[#This Row],[Date réception]],"jj/mm/aaaa")&" "&TEXT(Tableau1[[#This Row],[Heure réception]],"hh:mm"),TEXT(Tableau1[[#This Row],[Date démarrage]],"jj/mm/aaaa")&" "&TEXT(Tableau1[[#This Row],[Heure démarrage]],"hh:mm"),1,JoursFériés!$B$1:$B$12)-1-MOD(TEXT(Tableau1[[#This Row],[Date réception]],"jj/mm/aaaa")&" "&TEXT(Tableau1[[#This Row],[Heure réception]],"hh:mm"),1)+MOD(TEXT(Tableau1[[#This Row],[Date démarrage]],"jj/mm/aaaa")&" "&TEXT(Tableau1[[#This Row],[Heure démarrage]],"hh:mm"),1),"")
F76: =IFERROR(NETWORKDAYS.INTL(TEXT(Tableau1[[#This Row],[Date réception]],"jj/mm/aaaa")&" "&TEXT(Tableau1[[#This Row],[Heure réception]],"hh:mm"),TEXT(Tableau1[[#This Row],[Date démarrage]],"jj/mm/aaaa")&" "&TEXT(Tableau1[[#This Row],[Heure démarrage]],"hh:mm"),1,JoursFériés!$B$1:$B$12)-1-MOD(TEXT(Tableau1[[#This Row],[Date réception]],"jj/mm/aaaa")&" "&TEXT(Tableau1[[#This Row],[Heure réception]],"hh:mm"),1)+MOD(TEXT(Tableau1[[#This Row],[Date démarrage]],"jj/mm/aaaa")&" "&TEXT(Tableau1[[#This Row],[Heure démarrage]],"hh:mm"),1),"")
F77: =IFERROR(NETWORKDAYS.INTL(TEXT(Tableau1[[#This Row],[Date réception]],"jj/mm/aaaa")&" "&TEXT(Tableau1[[#This Row],[Heure réception]],"hh:mm"),TEXT(Tableau1[[#This Row],[Date démarrage]],"jj/mm/aaaa")&" "&TEXT(Tableau1[[#This Row],[Heure démarrage]],"hh:mm"),1,JoursFériés!$B$1:$B$12)-1-MOD(TEXT(Tableau1[[#This Row],[Date réception]],"jj/mm/aaaa")&" "&TEXT(Tableau1[[#This Row],[Heure réception]],"hh:mm"),1)+MOD(TEXT(Tableau1[[#This Row],[Date démarrage]],"jj/mm/aaaa")&" "&TEXT(Tableau1[[#This Row],[Heure démarrage]],"hh:mm"),1),"")
F78: =IFERROR(NETWORKDAYS.INTL(TEXT(Tableau1[[#This Row],[Date réception]],"jj/mm/aaaa")&" "&TEXT(Tableau1[[#This Row],[Heure réception]],"hh:mm"),TEXT(Tableau1[[#This Row],[Date démarrage]],"jj/mm/aaaa")&" "&TEXT(Tableau1[[#This Row],[Heure démarrage]],"hh:mm"),1,JoursFériés!$B$1:$B$12)-1-MOD(TEXT(Tableau1[[#This Row],[Date réception]],"jj/mm/aaaa")&" "&TEXT(Tableau1[[#This Row],[Heure réception]],"hh:mm"),1)+MOD(TEXT(Tableau1[[#This Row],[Date démarrage]],"jj/mm/aaaa")&" "&TEXT(Tableau1[[#This Row],[Heure démarrage]],"hh:mm"),1),"")
F79: =IFERROR(NETWORKDAYS.INTL(TEXT(Tableau1[[#This Row],[Date réception]],"jj/mm/aaaa")&" "&TEXT(Tableau1[[#This Row],[Heure réception]],"hh:mm"),TEXT(Tableau1[[#This Row],[Date démarrage]],"jj/mm/aaaa")&" "&TEXT(Tableau1[[#This Row],[Heure démarrage]],"hh:mm"),1,JoursFériés!$B$1:$B$12)-1-MOD(TEXT(Tableau1[[#This Row],[Date réception]],"jj/mm/aaaa")&" "&TEXT(Tableau1[[#This Row],[Heure réception]],"hh:mm"),1)+MOD(TEXT(Tableau1[[#This Row],[Date démarrage]],"jj/mm/aaaa")&" "&TEXT(Tableau1[[#This Row],[Heure démarrage]],"hh:mm"),1),"")
F80: =IFERROR(NETWORKDAYS.INTL(TEXT(Tableau1[[#This Row],[Date réception]],"jj/mm/aaaa")&" "&TEXT(Tableau1[[#This Row],[Heure réception]],"hh:mm"),TEXT(Tableau1[[#This Row],[Date démarrage]],"jj/mm/aaaa")&" "&TEXT(Tableau1[[#This Row],[Heure démarrage]],"hh:mm"),1,JoursFériés!$B$1:$B$12)-1-MOD(TEXT(Tableau1[[#This Row],[Date réception]],"jj/mm/aaaa")&" "&TEXT(Tableau1[[#This Row],[Heure réception]],"hh:mm"),1)+MOD(TEXT(Tableau1[[#This Row],[Date démarrage]],"jj/mm/aaaa")&" "&TEXT(Tableau1[[#This Row],[Heure démarrage]],"hh:mm"),1),"")
F81: =IFERROR(NETWORKDAYS.INTL(TEXT(Tableau1[[#This Row],[Date réception]],"jj/mm/aaaa")&" "&TEXT(Tableau1[[#This Row],[Heure réception]],"hh:mm"),TEXT(Tableau1[[#This Row],[Date démarrage]],"jj/mm/aaaa")&" "&TEXT(Tableau1[[#This Row],[Heure démarrage]],"hh:mm"),1,JoursFériés!$B$1:$B$12)-1-MOD(TEXT(Tableau1[[#This Row],[Date réception]],"jj/mm/aaaa")&" "&TEXT(Tableau1[[#This Row],[Heure réception]],"hh:mm"),1)+MOD(TEXT(Tableau1[[#This Row],[Date démarrage]],"jj/mm/aaaa")&" "&TEXT(Tableau1[[#This Row],[Heure démarrage]],"hh:mm"),1),"")
... F294: =IFERROR(NETWORKDAYS.INTL(TEXT(Tableau1[[#This Row],[Date réception]],"jj/mm/aaaa")&" "&TEXT(Tableau1[[#This Row],[Heure réception]],"hh:mm"),TEXT(Tableau1[[#This Row],[Date démarrage]],"jj/mm/aaaa")&" "&TEXT(Tableau1[[#This Row],[Heure démarrage]],"hh:mm"),1,JoursFériés!$B$1:$B$12)-1-MOD(TEXT(Tableau1[[#This Row],[Date réception]],"jj/mm/aaaa")&" "&TEXT(Tableau1[[#This Row],[Heure réception]],"hh:mm"),1)+MOD(TEXT(Tableau1[[#This Row],[Date démarrage]],"jj/mm/aaaa")&" "&TEXT(Tableau1[[#This Row],[Heure démarrage]],"hh:mm"),1),"")

Sheet TDB
A4: Nombre de Respect du délais de prévenance | B4: Étiquettes de colonnes
A5: Étiquettes de lignes | B5: Non respecté | C5: Respecté
A6: avr | B6: 40 | C6: 12
A7: mai | B7: 12 | C7: 3
A8: Total général | B8: 52 | C8: 15
A29: Étiquettes de lignes | B29: Somme de Criticité 1 | C29: Somme de Criticité 2 | D29: Somme de Criticité 3 | E29: Somme de Criticité 4
A30: avr | B30: 19 | C30: 5 | D30: 3 | E30: 13
A31: mai | B31: 3 | C31: 2 | D31: 2 | E31: 5

Sheet RESSOURCES BDD
A1: Annulation avant intervention | B1: Nombre d'intervention | C1: Délais de prévenance | D1: DEMARRAGE | E1: Complétude | F1: TYPOLOGIE
A2: Oui | B2: 1 | C2: Respecté | D2: Démarré | E2: Conforme | F2: Saisie manquante
A3: Non | B3: 2 | C3: Non respecté | D3: Non démarré | E3: Non-conforme | F3: Saisie erronnée
B4: 3
B5: 4

Sheet JoursFériés
A1: =YEAR(TODAY()) -> 2023 | B1: =DATE(A1,1,1) -> 44927 | C1: Jour de l'an
B2: =FLOOR(DAY(MINUTE(A1/38)/2+56)&"/5/"&A1,7)-34 -> 45025 | C2: Pâques
B3: =B2+1 -> 45026 | C3: Lundi de Pâques
B4: =DATE(A1,5,1) -> 45047 | C4: Fête du travail
B5: =B2+39 -> 45064 | C5: Ascension
B6: =B2+49 -> 45074 | C6: Pentecôte
B7: =B2+50 -> 45075 | C7: Lundi de Pentecôte
B8: =DATE(A1,7,14) -> 45121 | C8: Fête nationale
B9: =DATE(A1,8,15) -> 45153 | C9: Assomption
B10: =DATE(A1,11,1) -> 45231 | C10: Toussaint
B11: =DATE(A1,11,11) -> 45241 | C11: Armistice 14/18
B12: =DATE(A1,12,25) -> 45285 | C12: Noël
