Workbook

Sheet Récap Attestation
A1: Pièce | B1: N° Facture | C1: Date de facture | D1: Montant | E1: attestation faite
A2: 540 | B2: ='540'!$B$1 -> F20-12225 | C2: ='540'!$C$1 -> 44181 | D2: ='540'!$I$25 -> 1436.7 | E2: ok
A3: 566 | B3: ='566'!$B$1 -> F20-12824 | C3: ='566'!$C$1 -> 44188 | D3: ='566'!$I$25 -> 835.54 | E3: ok
A4: 631 | B4: ='631'!$B$1 -> F21-00191 | C4: ='631'!$C$1 -> 44210 | D4: ='631'!$I$25 -> 1144.57 | E4: ok
A5: 653 | B5: ='653'!$B$1 -> F21-00278 | C5: ='653'!$C$1 -> 44217 | D5: ='653'!$I$25 -> 1493.62 | E5: ok
A6: 668 | B6: ='668'!$B$1 -> F21-00729 | C6: ='668'!$C$1 -> 44224 | D6: ='668'!$I$25 -> 3188.02 | E6: ok
A7: 702 | B7: ='702'!$B$1 -> F21-00877 | C7: ='702'!$C$1 -> 44232 | D7: ='702'!$I$25 -> 1121.45 | E7: ok
A8: 721 | B8: ='721'!$B$1 -> F21-00993 | C8: ='721'!$C$1 -> 44239 | D8: ='721'!$I$25 -> 772.19
A9: 736 | B9: ='736'!$B$1 -> F21-01172 | C9: ='736'!$C$1 -> 44246 | D9: ='736'!$I$25 -> 1398.56 | E9: ok
A10: 780 | B10: ='780'!$B$1 -> F21-01770 | C10: ='780'!$C$1 -> 44253 | D10: ='780'!$I$25 -> 1036.21 | E10: ok
A11: 822 | B11: ='822'!$B$1 -> F21-02020 | C11: ='822'!$C$1 -> 44264 | D11: ='822'!$I$25 -> 3012.61

Sheet Modèle
A1: FACTURE
A3: COMMANDES SOUMISES A TVA
A5: Bons cdes | B5: Date | C5: Libellés | D5: OF | E5: Qtés | F5: PRIX UNIT | G5: Mont.h.t. | H5: Clients
G6: =E6*F6 -> 0
G7: =E7*F7 -> 0
G8: =E8*F8 -> 0
G9: =E9*F9 -> 0
G10: =E10*F10 -> 0
G11: =E11*F11 -> 0
G12: =E12*F12 -> 0
G13: =E13*F13 -> 0
G14: =E14*F14 -> 0
G15: =E15*F15 -> 0
F16: TOTAL HT | G16: =SUM(G6:G15) -> 0
E17: 0.2 | F17: TVA | G17: =G16*E17 -> 0
F18: TTC | G18: =+G16+G17 -> 0
C19: FACTURE | H19: Contrôle total facture
C20: HT facture | H20: =G25+G18+H26 -> 0 | I20: =H20=D22 -> TRUE
C21: TVA facture
C22: TTC Facture | G22: HT | H22: TVA | I22: TTC
F23: Facture | G23: =D20 -> 0 | H23: =D21 -> 0 | I23: =D22 -> 0
F24: TVA 20% | G24: =G16 -> 0 | H24: =G17 -> 0 | I24: =G24+H24 -> 0
F25: Exonérée | G25: =G23-G24 -> 0 | H25: 0 | I25: =SUM(G25:H25) -> 0
A26: TVA SUR FACTURE EN FRANCHISE TVA - AVOIR A ETABLIR | H26: =H23-H24 -> 0
F27: Total TTC + HT franchise | I27: =I23-H26 -> 0

Sheet 540
A1: FACTURE | B1: F20-12225 | C1: 44181
A3: COMMANDES SOUMISES A TVA
A5: Bons cdes | B5: Date | C5: Libellés | D5: OF | E5: Qtés | F5: PRIX UNIT | G5: Mont.h.t. | H5: Clients
A6: 4370 | B6: 44176 | C6: fgfb252461004a1 | D6: 143070 | E6: 19 | F6: 5.24 | G6: =E6*F6 -> 99.56
G7: =E7*F7 -> 0
G8: =E8*F8 -> 0
G9: =E9*F9 -> 0
G10: =E10*F10 -> 0
G11: =E11*F11 -> 0
G12: =E12*F12 -> 0
G13: =E13*F13 -> 0
G14: =E14*F14 -> 0
G15: =E15*F15 -> 0
F16: TOTAL HT | G16: =SUM(G6:G15) -> 99.56
E17: 0.2 | F17: TVA | G17: =G16*E17 -> 19.912
F18: TTC | G18: =+G16+G17 -> 119.472
C19: FACTURE | H19: Contrôle total facture
C20: HT facture | D20: 1536.26 | H20: =G25+G18+H26 -> 1843.51 | I20: =H20=D22 -> TRUE
C21: TVA facture | D21: 307.25
C22: TTC Facture | D22: 1843.51 | G22: HT | H22: TVA | I22: TTC
F23: Facture | G23: =D20 -> 1536.26 | H23: =D21 -> 307.25 | I23: =D22 -> 1843.51
F24: TVA 20% | G24: =G16 -> 99.56 | H24: =G17 -> 19.912 | I24: =G24+H24 -> 119.472
F25: Exonérée | G25: =G23-G24 -> 1436.7 | H25: 0 | I25: =SUM(G25:H25) -> 1436.7
A26: TVA SUR FACTURE EN FRANCHISE TVA - AVOIR A ETABLIR | H26: =H23-H24 -> 287.338
F27: Total TTC + HT franchise | I27: =I23-H26 -> 1556.172

Sheet 566
A1: FACTURE | B1: F20-12824 | C1: 44188
A3: COMMANDES SOUMISES A TVA
A5: Bons cdes | B5: Date | C5: Libellés | D5: OF | E5: Qtés | F5: PRIX UNIT | G5: Mont.h.t. | H5: Clients
A6: 4444 | B6: 44187 | C6: 350A72401300 | D6: 146909 | E6: 60 | F6: 3.04 | G6: =E6*F6 -> 182.4
A7: 4440 | B7: 44186 | C7: RA1M295434500 | D7: 145237 | E7: 16 | F7: 6.01 | G7: =E7*F7 -> 96.16
A8: 4447 | B8: 44183 | C8: F2MB241009037E20 | D8: 146318 | E8: 20 | F8: 2.27 | G8: =E8*F8 -> 45.4
G9: =E9*F9 -> 0
G10: =E10*F10 -> 0
G11: =E11*F11 -> 0
G12: =E12*F12 -> 0
G13: =E13*F13 -> 0
G14: =E14*F14 -> 0
G15: =E15*F15 -> 0
F16: TOTAL HT | G16: =SUM(G6:G15) -> 323.96
E17: 0.2 | F17: TVA | G17: =G16*E17 -> 64.792
F18: TTC | G18: =+G16+G17 -> 388.752
C19: FACTURE | H19: Contrôle total facture
C20: HT facture | D20: 1159.5 | H20: =G25+G18+H26 -> 1379.37 | I20: =H20=D22 -> TRUE
C21: TVA facture | D21: 219.87
C22: TTC Facture | D22: 1379.37 | G22: HT | H22: TVA | I22: TTC
F23: Facture | G23: =D20 -> 1159.5 | H23: =D21 -> 219.87 | I23: =D22 -> 1379.37
F24: TVA 20% | G24: =G16 -> 323.96 | H24: =G17 -> 64.792 | I24: =G24+H24 -> 388.752
F25: Exonérée | G25: =G23-G24 -> 835.54 | H25: 0 | I25: =SUM(G25:H25) -> 835.54
A26: TVA SUR FACTURE EN FRANCHISE TVA - AVOIR A ETABLIR | H26: =H23-H24 -> 155.078
F27: Total TTC + HT franchise | I27: =I23-H26 -> 1224.292

Sheet 631
A1: FACTURE | B1: F21-00191 | C1: 44210
A3: COMMANDES SOUMISES A TVA
A5: Bons cdes | B5: Date | C5: Libellés | D5: OF | E5: Qtés | F5: PRIX UNIT | G5: Mont.h.t. | H5: Clients
A6: 4450 | B6: 44204 | C6: FGFB256007420A2 | D6: 143199 | E6: 16 | F6: 9.85 | G6: =E6*F6 -> 157.6
A7: 4457 | B7: 07/012021 | C7: RP1M722264 | D7: 147734 | E7: 1 | F7: 1.38 | G7: =E7*F7 -> 1.38
G8: =E8*F8 -> 0
G9: =E9*F9 -> 0
G10: =E10*F10 -> 0
G11: =E11*F11 -> 0
G12: =E12*F12 -> 0
G13: =E13*F13 -> 0
G14: =E14*F14 -> 0
G15: =E15*F15 -> 0
F16: TOTAL HT | G16: =SUM(G6:G15) -> 158.98
E17: 0.2 | F17: TVA | G17: =G16*E17 -> 31.796
F18: TTC | G18: =+G16+G17 -> 190.776
C19: FACTURE | H19: Contrôle total facture
C20: HT facture | D20: 1303.55 | H20: =G25+G18+H26 -> 1564.26 | I20: =H20=D22 -> TRUE
C21: TVA facture | D21: 260.71
C22: TTC Facture | D22: 1564.26 | G22: HT | H22: TVA | I22: TTC
F23: Facture | G23: =D20 -> 1303.55 | H23: =D21 -> 260.71 | I23: =D22 -> 1564.26
F24: TVA 20% | G24: =G16 -> 158.98 | H24: =G17 -> 31.796 | I24: =G24+H24 -> 190.776
F25: Exonérée | G25: =G23-G24 -> 1144.57 | H25: 0 | I25: =SUM(G25:H25) -> 1144.57
A26: TVA SUR FACTURE EN FRANCHISE TVA - AVOIR A ETABLIR | H26: =H23-H24 -> 228.914
F27: Total TTC + HT franchise | I27: =I23-H26 -> 1335.346

Sheet 653
A1: FACTURE | B1: F21-00278 | C1: 44217
A3: COMMANDES SOUMISES A TVA
A5: Bons cdes | B5: Date | C5: Libellés | D5: OF | E5: Qtés | F5: PRIX UNIT | G5: Mont.h.t. | H5: Clients
G6: =E6*F6 -> 0
G7: =E7*F7 -> 0
G8: =E8*F8 -> 0
G9: =E9*F9 -> 0
G10: =E10*F10 -> 0
G11: =E11*F11 -> 0
G12: =E12*F12 -> 0
G13: =E13*F13 -> 0
G14: =E14*F14 -> 0
G15: =E15*F15 -> 0
F16: TOTAL HT | G16: =SUM(G6:G15) -> 0
E17: 0.2 | F17: TVA | G17: =G16*E17 -> 0
F18: TTC | G18: =+G16+G17 -> 0
C19: FACTURE | H19: Contrôle total facture
C20: HT facture | D20: 1493.62 | H20: =G25+G18+H26 -> 1792.34 | I20: =H20=D22 -> TRUE
C21: TVA facture | D21: 298.72
C22: TTC Facture | D22: 1792.34 | G22: HT | H22: TVA | I22: TTC
F23: Facture | G23: =D20 -> 1493.62 | H23: =D21 -> 298.72 | I23: =D22 -> 1792.34
F24: TVA 20% | G24: =G16 -> 0 | H24: =G17 -> 0 | I24: =G24+H24 -> 0
F25: Exonérée | G25: =G23-G24 -> 1493.62 | H25: 0 | I25: =SUM(G25:H25) -> 1493.62
A26: TVA SUR FACTURE EN FRANCHISE TVA - AVOIR A ETABLIR | H26: =H23-H24 -> 298.72
F27: Total TTC + HT franchise | I27: =I23-H26 -> 1493.62

Sheet 668
A1: FACTURE | B1: F21-00729 | C1: 44224
A3: COMMANDES SOUMISES A TVA
A5: Bons cdes | B5: Date | C5: Libellés | D5: OF | E5: Qtés | F5: PRIX UNIT | G5: Mont.h.t. | H5: Clients
A6: 4490 | B6: 44223 | C6: FGFB252463417A4 | D6: 147502 | E6: 5 | F6: 1.97 | G6: =E6*F6 -> 9.85
G7: =E7*F7 -> 0
G8: =E8*F8 -> 0
G9: =E9*F9 -> 0
G10: =E10*F10 -> 0
G11: =E11*F11 -> 0
G12: =E12*F12 -> 0
G13: =E13*F13 -> 0
G14: =E14*F14 -> 0
G15: =E15*F15 -> 0
F16: TOTAL HT | G16: =SUM(G6:G15) -> 9.85
E17: 0.2 | F17: TVA | G17: =G16*E17 -> 1.97
F18: TTC | G18: =+G16+G17 -> 11.82
C19: FACTURE | H19: Contrôle total facture
C20: HT facture | D20: 3197.87 | H20: =G25+G18+H26 -> 3831.23 | I20: =H20=D22 -> TRUE
C21: TVA facture | D21: 633.36
C22: TTC Facture | D22: 3831.23 | G22: HT | H22: TVA | I22: TTC
F23: Facture | G23: =D20 -> 3197.87 | H23: =D21 -> 633.36 | I23: =D22 -> 3831.23
F24: TVA 20% | G24: =G16 -> 9.85 | H24: =G17 -> 1.97 | I24: =G24+H24 -> 11.82
F25: Exonérée | G25: =G23-G24 -> 3188.02 | H25: 0 | I25: =SUM(G25:H25) -> 3188.02
A26: TVA SUR FACTURE EN FRANCHISE TVA - AVOIR A ETABLIR | H26: =H23-H24 -> 631.39
F27: Total TTC + HT franchise | I27: =I23-H26 -> 3199.84

Sheet 702
A1: FACTURE | B1: F21-00877 | C1: 44232
A3: COMMANDES SOUMISES A TVA
A5: Bons cdes | B5: Date | C5: Libellés | D5: OF | E5: Qtés | F5: PRIX UNIT | G5: Mont.h.t. | H5: Clients
A6: 4475 | B6: 44225 | C6: 350A72071220 | D6: 147136 | E6: 36 | F6: 1.68 | G6: =E6*F6 -> 60.48
A7: 4475 | B7: 44225 | C7: 350A72071221 | D7: 147137 | E7: 42 | F7: 1.68 | G7: =E7*F7 -> 70.56
G8: =E8*F8 -> 0
G9: =E9*F9 -> 0
G10: =E10*F10 -> 0
G11: =E11*F11 -> 0
G12: =E12*F12 -> 0
G13: =E13*F13 -> 0
G14: =E14*F14 -> 0
G15: =E15*F15 -> 0
F16: TOTAL HT | G16: =SUM(G6:G15) -> 131.04
E17: 0.2 | F17: TVA | G17: =G16*E17 -> 26.208
F18: TTC | G18: =+G16+G17 -> 157.248
C19: FACTURE | H19: Contrôle total facture
C20: HT facture | D20: 1252.49 | H20: =G25+G18+H26 -> 1495.5 | I20: =H20=D22 -> TRUE
C21: TVA facture | D21: 243.01
C22: TTC Facture | D22: 1495.5 | G22: HT | H22: TVA | I22: TTC
F23: Facture | G23: =D20 -> 1252.49 | H23: =D21 -> 243.01 | I23: =D22 -> 1495.5
F24: TVA 20% | G24: =G16 -> 131.04 | H24: =G17 -> 26.208 | I24: =G24+H24 -> 157.248
F25: Exonérée | G25: =G23-G24 -> 1121.45 | H25: 0 | I25: =SUM(G25:H25) -> 1121.45
A26: TVA SUR FACTURE EN FRANCHISE TVA - AVOIR A ETABLIR | H26: =H23-H24 -> 216.802
F27: Total TTC + HT franchise | I27: =I23-H26 -> 1278.698

Sheet 721
A1: FACTURE | B1: F21-00993 | C1: 44239
A3: COMMANDES SOUMISES A TVA
A5: Bons cdes | B5: Date | C5: Libellés | D5: OF | E5: Qtés | F5: PRIX UNIT | G5: Mont.h.t. | H5: Clients
A6: 4507 | B6: 44236 | C6: FGFB255509003D1Q | D6: 148647 | E6: 1 | F6: 6.99 | G6: =E6*F6 -> 6.99
A7: 4515 | B7: 44237 | C7: 39585816003 | D7: 148761 | E7: 1 | F7: 1.98 | G7: =E7*F7 -> 1.98
A8: 4515 | B8: 44237 | C8: 39585817003 | D8: 148770 | E8: 1 | F8: 1.98 | G8: =E8*F8 -> 1.98
G9: =E9*F9 -> 0
G10: =E10*F10 -> 0
G11: =E11*F11 -> 0
G12: =E12*F12 -> 0
G13: =E13*F13 -> 0
G14: =E14*F14 -> 0
G15: =E15*F15 -> 0
F16: TOTAL HT | G16: =SUM(G6:G15) -> 10.95
E17: 0.2 | F17: TVA | G17: =G16*E17 -> 2.19
F18: TTC | G18: =+G16+G17 -> 13.14
C19: FACTURE | H19: Contrôle total facture
C20: HT facture | D20: 783.14 | H20: =G25+G18+H26 -> 939.77 | I20: =H20=D22 -> TRUE
C21: TVA facture | D21: 156.63
C22: TTC Facture | D22: 939.77 | G22: HT | H22: TVA | I22: TTC
F23: Facture | G23: =D20 -> 783.14 | H23: =D21 -> 156.63 | I23: =D22 -> 939.77
F24: TVA 20% | G24: =G16 -> 10.95 | H24: =G17 -> 2.19 | I24: =G24+H24 -> 13.14
F25: Exonérée | G25: =G23-G24 -> 772.19 | H25: 0 | I25: =SUM(G25:H25) -> 772.19
A26: TVA SUR FACTURE EN FRANCHISE TVA - AVOIR A ETABLIR | H26: =H23-H24 -> 154.44
F27: Total TTC + HT franchise | I27: =I23-H26 -> 785.33

Sheet 736
A1: FACTURE | B1: F21-01172 | C1: 44246
A3: COMMANDES SOUMISES A TVA
A5: Bons cdes | B5: Date | C5: Libellés | D5: OF | E5: Qtés | F5: PRIX UNIT | G5: Mont.h.t. | H5: Clients
A6: 4521 | B6: 44245 | C6: FGFB25725001D1P | D6: 149180 | E6: 1 | F6: 7.52 | G6: =E6*F6 -> 7.52
C7: AOG (&) | D7: 149180 | E7: 1 | F7: 50 | G7: =E7*F7 -> 50
G8: =E8*F8 -> 0
G9: =E9*F9 -> 0
G10: =E10*F10 -> 0
G11: =E11*F11 -> 0
G12: =E12*F12 -> 0
G13: =E13*F13 -> 0
G14: =E14*F14 -> 0
G15: =E15*F15 -> 0
F16: TOTAL HT | G16: =SUM(G6:G15) -> 57.52
E17: 0.2 | F17: TVA | G17: =G16*E17 -> 11.504
F18: TTC | G18: =+G16+G17 -> 69.024
C19: FACTURE | H19: Contrôle total facture
C20: HT facture | D20: 1456.08 | H20: =G25+G18+H26 -> 1747.3 | I20: =H20=D22 -> TRUE
C21: TVA facture | D21: 291.22
C22: TTC Facture | D22: 1747.3 | G22: HT | H22: TVA | I22: TTC
F23: Facture | G23: =D20 -> 1456.08 | H23: =D21 -> 291.22 | I23: =D22 -> 1747.3
F24: TVA 20% | G24: =G16 -> 57.52 | H24: =G17 -> 11.504 | I24: =G24+H24 -> 69.024
F25: Exonérée | G25: =G23-G24 -> 1398.56 | H25: 0 | I25: =SUM(G25:H25) -> 1398.56
A26: TVA SUR FACTURE EN FRANCHISE TVA - AVOIR A ETABLIR | H26: =H23-H24 -> 279.716
F27: Total TTC + HT franchise | I27: =I23-H26 -> 1467.584

Sheet 780
A1: FACTURE | B1: F21-01770 | C1: 44253
A3: COMMANDES SOUMISES A TVA
A5: Bons cdes | B5: Date | C5: Libellés | D5: OF | E5: Qtés | F5: PRIX UNIT | G5: Mont.h.t. | H5: Clients
A6: 4523 | B6: 44252 | C6: FGFB252461021 | D6: 149210 | E6: 1 | F6: 2.44 | G6: =E6*F6 -> 2.44
A7: 4539 | B7: 44251 | C7: RP1M722270 | D7: 149461 | E7: 1 | F7: 1.38 | G7: =E7*F7 -> 1.38
A8: 4541 | B8: 44251 | C8: RP1M722270 | D8: 149463 | E8: 1 | F8: 1.38 | G8: =E8*F8 -> 1.38
G9: =E9*F9 -> 0
G10: =E10*F10 -> 0
G11: =E11*F11 -> 0
G12: =E12*F12 -> 0
G13: =E13*F13 -> 0
G14: =E14*F14 -> 0
G15: =E15*F15 -> 0
F16: TOTAL HT | G16: =SUM(G6:G15) -> 5.2
E17: 0.2 | F17: TVA | G17: =G16*E17 -> 1.04
F18: TTC | G18: =+G16+G17 -> 6.24
C19: FACTURE | H19: Contrôle total facture
C20: HT facture | D20: 1041.41 | H20: =G25+G18+H26 -> 1238.05 | I20: =H20=D22 -> TRUE
C21: TVA facture | D21: 196.64
C22: TTC Facture | D22: 1238.05 | G22: HT | H22: TVA | I22: TTC
F23: Facture | G23: =D20 -> 1041.41 | H23: =D21 -> 196.64 | I23: =D22 -> 1238.05
F24: TVA 20% | G24: =G16 -> 5.2 | H24: =G17 -> 1.04 | I24: =G24+H24 -> 6.24
F25: Exonérée | G25: =G23-G24 -> 1036.21 | H25: 0 | I25: =SUM(G25:H25) -> 1036.21
A26: TVA SUR FACTURE EN FRANCHISE TVA - AVOIR A ETABLIR | H26: =H23-H24 -> 195.6
F27: Total TTC + HT franchise | I27: =I23-H26 -> 1042.45

Sheet 822
A1: FACTURE | B1: F21-02020 | C1: 44264
A3: COMMANDES SOUMISES A TVA
A5: Bons cdes | B5: Date | C5: Libellés | D5: OF | E5: Qtés | F5: PRIX UNIT | G5: Mont.h.t. | H5: Clients
A6: 4545 | B6: 44258 | C6: F50B161000139B2 | D6: 148595 | E6: 10 | F6: 2.57 | G6: =E6*F6 -> 25.7
G7: =E7*F7 -> 0
G8: =E8*F8 -> 0
G9: =E9*F9 -> 0
G10: =E10*F10 -> 0
G11: =E11*F11 -> 0
G12: =E12*F12 -> 0
G13: =E13*F13 -> 0
G14: =E14*F14 -> 0
G15: =E15*F15 -> 0
F16: TOTAL HT | G16: =SUM(G6:G15) -> 25.7
E17: 0.2 | F17: TVA | G17: =G16*E17 -> 5.14
F18: TTC | G18: =+G16+G17 -> 30.84
C19: FACTURE | H19: Contrôle total facture
C20: HT facture | D20: 3038.31 | H20: =G25+G18+H26 -> 3645.97 | I20: =H20=D22 -> TRUE
C21: TVA facture | D21: 607.66
C22: TTC Facture | D22: 3645.97 | G22: HT | H22: TVA | I22: TTC
F23: Facture | G23: =D20 -> 3038.31 | H23: =D21 -> 607.66 | I23: =D22 -> 3645.97
F24: TVA 20% | G24: =G16 -> 25.7 | H24: =G17 -> 5.14 | I24: =G24+H24 -> 30.84
F25: Exonérée | G25: =G23-G24 -> 3012.61 | H25: 0 | I25: =SUM(G25:H25) -> 3012.61
A26: TVA SUR FACTURE EN FRANCHISE TVA - AVOIR A ETABLIR | H26: =H23-H24 -> 602.52
F27: Total TTC + HT franchise | I27: =I23-H26 -> 3043.45
