Workbook

Sheet "Moyenne"
A1: Question | CY1: Oui, tout à fait d'accord | CZ1: Plutôt d'accord | DA1: Plutôt pas d'accord | DB1: Non, pas du tout d'accord | DC1: Non concerné | DE1: MAX | DF1: CLIENTS | DG1: Oui, tout à fait d'accord | DH1: Plutôt d'accord | DI1: Plutôt pas d'accord | DJ1: Non, pas du tout d'accord | DK1: Non concerné | DM1: MAX | DN1: FOURNISSEURS | DO1: Oui, tout à fait d'accord | DP1: Plutôt d'accord | DQ1: Plutôt pas d'accord | DR1: Non, pas du tout d'accord | DS1: Non concerné | DU1: MAX | DV1: COLLECTIVITE/ORG. LOCAL | DW1: Oui, tout à fait d'accord | DX1: Plutôt d'accord | DY1: Plutôt pas d'accord | DZ1: Non, pas du tout d'accord | EA1: Non concerné | EC1: MAX | ED1: COLLABORATEUR/SALARIE | EE1: Oui, tout à fait d'accord | EF1: Plutôt d'accord | EG1: Plutôt pas d'accord | EH1: Non, pas du tout d'accord | EI1: Non concerné | EK1: MAX | EL1: PRESTATAIRE | EM1: Oui, tout à fait d'accord | EN1: Plutôt d'accord | EO1: Plutôt pas d'accord | EP1: Non, pas du tout d'accord | EQ1: Non concerné | ES1: MAX | ET1: ACTIONNAIRE | EU1: Oui, tout à fait d'accord | EV1: Plutôt d'accord | EW1: Plutôt pas d'accord | EX1: Non, pas du tout d'accord | EY1: Non concerné | FA1: MAX | FB1: AUTRE | FC1: Oui, tout à fait d'accord | FD1: Plutôt d'accord | FE1: Plutôt pas d'accord | FF1: Non, pas du tout d'accord | FG1: Non concerné | FI1: MAX | FJ1: GENERAL | FK1: Nb de max | FL1: GENERAL | FM1: Oui, tout à fait d'accord | FN1: Plutôt d'accord | FO1: Plutôt pas d'accord | FP1: Non, pas du tout d'accord | FQ1: Non concerné | FR1: MOYENNE
A2: G1 | B2: =CONCATENATE([1]Général!C$3,[1]Général!C4) -> Un clientPlutôt d'accord | C2: =CONCATENATE([1]Général!D$3,[1]Général!D4) -> Un clientPlutôt d'accord | D2: =CONCATENATE([1]Général!E$3,[1]Général!E4) -> Un clientOui, tout à fait d'accord | E2: =CONCATENATE([1]Général!F$3,[1]Général!F4) -> Un clientOui, tout à fait d'accord | F2: =CONCATENATE([1]Général!G$3,[1]Général!G4) | G2: =CONCATENATE([1]Général!H$3,[1]Général!H4) | H2: =CONCATENATE([1]Général!I$3,[1]Général!I4) | I2: =CONCATENATE([1]Général!J$3,[1]Général!J4) | ... CW2: =CONCATENATE([1]Général!CX$3,[1]Général!CX4) | CY2: =COUNTIF($A2:$CW2,(CONCATENATE("Un client",CY$1))) -> 2 | CZ2: =COUNTIF($A2:$CW2,(CONCATENATE("Un client",CZ$1))) -> 2 | DA2: =COUNTIF($A2:$CW2,(CONCATENATE("Un client",DA$1))) -> 0 | DB2: =COUNTIF($A2:$CW2,(CONCATENATE("Un client",DB$1))) -> 0 | DC2: =COUNTIF($A2:$CW2,(CONCATENATE("Un client",DC$1))) -> 0 | DD2: 39 | DE2: =MAX(CY2:DC2) -> 2 | DF2: =IF(DE2=0,"",HLOOKUP(DE2,CY2:DC$40,DD2,FALSE)) -> Oui, tout à fait d'accord | DG2: =COUNTIF($A2:$CW2,(CONCATENATE("Un fournisseur",DG$1))) -> 0 | DH2: =COUNTIF($A2:$CW2,(CONCATENATE("Un fournisseur",DH$1))) -> 0 | DI2: =COUNTIF($A2:$CW2,(CONCATENATE("Un fournisseur",DI$1))) -> 0 | DJ2: =COUNTIF($A2:$CW2,(CONCATENATE("Un fournisseur",DJ$1))) -> 0 | DK2: =COUNTIF($A2:$CW2,(CONCATENATE("Un fournisseur",DK$1))) -> 0 | DL2: 39 | DM2: =MAX(DG2:DK2) -> 0 | DN2: =IF(DM2=0,"",HLOOKUP(DM2,DG2:DK$40,DL2,FALSE)) | DO2: =COUNTIF($A2:$CW2,(CONCATENATE("Une collectivité/organisme local",DO$1))) -> 0 | DP2: =COUNTIF($A2:$CW2,(CONCATENATE("Une collectivité/organisme local",DP$1))) -> 0 | DQ2: =COUNTIF($A2:$CW2,(CONCATENATE("Une collectivité/organisme local",DQ$1))) -> 0 | DR2: =COUNTIF($A2:$CW2,(CONCATENATE("Une collectivité/organisme local",DR$1))) -> 0 | DS2: =COUNTIF($A2:$CW2,(CONCATENATE("Une collectivité/organisme local",DS$1))) -> 0 | DT2: 39 | DU2: =MAX(DO2:DS2) -> 0 | DV2: =IF(DU2=0,"",HLOOKUP(DU2,DO2:DS$40,DT2,FALSE)) | DW2: =COUNTIF($A2:$CW2,(CONCATENATE("Un collaborateur/salarié",DW$1))) -> 0 | DX2: =COUNTIF($A2:$CW2,(CONCATENATE("Un collaborateur/salarié",DX$1))) -> 0 | DY2: =COUNTIF($A2:$CW2,(CONCATENATE("Un collaborateur/salarié",DY$1))) -> 0 | DZ2: =COUNTIF($A2:$CW2,(CONCATENATE("Un collaborateur/salarié",DZ$1))) -> 0 | EA2: =COUNTIF($A2:$CW2,(CONCATENATE("Un collaborateur/salarié",EA$1))) -> 0 | EB2: 39 | EC2: =MAX(DW2:EA2) -> 0 | ED2: =IF(EC2=0,"",HLOOKUP(EC2,DW2:EA$40,EB2,FALSE)) | EE2: =COUNTIF($A2:$CW2,(CONCATENATE("Un prestataire",EE$1))) -> 0 | EF2: =COUNTIF($A2:$CW2,(CONCATENATE("Un prestataire",EF$1))) -> 0 | EG2: =COUNTIF($A2:$CW2,(CONCATENATE("Un prestataire",EG$1))) -> 0 | EH2: =COUNTIF($A2:$CW2,(CONCATENATE("Un prestataire",EH$1))) -> 0 | EI2: =COUNTIF($A2:$CW2,(CONCATENATE("Un prestataire",EI$1))) -> 0 | EJ2: 39 | EK2: =MAX(EE2:EI2) -> 0 | EL2: =IF(EK2=0,"",HLOOKUP(EK2,EE2:EI$40,EJ2,FALSE)) | EM2: =COUNTIF($A2:$CW2,(CONCATENATE("Un actionnaire",EM$1))) -> 0 | EN2: =COUNTIF($A2:$CW2,(CONCATENATE("Un actionnaire",EN$1))) -> 0 | EO2: =COUNTIF($A2:$CW2,(CONCATENATE("Un actionnaire",EO$1))) -> 0 | EP2: =COUNTIF($A2:$CW2,(CONCATENATE("Un actionnaire",EP$1))) -> 0 | EQ2: =COUNTIF($A2:$CW2,(CONCATENATE("Un actionnaire",EQ$1))) -> 0 | ER2: 39 | ES2: =MAX(EM2:EQ2) -> 0 | ET2: =IF(ES2=0,"",HLOOKUP(ES2,EM2:EQ$40,ER2,FALSE)) | EU2: =COUNTIF($A2:$CW2,(CONCATENATE("Autre",EU$1))) -> 0 | EV2: =COUNTIF($A2:$CW2,(CONCATENATE("Autre",EV$1))) -> 0 | EW2: =COUNTIF($A2:$CW2,(CONCATENATE("Autre",EW$1))) -> 0 | EX2: =COUNTIF($A2:$CW2,(CONCATENATE("Autre",EX$1))) -> 0 | EY2: =COUNTIF($A2:$CW2,(CONCATENATE("Autre",EY$1))) -> 0 | EZ2: 39 | FA2: =MAX(EU2:EY2) -> 0 | FB2: =IF(FA2=0,"",HLOOKUP(FA2,EU2:EY$40,EZ2,FALSE)) | FC2: =COUNTIF([1]Général!$C4:$CX4,FC$1) -> 2 | FD2: =COUNTIF([1]Général!$C4:$CX4,FD$1) -> 2 | FE2: =COUNTIF([1]Général!$C4:$CX4,FE$1) -> 0 | FF2: =COUNTIF([1]Général!$C4:$CX4,FF$1) -> 0 | FG2: =COUNTIF([1]Général!$C4:$CX4,FG$1) -> 0 | FH2: 39 | FI2: =MAX(FC2:FG2) -> 2 | FJ2: =IF(FI2<1,"",HLOOKUP(FI2,FC2:FG$40,FH2,FALSE)) -> Oui, tout à fait d'accord | FK2: =COUNTIFS(FC2:FG2,FI2) -> 2 | FL2: =IF(FK2>1,FS2,FJ2) -> Oui, tout à fait d'accord | FM2: =IF($FI2=FC2,"1","0") -> 1 | FN2: =IF($FI2=FD2,"10","0") -> 10 | FO2: =IF($FI2=FE2,"100","0") -> 0 | FP2: =IF($FI2=FF2,"1000","0") -> 0 | FQ2: =IF($FI2=FG2,"10000","0") -> 0 | FR2: =(FM2+FN2+FO2+FP2+FQ2)/5 -> 2.2 | FS2: =IF($FR2<10,$FM$1,(IF(AND($FR2>1,$FR2<100),$FN$1,(IF(AND($FR2>10,$FR2<1000),$FO$1,(IF(AND($FR2>999,$FR2<1010),$FP$1,$FQ$1))))))) -> Oui, tout à fait d'accord
A3: G2 | B3: =CONCATENATE([1]Général!C$3,[1]Général!C5) -> Un clientNon, pas du tout d'accord | C3: =CONCATENATE([1]Général!D$3,[1]Général!D5) -> Un clientNon, pas du tout d'accord | D3: =CONCATENATE([1]Général!E$3,[1]Général!E5) -> Un clientOui, tout à fait d'accord | E3: =CONCATENATE([1]Général!F$3,[1]Général!F5) -> Un clientOui, tout à fait d'accord | F3: =CONCATENATE([1]Général!G$3,[1]Général!G5) | G3: =CONCATENATE([1]Général!H$3,[1]Général!H5) | H3: =CONCATENATE([1]Général!I$3,[1]Général!I5) | I3: =CONCATENATE([1]Général!J$3,[1]Général!J5) | ... CW3: =CONCATENATE([1]Général!CX$3,[1]Général!CX5) | CY3: =COUNTIF($A3:$CW3,(CONCATENATE("Un client",CY$1))) -> 2 | CZ3: =COUNTIF($A3:$CW3,(CONCATENATE("Un client",CZ$1))) -> 0 | DA3: =COUNTIF($A3:$CW3,(CONCATENATE("Un client",DA$1))) -> 0 | DB3: =COUNTIF($A3:$CW3,(CONCATENATE("Un client",DB$1))) -> 2 | DC3: =COUNTIF($A3:$CW3,(CONCATENATE("Un client",DC$1))) -> 0 | DD3: 38 | DE3: =MAX(CY3:DC3) -> 2 | DF3: =IF(DE3=0,"",HLOOKUP(DE3,CY3:DC$40,DD3,FALSE)) -> Oui, tout à fait d'accord | DG3: =COUNTIF($A3:$CW3,(CONCATENATE("Un fournisseur",DG$1))) -> 0 | DH3: =COUNTIF($A3:$CW3,(CONCATENATE("Un fournisseur",DH$1))) -> 0 | DI3: =COUNTIF($A3:$CW3,(CONCATENATE("Un fournisseur",DI$1))) -> 0 | DJ3: =COUNTIF($A3:$CW3,(CONCATENATE("Un fournisseur",DJ$1))) -> 0 | DK3: =COUNTIF($A3:$CW3,(CONCATENATE("Un fournisseur",DK$1))) -> 0 | DL3: 38 | DM3: =MAX(DG3:DK3) -> 0 | DN3: =IF(DM3=0,"",HLOOKUP(DM3,DG3:DK$40,DL3,FALSE)) | DO3: =COUNTIF($A3:$CW3,(CONCATENATE("Une collectivité/organisme local",DO$1))) -> 0 | DP3: =COUNTIF($A3:$CW3,(CONCATENATE("Une collectivité/organisme local",DP$1))) -> 0 | DQ3: =COUNTIF($A3:$CW3,(CONCATENATE("Une collectivité/organisme local",DQ$1))) -> 0 | DR3: =COUNTIF($A3:$CW3,(CONCATENATE("Une collectivité/organisme local",DR$1))) -> 0 | DS3: =COUNTIF($A3:$CW3,(CONCATENATE("Une collectivité/organisme local",DS$1))) -> 0 | DT3: 38 | DU3: =MAX(DO3:DS3) -> 0 | DV3: =IF(DU3=0,"",HLOOKUP(DU3,DO3:DS$40,DT3,FALSE)) | DW3: =COUNTIF($A3:$CW3,(CONCATENATE("Un collaborateur/salarié",DW$1))) -> 0 | DX3: =COUNTIF($A3:$CW3,(CONCATENATE("Un collaborateur/salarié",DX$1))) -> 0 | DY3: =COUNTIF($A3:$CW3,(CONCATENATE("Un collaborateur/salarié",DY$1))) -> 0 | DZ3: =COUNTIF($A3:$CW3,(CONCATENATE("Un collaborateur/salarié",DZ$1))) -> 0 | EA3: =COUNTIF($A3:$CW3,(CONCATENATE("Un collaborateur/salarié",EA$1))) -> 0 | EB3: 38 | EC3: =MAX(DW3:EA3) -> 0 | ED3: =IF(EC3=0,"",HLOOKUP(EC3,DW3:EA$40,EB3,FALSE)) | EE3: =COUNTIF($A3:$CW3,(CONCATENATE("Un prestataire",EE$1))) -> 0 | EF3: =COUNTIF($A3:$CW3,(CONCATENATE("Un prestataire",EF$1))) -> 0 | EG3: =COUNTIF($A3:$CW3,(CONCATENATE("Un prestataire",EG$1))) -> 0 | EH3: =COUNTIF($A3:$CW3,(CONCATENATE("Un prestataire",EH$1))) -> 0 | EI3: =COUNTIF($A3:$CW3,(CONCATENATE("Un prestataire",EI$1))) -> 0 | EJ3: 38 | EK3: =MAX(EE3:EI3) -> 0 | EL3: =IF(EK3=0,"",HLOOKUP(EK3,EE3:EI$40,EJ3,FALSE)) | EM3: =COUNTIF($A3:$CW3,(CONCATENATE("Un actionnaire",EM$1))) -> 0 | EN3: =COUNTIF($A3:$CW3,(CONCATENATE("Un actionnaire",EN$1))) -> 0 | EO3: =COUNTIF($A3:$CW3,(CONCATENATE("Un actionnaire",EO$1))) -> 0 | EP3: =COUNTIF($A3:$CW3,(CONCATENATE("Un actionnaire",EP$1))) -> 0 | EQ3: =COUNTIF($A3:$CW3,(CONCATENATE("Un actionnaire",EQ$1))) -> 0 | ER3: 38 | ES3: =MAX(EM3:EQ3) -> 0 | ET3: =IF(ES3=0,"",HLOOKUP(ES3,EM3:EQ$40,ER3,FALSE)) | EU3: =COUNTIF($A3:$CW3,(CONCATENATE("Autre",EU$1))) -> 0 | EV3: =COUNTIF($A3:$CW3,(CONCATENATE("Autre",EV$1))) -> 0 | EW3: =COUNTIF($A3:$CW3,(CONCATENATE("Autre",EW$1))) -> 0 | EX3: =COUNTIF($A3:$CW3,(CONCATENATE("Autre",EX$1))) -> 0 | EY3: =COUNTIF($A3:$CW3,(CONCATENATE("Autre",EY$1))) -> 0 | EZ3: 38 | FA3: =MAX(EU3:EY3) -> 0 | FB3: =IF(FA3=0,"",HLOOKUP(FA3,EU3:EY$40,EZ3,FALSE)) | FC3: =COUNTIF([1]Général!$C5:$CX5,FC$1) -> 2 | FD3: =COUNTIF([1]Général!$C5:$CX5,FD$1) -> 0 | FE3: =COUNTIF([1]Général!$C5:$CX5,FE$1) -> 0 | FF3: =COUNTIF([1]Général!$C5:$CX5,FF$1) -> 2 | FG3: =COUNTIF([1]Général!$C5:$CX5,FG$1) -> 0 | FH3: 38 | FI3: =MAX(FC3:FG3) -> 2 | FJ3: =IF(FI3<1,"",HLOOKUP(FI3,FC3:FG$40,FH3,FALSE)) -> Oui, tout à fait d'accord | FK3: =COUNTIFS(FC3:FG3,FI3) -> 2 | FL3: =IF(FK3>1,FS3,FJ3) -> Plutôt pas d'accord | FM3: =IF($FI3=FC3,"1","0") -> 1 | FN3: =IF($FI3=FD3,"10","0") -> 0 | FO3: =IF($FI3=FE3,"100","0") -> 0 | FP3: =IF($FI3=FF3,"1000","0") -> 1000 | FQ3: =IF($FI3=FG3,"10000","0") -> 0 | FR3: =(FM3+FN3+FO3+FP3+FQ3)/5 -> 200.2 | FS3: =IF($FR3<10,$FM$1,(IF(AND($FR3>1,$FR3<100),$FN$1,(IF(AND($FR3>10,$FR3<1000),$FO$1,(IF(AND($FR3>999,$FR3<1010),$FP$1,$FQ$1))))))) -> Plutôt pas d'accord
A4: G3 | B4: =CONCATENATE([1]Général!C$3,[1]Général!C6) -> Un clientPlutôt d'accord | C4: =CONCATENATE([1]Général!D$3,[1]Général!D6) -> Un clientPlutôt d'accord | D4: =CONCATENATE([1]Général!E$3,[1]Général!E6) -> Un clientOui, tout à fait d'accord | E4: =CONCATENATE([1]Général!F$3,[1]Général!F6) -> Un clientOui, tout à fait d'accord | F4: =CONCATENATE([1]Général!G$3,[1]Général!G6) | G4: =CONCATENATE([1]Général!H$3,[1]Général!H6) | H4: =CONCATENATE([1]Général!I$3,[1]Général!I6) | I4: =CONCATENATE([1]Général!J$3,[1]Général!J6) | ... CW4: =CONCATENATE([1]Général!CX$3,[1]Général!CX6) | CY4: =COUNTIF($A4:$CW4,(CONCATENATE("Un client",CY$1))) -> 2 | CZ4: =COUNTIF($A4:$CW4,(CONCATENATE("Un client",CZ$1))) -> 2 | DA4: =COUNTIF($A4:$CW4,(CONCATENATE("Un client",DA$1))) -> 0 | DB4: =COUNTIF($A4:$CW4,(CONCATENATE("Un client",DB$1))) -> 0 | DC4: =COUNTIF($A4:$CW4,(CONCATENATE("Un client",DC$1))) -> 0 | DD4: 37 | DE4: =MAX(CY4:DC4) -> 2 | DF4: =IF(DE4=0,"",HLOOKUP(DE4,CY4:DC$40,DD4,FALSE)) -> Oui, tout à fait d'accord | DG4: =COUNTIF($A4:$CW4,(CONCATENATE("Un fournisseur",DG$1))) -> 0 | DH4: =COUNTIF($A4:$CW4,(CONCATENATE("Un fournisseur",DH$1))) -> 0 | DI4: =COUNTIF($A4:$CW4,(CONCATENATE("Un fournisseur",DI$1))) -> 0 | DJ4: =COUNTIF($A4:$CW4,(CONCATENATE("Un fournisseur",DJ$1))) -> 0 | DK4: =COUNTIF($A4:$CW4,(CONCATENATE("Un fournisseur",DK$1))) -> 0 | DL4: 37 | DM4: =MAX(DG4:DK4) -> 0 | DN4: =IF(DM4=0,"",HLOOKUP(DM4,DG4:DK$40,DL4,FALSE)) | DO4: =COUNTIF($A4:$CW4,(CONCATENATE("Une collectivité/organisme local",DO$1))) -> 0 | DP4: =COUNTIF($A4:$CW4,(CONCATENATE("Une collectivité/organisme local",DP$1))) -> 0 | DQ4: =COUNTIF($A4:$CW4,(CONCATENATE("Une collectivité/organisme local",DQ$1))) -> 0 | DR4: =COUNTIF($A4:$CW4,(CONCATENATE("Une collectivité/organisme local",DR$1))) -> 0 | DS4: =COUNTIF($A4:$CW4,(CONCATENATE("Une collectivité/organisme local",DS$1))) -> 0 | DT4: 37 | DU4: =MAX(DO4:DS4) -> 0 | DV4: =IF(DU4=0,"",HLOOKUP(DU4,DO4:DS$40,DT4,FALSE)) | DW4: =COUNTIF($A4:$CW4,(CONCATENATE("Un collaborateur/salarié",DW$1))) -> 0 | DX4: =COUNTIF($A4:$CW4,(CONCATENATE("Un collaborateur/salarié",DX$1))) -> 0 | DY4: =COUNTIF($A4:$CW4,(CONCATENATE("Un collaborateur/salarié",DY$1))) -> 0 | DZ4: =COUNTIF($A4:$CW4,(CONCATENATE("Un collaborateur/salarié",DZ$1))) -> 0 | EA4: =COUNTIF($A4:$CW4,(CONCATENATE("Un collaborateur/salarié",EA$1))) -> 0 | EB4: 37 | EC4: =MAX(DW4:EA4) -> 0 | ED4: =IF(EC4=0,"",HLOOKUP(EC4,DW4:EA$40,EB4,FALSE)) | EE4: =COUNTIF($A4:$CW4,(CONCATENATE("Un prestataire",EE$1))) -> 0 | EF4: =COUNTIF($A4:$CW4,(CONCATENATE("Un prestataire",EF$1))) -> 0 | EG4: =COUNTIF($A4:$CW4,(CONCATENATE("Un prestataire",EG$1))) -> 0 | EH4: =COUNTIF($A4:$CW4,(CONCATENATE("Un prestataire",EH$1))) -> 0 | EI4: =COUNTIF($A4:$CW4,(CONCATENATE("Un prestataire",EI$1))) -> 0 | EJ4: 37 | EK4: =MAX(EE4:EI4) -> 0 | EL4: =IF(EK4=0,"",HLOOKUP(EK4,EE4:EI$40,EJ4,FALSE)) | EM4: =COUNTIF($A4:$CW4,(CONCATENATE("Un actionnaire",EM$1))) -> 0 | EN4: =COUNTIF($A4:$CW4,(CONCATENATE("Un actionnaire",EN$1))) -> 0 | EO4: =COUNTIF($A4:$CW4,(CONCATENATE("Un actionnaire",EO$1))) -> 0 | EP4: =COUNTIF($A4:$CW4,(CONCATENATE("Un actionnaire",EP$1))) -> 0 | EQ4: =COUNTIF($A4:$CW4,(CONCATENATE("Un actionnaire",EQ$1))) -> 0 | ER4: 37 | ES4: =MAX(EM4:EQ4) -> 0 | ET4: =IF(ES4=0,"",HLOOKUP(ES4,EM4:EQ$40,ER4,FALSE)) | EU4: =COUNTIF($A4:$CW4,(CONCATENATE("Autre",EU$1))) -> 0 | EV4: =COUNTIF($A4:$CW4,(CONCATENATE("Autre",EV$1))) -> 0 | EW4: =COUNTIF($A4:$CW4,(CONCATENATE("Autre",EW$1))) -> 0 | EX4: =COUNTIF($A4:$CW4,(CONCATENATE("Autre",EX$1))) -> 0 | EY4: =COUNTIF($A4:$CW4,(CONCATENATE("Autre",EY$1))) -> 0 | EZ4: 37 | FA4: =MAX(EU4:EY4) -> 0 | FB4: =IF(FA4=0,"",HLOOKUP(FA4,EU4:EY$40,EZ4,FALSE)) | FC4: =COUNTIF([1]Général!$C6:$CX6,FC$1) -> 2 | FD4: =COUNTIF([1]Général!$C6:$CX6,FD$1) -> 2 | FE4: =COUNTIF([1]Général!$C6:$CX6,FE$1) -> 0 | FF4: =COUNTIF([1]Général!$C6:$CX6,FF$1) -> 0 | FG4: =COUNTIF([1]Général!$C6:$CX6,FG$1) -> 0 | FH4: 37 | FI4: =MAX(FC4:FG4) -> 2 | FJ4: =IF(FI4<1,"",HLOOKUP(FI4,FC4:FG$40,FH4,FALSE)) -> Oui, tout à fait d'accord | FK4: =COUNTIFS(FC4:FG4,FI4) -> 2 | FL4: =IF(FK4>1,FS4,FJ4) -> Oui, tout à fait d'accord | FM4: =IF($FI4=FC4,"1","0") -> 1 | FN4: =IF($FI4=FD4,"10","0") -> 10 | FO4: =IF($FI4=FE4,"100","0") -> 0 | FP4: =IF($FI4=FF4,"1000","0") -> 0 | FQ4: =IF($FI4=FG4,"10000","0") -> 0 | FR4: =(FM4+FN4+FO4+FP4+FQ4)/5 -> 2.2 | FS4: =IF($FR4<10,$FM$1,(IF(AND($FR4>1,$FR4<100),$FN$1,(IF(AND($FR4>10,$FR4<1000),$FO$1,(IF(AND($FR4>999,$FR4<1010),$FP$1,$FQ$1))))))) -> Oui, tout à fait d'accord
A5: G4 | B5: =CONCATENATE([1]Général!C$3,[1]Général!C7) -> Un clientNon, pas du tout d'accord | C5: =CONCATENATE([1]Général!D$3,[1]Général!D7) -> Un clientNon concerné | D5: =CONCATENATE([1]Général!E$3,[1]Général!E7) -> Un clientNon concerné | E5: =CONCATENATE([1]Général!F$3,[1]Général!F7) -> Un clientNon concerné | F5: =CONCATENATE([1]Général!G$3,[1]Général!G7) | G5: =CONCATENATE([1]Général!H$3,[1]Général!H7) | H5: =CONCATENATE([1]Général!I$3,[1]Général!I7) | I5: =CONCATENATE([1]Général!J$3,[1]Général!J7) | ... CW5: =CONCATENATE([1]Général!CX$3,[1]Général!CX7) | CY5: =COUNTIF($A5:$CW5,(CONCATENATE("Un client",CY$1))) -> 0 | CZ5: =COUNTIF($A5:$CW5,(CONCATENATE("Un client",CZ$1))) -> 0 | DA5: =COUNTIF($A5:$CW5,(CONCATENATE("Un client",DA$1))) -> 0 | DB5: =COUNTIF($A5:$CW5,(CONCATENATE("Un client",DB$1))) -> 1 | DC5: =COUNTIF($A5:$CW5,(CONCATENATE("Un client",DC$1))) -> 3 | DD5: 36 | DE5: =MAX(CY5:DC5) -> 3 | DF5: =IF(DE5=0,"",HLOOKUP(DE5,CY5:DC$40,DD5,FALSE)) -> Non concerné | DG5: =COUNTIF($A5:$CW5,(CONCATENATE("Un fournisseur",DG$1))) -> 0 | DH5: =COUNTIF($A5:$CW5,(CONCATENATE("Un fournisseur",DH$1))) -> 0 | DI5: =COUNTIF($A5:$CW5,(CONCATENATE("Un fournisseur",DI$1))) -> 0 | DJ5: =COUNTIF($A5:$CW5,(CONCATENATE("Un fournisseur",DJ$1))) -> 0 | DK5: =COUNTIF($A5:$CW5,(CONCATENATE("Un fournisseur",DK$1))) -> 0 | DL5: 36 | DM5: =MAX(DG5:DK5) -> 0 | DN5: =IF(DM5=0,"",HLOOKUP(DM5,DG5:DK$40,DL5,FALSE)) | DO5: =COUNTIF($A5:$CW5,(CONCATENATE("Une collectivité/organisme local",DO$1))) -> 0 | DP5: =COUNTIF($A5:$CW5,(CONCATENATE("Une collectivité/organisme local",DP$1))) -> 0 | DQ5: =COUNTIF($A5:$CW5,(CONCATENATE("Une collectivité/organisme local",DQ$1))) -> 0 | DR5: =COUNTIF($A5:$CW5,(CONCATENATE("Une collectivité/organisme local",DR$1))) -> 0 | DS5: =COUNTIF($A5:$CW5,(CONCATENATE("Une collectivité/organisme local",DS$1))) -> 0 | DT5: 36 | DU5: =MAX(DO5:DS5) -> 0 | DV5: =IF(DU5=0,"",HLOOKUP(DU5,DO5:DS$40,DT5,FALSE)) | DW5: =COUNTIF($A5:$CW5,(CONCATENATE("Un collaborateur/salarié",DW$1))) -> 0 | DX5: =COUNTIF($A5:$CW5,(CONCATENATE("Un collaborateur/salarié",DX$1))) -> 0 | DY5: =COUNTIF($A5:$CW5,(CONCATENATE("Un collaborateur/salarié",DY$1))) -> 0 | DZ5: =COUNTIF($A5:$CW5,(CONCATENATE("Un collaborateur/salarié",DZ$1))) -> 0 | EA5: =COUNTIF($A5:$CW5,(CONCATENATE("Un collaborateur/salarié",EA$1))) -> 0 | EB5: 36 | EC5: =MAX(DW5:EA5) -> 0 | ED5: =IF(EC5=0,"",HLOOKUP(EC5,DW5:EA$40,EB5,FALSE)) | EE5: =COUNTIF($A5:$CW5,(CONCATENATE("Un prestataire",EE$1))) -> 0 | EF5: =COUNTIF($A5:$CW5,(CONCATENATE("Un prestataire",EF$1))) -> 0 | EG5: =COUNTIF($A5:$CW5,(CONCATENATE("Un prestataire",EG$1))) -> 0 | EH5: =COUNTIF($A5:$CW5,(CONCATENATE("Un prestataire",EH$1))) -> 0 | EI5: =COUNTIF($A5:$CW5,(CONCATENATE("Un prestataire",EI$1))) -> 0 | EJ5: 36 | EK5: =MAX(EE5:EI5) -> 0 | EL5: =IF(EK5=0,"",HLOOKUP(EK5,EE5:EI$40,EJ5,FALSE)) | EM5: =COUNTIF($A5:$CW5,(CONCATENATE("Un actionnaire",EM$1))) -> 0 | EN5: =COUNTIF($A5:$CW5,(CONCATENATE("Un actionnaire",EN$1))) -> 0 | EO5: =COUNTIF($A5:$CW5,(CONCATENATE("Un actionnaire",EO$1))) -> 0 | EP5: =COUNTIF($A5:$CW5,(CONCATENATE("Un actionnaire",EP$1))) -> 0 | EQ5: =COUNTIF($A5:$CW5,(CONCATENATE("Un actionnaire",EQ$1))) -> 0 | ER5: 36 | ES5: =MAX(EM5:EQ5) -> 0 | ET5: =IF(ES5=0,"",HLOOKUP(ES5,EM5:EQ$40,ER5,FALSE)) | EU5: =COUNTIF($A5:$CW5,(CONCATENATE("Autre",EU$1))) -> 0 | EV5: =COUNTIF($A5:$CW5,(CONCATENATE("Autre",EV$1))) -> 0 | EW5: =COUNTIF($A5:$CW5,(CONCATENATE("Autre",EW$1))) -> 0 | EX5: =COUNTIF($A5:$CW5,(CONCATENATE("Autre",EX$1))) -> 0 | EY5: =COUNTIF($A5:$CW5,(CONCATENATE("Autre",EY$1))) -> 0 | EZ5: 36 | FA5: =MAX(EU5:EY5) -> 0 | FB5: =IF(FA5=0,"",HLOOKUP(FA5,EU5:EY$40,EZ5,FALSE)) | FC5: =COUNTIF([1]Général!$C7:$CX7,FC$1) -> 0 | FD5: =COUNTIF([1]Général!$C7:$CX7,FD$1) -> 0 | FE5: =COUNTIF([1]Général!$C7:$CX7,FE$1) -> 0 | FF5: =COUNTIF([1]Général!$C7:$CX7,FF$1) -> 1 | FG5: =COUNTIF([1]Général!$C7:$CX7,FG$1) -> 0 | FH5: 36 | FI5: =MAX(FC5:FG5) -> 1 | FJ5: =IF(FI5<1,"",HLOOKUP(FI5,FC5:FG$40,FH5,FALSE)) -> Non, pas du tout d'accord | FK5: =COUNTIFS(FC5:FG5,FI5) -> 1 | FL5: =IF(FK5>1,FS5,FJ5) -> Non, pas du tout d'accord | FM5: =IF($FI5=FC5,"1","0") -> 0 | FN5: =IF($FI5=FD5,"10","0") -> 0 | FO5: =IF($FI5=FE5,"100","0") -> 0 | FP5: =IF($FI5=FF5,"1000","0") -> 1000 | FQ5: =IF($FI5=FG5,"10000","0") -> 0 | FR5: =(FM5+FN5+FO5+FP5+FQ5)/5 -> 200 | FS5: =IF($FR5<10,$FM$1,(IF(AND($FR5>1,$FR5<100),$FN$1,(IF(AND($FR5>10,$FR5<1000),$FO$1,(IF(AND($FR5>999,$FR5<1010),$FP$1,$FQ$1))))))) -> Plutôt pas d'accord
A6: G5 | B6: =CONCATENATE([1]Général!C$3,[1]Général!C8) -> Un clientPlutôt d'accord | C6: =CONCATENATE([1]Général!D$3,[1]Général!D8) -> Un clientPlutôt d'accord | D6: =CONCATENATE([1]Général!E$3,[1]Général!E8) -> Un clientOui, tout à fait d'accord | E6: =CONCATENATE([1]Général!F$3,[1]Général!F8) -> Un clientOui, tout à fait d'accord | F6: =CONCATENATE([1]Général!G$3,[1]Général!G8) | G6: =CONCATENATE([1]Général!H$3,[1]Général!H8) | H6: =CONCATENATE([1]Général!I$3,[1]Général!I8) | I6: =CONCATENATE([1]Général!J$3,[1]Général!J8) | ... CW6: =CONCATENATE([1]Général!CX$3,[1]Général!CX8) | CY6: =COUNTIF($A6:$CW6,(CONCATENATE("Un client",CY$1))) -> 2 | CZ6: =COUNTIF($A6:$CW6,(CONCATENATE("Un client",CZ$1))) -> 2 | DA6: =COUNTIF($A6:$CW6,(CONCATENATE("Un client",DA$1))) -> 0 | DB6: =COUNTIF($A6:$CW6,(CONCATENATE("Un client",DB$1))) -> 0 | DC6: =COUNTIF($A6:$CW6,(CONCATENATE("Un client",DC$1))) -> 0 | DD6: 35 | DE6: =MAX(CY6:DC6) -> 2 | DF6: =IF(DE6=0,"",HLOOKUP(DE6,CY6:DC$40,DD6,FALSE)) -> Oui, tout à fait d'accord | DG6: =COUNTIF($A6:$CW6,(CONCATENATE("Un fournisseur",DG$1))) -> 0 | DH6: =COUNTIF($A6:$CW6,(CONCATENATE("Un fournisseur",DH$1))) -> 0 | DI6: =COUNTIF($A6:$CW6,(CONCATENATE("Un fournisseur",DI$1))) -> 0 | DJ6: =COUNTIF($A6:$CW6,(CONCATENATE("Un fournisseur",DJ$1))) -> 0 | DK6: =COUNTIF($A6:$CW6,(CONCATENATE("Un fournisseur",DK$1))) -> 0 | DL6: 35 | DM6: =MAX(DG6:DK6) -> 0 | DN6: =IF(DM6=0,"",HLOOKUP(DM6,DG6:DK$40,DL6,FALSE)) | DO6: =COUNTIF($A6:$CW6,(CONCATENATE("Une collectivité/organisme local",DO$1))) -> 0 | DP6: =COUNTIF($A6:$CW6,(CONCATENATE("Une collectivité/organisme local",DP$1))) -> 0 | DQ6: =COUNTIF($A6:$CW6,(CONCATENATE("Une collectivité/organisme local",DQ$1))) -> 0 | DR6: =COUNTIF($A6:$CW6,(CONCATENATE("Une collectivité/organisme local",DR$1))) -> 0 | DS6: =COUNTIF($A6:$CW6,(CONCATENATE("Une collectivité/organisme local",DS$1))) -> 0 | DT6: 35 | DU6: =MAX(DO6:DS6) -> 0 | DV6: =IF(DU6=0,"",HLOOKUP(DU6,DO6:DS$40,DT6,FALSE)) | DW6: =COUNTIF($A6:$CW6,(CONCATENATE("Un collaborateur/salarié",DW$1))) -> 0 | DX6: =COUNTIF($A6:$CW6,(CONCATENATE("Un collaborateur/salarié",DX$1))) -> 0 | DY6: =COUNTIF($A6:$CW6,(CONCATENATE("Un collaborateur/salarié",DY$1))) -> 0 | DZ6: =COUNTIF($A6:$CW6,(CONCATENATE("Un collaborateur/salarié",DZ$1))) -> 0 | EA6: =COUNTIF($A6:$CW6,(CONCATENATE("Un collaborateur/salarié",EA$1))) -> 0 | EB6: 35 | EC6: =MAX(DW6:EA6) -> 0 | ED6: =IF(EC6=0,"",HLOOKUP(EC6,DW6:EA$40,EB6,FALSE)) | EE6: =COUNTIF($A6:$CW6,(CONCATENATE("Un prestataire",EE$1))) -> 0 | EF6: =COUNTIF($A6:$CW6,(CONCATENATE("Un prestataire",EF$1))) -> 0 | EG6: =COUNTIF($A6:$CW6,(CONCATENATE("Un prestataire",EG$1))) -> 0 | EH6: =COUNTIF($A6:$CW6,(CONCATENATE("Un prestataire",EH$1))) -> 0 | EI6: =COUNTIF($A6:$CW6,(CONCATENATE("Un prestataire",EI$1))) -> 0 | EJ6: 35 | EK6: =MAX(EE6:EI6) -> 0 | EL6: =IF(EK6=0,"",HLOOKUP(EK6,EE6:EI$40,EJ6,FALSE)) | EM6: =COUNTIF($A6:$CW6,(CONCATENATE("Un actionnaire",EM$1))) -> 0 | EN6: =COUNTIF($A6:$CW6,(CONCATENATE("Un actionnaire",EN$1))) -> 0 | EO6: =COUNTIF($A6:$CW6,(CONCATENATE("Un actionnaire",EO$1))) -> 0 | EP6: =COUNTIF($A6:$CW6,(CONCATENATE("Un actionnaire",EP$1))) -> 0 | EQ6: =COUNTIF($A6:$CW6,(CONCATENATE("Un actionnaire",EQ$1))) -> 0 | ER6: 35 | ES6: =MAX(EM6:EQ6) -> 0 | ET6: =IF(ES6=0,"",HLOOKUP(ES6,EM6:EQ$40,ER6,FALSE)) | EU6: =COUNTIF($A6:$CW6,(CONCATENATE("Autre",EU$1))) -> 0 | EV6: =COUNTIF($A6:$CW6,(CONCATENATE("Autre",EV$1))) -> 0 | EW6: =COUNTIF($A6:$CW6,(CONCATENATE("Autre",EW$1))) -> 0 | EX6: =COUNTIF($A6:$CW6,(CONCATENATE("Autre",EX$1))) -> 0 | EY6: =COUNTIF($A6:$CW6,(CONCATENATE("Autre",EY$1))) -> 0 | EZ6: 35 | FA6: =MAX(EU6:EY6) -> 0 | FB6: =IF(FA6=0,"",HLOOKUP(FA6,EU6:EY$40,EZ6,FALSE)) | FC6: =COUNTIF([1]Général!$C8:$CX8,FC$1) -> 2 | FD6: =COUNTIF([1]Général!$C8:$CX8,FD$1) -> 2 | FE6: =COUNTIF([1]Général!$C8:$CX8,FE$1) -> 0 | FF6: =COUNTIF([1]Général!$C8:$CX8,FF$1) -> 0 | FG6: =COUNTIF([1]Général!$C8:$CX8,FG$1) -> 0 | FH6: 35 | FI6: =MAX(FC6:FG6) -> 2 | FJ6: =IF(FI6<1,"",HLOOKUP(FI6,FC6:FG$40,FH6,FALSE)) -> Oui, tout à fait d'accord | FK6: =COUNTIFS(FC6:FG6,FI6) -> 2 | FL6: =IF(FK6>1,FS6,FJ6) -> Oui, tout à fait d'accord | FM6: =IF($FI6=FC6,"1","0") -> 1 | FN6: =IF($FI6=FD6,"10","0") -> 10 | FO6: =IF($FI6=FE6,"100","0") -> 0 | FP6: =IF($FI6=FF6,"1000","0") -> 0 | FQ6: =IF($FI6=FG6,"10000","0") -> 0 | FR6: =(FM6+FN6+FO6+FP6+FQ6)/5 -> 2.2 | FS6: =IF($FR6<10,$FM$1,(IF(AND($FR6>1,$FR6<100),$FN$1,(IF(AND($FR6>10,$FR6<1000),$FO$1,(IF(AND($FR6>999,$FR6<1010),$FP$1,$FQ$1))))))) -> Oui, tout à fait d'accord
A7: G6 | B7: =CONCATENATE([1]Général!C$3,[1]Général!C9) -> Un clientPlutôt d'accord | C7: =CONCATENATE([1]Général!D$3,[1]Général!D9) -> Un clientPlutôt d'accord | D7: =CONCATENATE([1]Général!E$3,[1]Général!E9) -> Un clientPlutôt d'accord | E7: =CONCATENATE([1]Général!F$3,[1]Général!F9) -> Un clientPlutôt d'accord | F7: =CONCATENATE([1]Général!G$3,[1]Général!G9) | G7: =CONCATENATE([1]Général!H$3,[1]Général!H9) | H7: =CONCATENATE([1]Général!I$3,[1]Général!I9) | I7: =CONCATENATE([1]Général!J$3,[1]Général!J9) | ... CW7: =CONCATENATE([1]Général!CX$3,[1]Général!CX9) | CY7: =COUNTIF($A7:$CW7,(CONCATENATE("Un client",CY$1))) -> 0 | CZ7: =COUNTIF($A7:$CW7,(CONCATENATE("Un client",CZ$1))) -> 4 | DA7: =COUNTIF($A7:$CW7,(CONCATENATE("Un client",DA$1))) -> 0 | DB7: =COUNTIF($A7:$CW7,(CONCATENATE("Un client",DB$1))) -> 0 | DC7: =COUNTIF($A7:$CW7,(CONCATENATE("Un client",DC$1))) -> 0 | DD7: 34 | DE7: =MAX(CY7:DC7) -> 4 | DF7: =IF(DE7=0,"",HLOOKUP(DE7,CY7:DC$40,DD7,FALSE)) -> Plutôt d'accord | DG7: =COUNTIF($A7:$CW7,(CONCATENATE("Un fournisseur",DG$1))) -> 0 | DH7: =COUNTIF($A7:$CW7,(CONCATENATE("Un fournisseur",DH$1))) -> 0 | DI7: =COUNTIF($A7:$CW7,(CONCATENATE("Un fournisseur",DI$1))) -> 0 | DJ7: =COUNTIF($A7:$CW7,(CONCATENATE("Un fournisseur",DJ$1))) -> 0 | DK7: =COUNTIF($A7:$CW7,(CONCATENATE("Un fournisseur",DK$1))) -> 0 | DL7: 34 | DM7: =MAX(DG7:DK7) -> 0 | DN7: =IF(DM7=0,"",HLOOKUP(DM7,DG7:DK$40,DL7,FALSE)) | DO7: =COUNTIF($A7:$CW7,(CONCATENATE("Une collectivité/organisme local",DO$1))) -> 0 | DP7: =COUNTIF($A7:$CW7,(CONCATENATE("Une collectivité/organisme local",DP$1))) -> 0 | DQ7: =COUNTIF($A7:$CW7,(CONCATENATE("Une collectivité/organisme local",DQ$1))) -> 0 | DR7: =COUNTIF($A7:$CW7,(CONCATENATE("Une collectivité/organisme local",DR$1))) -> 0 | DS7: =COUNTIF($A7:$CW7,(CONCATENATE("Une collectivité/organisme local",DS$1))) -> 0 | DT7: 34 | DU7: =MAX(DO7:DS7) -> 0 | DV7: =IF(DU7=0,"",HLOOKUP(DU7,DO7:DS$40,DT7,FALSE)) | DW7: =COUNTIF($A7:$CW7,(CONCATENATE("Un collaborateur/salarié",DW$1))) -> 0 | DX7: =COUNTIF($A7:$CW7,(CONCATENATE("Un collaborateur/salarié",DX$1))) -> 0 | DY7: =COUNTIF($A7:$CW7,(CONCATENATE("Un collaborateur/salarié",DY$1))) -> 0 | DZ7: =COUNTIF($A7:$CW7,(CONCATENATE("Un collaborateur/salarié",DZ$1))) -> 0 | EA7: =COUNTIF($A7:$CW7,(CONCATENATE("Un collaborateur/salarié",EA$1))) -> 0 | EB7: 34 | EC7: =MAX(DW7:EA7) -> 0 | ED7: =IF(EC7=0,"",HLOOKUP(EC7,DW7:EA$40,EB7,FALSE)) | EE7: =COUNTIF($A7:$CW7,(CONCATENATE("Un prestataire",EE$1))) -> 0 | EF7: =COUNTIF($A7:$CW7,(CONCATENATE("Un prestataire",EF$1))) -> 0 | EG7: =COUNTIF($A7:$CW7,(CONCATENATE("Un prestataire",EG$1))) -> 0 | EH7: =COUNTIF($A7:$CW7,(CONCATENATE("Un prestataire",EH$1))) -> 0 | EI7: =COUNTIF($A7:$CW7,(CONCATENATE("Un prestataire",EI$1))) -> 0 | EJ7: 34 | EK7: =MAX(EE7:EI7) -> 0 | EL7: =IF(EK7=0,"",HLOOKUP(EK7,EE7:EI$40,EJ7,FALSE)) | EM7: =COUNTIF($A7:$CW7,(CONCATENATE("Un actionnaire",EM$1))) -> 0 | EN7: =COUNTIF($A7:$CW7,(CONCATENATE("Un actionnaire",EN$1))) -> 0 | EO7: =COUNTIF($A7:$CW7,(CONCATENATE("Un actionnaire",EO$1))) -> 0 | EP7: =COUNTIF($A7:$CW7,(CONCATENATE("Un actionnaire",EP$1))) -> 0 | EQ7: =COUNTIF($A7:$CW7,(CONCATENATE("Un actionnaire",EQ$1))) -> 0 | ER7: 34 | ES7: =MAX(EM7:EQ7) -> 0 | ET7: =IF(ES7=0,"",HLOOKUP(ES7,EM7:EQ$40,ER7,FALSE)) | EU7: =COUNTIF($A7:$CW7,(CONCATENATE("Autre",EU$1))) -> 0 | EV7: =COUNTIF($A7:$CW7,(CONCATENATE("Autre",EV$1))) -> 0 | EW7: =COUNTIF($A7:$CW7,(CONCATENATE("Autre",EW$1))) -> 0 | EX7: =COUNTIF($A7:$CW7,(CONCATENATE("Autre",EX$1))) -> 0 | EY7: =COUNTIF($A7:$CW7,(CONCATENATE("Autre",EY$1))) -> 0 | EZ7: 34 | FA7: =MAX(EU7:EY7) -> 0 | FB7: =IF(FA7=0,"",HLOOKUP(FA7,EU7:EY$40,EZ7,FALSE)) | FC7: =COUNTIF([1]Général!$C9:$CX9,FC$1) -> 0 | FD7: =COUNTIF([1]Général!$C9:$CX9,FD$1) -> 4 | FE7: =COUNTIF([1]Général!$C9:$CX9,FE$1) -> 0 | FF7: =COUNTIF([1]Général!$C9:$CX9,FF$1) -> 0 | FG7: =COUNTIF([1]Général!$C9:$CX9,FG$1) -> 0 | FH7: 34 | FI7: =MAX(FC7:FG7) -> 4 | FJ7: =IF(FI7<1,"",HLOOKUP(FI7,FC7:FG$40,FH7,FALSE)) -> Plutôt d'accord | FK7: =COUNTIFS(FC7:FG7,FI7) -> 1 | FL7: =IF(FK7>1,FS7,FJ7) -> Plutôt d'accord | FM7: =IF($FI7=FC7,"1","0") -> 0 | FN7: =IF($FI7=FD7,"10","0") -> 10 | FO7: =IF($FI7=FE7,"100","0") -> 0 | FP7: =IF($FI7=FF7,"1000","0") -> 0 | FQ7: =IF($FI7=FG7,"10000","0") -> 0 | FR7: =(FM7+FN7+FO7+FP7+FQ7)/5 -> 2 | FS7: =IF($FR7<10,$FM$1,(IF(AND($FR7>1,$FR7<100),$FN$1,(IF(AND($FR7>10,$FR7<1000),$FO$1,(IF(AND($FR7>999,$FR7<1010),$FP$1,$FQ$1))))))) -> Oui, tout à fait d'accord
A8: G7 | B8: =CONCATENATE([1]Général!C$3,[1]Général!C10) -> Un clientOui, tout à fait d'accord | C8: =CONCATENATE([1]Général!D$3,[1]Général!D10) -> Un clientOui, tout à fait d'accord | D8: =CONCATENATE([1]Général!E$3,[1]Général!E10) -> Un clientOui, tout à fait d'accord | E8: =CONCATENATE([1]Général!F$3,[1]Général!F10) -> Un clientOui, tout à fait d'accord | F8: =CONCATENATE([1]Général!G$3,[1]Général!G10) | G8: =CONCATENATE([1]Général!H$3,[1]Général!H10) | H8: =CONCATENATE([1]Général!I$3,[1]Général!I10) | I8: =CONCATENATE([1]Général!J$3,[1]Général!J10) | ... CW8: =CONCATENATE([1]Général!CX$3,[1]Général!CX10) | CY8: =COUNTIF($A8:$CW8,(CONCATENATE("Un client",CY$1))) -> 4 | CZ8: =COUNTIF($A8:$CW8,(CONCATENATE("Un client",CZ$1))) -> 0 | DA8: =COUNTIF($A8:$CW8,(CONCATENATE("Un client",DA$1))) -> 0 | DB8: =COUNTIF($A8:$CW8,(CONCATENATE("Un client",DB$1))) -> 0 | DC8: =COUNTIF($A8:$CW8,(CONCATENATE("Un client",DC$1))) -> 0 | DD8: 33 | DE8: =MAX(CY8:DC8) -> 4 | DF8: =IF(DE8=0,"",HLOOKUP(DE8,CY8:DC$40,DD8,FALSE)) -> Oui, tout à fait d'accord | DG8: =COUNTIF($A8:$CW8,(CONCATENATE("Un fournisseur",DG$1))) -> 0 | DH8: =COUNTIF($A8:$CW8,(CONCATENATE("Un fournisseur",DH$1))) -> 0 | DI8: =COUNTIF($A8:$CW8,(CONCATENATE("Un fournisseur",DI$1))) -> 0 | DJ8: =COUNTIF($A8:$CW8,(CONCATENATE("Un fournisseur",DJ$1))) -> 0 | DK8: =COUNTIF($A8:$CW8,(CONCATENATE("Un fournisseur",DK$1))) -> 0 | DL8: 33 | DM8: =MAX(DG8:DK8) -> 0 | DN8: =IF(DM8=0,"",HLOOKUP(DM8,DG8:DK$40,DL8,FALSE)) | DO8: =COUNTIF($A8:$CW8,(CONCATENATE("Une collectivité/organisme local",DO$1))) -> 0 | DP8: =COUNTIF($A8:$CW8,(CONCATENATE("Une collectivité/organisme local",DP$1))) -> 0 | DQ8: =COUNTIF($A8:$CW8,(CONCATENATE("Une collectivité/organisme local",DQ$1))) -> 0 | DR8: =COUNTIF($A8:$CW8,(CONCATENATE("Une collectivité/organisme local",DR$1))) -> 0 | DS8: =COUNTIF($A8:$CW8,(CONCATENATE("Une collectivité/organisme local",DS$1))) -> 0 | DT8: 33 | DU8: =MAX(DO8:DS8) -> 0 | DV8: =IF(DU8=0,"",HLOOKUP(DU8,DO8:DS$40,DT8,FALSE)) | DW8: =COUNTIF($A8:$CW8,(CONCATENATE("Un collaborateur/salarié",DW$1))) -> 0 | DX8: =COUNTIF($A8:$CW8,(CONCATENATE("Un collaborateur/salarié",DX$1))) -> 0 | DY8: =COUNTIF($A8:$CW8,(CONCATENATE("Un collaborateur/salarié",DY$1))) -> 0 | DZ8: =COUNTIF($A8:$CW8,(CONCATENATE("Un collaborateur/salarié",DZ$1))) -> 0 | EA8: =COUNTIF($A8:$CW8,(CONCATENATE("Un collaborateur/salarié",EA$1))) -> 0 | EB8: 33 | EC8: =MAX(DW8:EA8) -> 0 | ED8: =IF(EC8=0,"",HLOOKUP(EC8,DW8:EA$40,EB8,FALSE)) | EE8: =COUNTIF($A8:$CW8,(CONCATENATE("Un prestataire",EE$1))) -> 0 | EF8: =COUNTIF($A8:$CW8,(CONCATENATE("Un prestataire",EF$1))) -> 0 | EG8: =COUNTIF($A8:$CW8,(CONCATENATE("Un prestataire",EG$1))) -> 0 | EH8: =COUNTIF($A8:$CW8,(CONCATENATE("Un prestataire",EH$1))) -> 0 | EI8: =COUNTIF($A8:$CW8,(CONCATENATE("Un prestataire",EI$1))) -> 0 | EJ8: 33 | EK8: =MAX(EE8:EI8) -> 0 | EL8: =IF(EK8=0,"",HLOOKUP(EK8,EE8:EI$40,EJ8,FALSE)) | EM8: =COUNTIF($A8:$CW8,(CONCATENATE("Un actionnaire",EM$1))) -> 0 | EN8: =COUNTIF($A8:$CW8,(CONCATENATE("Un actionnaire",EN$1))) -> 0 | EO8: =COUNTIF($A8:$CW8,(CONCATENATE("Un actionnaire",EO$1))) -> 0 | EP8: =COUNTIF($A8:$CW8,(CONCATENATE("Un actionnaire",EP$1))) -> 0 | EQ8: =COUNTIF($A8:$CW8,(CONCATENATE("Un actionnaire",EQ$1))) -> 0 | ER8: 33 | ES8: =MAX(EM8:EQ8) -> 0 | ET8: =IF(ES8=0,"",HLOOKUP(ES8,EM8:EQ$40,ER8,FALSE)) | EU8: =COUNTIF($A8:$CW8,(CONCATENATE("Autre",EU$1))) -> 0 | EV8: =COUNTIF($A8:$CW8,(CONCATENATE("Autre",EV$1))) -> 0 | EW8: =COUNTIF($A8:$CW8,(CONCATENATE("Autre",EW$1))) -> 0 | EX8: =COUNTIF($A8:$CW8,(CONCATENATE("Autre",EX$1))) -> 0 | EY8: =COUNTIF($A8:$CW8,(CONCATENATE("Autre",EY$1))) -> 0 | EZ8: 33 | FA8: =MAX(EU8:EY8) -> 0 | FB8: =IF(FA8=0,"",HLOOKUP(FA8,EU8:EY$40,EZ8,FALSE)) | FC8: =COUNTIF([1]Général!$C10:$CX10,FC$1) -> 4 | FD8: =COUNTIF([1]Général!$C10:$CX10,FD$1) -> 0 | FE8: =COUNTIF([1]Général!$C10:$CX10,FE$1) -> 0 | FF8: =COUNTIF([1]Général!$C10:$CX10,FF$1) -> 0 | FG8: =COUNTIF([1]Général!$C10:$CX10,FG$1) -> 0 | FH8: 33 | FI8: =MAX(FC8:FG8) -> 4 | FJ8: =IF(FI8<1,"",HLOOKUP(FI8,FC8:FG$40,FH8,FALSE)) -> Oui, tout à fait d'accord | FK8: =COUNTIFS(FC8:FG8,FI8) -> 1 | FL8: =IF(FK8>1,FS8,FJ8) -> Oui, tout à fait d'accord | FM8: =IF($FI8=FC8,"1","0") -> 1 | FN8: =IF($FI8=FD8,"10","0") -> 0 | FO8: =IF($FI8=FE8,"100","0") -> 0 | FP8: =IF($FI8=FF8,"1000","0") -> 0 | FQ8: =IF($FI8=FG8,"10000","0") -> 0 | FR8: =(FM8+FN8+FO8+FP8+FQ8)/5 -> 0.2 | FS8: =IF($FR8<10,$FM$1,(IF(AND($FR8>1,$FR8<100),$FN$1,(IF(AND($FR8>10,$FR8<1000),$FO$1,(IF(AND($FR8>999,$FR8<1010),$FP$1,$FQ$1))))))) -> Oui, tout à fait d'accord
A9: G8 | B9: =CONCATENATE([1]Général!C$3,[1]Général!C11) -> Un clientPlutôt d'accord | C9: =CONCATENATE([1]Général!D$3,[1]Général!D11) -> Un clientPlutôt d'accord | D9: =CONCATENATE([1]Général!E$3,[1]Général!E11) -> Un clientOui, tout à fait d'accord | E9: =CONCATENATE([1]Général!F$3,[1]Général!F11) -> Un clientOui, tout à fait d'accord | F9: =CONCATENATE([1]Général!G$3,[1]Général!G11) | G9: =CONCATENATE([1]Général!H$3,[1]Général!H11) | H9: =CONCATENATE([1]Général!I$3,[1]Général!I11) | I9: =CONCATENATE([1]Général!J$3,[1]Général!J11) | ... CW9: =CONCATENATE([1]Général!CX$3,[1]Général!CX11) | CY9: =COUNTIF($A9:$CW9,(CONCATENATE("Un client",CY$1))) -> 2 | CZ9: =COUNTIF($A9:$CW9,(CONCATENATE("Un client",CZ$1))) -> 2 | DA9: =COUNTIF($A9:$CW9,(CONCATENATE("Un client",DA$1))) -> 0 | DB9: =COUNTIF($A9:$CW9,(CONCATENATE("Un client",DB$1))) -> 0 | DC9: =COUNTIF($A9:$CW9,(CONCATENATE("Un client",DC$1))) -> 0 | DD9: 32 | DE9: =MAX(CY9:DC9) -> 2 | DF9: =IF(DE9=0,"",HLOOKUP(DE9,CY9:DC$40,DD9,FALSE)) -> Oui, tout à fait d'accord | DG9: =COUNTIF($A9:$CW9,(CONCATENATE("Un fournisseur",DG$1))) -> 0 | DH9: =COUNTIF($A9:$CW9,(CONCATENATE("Un fournisseur",DH$1))) -> 0 | DI9: =COUNTIF($A9:$CW9,(CONCATENATE("Un fournisseur",DI$1))) -> 0 | DJ9: =COUNTIF($A9:$CW9,(CONCATENATE("Un fournisseur",DJ$1))) -> 0 | DK9: =COUNTIF($A9:$CW9,(CONCATENATE("Un fournisseur",DK$1))) -> 0 | DL9: 32 | DM9: =MAX(DG9:DK9) -> 0 | DN9: =IF(DM9=0,"",HLOOKUP(DM9,DG9:DK$40,DL9,FALSE)) | DO9: =COUNTIF($A9:$CW9,(CONCATENATE("Une collectivité/organisme local",DO$1))) -> 0 | DP9: =COUNTIF($A9:$CW9,(CONCATENATE("Une collectivité/organisme local",DP$1))) -> 0 | DQ9: =COUNTIF($A9:$CW9,(CONCATENATE("Une collectivité/organisme local",DQ$1))) -> 0 | DR9: =COUNTIF($A9:$CW9,(CONCATENATE("Une collectivité/organisme local",DR$1))) -> 0 | DS9: =COUNTIF($A9:$CW9,(CONCATENATE("Une collectivité/organisme local",DS$1))) -> 0 | DT9: 32 | DU9: =MAX(DO9:DS9) -> 0 | DV9: =IF(DU9=0,"",HLOOKUP(DU9,DO9:DS$40,DT9,FALSE)) | DW9: =COUNTIF($A9:$CW9,(CONCATENATE("Un collaborateur/salarié",DW$1))) -> 0 | DX9: =COUNTIF($A9:$CW9,(CONCATENATE("Un collaborateur/salarié",DX$1))) -> 0 | DY9: =COUNTIF($A9:$CW9,(CONCATENATE("Un collaborateur/salarié",DY$1))) -> 0 | DZ9: =COUNTIF($A9:$CW9,(CONCATENATE("Un collaborateur/salarié",DZ$1))) -> 0 | EA9: =COUNTIF($A9:$CW9,(CONCATENATE("Un collaborateur/salarié",EA$1))) -> 0 | EB9: 32 | EC9: =MAX(DW9:EA9) -> 0 | ED9: =IF(EC9=0,"",HLOOKUP(EC9,DW9:EA$40,EB9,FALSE)) | EE9: =COUNTIF($A9:$CW9,(CONCATENATE("Un prestataire",EE$1))) -> 0 | EF9: =COUNTIF($A9:$CW9,(CONCATENATE("Un prestataire",EF$1))) -> 0 | EG9: =COUNTIF($A9:$CW9,(CONCATENATE("Un prestataire",EG$1))) -> 0 | EH9: =COUNTIF($A9:$CW9,(CONCATENATE("Un prestataire",EH$1))) -> 0 | EI9: =COUNTIF($A9:$CW9,(CONCATENATE("Un prestataire",EI$1))) -> 0 | EJ9: 32 | EK9: =MAX(EE9:EI9) -> 0 | EL9: =IF(EK9=0,"",HLOOKUP(EK9,EE9:EI$40,EJ9,FALSE)) | EM9: =COUNTIF($A9:$CW9,(CONCATENATE("Un actionnaire",EM$1))) -> 0 | EN9: =COUNTIF($A9:$CW9,(CONCATENATE("Un actionnaire",EN$1))) -> 0 | EO9: =COUNTIF($A9:$CW9,(CONCATENATE("Un actionnaire",EO$1))) -> 0 | EP9: =COUNTIF($A9:$CW9,(CONCATENATE("Un actionnaire",EP$1))) -> 0 | EQ9: =COUNTIF($A9:$CW9,(CONCATENATE("Un actionnaire",EQ$1))) -> 0 | ER9: 32 | ES9: =MAX(EM9:EQ9) -> 0 | ET9: =IF(ES9=0,"",HLOOKUP(ES9,EM9:EQ$40,ER9,FALSE)) | EU9: =COUNTIF($A9:$CW9,(CONCATENATE("Autre",EU$1))) -> 0 | EV9: =COUNTIF($A9:$CW9,(CONCATENATE("Autre",EV$1))) -> 0 | EW9: =COUNTIF($A9:$CW9,(CONCATENATE("Autre",EW$1))) -> 0 | EX9: =COUNTIF($A9:$CW9,(CONCATENATE("Autre",EX$1))) -> 0 | EY9: =COUNTIF($A9:$CW9,(CONCATENATE("Autre",EY$1))) -> 0 | EZ9: 32 | FA9: =MAX(EU9:EY9) -> 0 | FB9: =IF(FA9=0,"",HLOOKUP(FA9,EU9:EY$40,EZ9,FALSE)) | FC9: =COUNTIF([1]Général!$C11:$CX11,FC$1) -> 2 | FD9: =COUNTIF([1]Général!$C11:$CX11,FD$1) -> 2 | FE9: =COUNTIF([1]Général!$C11:$CX11,FE$1) -> 0 | FF9: =COUNTIF([1]Général!$C11:$CX11,FF$1) -> 0 | FG9: =COUNTIF([1]Général!$C11:$CX11,FG$1) -> 0 | FH9: 32 | FI9: =MAX(FC9:FG9) -> 2 | FJ9: =IF(FI9<1,"",HLOOKUP(FI9,FC9:FG$40,FH9,FALSE)) -> Oui, tout à fait d'accord | FK9: =COUNTIFS(FC9:FG9,FI9) -> 2 | FL9: =IF(FK9>1,FS9,FJ9) -> Oui, tout à fait d'accord | FM9: =IF($FI9=FC9,"1","0") -> 1 | FN9: =IF($FI9=FD9,"10","0") -> 10 | FO9: =IF($FI9=FE9,"100","0") -> 0 | FP9: =IF($FI9=FF9,"1000","0") -> 0 | FQ9: =IF($FI9=FG9,"10000","0") -> 0 | FR9: =(FM9+FN9+FO9+FP9+FQ9)/5 -> 2.2 | FS9: =IF($FR9<10,$FM$1,(IF(AND($FR9>1,$FR9<100),$FN$1,(IF(AND($FR9>10,$FR9<1000),$FO$1,(IF(AND($FR9>999,$FR9<1010),$FP$1,$FQ$1))))))) -> Oui, tout à fait d'accord
A10: G9 | B10: =CONCATENATE([1]Général!C$3,[1]Général!C12) -> Un clientPlutôt pas d'accord | C10: =CONCATENATE([1]Général!D$3,[1]Général!D12) -> Un clientNon concerné | D10: =CONCATENATE([1]Général!E$3,[1]Général!E12) -> Un clientNon concerné | E10: =CONCATENATE([1]Général!F$3,[1]Général!F12) -> Un clientNon concerné | F10: =CONCATENATE([1]Général!G$3,[1]Général!G12) | G10: =CONCATENATE([1]Général!H$3,[1]Général!H12) | H10: =CONCATENATE([1]Général!I$3,[1]Général!I12) | I10: =CONCATENATE([1]Général!J$3,[1]Général!J12) | ... CW10: =CONCATENATE([1]Général!CX$3,[1]Général!CX12) | CY10: =COUNTIF($A10:$CW10,(CONCATENATE("Un client",CY$1))) -> 0 | CZ10: =COUNTIF($A10:$CW10,(CONCATENATE("Un client",CZ$1))) -> 0 | DA10: =COUNTIF($A10:$CW10,(CONCATENATE("Un client",DA$1))) -> 1 | DB10: =COUNTIF($A10:$CW10,(CONCATENATE("Un client",DB$1))) -> 0 | DC10: =COUNTIF($A10:$CW10,(CONCATENATE("Un client",DC$1))) -> 3 | DD10: 31 | DE10: =MAX(CY10:DC10) -> 3 | DF10: =IF(DE10=0,"",HLOOKUP(DE10,CY10:DC$40,DD10,FALSE)) -> Non concerné | DG10: =COUNTIF($A10:$CW10,(CONCATENATE("Un fournisseur",DG$1))) -> 0 | DH10: =COUNTIF($A10:$CW10,(CONCATENATE("Un fournisseur",DH$1))) -> 0 | DI10: =COUNTIF($A10:$CW10,(CONCATENATE("Un fournisseur",DI$1))) -> 0 | DJ10: =COUNTIF($A10:$CW10,(CONCATENATE("Un fournisseur",DJ$1))) -> 0 | DK10: =COUNTIF($A10:$CW10,(CONCATENATE("Un fournisseur",DK$1))) -> 0 | DL10: 31 | DM10: =MAX(DG10:DK10) -> 0 | DN10: =IF(DM10=0,"",HLOOKUP(DM10,DG10:DK$40,DL10,FALSE)) | DO10: =COUNTIF($A10:$CW10,(CONCATENATE("Une collectivité/organisme local",DO$1))) -> 0 | DP10: =COUNTIF($A10:$CW10,(CONCATENATE("Une collectivité/organisme local",DP$1))) -> 0 | DQ10: =COUNTIF($A10:$CW10,(CONCATENATE("Une collectivité/organisme local",DQ$1))) -> 0 | DR10: =COUNTIF($A10:$CW10,(CONCATENATE("Une collectivité/organisme local",DR$1))) -> 0 | DS10: =COUNTIF($A10:$CW10,(CONCATENATE("Une collectivité/organisme local",DS$1))) -> 0 | DT10: 31 | DU10: =MAX(DO10:DS10) -> 0 | DV10: =IF(DU10=0,"",HLOOKUP(DU10,DO10:DS$40,DT10,FALSE)) | DW10: =COUNTIF($A10:$CW10,(CONCATENATE("Un collaborateur/salarié",DW$1))) -> 0 | DX10: =COUNTIF($A10:$CW10,(CONCATENATE("Un collaborateur/salarié",DX$1))) -> 0 | DY10: =COUNTIF($A10:$CW10,(CONCATENATE("Un collaborateur/salarié",DY$1))) -> 0 | DZ10: =COUNTIF($A10:$CW10,(CONCATENATE("Un collaborateur/salarié",DZ$1))) -> 0 | EA10: =COUNTIF($A10:$CW10,(CONCATENATE("Un collaborateur/salarié",EA$1))) -> 0 | EB10: 31 | EC10: =MAX(DW10:EA10) -> 0 | ED10: =IF(EC10=0,"",HLOOKUP(EC10,DW10:EA$40,EB10,FALSE)) | EE10: =COUNTIF($A10:$CW10,(CONCATENATE("Un prestataire",EE$1))) -> 0 | EF10: =COUNTIF($A10:$CW10,(CONCATENATE("Un prestataire",EF$1))) -> 0 | EG10: =COUNTIF($A10:$CW10,(CONCATENATE("Un prestataire",EG$1))) -> 0 | EH10: =COUNTIF($A10:$CW10,(CONCATENATE("Un prestataire",EH$1))) -> 0 | EI10: =COUNTIF($A10:$CW10,(CONCATENATE("Un prestataire",EI$1))) -> 0 | EJ10: 31 | EK10: =MAX(EE10:EI10) -> 0 | EL10: =IF(EK10=0,"",HLOOKUP(EK10,EE10:EI$40,EJ10,FALSE)) | EM10: =COUNTIF($A10:$CW10,(CONCATENATE("Un actionnaire",EM$1))) -> 0 | EN10: =COUNTIF($A10:$CW10,(CONCATENATE("Un actionnaire",EN$1))) -> 0 | EO10: =COUNTIF($A10:$CW10,(CONCATENATE("Un actionnaire",EO$1))) -> 0 | EP10: =COUNTIF($A10:$CW10,(CONCATENATE("Un actionnaire",EP$1))) -> 0 | EQ10: =COUNTIF($A10:$CW10,(CONCATENATE("Un actionnaire",EQ$1))) -> 0 | ER10: 31 | ES10: =MAX(EM10:EQ10) -> 0 | ET10: =IF(ES10=0,"",HLOOKUP(ES10,EM10:EQ$40,ER10,FALSE)) | EU10: =COUNTIF($A10:$CW10,(CONCATENATE("Autre",EU$1))) -> 0 | EV10: =COUNTIF($A10:$CW10,(CONCATENATE("Autre",EV$1))) -> 0 | EW10: =COUNTIF($A10:$CW10,(CONCATENATE("Autre",EW$1))) -> 0 | EX10: =COUNTIF($A10:$CW10,(CONCATENATE("Autre",EX$1))) -> 0 | EY10: =COUNTIF($A10:$CW10,(CONCATENATE("Autre",EY$1))) -> 0 | EZ10: 31 | FA10: =MAX(EU10:EY10) -> 0 | FB10: =IF(FA10=0,"",HLOOKUP(FA10,EU10:EY$40,EZ10,FALSE)) | FC10: =COUNTIF([1]Général!$C12:$CX12,FC$1) -> 0 | FD10: =COUNTIF([1]Général!$C12:$CX12,FD$1) -> 0 | FE10: =COUNTIF([1]Général!$C12:$CX12,FE$1) -> 1 | FF10: =COUNTIF([1]Général!$C12:$CX12,FF$1) -> 0 | FG10: =COUNTIF([1]Général!$C12:$CX12,FG$1) -> 0 | FH10: 31 | FI10: =MAX(FC10:FG10) -> 1 | FJ10: =IF(FI10<1,"",HLOOKUP(FI10,FC10:FG$40,FH10,FALSE)) -> Plutôt pas d'accord | FK10: =COUNTIFS(FC10:FG10,FI10) -> 1 | FL10: =IF(FK10>1,FS10,FJ10) -> Plutôt pas d'accord | FM10: =IF($FI10=FC10,"1","0") -> 0 | FN10: =IF($FI10=FD10,"10","0") -> 0 | FO10: =IF($FI10=FE10,"100","0") -> 100 | FP10: =IF($FI10=FF10,"1000","0") -> 0 | FQ10: =IF($FI10=FG10,"10000","0") -> 0 | FR10: =(FM10+FN10+FO10+FP10+FQ10)/5 -> 20 | FS10: =IF($FR10<10,$FM$1,(IF(AND($FR10>1,$FR10<100),$FN$1,(IF(AND($FR10>10,$FR10<1000),$FO$1,(IF(AND($FR10>999,$FR10<1010),$FP$1,$FQ$1))))))) -> Plutôt d'accord
A11: G10 | B11: =CONCATENATE([1]Général!C$3,[1]Général!C13) -> Un clientOui, tout à fait d'accord | C11: =CONCATENATE([1]Général!D$3,[1]Général!D13) -> Un clientOui, tout à fait d'accord | D11: =CONCATENATE([1]Général!E$3,[1]Général!E13) -> Un clientOui, tout à fait d'accord | E11: =CONCATENATE([1]Général!F$3,[1]Général!F13) -> Un clientOui, tout à fait d'accord | F11: =CONCATENATE([1]Général!G$3,[1]Général!G13) | G11: =CONCATENATE([1]Général!H$3,[1]Général!H13) | H11: =CONCATENATE([1]Général!I$3,[1]Général!I13) | I11: =CONCATENATE([1]Général!J$3,[1]Général!J13) | ... CW11: =CONCATENATE([1]Général!CX$3,[1]Général!CX13) | CY11: =COUNTIF($A11:$CW11,(CONCATENATE("Un client",CY$1))) -> 4 | CZ11: =COUNTIF($A11:$CW11,(CONCATENATE("Un client",CZ$1))) -> 0 | DA11: =COUNTIF($A11:$CW11,(CONCATENATE("Un client",DA$1))) -> 0 | DB11: =COUNTIF($A11:$CW11,(CONCATENATE("Un client",DB$1))) -> 0 | DC11: =COUNTIF($A11:$CW11,(CONCATENATE("Un client",DC$1))) -> 0 | DD11: 30 | DE11: =MAX(CY11:DC11) -> 4 | DF11: =IF(DE11=0,"",HLOOKUP(DE11,CY11:DC$40,DD11,FALSE)) -> Oui, tout à fait d'accord | DG11: =COUNTIF($A11:$CW11,(CONCATENATE("Un fournisseur",DG$1))) -> 0 | DH11: =COUNTIF($A11:$CW11,(CONCATENATE("Un fournisseur",DH$1))) -> 0 | DI11: =COUNTIF($A11:$CW11,(CONCATENATE("Un fournisseur",DI$1))) -> 0 | DJ11: =COUNTIF($A11:$CW11,(CONCATENATE("Un fournisseur",DJ$1))) -> 0 | DK11: =COUNTIF($A11:$CW11,(CONCATENATE("Un fournisseur",DK$1))) -> 0 | DL11: 30 | DM11: =MAX(DG11:DK11) -> 0 | DN11: =IF(DM11=0,"",HLOOKUP(DM11,DG11:DK$40,DL11,FALSE)) | DO11: =COUNTIF($A11:$CW11,(CONCATENATE("Une collectivité/organisme local",DO$1))) -> 0 | DP11: =COUNTIF($A11:$CW11,(CONCATENATE("Une collectivité/organisme local",DP$1))) -> 0 | DQ11: =COUNTIF($A11:$CW11,(CONCATENATE("Une collectivité/organisme local",DQ$1))) -> 0 | DR11: =COUNTIF($A11:$CW11,(CONCATENATE("Une collectivité/organisme local",DR$1))) -> 0 | DS11: =COUNTIF($A11:$CW11,(CONCATENATE("Une collectivité/organisme local",DS$1))) -> 0 | DT11: 30 | DU11: =MAX(DO11:DS11) -> 0 | DV11: =IF(DU11=0,"",HLOOKUP(DU11,DO11:DS$40,DT11,FALSE)) | DW11: =COUNTIF($A11:$CW11,(CONCATENATE("Un collaborateur/salarié",DW$1))) -> 0 | DX11: =COUNTIF($A11:$CW11,(CONCATENATE("Un collaborateur/salarié",DX$1))) -> 0 | DY11: =COUNTIF($A11:$CW11,(CONCATENATE("Un collaborateur/salarié",DY$1))) -> 0 | DZ11: =COUNTIF($A11:$CW11,(CONCATENATE("Un collaborateur/salarié",DZ$1))) -> 0 | EA11: =COUNTIF($A11:$CW11,(CONCATENATE("Un collaborateur/salarié",EA$1))) -> 0 | EB11: 30 | EC11: =MAX(DW11:EA11) -> 0 | ED11: =IF(EC11=0,"",HLOOKUP(EC11,DW11:EA$40,EB11,FALSE)) | EE11: =COUNTIF($A11:$CW11,(CONCATENATE("Un prestataire",EE$1))) -> 0 | EF11: =COUNTIF($A11:$CW11,(CONCATENATE("Un prestataire",EF$1))) -> 0 | EG11: =COUNTIF($A11:$CW11,(CONCATENATE("Un prestataire",EG$1))) -> 0 | EH11: =COUNTIF($A11:$CW11,(CONCATENATE("Un prestataire",EH$1))) -> 0 | EI11: =COUNTIF($A11:$CW11,(CONCATENATE("Un prestataire",EI$1))) -> 0 | EJ11: 30 | EK11: =MAX(EE11:EI11) -> 0 | EL11: =IF(EK11=0,"",HLOOKUP(EK11,EE11:EI$40,EJ11,FALSE)) | EM11: =COUNTIF($A11:$CW11,(CONCATENATE("Un actionnaire",EM$1))) -> 0 | EN11: =COUNTIF($A11:$CW11,(CONCATENATE("Un actionnaire",EN$1))) -> 0 | EO11: =COUNTIF($A11:$CW11,(CONCATENATE("Un actionnaire",EO$1))) -> 0 | EP11: =COUNTIF($A11:$CW11,(CONCATENATE("Un actionnaire",EP$1))) -> 0 | EQ11: =COUNTIF($A11:$CW11,(CONCATENATE("Un actionnaire",EQ$1))) -> 0 | ER11: 30 | ES11: =MAX(EM11:EQ11) -> 0 | ET11: =IF(ES11=0,"",HLOOKUP(ES11,EM11:EQ$40,ER11,FALSE)) | EU11: =COUNTIF($A11:$CW11,(CONCATENATE("Autre",EU$1))) -> 0 | EV11: =COUNTIF($A11:$CW11,(CONCATENATE("Autre",EV$1))) -> 0 | EW11: =COUNTIF($A11:$CW11,(CONCATENATE("Autre",EW$1))) -> 0 | EX11: =COUNTIF($A11:$CW11,(CONCATENATE("Autre",EX$1))) -> 0 | EY11: =COUNTIF($A11:$CW11,(CONCATENATE("Autre",EY$1))) -> 0 | EZ11: 30 | FA11: =MAX(EU11:EY11) -> 0 | FB11: =IF(FA11=0,"",HLOOKUP(FA11,EU11:EY$40,EZ11,FALSE)) | FC11: =COUNTIF([1]Général!$C13:$CX13,FC$1) -> 4 | FD11: =COUNTIF([1]Général!$C13:$CX13,FD$1) -> 0 | FE11: =COUNTIF([1]Général!$C13:$CX13,FE$1) -> 0 | FF11: =COUNTIF([1]Général!$C13:$CX13,FF$1) -> 0 | FG11: =COUNTIF([1]Général!$C13:$CX13,FG$1) -> 0 | FH11: 30 | FI11: =MAX(FC11:FG11) -> 4 | FJ11: =IF(FI11<1,"",HLOOKUP(FI11,FC11:FG$40,FH11,FALSE)) -> Oui, tout à fait d'accord | FK11: =COUNTIFS(FC11:FG11,FI11) -> 1 | FL11: =IF(FK11>1,FS11,FJ11) -> Oui, tout à fait d'accord | FM11: =IF($FI11=FC11,"1","0") -> 1 | FN11: =IF($FI11=FD11,"10","0") -> 0 | FO11: =IF($FI11=FE11,"100","0") -> 0 | FP11: =IF($FI11=FF11,"1000","0") -> 0 | FQ11: =IF($FI11=FG11,"10000","0") -> 0 | FR11: =(FM11+FN11+FO11+FP11+FQ11)/5 -> 0.2 | FS11: =IF($FR11<10,$FM$1,(IF(AND($FR11>1,$FR11<100),$FN$1,(IF(AND($FR11>10,$FR11<1000),$FO$1,(IF(AND($FR11>999,$FR11<1010),$FP$1,$FQ$1))))))) -> Oui, tout à fait d'accord
A12: G11 | B12: =CONCATENATE([1]Général!C$3,[1]Général!C14) -> Un clientOui, tout à fait d'accord | C12: =CONCATENATE([1]Général!D$3,[1]Général!D14) -> Un clientOui, tout à fait d'accord | D12: =CONCATENATE([1]Général!E$3,[1]Général!E14) -> Un clientPlutôt d'accord | E12: =CONCATENATE([1]Général!F$3,[1]Général!F14) -> Un clientPlutôt d'accord | F12: =CONCATENATE([1]Général!G$3,[1]Général!G14) | G12: =CONCATENATE([1]Général!H$3,[1]Général!H14) | H12: =CONCATENATE([1]Général!I$3,[1]Général!I14) | I12: =CONCATENATE([1]Général!J$3,[1]Général!J14) | ... CW12: =CONCATENATE([1]Général!CX$3,[1]Général!CX14) | CY12: =COUNTIF($A12:$CW12,(CONCATENATE("Un client",CY$1))) -> 2 | CZ12: =COUNTIF($A12:$CW12,(CONCATENATE("Un client",CZ$1))) -> 2 | DA12: =COUNTIF($A12:$CW12,(CONCATENATE("Un client",DA$1))) -> 0 | DB12: =COUNTIF($A12:$CW12,(CONCATENATE("Un client",DB$1))) -> 0 | DC12: =COUNTIF($A12:$CW12,(CONCATENATE("Un client",DC$1))) -> 0 | DD12: 29 | DE12: =MAX(CY12:DC12) -> 2 | DF12: =IF(DE12=0,"",HLOOKUP(DE12,CY12:DC$40,DD12,FALSE)) -> Oui, tout à fait d'accord | DG12: =COUNTIF($A12:$CW12,(CONCATENATE("Un fournisseur",DG$1))) -> 0 | DH12: =COUNTIF($A12:$CW12,(CONCATENATE("Un fournisseur",DH$1))) -> 0 | DI12: =COUNTIF($A12:$CW12,(CONCATENATE("Un fournisseur",DI$1))) -> 0 | DJ12: =COUNTIF($A12:$CW12,(CONCATENATE("Un fournisseur",DJ$1))) -> 0 | DK12: =COUNTIF($A12:$CW12,(CONCATENATE("Un fournisseur",DK$1))) -> 0 | DL12: 29 | DM12: =MAX(DG12:DK12) -> 0 | DN12: =IF(DM12=0,"",HLOOKUP(DM12,DG12:DK$40,DL12,FALSE)) | DO12: =COUNTIF($A12:$CW12,(CONCATENATE("Une collectivité/organisme local",DO$1))) -> 0 | DP12: =COUNTIF($A12:$CW12,(CONCATENATE("Une collectivité/organisme local",DP$1))) -> 0 | DQ12: =COUNTIF($A12:$CW12,(CONCATENATE("Une collectivité/organisme local",DQ$1))) -> 0 | DR12: =COUNTIF($A12:$CW12,(CONCATENATE("Une collectivité/organisme local",DR$1))) -> 0 | DS12: =COUNTIF($A12:$CW12,(CONCATENATE("Une collectivité/organisme local",DS$1))) -> 0 | DT12: 29 | DU12: =MAX(DO12:DS12) -> 0 | DV12: =IF(DU12=0,"",HLOOKUP(DU12,DO12:DS$40,DT12,FALSE)) | DW12: =COUNTIF($A12:$CW12,(CONCATENATE("Un collaborateur/salarié",DW$1))) -> 0 | DX12: =COUNTIF($A12:$CW12,(CONCATENATE("Un collaborateur/salarié",DX$1))) -> 0 | DY12: =COUNTIF($A12:$CW12,(CONCATENATE("Un collaborateur/salarié",DY$1))) -> 0 | DZ12: =COUNTIF($A12:$CW12,(CONCATENATE("Un collaborateur/salarié",DZ$1))) -> 0 | EA12: =COUNTIF($A12:$CW12,(CONCATENATE("Un collaborateur/salarié",EA$1))) -> 0 | EB12: 29 | EC12: =MAX(DW12:EA12) -> 0 | ED12: =IF(EC12=0,"",HLOOKUP(EC12,DW12:EA$40,EB12,FALSE)) | EE12: =COUNTIF($A12:$CW12,(CONCATENATE("Un prestataire",EE$1))) -> 0 | EF12: =COUNTIF($A12:$CW12,(CONCATENATE("Un prestataire",EF$1))) -> 0 | EG12: =COUNTIF($A12:$CW12,(CONCATENATE("Un prestataire",EG$1))) -> 0 | EH12: =COUNTIF($A12:$CW12,(CONCATENATE("Un prestataire",EH$1))) -> 0 | EI12: =COUNTIF($A12:$CW12,(CONCATENATE("Un prestataire",EI$1))) -> 0 | EJ12: 29 | EK12: =MAX(EE12:EI12) -> 0 | EL12: =IF(EK12=0,"",HLOOKUP(EK12,EE12:EI$40,EJ12,FALSE)) | EM12: =COUNTIF($A12:$CW12,(CONCATENATE("Un actionnaire",EM$1))) -> 0 | EN12: =COUNTIF($A12:$CW12,(CONCATENATE("Un actionnaire",EN$1))) -> 0 | EO12: =COUNTIF($A12:$CW12,(CONCATENATE("Un actionnaire",EO$1))) -> 0 | EP12: =COUNTIF($A12:$CW12,(CONCATENATE("Un actionnaire",EP$1))) -> 0 | EQ12: =COUNTIF($A12:$CW12,(CONCATENATE("Un actionnaire",EQ$1))) -> 0 | ER12: 29 | ES12: =MAX(EM12:EQ12) -> 0 | ET12: =IF(ES12=0,"",HLOOKUP(ES12,EM12:EQ$40,ER12,FALSE)) | EU12: =COUNTIF($A12:$CW12,(CONCATENATE("Autre",EU$1))) -> 0 | EV12: =COUNTIF($A12:$CW12,(CONCATENATE("Autre",EV$1))) -> 0 | EW12: =COUNTIF($A12:$CW12,(CONCATENATE("Autre",EW$1))) -> 0 | EX12: =COUNTIF($A12:$CW12,(CONCATENATE("Autre",EX$1))) -> 0 | EY12: =COUNTIF($A12:$CW12,(CONCATENATE("Autre",EY$1))) -> 0 | EZ12: 29 | FA12: =MAX(EU12:EY12) -> 0 | FB12: =IF(FA12=0,"",HLOOKUP(FA12,EU12:EY$40,EZ12,FALSE)) | FC12: =COUNTIF([1]Général!$C14:$CX14,FC$1) -> 2 | FD12: =COUNTIF([1]Général!$C14:$CX14,FD$1) -> 2 | FE12: =COUNTIF([1]Général!$C14:$CX14,FE$1) -> 0 | FF12: =COUNTIF([1]Général!$C14:$CX14,FF$1) -> 0 | FG12: =COUNTIF([1]Général!$C14:$CX14,FG$1) -> 0 | FH12: 29 | FI12: =MAX(FC12:FG12) -> 2 | FJ12: =IF(FI12<1,"",HLOOKUP(FI12,FC12:FG$40,FH12,FALSE)) -> Oui, tout à fait d'accord | FK12: =COUNTIFS(FC12:FG12,FI12) -> 2 | FL12: =IF(FK12>1,FS12,FJ12) -> Oui, tout à fait d'accord | FM12: =IF($FI12=FC12,"1","0") -> 1 | FN12: =IF($FI12=FD12,"10","0") -> 10 | FO12: =IF($FI12=FE12,"100","0") -> 0 | FP12: =IF($FI12=FF12,"1000","0") -> 0 | FQ12: =IF($FI12=FG12,"10000","0") -> 0 | FR12: =(FM12+FN12+FO12+FP12+FQ12)/5 -> 2.2 | FS12: =IF($FR12<10,$FM$1,(IF(AND($FR12>1,$FR12<100),$FN$1,(IF(AND($FR12>10,$FR12<1000),$FO$1,(IF(AND($FR12>999,$FR12<1010),$FP$1,$FQ$1))))))) -> Oui, tout à fait d'accord
A13: G12 | B13: =CONCATENATE([1]Général!C$3,[1]Général!C15) -> Un clientOui, tout à fait d'accord | C13: =CONCATENATE([1]Général!D$3,[1]Général!D15) -> Un clientOui, tout à fait d'accord | D13: =CONCATENATE([1]Général!E$3,[1]Général!E15) -> Un clientNon, pas du tout d'accord | E13: =CONCATENATE([1]Général!F$3,[1]Général!F15) -> Un clientNon, pas du tout d'accord | F13: =CONCATENATE([1]Général!G$3,[1]Général!G15) | G13: =CONCATENATE([1]Général!H$3,[1]Général!H15) | H13: =CONCATENATE([1]Général!I$3,[1]Général!I15) | I13: =CONCATENATE([1]Général!J$3,[1]Général!J15) | ... CW13: =CONCATENATE([1]Général!CX$3,[1]Général!CX15) | CY13: =COUNTIF($A13:$CW13,(CONCATENATE("Un client",CY$1))) -> 2 | CZ13: =COUNTIF($A13:$CW13,(CONCATENATE("Un client",CZ$1))) -> 0 | DA13: =COUNTIF($A13:$CW13,(CONCATENATE("Un client",DA$1))) -> 0 | DB13: =COUNTIF($A13:$CW13,(CONCATENATE("Un client",DB$1))) -> 2 | DC13: =COUNTIF($A13:$CW13,(CONCATENATE("Un client",DC$1))) -> 0 | DD13: 28 | DE13: =MAX(CY13:DC13) -> 2 | DF13: =IF(DE13=0,"",HLOOKUP(DE13,CY13:DC$40,DD13,FALSE)) -> Oui, tout à fait d'accord | DG13: =COUNTIF($A13:$CW13,(CONCATENATE("Un fournisseur",DG$1))) -> 0 | DH13: =COUNTIF($A13:$CW13,(CONCATENATE("Un fournisseur",DH$1))) -> 0 | DI13: =COUNTIF($A13:$CW13,(CONCATENATE("Un fournisseur",DI$1))) -> 0 | DJ13: =COUNTIF($A13:$CW13,(CONCATENATE("Un fournisseur",DJ$1))) -> 0 | DK13: =COUNTIF($A13:$CW13,(CONCATENATE("Un fournisseur",DK$1))) -> 0 | DL13: 28 | DM13: =MAX(DG13:DK13) -> 0 | DN13: =IF(DM13=0,"",HLOOKUP(DM13,DG13:DK$40,DL13,FALSE)) | DO13: =COUNTIF($A13:$CW13,(CONCATENATE("Une collectivité/organisme local",DO$1))) -> 0 | DP13: =COUNTIF($A13:$CW13,(CONCATENATE("Une collectivité/organisme local",DP$1))) -> 0 | DQ13: =COUNTIF($A13:$CW13,(CONCATENATE("Une collectivité/organisme local",DQ$1))) -> 0 | DR13: =COUNTIF($A13:$CW13,(CONCATENATE("Une collectivité/organisme local",DR$1))) -> 0 | DS13: =COUNTIF($A13:$CW13,(CONCATENATE("Une collectivité/organisme local",DS$1))) -> 0 | DT13: 28 | DU13: =MAX(DO13:DS13) -> 0 | DV13: =IF(DU13=0,"",HLOOKUP(DU13,DO13:DS$40,DT13,FALSE)) | DW13: =COUNTIF($A13:$CW13,(CONCATENATE("Un collaborateur/salarié",DW$1))) -> 0 | DX13: =COUNTIF($A13:$CW13,(CONCATENATE("Un collaborateur/salarié",DX$1))) -> 0 | DY13: =COUNTIF($A13:$CW13,(CONCATENATE("Un collaborateur/salarié",DY$1))) -> 0 | DZ13: =COUNTIF($A13:$CW13,(CONCATENATE("Un collaborateur/salarié",DZ$1))) -> 0 | EA13: =COUNTIF($A13:$CW13,(CONCATENATE("Un collaborateur/salarié",EA$1))) -> 0 | EB13: 28 | EC13: =MAX(DW13:EA13) -> 0 | ED13: =IF(EC13=0,"",HLOOKUP(EC13,DW13:EA$40,EB13,FALSE)) | EE13: =COUNTIF($A13:$CW13,(CONCATENATE("Un prestataire",EE$1))) -> 0 | EF13: =COUNTIF($A13:$CW13,(CONCATENATE("Un prestataire",EF$1))) -> 0 | EG13: =COUNTIF($A13:$CW13,(CONCATENATE("Un prestataire",EG$1))) -> 0 | EH13: =COUNTIF($A13:$CW13,(CONCATENATE("Un prestataire",EH$1))) -> 0 | EI13: =COUNTIF($A13:$CW13,(CONCATENATE("Un prestataire",EI$1))) -> 0 | EJ13: 28 | EK13: =MAX(EE13:EI13) -> 0 | EL13: =IF(EK13=0,"",HLOOKUP(EK13,EE13:EI$40,EJ13,FALSE)) | EM13: =COUNTIF($A13:$CW13,(CONCATENATE("Un actionnaire",EM$1))) -> 0 | EN13: =COUNTIF($A13:$CW13,(CONCATENATE("Un actionnaire",EN$1))) -> 0 | EO13: =COUNTIF($A13:$CW13,(CONCATENATE("Un actionnaire",EO$1))) -> 0 | EP13: =COUNTIF($A13:$CW13,(CONCATENATE("Un actionnaire",EP$1))) -> 0 | EQ13: =COUNTIF($A13:$CW13,(CONCATENATE("Un actionnaire",EQ$1))) -> 0 | ER13: 28 | ES13: =MAX(EM13:EQ13) -> 0 | ET13: =IF(ES13=0,"",HLOOKUP(ES13,EM13:EQ$40,ER13,FALSE)) | EU13: =COUNTIF($A13:$CW13,(CONCATENATE("Autre",EU$1))) -> 0 | EV13: =COUNTIF($A13:$CW13,(CONCATENATE("Autre",EV$1))) -> 0 | EW13: =COUNTIF($A13:$CW13,(CONCATENATE("Autre",EW$1))) -> 0 | EX13: =COUNTIF($A13:$CW13,(CONCATENATE("Autre",EX$1))) -> 0 | EY13: =COUNTIF($A13:$CW13,(CONCATENATE("Autre",EY$1))) -> 0 | EZ13: 28 | FA13: =MAX(EU13:EY13) -> 0 | FB13: =IF(FA13=0,"",HLOOKUP(FA13,EU13:EY$40,EZ13,FALSE)) | FC13: =COUNTIF([1]Général!$C15:$CX15,FC$1) -> 2 | FD13: =COUNTIF([1]Général!$C15:$CX15,FD$1) -> 0 | FE13: =COUNTIF([1]Général!$C15:$CX15,FE$1) -> 0 | FF13: =COUNTIF([1]Général!$C15:$CX15,FF$1) -> 2 | FG13: =COUNTIF([1]Général!$C15:$CX15,FG$1) -> 0 | FH13: 28 | FI13: =MAX(FC13:FG13) -> 2 | FJ13: =IF(FI13<1,"",HLOOKUP(FI13,FC13:FG$40,FH13,FALSE)) -> Oui, tout à fait d'accord | FK13: =COUNTIFS(FC13:FG13,FI13) -> 2 | FL13: =IF(FK13>1,FS13,FJ13) -> Plutôt pas d'accord | FM13: =IF($FI13=FC13,"1","0") -> 1 | FN13: =IF($FI13=FD13,"10","0") -> 0 | FO13: =IF($FI13=FE13,"100","0") -> 0 | FP13: =IF($FI13=FF13,"1000","0") -> 1000 | FQ13: =IF($FI13=FG13,"10000","0") -> 0 | FR13: =(FM13+FN13+FO13+FP13+FQ13)/5 -> 200.2 | FS13: =IF($FR13<10,$FM$1,(IF(AND($FR13>1,$FR13<100),$FN$1,(IF(AND($FR13>10,$FR13<1000),$FO$1,(IF(AND($FR13>999,$FR13<1010),$FP$1,$FQ$1))))))) -> Plutôt pas d'accord
