Workbook

Sheet Recette
B3: Produit | C3: Poids | D3: Prix TTC
B4: Noisette décortiquées BIO | C4: 0.6 | D4: {=SUMPRODUCT((Prix!$B$5:$B$71=B4)*(Prix!$E$5:$E$71*C4))} -> 11.94 | G4: Energie
B5: Sucre glace Daddy | C5: 0.2 | D5: {=SUMPRODUCT((Prix!$B$5:$B$71=B5)*(Prix!$E$5:$E$71*C5))} -> 0.42 | G5: Matières Grasses
B6: Sucre poudre Beghin Say | C6: 0.2 | D6: {=SUMPRODUCT((Prix!$B$5:$B$71=B6)*(Prix!$E$5:$E$71*C6))} -> 0.198 | G6: dont saturées
B7: Huile TRAMIER pépin de raisin | C7: 0.02 | D7: {=SUMPRODUCT((Prix!$B$5:$B$71=B7)*(Prix!$E$5:$E$71*C7))} -> 0.1008 | G7: Sucres
B8: Lait Régilait entier poudre | C8: 0.05 | D8: {=SUMPRODUCT((Prix!$B$5:$B$71=B8)*(Prix!$E$5:$E$71*C8))} -> 0.37 | G8: dont saturées
B9: Cacao poudre non sucré Vanhouten | C9: 0.02 | D9: {=SUMPRODUCT((Prix!$B$5:$B$71=B9)*(Prix!$E$5:$E$71*C9))} -> 0.176 | G9: Fibres
B10: Chocolat Nestlé lait 40% | C10: 0.25 | D10: {=SUMPRODUCT((Prix!$B$5:$B$71=B10)*(Prix!$E$5:$E$71*C10))} -> 2.7941176 | G10: Protéines
B11: Chocolat Nestlé noir 52% | C11: 0.05 | D11: {=SUMPRODUCT((Prix!$B$5:$B$71=B11)*(Prix!$E$5:$E$71*C11))} -> 0.46097561 | G11: Sel
D12: {=SUMPRODUCT((Prix!$B$5:$B$71=B12)*(Prix!$E$5:$E$71*C12))} -> 0
D13: {=SUMPRODUCT((Prix!$B$5:$B$71=B13)*(Prix!$E$5:$E$71*C13))} -> 0
D14: {=SUMPRODUCT((Prix!$B$5:$B$71=B14)*(Prix!$E$5:$E$71*C14))} -> 0
D15: {=SUMPRODUCT((Prix!$B$5:$B$71=B15)*(Prix!$E$5:$E$71*C15))} -> 0
D16: {=SUMPRODUCT((Prix!$B$5:$B$71=B16)*(Prix!$E$5:$E$71*C16))} -> 0
D17: {=SUMPRODUCT((Prix!$B$5:$B$71=B17)*(Prix!$E$5:$E$71*C17))} -> 0
D18: {=SUMPRODUCT((Prix!$B$5:$B$71=B18)*(Prix!$E$5:$E$71*C18))} -> 0
D19: {=SUMPRODUCT((Prix!$B$5:$B$71=B19)*(Prix!$E$5:$E$71*C19))} -> 0
D20: {=SUMPRODUCT((Prix!$B$5:$B$71=B20)*(Prix!$E$5:$E$71*C20))} -> 0
D21: {=SUMPRODUCT((Prix!$B$5:$B$71=B21)*(Prix!$E$5:$E$71*C21))} -> 0
D22: {=SUMPRODUCT((Prix!$B$5:$B$71=B22)*(Prix!$E$5:$E$71*C22))} -> 0
D23: {=SUMPRODUCT((Prix!$B$5:$B$71=B23)*(Prix!$E$5:$E$71*C23))} -> 0
D24: {=SUMPRODUCT((Prix!$B$5:$B$71=B24)*(Prix!$E$5:$E$71*C24))} -> 0
C25: =SUM(C4:C24) &" kg" -> 1,39 kg | D25: =SUM(D4:D24) -> 16.459893

Sheet Prix
B4: Désignation | C4: Poids (kg) | D4: Prix | E4: Prix au kilo
B5: Farine cœur de blé BIO T65 | C5: 1 | D5: 0.82 | E5: =(1/C5)*D5 -> 0.82 | G5: ŒUFS | H5: Qt | I5: Prix
B6: Farine cœur de blé fluide T45 | C6: 1 | D6: 0.82 | E6: =(1/C6)*D6 -> 0.82 | G6: Œufs Moyens Loué Fermier Label Rouge | H6: 1 | I6: 0.32
B7: Farine Tablier Blanc T45 | C7: 1 | D7: 0.49 | E7: =(1/C7)*D7 -> 0.49 | G7: Œufs Moyens BIO village | H7: 1 | I7: 0.27
B8: Farine Francine T45 | C8: 1.4 | D8: 1.2 | E8: =(1/C8)*D8 -> 0.85714286 | G8: Œufs Moyens Cocorette plein air | H8: 1 | I8: 0.23
B9: Farine Francine BIO T55 | C9: 1 | D9: 1.76 | E9: =(1/C9)*D9 -> 1.76 | G9: Œufs Moyens Marque Repère Label Rouge | H9: 1 | I9: 0.25
B10: Maizenna | C10: 0.4 | D10: 1.34 | E10: =(1/C10)*D10 -> 3.35 | G10: Œufs Moyen Marque Repère plein air | H10: 1 | I10: 0.19
B11: Sucre poudre Saint-Louis | C11: 1 | D11: 1.03 | E11: =(1/C11)*D11 -> 1.03 | G11: Œufs Moyen BIO Matines | H11: 1 | I11: 0.36
B12: Sucre poudre Beghin Say | C12: 1 | D12: 0.99 | E12: =(1/C12)*D12 -> 0.99 | G12: Œufs Moyens BIO Lustucru | H12: 1 | I12: 0.41
B13: Sucre extra fin Daddy | C13: 0.75 | D13: 1.45 | E13: =(1/C13)*D13 -> 1.9333333
B14: Sucre extra fin Beghin Say | C14: 1 | D14: 1.7 | E14: =(1/C14)*D14 -> 1.7
B15: Sucre glace Daddy | C15: 0.5 | D15: 1.05 | E15: =(1/C15)*D15 -> 2.1
B16: Sucre glace Beghin Say | C16: 0.5 | D16: 1.25 | E16: =(1/C16)*D16 -> 2.5
B17: Sucre glace Saint Louis | C17: 1 | D17: 1.67 | E17: =(1/C17)*D17 -> 1.67
B18: Sucre poudre blond Blonvilliers | C18: 0.75 | D18: 1.72 | E18: =(1/C18)*D18 -> 2.2933333
B19: Sucre cassonade Daddy | C19: 0.75 | D19: 1.47 | E19: =(1/C19)*D19 -> 1.96
B20: Sucre cassonade La Perruche | C20: 0.75 | D20: 1.65 | E20: =(1/C20)*D20 -> 2.2
B21: Crème fleurette légère Yoplait 15% MG | C21: 0.38 | D21: 1.49 | E21: =(1/C21)*D21 -> 3.9210526
B22: Crème fleurette entière Yoplait 30% MG | C22: 0.38 | D22: 1.64 | E22: =(1/C22)*D22 -> 4.3157895
B23: Crème fleurette entière Elle&Vire 31% MG | C23: 0.33 | D23: 1.5 | E23: =(1/C23)*D23 -> 4.5454545
B24: Crème entière Yoplait 30% MG | C24: 0.19 | D24: 0.82 | E24: =(1/C24)*D24 -> 4.3157895
... B65: BLANC Œufs Moyens Loué Fermier Label Rouge | C65: 0.03 | D65: 0.19 | E65: =(1/C65)*D65 -> 6.3333333
B66: PREPARATIONS
B67: Pâte feuilletée classique | C67: 1 | E67: =SUMPRODUCT(1/VLOOKUP(Prix!B67,Préparations!$A$2:$C$35,2,FALSE)*VLOOKUP(Prix!B67,Préparations!$A$2:$C$35,3,FALSE)) -> 3.4492611
B68: Pâte feuilletée inversée | C68: 1 | E68: =SUMPRODUCT(1/VLOOKUP(Prix!B68,Préparations!$A$2:$C$35,2,FALSE)*VLOOKUP(Prix!B68,Préparations!$A$2:$C$35,3,FALSE)) -> 3.6932331
B69: Praliné amandes/noisettes | C69: 1 | E69: =SUMPRODUCT(1/VLOOKUP(Prix!B69,Préparations!$A$2:$C$35,2,FALSE)*VLOOKUP(Prix!B69,Préparations!$A$2:$C$35,3,FALSE)) -> 8.3408571
B70: Nutella maison | C70: 1 | E70: =SUMPRODUCT(1/VLOOKUP(Prix!B70,Préparations!$A$2:$C$35,2,FALSE)*VLOOKUP(Prix!B70,Préparations!$A$2:$C$35,3,FALSE)) -> 11.851021
B71: Pâte à choux | C71: 1 | E71: =SUMPRODUCT(1/VLOOKUP(Prix!B71,Préparations!$A$2:$C$35,2,FALSE)*VLOOKUP(Prix!B71,Préparations!$A$2:$C$35,3,FALSE)) -> 3.5557103

Sheet Préparations
A1: Préparation | B1: Poids (kg) | C1: Prix
A2: Pâte feuilletée inversée | B2: =SUM(B3:B7) -> 0.855 | C2: =SUM(C3:C7) -> 3.1577143
A3: Beurre AOP Isigny st mer | B3: 0.3 | C3: {=SUMPRODUCT((Prix!$B$5:$B$65=A3)*(Prix!$E$5:$E$65*B3))} -> 2.544
A4: Farine Francine BIO T55 | B4: 0.3 | C4: {=SUMPRODUCT((Prix!$B$5:$B$65=A4)*(Prix!$E$5:$E$65*B4))} -> 0.528
A5: Farine Francine T45 | B5: 0.1 | C5: {=SUMPRODUCT((Prix!$B$5:$B$65=A5)*(Prix!$E$5:$E$65*B5))} -> 0.085714286
A6: Eau | B6: 0.15 | C6: {=SUMPRODUCT((Prix!$B$5:$B$65=A6)*(Prix!$E$5:$E$65*B6))} -> 0
A7: Sel | B7: 0.005 | C7: {=SUMPRODUCT((Prix!$B$5:$B$65=A7)*(Prix!$E$5:$E$65*B7))} -> 0
A8: Pâte feuilletée classique | B8: =SUM(B9:B13) -> 0.58 | C8: =SUM(C9:C13) -> 2.0005714
A9: Beurre AOP Isigny st mer | B9: 0.2 | C9: {=SUMPRODUCT((Prix!$B$5:$B$65=A9)*(Prix!$E$5:$E$65*B9))} -> 1.696
A10: Farine Francine BIO T55 | B10: 0.1 | C10: {=SUMPRODUCT((Prix!$B$5:$B$65=A10)*(Prix!$E$5:$E$65*B10))} -> 0.176
A11: Farine Francine T45 | B11: 0.15 | C11: {=SUMPRODUCT((Prix!$B$5:$B$65=A11)*(Prix!$E$5:$E$65*B11))} -> 0.12857143
A12: Eau | B12: 0.125 | C12: {=SUMPRODUCT((Prix!$B$5:$B$65=A12)*(Prix!$E$5:$E$65*B12))} -> 0
A13: Sel | B13: 0.005 | C13: {=SUMPRODUCT((Prix!$B$5:$B$65=A13)*(Prix!$E$5:$E$65*B13))} -> 0
A14: Pâte à choux | B14: =SUM(B15:B21) -> 0.709 | C14: =SUM(C15:C21) -> 2.5209986
A15: Lait Lactel BIO demi-écrémé | B15: 0.125 | C15: {=SUMPRODUCT((Prix!$B$5:$B$65=A15)*(Prix!$E$5:$E$65*B15))} -> 0.195
A16: Eau | B16: 0.125 | C16: {=SUMPRODUCT((Prix!$B$5:$B$65=A16)*(Prix!$E$5:$E$65*B16))} -> 0
A17: Farine Francine T45 | B17: 0.144 | C17: {=SUMPRODUCT((Prix!$B$5:$B$65=A17)*(Prix!$E$5:$E$65*B17))} -> 0.12342857
A18: Beurre AOP Surgères | B18: 0.11 | C18: {=SUMPRODUCT((Prix!$B$5:$B$65=A18)*(Prix!$E$5:$E$65*B18))} -> 0.9196
A19: Œufs Moyens Loué Fermier Label Rouge | B19: 0.2 | C19: {=SUMPRODUCT((Prix!$B$5:$B$65=A19)*(Prix!$E$5:$E$65*B19))} -> 1.28
A20: Sucre poudre Beghin Say | B20: 0.003 | C20: {=SUMPRODUCT((Prix!$B$5:$B$65=A20)*(Prix!$E$5:$E$65*B20))} -> 0.00297
A21: Sel | B21: 0.002 | C21: {=SUMPRODUCT((Prix!$B$5:$B$65=A21)*(Prix!$E$5:$E$65*B21))} -> 0
A22: Nutella maison | B22: =SUM(B23:B31) -> 0.697 | C22: =SUM(C23:C31) -> 8.2601618
A23: Noisette décortiquées BIO | B23: 0.3 | C23: {=SUMPRODUCT((Prix!$B$5:$B$65=A23)*(Prix!$E$5:$E$65*B23))} -> 5.97
A24: Sucre poudre Beghin Say | B24: 0.1 | C24: {=SUMPRODUCT((Prix!$B$5:$B$65=A24)*(Prix!$E$5:$E$65*B24))} -> 0.099
A25: Sucre glace Beghin Say | B25: 0.1 | C25: {=SUMPRODUCT((Prix!$B$5:$B$65=A25)*(Prix!$E$5:$E$65*B25))} -> 0.25
A26: Chocolat Nestlé lait 40% | B26: 0.12 | C26: {=SUMPRODUCT((Prix!$B$5:$B$65=A26)*(Prix!$E$5:$E$65*B26))} -> 1.3411765
A27: Chocolat Nestlé noir 52% | B27: 0.03 | C27: {=SUMPRODUCT((Prix!$B$5:$B$65=A27)*(Prix!$E$5:$E$65*B27))} -> 0.27658537
A28: Cacao poudre non sucré Vanhouten | B28: 0.01 | C28: {=SUMPRODUCT((Prix!$B$5:$B$65=A28)*(Prix!$E$5:$E$65*B28))} -> 0.088
A29: Huile TRAMIER pépin de raisin | B29: 0.01 | C29: {=SUMPRODUCT((Prix!$B$5:$B$65=A29)*(Prix!$E$5:$E$65*B29))} -> 0.0504
A30: Lait Régilait entier poudre | B30: 0.025 | C30: {=SUMPRODUCT((Prix!$B$5:$B$65=A30)*(Prix!$E$5:$E$65*B30))} -> 0.185
A31: Sel | B31: 0.002 | C31: {=SUMPRODUCT((Prix!$B$5:$B$65=A31)*(Prix!$E$5:$E$65*B31))} -> 0
A32: Praliné amandes/noisettes | B32: =SUM(B33:B35) -> 1 | C32: =SUM(C33:C35) -> 8.3408571
A33: Amandes BIO | B33: 0.3 | C33: {=SUMPRODUCT((Prix!$B$5:$B$65=A33)*(Prix!$E$5:$E$65*B33))} -> 7.47
A34: Farine Francine BIO T55 | B34: 0.3 | C34: {=SUMPRODUCT((Prix!$B$5:$B$65=A34)*(Prix!$E$5:$E$65*B34))} -> 0.528
A35: Farine Francine T45 | B35: 0.4 | C35: {=SUMPRODUCT((Prix!$B$5:$B$65=A35)*(Prix!$E$5:$E$65*B35))} -> 0.34285714

Sheet Apports
B3: pour 100 gr | C3: Energies | D3: MG | E3: MG saturées | F3: Sucres | G3: SC saturées | H3: Fibres | I3: Protéines | J3: Sel
B4: Chocolat Nestlé lait | C4: 555 | D4: 34 | E4: 21 | F4: 53 | G4: 51 | H4: 3.9 | I4: 6.3 | J4: 0.18
B5: Sucre poudre Béghin Say | C5: 400 | D5: 0 | E5: 0 | F5: 100 | G5: 100 | H5: 0 | I5: 0 | J5: 0
B6: Crème fleurette entière Yoplait 30% MG | C6: 302 | D6: 31 | E6: 20.9 | F6: 3.3 | G6: 3.3 | H6: 0.1 | I6: 2.3 | J6: 0.11
B7: Amandes en poudre Sainte Lucie | C7: 651 | D7: 52 | E7: 3.9 | F7: 8.8 | G7: 4.6 | H7: 9.9 | I7: 21 | J7: 0.05
B8: Beurre AOP Grand fermage | C8: 744 | D8: 82 | E8: 57 | F8: 0.9 | G8: 0.9 | H8: 0 | I8: 0.7 | J8: 0.05
