Workbook

Sheet Main
A1: Plage de position angulaire° | B1: Récurrence
A2: 0 - 5 | B2: =COUNTIFS('Sortie table 3'!G:G,">0",'Sortie table 3'!G:G,"<=5") -> 1
A3: 5 - 10 | B3: =COUNTIFS('Sortie table 3'!G:G,">5",'Sortie table 3'!G:G,"<=10") -> 0
A4: 10 - 15 | B4: =COUNTIFS('Sortie table 3'!G:G,">10",'Sortie table 3'!G:G,"<=15") -> 2
A5: 15 - 20 | B5: =COUNTIFS('Sortie table 3'!G:G,">15",'Sortie table 3'!G:G,"<=20") -> 3
A6: 20 - 25 | B6: =COUNTIFS('Sortie table 3'!G:G,">20",'Sortie table 3'!G:G,"<=25") -> 2
A7: 25 - 30 | B7: =COUNTIFS('Sortie table 3'!G:G,">25",'Sortie table 3'!G:G,"<=30") -> 4
A8: 30 - 35 | B8: =COUNTIFS('Sortie table 3'!G:G,">30",'Sortie table 3'!G:G,"<=35") -> 1
A9: 35 - 40 | B9: =COUNTIFS('Sortie table 3'!G:G,">35",'Sortie table 3'!G:G,"<=40") -> 0
A10: 40 - 45 | B10: =COUNTIFS('Sortie table 3'!G:G,">40",'Sortie table 3'!G:G,"<=45") -> 0
A11: 45 - 50 | B11: =COUNTIFS('Sortie table 3'!G:G,">45",'Sortie table 3'!G:G,"<=50") -> 6
A12: 50 - 55 | B12: =COUNTIFS('Sortie table 3'!G:G,">50",'Sortie table 3'!G:G,"<=55") -> 3
A13: 55 - 60 | B13: =COUNTIFS('Sortie table 3'!G:G,">55",'Sortie table 3'!G:G,"<=60") -> 3
A14: 60 - 65 | B14: =COUNTIFS('Sortie table 3'!G:G,">60",'Sortie table 3'!G:G,"<=65") -> 0
A15: 65 - 70 | B15: =COUNTIFS('Sortie table 3'!G:G,">65",'Sortie table 3'!G:G,"<=70") -> 3
A16: 70 - 75 | B16: =COUNTIFS('Sortie table 3'!G:G,">70",'Sortie table 3'!G:G,"<=75") -> 2
A17: 75 - 80 | B17: =COUNTIFS('Sortie table 3'!G:G,">75",'Sortie table 3'!G:G,"<=80") -> 8
A18: 80 - 85 | B18: =COUNTIFS('Sortie table 3'!G:G,">80",'Sortie table 3'!G:G,"<=85") -> 2
A19: 85 - 90 | B19: =COUNTIFS('Sortie table 3'!G:G,">85",'Sortie table 3'!G:G,"<=90") -> 9
A20: 90 - 95 | B20: =COUNTIFS('Sortie table 3'!G:G,">90",'Sortie table 3'!G:G,"<=95") -> 0
A21: 95 - 100 | B21: =COUNTIFS('Sortie table 3'!G:G,">95",'Sortie table 3'!G:G,"<=100") -> 18
A22: 100 - 105 | B22: =COUNTIFS('Sortie table 3'!G:G,">100",'Sortie table 3'!G:G,"<=105") -> 15
A23: 105 - 110 | B23: =COUNTIFS('Sortie table 3'!G:G,">105",'Sortie table 3'!G:G,"<=110") -> 8
A24: 110 - 115 | B24: =COUNTIFS('Sortie table 3'!G:G,">110",'Sortie table 3'!G:G,"<=115") -> 7
A25: 115 - 120 | B25: =COUNTIFS('Sortie table 3'!G:G,">115",'Sortie table 3'!G:G,"<=120") -> 13
A26: 120 - 125 | B26: =COUNTIFS('Sortie table 3'!G:G,">120",'Sortie table 3'!G:G,"<=125") -> 23
A27: 125 - 130 | B27: =COUNTIFS('Sortie table 3'!G:G,">125",'Sortie table 3'!G:G,"<=130") -> 1
A28: 130 - 135 | B28: =COUNTIFS('Sortie table 3'!G:G,">130",'Sortie table 3'!G:G,"<=135") -> 0
A29: 135 - 140 | B29: =COUNTIFS('Sortie table 3'!G:G,">135",'Sortie table 3'!G:G,"<=140") -> 1
A30: 140 - 145 | B30: =COUNTIFS('Sortie table 3'!G:G,">140",'Sortie table 3'!G:G,"<=145") -> 2
A31: 145 - 150 | B31: =COUNTIFS('Sortie table 3'!G:G,">145",'Sortie table 3'!G:G,"<=150") -> 3
A32: 150 - 155 | B32: =COUNTIFS('Sortie table 3'!G:G,">150",'Sortie table 3'!G:G,"<=155") -> 5
A33: 155 - 160 | B33: =COUNTIFS('Sortie table 3'!G:G,">155",'Sortie table 3'!G:G,"<=160") -> 2
A34: 160 - 165 | B34: =COUNTIFS('Sortie table 3'!G:G,">160",'Sortie table 3'!G:G,"<=165") -> 3
A35: 165 - 170 | B35: =COUNTIFS('Sortie table 3'!G:G,">165",'Sortie table 3'!G:G,"<=170") -> 1
A36: 170 - 175 | B36: =COUNTIFS('Sortie table 3'!G:G,">170",'Sortie table 3'!G:G,"<=175") -> 1
A37: 175 - 180 | B37: =COUNTIFS('Sortie table 3'!G:G,">175",'Sortie table 3'!G:G,"<=180") -> 0
B38: =SUM(B2:B37) -> 152

Sheet Sortie table 3
A1: Parcours d*arrêter | B1: Temps | C1: Circuits de désactivation | D1: Champ (jeux de champs) | E1: Distance | F1: Durée | G1: Angulaire | H1: Colonne1 | I1: Détails
A2: 1 | B2: 18.01.2023 10:44:26:612 | C2: Circuit de désactivation 1 | D2: Champ (1) (Jeu de champs (1)) | E2: 1578 mm | F2: 4802326 ms | G2: 151.7 | I2: n/a
A3: 2 | B3: 18.01.2023 08:54:07:820 | C3: Circuit de désactivation 1 | D3: Champ (1) (Jeu de champs (1)) | E3: 5420 mm | F3: 2709 ms | G3: 96 | I3: n/a
A4: 3 | B4: 18.01.2023 08:53:51:169 | C4: Circuit de désactivation 1 | D4: Champ (1) (Jeu de champs (1)) | E4: 2747 mm | F4: 3010 ms | G4: 120.2 | I4: n/a
A5: 4 | B5: 17.01.2023 18:44:59:291 | C5: Circuit de désactivation 1 | D5: Champ (1) (Jeu de champs (1)) | E5: 1596 mm | F5: 2365 ms | G5: 149.4 | I5: n/a
A6: 5 | B6: 17.01.2023 18:44:53:769 | C6: Circuit de désactivation 1 | D6: Champ (1) (Jeu de champs (1)) | E6: 1665 mm | F6: 4085 ms | G6: 17.1 | I6: n/a
A7: 6 | B7: 17.01.2023 17:07:57:629 | C7: Circuit de désactivation 1 | D7: Champ (1) (Jeu de champs (1)) | E7: 5445 mm | F7: 2408 ms | G7: 97.9 | I7: n/a
A8: 7 | B8: 17.01.2023 17:07:42:075 | C8: Circuit de désactivation 1 | D8: Champ (1) (Jeu de champs (1)) | E8: 2782 mm | F8: 2408 ms | G8: 117.1 | I8: n/a
A9: 8 | B9: 17.01.2023 16:43:32:493 | C9: Circuit de désactivation 1 | D9: Champ (1) (Jeu de champs (1)) | E9: 2392 mm | F9: 2709 ms | G9: 49.4 | I9: n/a
A10: 9 | B10: 17.01.2023 16:43:22:543 | C10: Circuit de désactivation 1 | D10: Champ (1) (Jeu de champs (1)) | E10: 1506 mm | F10: 2365 ms | G10: 138.7 | I10: n/a
A11: 10 | B11: 17.01.2023 16:36:12:701 | C11: Circuit de désactivation 1 | D11: Champ (1) (Jeu de champs (1)) | E11: 2439 mm | F11: 3870 ms | G11: 51 | I11: n/a
A12: 11 | B12: 17.01.2023 16:35:47:831 | C12: Circuit de désactivation 1 | D12: Champ (1) (Jeu de champs (1)) | E12: 2413 mm | F12: 12900 ms | G12: 125.2 | I12: n/a
A13: 12 | B13: 17.01.2023 12:08:39:587 | C13: Circuit de désactivation 1 | D13: Champ (1) (Jeu de champs (1)) | E13: 2158 mm | F13: 2580 ms | G13: 124 | I13: n/a
... A153: 152 | B153: 12.01.2023 10:37:23:163 | C153: Circuit de désactivation 1 | D153: Champ (1) (Jeu de champs (1)) | E153: 1708 mm | F153: 2150 ms | G153: 29.8 | I153: n/a

Sheet Sortie table 2
A1: Parcours d*arrêter | B1: Temps | C1: Circuits de désactivation | D1: Champ (jeux de champs) | E1: Distance | F1: Durée | G1: Angulaire | H1: Colonne1 | I1: Détails
A2: 1 | B2: 18.01.2023 12:02:53:999 | C2: Circuit de désactivation 1 | D2: Champ (1) (Jeu de champs (1)) | E2: 1634 mm | F2: 2268 ms | G2: 12.5 | I2: n/a
A3: 2 | B3: 18.01.2023 12:01:57:831 | C3: Circuit de désactivation 1 | D3: Champ (1) (Jeu de champs (1)) | E3: 2405 mm | F3: 2562 ms | G3: 122.1 | I3: n/a
A4: 3 | B4: 18.01.2023 11:59:05:829 | C4: Circuit de désactivation 1 | D4: Champ (1) (Jeu de champs (1)) | E4: 2392 mm | F4: 3024 ms | G4: 51.3 | I4: n/a
A5: 4 | B5: 18.01.2023 11:50:27:721 | C5: Circuit de désactivation 1 | D5: Champ (1) (Jeu de champs (1)) | E5: 5413 mm | F5: 378 ms | G5: 77.1 | I5: n/a
A6: 5 | B6: 18.01.2023 11:49:38:513 | C6: Circuit de désactivation 1 | D6: Champ (1) (Jeu de champs (1)) | E6: 4200 mm | F6: 252 ms | G6: 69.4 | I6: n/a
A7: 6 | B7: 18.01.2023 11:49:35:341 | C7: Circuit de désactivation 1 | D7: Champ (1) (Jeu de champs (1)) | E7: 3865 mm | F7: 546 ms | G7: 67.9 | I7: n/a
A8: 7 | B8: 18.01.2023 11:49:15:287 | C8: Circuit de désactivation 1 | D8: Champ (1) (Jeu de champs (1)) | E8: 2566 mm | F8: 420 ms | G8: 52.9 | I8: n/a
A9: 8 | B9: 18.01.2023 11:48:08:661 | C9: Circuit de désactivation 1 | D9: Champ (1) (Jeu de champs (1)) | E9: 1387 mm | F9: 3150 ms | G9: 158.7 | I9: n/a
A10: 9 | B10: 18.01.2023 11:21:26:551 | C10: Circuit de désactivation 1 | D10: Champ (1) (Jeu de champs (1)) | E10: 2728 mm | F10: 3234 ms | G10: 54.8 | I10: n/a
A11: 10 | B11: 18.01.2023 11:13:39:045 | C11: Circuit de désactivation 1 | D11: Champ (1) (Jeu de champs (1)) | E11: 1695 mm | F11: 1974 ms | G11: 22.9 | I11: n/a
A12: 11 | B12: 18.01.2023 11:12:43:825 | C12: Circuit de désactivation 1 | D12: Champ (1) (Jeu de champs (1)) | E12: 1477 mm | F12: 3192 ms | G12: 150.2 | I12: n/a
A13: 12 | B13: 18.01.2023 10:52:29:709 | C13: Circuit de désactivation 1 | D13: Champ (1) (Jeu de champs (1)) | E13: 4171 mm | F13: 294 ms | G13: 70.6 | I13: n/a
... A153: 152 | B153: 15.01.2023 10:36:34:581 | C153: Circuit de désactivation 1 | D153: Champ (1) (Jeu de champs (1)) | E153: 1297 mm | F153: 2436 ms | G153: 157.1 | I153: n/a

Sheet Entrée table 3
A1: Parcours d*arrêter | B1: Temps | C1: Circuits de désactivation | D1: Champ (jeux de champs) | E1: Distance | F1: Durée | G1: Angulaire | H1: Colonne1 | I1: Détails
A2: 1 | B2: 18.01.2023 11:06:52:364 | C2: Circuit de désactivation 1 | D2: Champ (1) (Jeu de champs (1)) | E2: 5101 mm | F2: 3404476 ms | G2: 77.9 | I2: n/a
A3: 2 | B3: 18.01.2023 11:05:52:066 | C3: Circuit de désactivation 1 | D3: Champ (1) (Jeu de champs (1)) | E3: 5073 mm | F3: 1025 ms | G3: 77.5 | I3: n/a
A4: 3 | B4: 18.01.2023 11:05:47:000 | C4: Circuit de désactivation 1 | D4: Champ (1) (Jeu de champs (1)) | E4: 5177 mm | F4: 615 ms | G4: 73.3 | I4: n/a
A5: 4 | B5: 18.01.2023 11:05:30:480 | C5: Circuit de désactivation 1 | D5: Champ (1) (Jeu de champs (1)) | E5: 4352 mm | F5: 246 ms | G5: 73.7 | I5: n/a
A6: 5 | B6: 18.01.2023 11:05:24:771 | C6: Circuit de désactivation 1 | D6: Champ (1) (Jeu de champs (1)) | E6: 4397 mm | F6: 1148 ms | G6: 105.6 | I6: n/a
A7: 6 | B7: 18.01.2023 11:05:22:922 | C7: Circuit de désactivation 1 | D7: Champ (1) (Jeu de champs (1)) | E7: 4716 mm | F7: 410 ms | G7: 76 | I7: n/a
A8: 7 | B8: 18.01.2023 11:05:11:425 | C8: Circuit de désactivation 1 | D8: Champ (1) (Jeu de champs (1)) | E8: 5010 mm | F8: 574 ms | G8: 94.4 | I8: n/a
A9: 8 | B9: 18.01.2023 11:05:09:375 | C9: Circuit de désactivation 1 | D9: Champ (1) (Jeu de champs (1)) | E9: 5040 mm | F9: 738 ms | G9: 77.9 | I9: n/a
A10: 9 | B10: 18.01.2023 11:05:03:988 | C10: Circuit de désactivation 1 | D10: Champ (1) (Jeu de champs (1)) | E10: 4711 mm | F10: 984 ms | G10: 103.3 | I10: n/a
A11: 10 | B11: 18.01.2023 10:58:28:632 | C11: Circuit de désactivation 1 | D11: Champ (1) (Jeu de champs (1)) | E11: 81 mm | F11: 72775 ms | G11: 159 | I11: n/a
A12: 11 | B12: 17.01.2023 11:18:52:211 | C12: Circuit de désactivation 1 | D12: Champ (1) (Jeu de champs (1)) | E12: 5073 mm | F12: 2563320 ms | G12: 99.8 | I12: n/a
A13: 12 | B13: 16.01.2023 22:56:58:865 | C13: Circuit de désactivation 1 | D13: Champ (1) (Jeu de champs (1)) | E13: 4194 mm | F13: 369 ms | G13: 76 | I13: n/a
... A153: 152 | B153: 05.01.2023 05:38:34:318 | C153: Circuit de désactivation 1 | D153: Champ (1) (Jeu de champs (1)) | E153: 1597 mm | F153: 2542 ms | G153: 24.4 | I153: n/a

Sheet Entrée table 1
A1: Parcours d*arrêter | B1: Temps | C1: Circuits de désactivation | D1: Champ (jeux de champs) | E1: Distance | F1: Durée | G1: Angulaire | H1: Colonne1 | I1: Détails
A2: 1 | B2: 18.01.2023 13:58:46:065 | C2: Circuit de désactivation 1 | D2: Champ (1) (Jeu de champs (1)) | E2: 1525 mm | F2: 9417 ms | G2: 28.7 | I2: n/a
A3: 2 | B3: 18.01.2023 13:58:24:735 | C3: Circuit de désactivation 1 | D3: Champ (1) (Jeu de champs (1)) | E3: 1403 mm | F3: 387 ms | G3: 71 | I3: n/a
A4: 3 | B4: 18.01.2023 13:56:39:773 | C4: Circuit de désactivation 1 | D4: Champ (1) (Jeu de champs (1)) | E4: 1736 mm | F4: 516 ms | G4: 57.5 | I4: n/a
A5: 4 | B5: 17.01.2023 20:37:00:114 | C5: Circuit de désactivation 1 | D5: Champ (1) (Jeu de champs (1)) | E5: 1426 mm | F5: 5366701 ms | G5: 18.3 | I5: n/a
A6: 5 | B6: 17.01.2023 15:08:26:107 | C6: Circuit de désactivation 1 | D6: Champ (1) (Jeu de champs (1)) | E6: 4210 mm | F6: 387 ms | G6: 70.6 | I6: n/a
A7: 6 | B7: 17.01.2023 15:08:22:271 | C7: Circuit de désactivation 1 | D7: Champ (1) (Jeu de champs (1)) | E7: 4501 mm | F7: 516 ms | G7: 71.7 | I7: n/a
A8: 7 | B8: 17.01.2023 15:08:04:145 | C8: Circuit de désactivation 1 | D8: Champ (1) (Jeu de champs (1)) | E8: 1500 mm | F8: 14233 ms | G8: 22.1 | I8: n/a
A9: 8 | B9: 17.01.2023 15:07:22:623 | C9: Circuit de désactivation 1 | D9: Champ (1) (Jeu de champs (1)) | E9: 4787 mm | F9: 387 ms | G9: 74.8 | I9: n/a
A10: 9 | B10: 17.01.2023 15:07:21:907 | C10: Circuit de désactivation 1 | D10: Champ (1) (Jeu de champs (1)) | E10: 4754 mm | F10: 387 ms | G10: 74 | I10: n/a
A11: 10 | B11: 17.01.2023 15:07:13:855 | C11: Circuit de désactivation 1 | D11: Champ (1) (Jeu de champs (1)) | E11: 5069 mm | F11: 516 ms | G11: 74 | I11: n/a
A12: 11 | B12: 17.01.2023 15:07:09:555 | C12: Circuit de désactivation 1 | D12: Champ (1) (Jeu de champs (1)) | E12: 3287 mm | F12: 387 ms | G12: 66.7 | I12: n/a
A13: 12 | B13: 17.01.2023 15:06:57:585 | C13: Circuit de désactivation 1 | D13: Champ (1) (Jeu de champs (1)) | E13: 3085 mm | F13: 731 ms | G13: 63.3 | I13: n/a
... A153: 152 | B153: 12.01.2023 00:58:57:305 | C153: Circuit de désactivation 1 | D153: Champ (1) (Jeu de champs (1)) | E153: 5084 mm | F153: 8643 ms | G153: 99.8 | I153: n/a

Sheet Entrée table 2
A1: Parcours d*arrêter | B1: Temps | C1: Circuits de désactivation | D1: Champ (jeux de champs) | E1: Distance | F1: Durée | G1: Angulaire | H1: Colonne1 | I1: Détails
A2: 1 | B2: 18.01.2023 13:56:56:026 | C2: Circuit de désactivation 1 | D2: Champ (1) (Jeu de champs (1)) | E2: 1614 mm | F2: 360 ms | G2: 66 | I2: n/a
A3: 2 | B3: 18.01.2023 11:54:50:823 | C3: Circuit de désactivation 1 | D3: Champ (1) (Jeu de champs (1)) | E3: 5187 mm | F3: 1920 ms | G3: 90.6 | I3: n/a
A4: 3 | B4: 18.01.2023 11:54:07:133 | C4: Circuit de désactivation 1 | D4: Champ (1) (Jeu de champs (1)) | E4: 5299 mm | F4: 1120 ms | G4: 101 | I4: n/a
A5: 4 | B5: 18.01.2023 11:53:57:289 | C5: Circuit de désactivation 1 | D5: Champ (1) (Jeu de champs (1)) | E5: 4931 mm | F5: 1200 ms | G5: 104.4 | I5: n/a
A6: 5 | B6: 18.01.2023 11:53:38:032 | C6: Circuit de désactivation 1 | D6: Champ (1) (Jeu de champs (1)) | E6: 3639 mm | F6: 1400 ms | G6: 112.1 | I6: n/a
A7: 6 | B7: 18.01.2023 11:53:19:364 | C7: Circuit de désactivation 1 | D7: Champ (1) (Jeu de champs (1)) | E7: 3242 mm | F7: 1160 ms | G7: 115.2 | I7: n/a
A8: 7 | B8: 18.01.2023 11:53:03:676 | C8: Circuit de désactivation 1 | D8: Champ (1) (Jeu de champs (1)) | E8: 4756 mm | F8: 360 ms | G8: 106.3 | I8: n/a
A9: 8 | B9: 18.01.2023 11:53:02:970 | C9: Circuit de désactivation 1 | D9: Champ (1) (Jeu de champs (1)) | E9: 3882 mm | F9: 240 ms | G9: 110.6 | I9: n/a
A10: 9 | B10: 18.01.2023 11:53:00:067 | C10: Circuit de désactivation 1 | D10: Champ (1) (Jeu de champs (1)) | E10: 3322 mm | F10: 1520 ms | G10: 114.4 | I10: n/a
A11: 10 | B11: 18.01.2023 11:52:57:046 | C11: Circuit de désactivation 1 | D11: Champ (1) (Jeu de champs (1)) | E11: 1920 mm | F11: 1040 ms | G11: 132.9 | I11: n/a
A12: 11 | B12: 18.01.2023 11:08:52:719 | C12: Circuit de désactivation 1 | D12: Champ (1) (Jeu de champs (1)) | E12: 2998 mm | F12: 1240 ms | G12: 116.3 | I12: n/a
A13: 12 | B13: 18.01.2023 11:07:01:649 | C13: Circuit de désactivation 1 | D13: Champ (1) (Jeu de champs (1)) | E13: 4327 mm | F13: 680 ms | G13: 107.5 | I13: n/a
... A153: 152 | B153: 12.01.2023 00:58:15:909 | C153: Circuit de désactivation 1 | D153: Champ (1) (Jeu de champs (1)) | E153: 3242 mm | F153: 1000 ms | G153: 65.2 | I153: n/a

Sheet Entrée TIP
A1: Parcours d*arrêter | B1: Temps | C1: Circuits de désactivation | D1: Champ (jeux de champs) | E1: Distance | F1: Durée | G1: Angulaire | H1: Colonne1 | I1: Détails
A2: 1 | B2: 18.01.2023 08:54:14:826 | C2: Cut-off path 1 | D2: Field (1) (Field set (1)) | E2: 1166 mm | F2: 2000 ms | G2: 19.8 | I2: n/a
A3: 2 | B3: 18.01.2023 08:53:44:669 | C3: Cut-off path 1 | D3: Field (1) (Field set (1)) | E3: 1259 mm | F3: 2080 ms | G3: 152.9 | I3: n/a
A4: 3 | B4: 18.01.2023 08:37:22:425 | C4: Cut-off path 1 | D4: Field (1) (Field set (1)) | E4: 2767 mm | F4: 2080 ms | G4: 103.3 | I4: n/a
A5: 4 | B5: 18.01.2023 08:36:47:249 | C5: Cut-off path 1 | D5: Field (1) (Field set (1)) | E5: 1362 mm | F5: 2120 ms | G5: 145.6 | I5: n/a
A6: 5 | B6: 17.01.2023 20:36:08:260 | C6: Cut-off path 1 | D6: Field (1) (Field set (1)) | E6: 1272 mm | F6: 5453520 ms | G6: 158.7 | I6: n/a
A7: 6 | B7: 17.01.2023 15:13:37:760 | C7: Cut-off path 1 | D7: Field (1) (Field set (1)) | E7: 2941 mm | F7: 2080 ms | G7: 107.9 | I7: n/a
A8: 7 | B8: 17.01.2023 15:13:13:367 | C8: Cut-off path 1 | D8: Field (1) (Field set (1)) | E8: 2809 mm | F8: 400 ms | G8: 109.8 | I8: n/a
A9: 8 | B9: 17.01.2023 15:12:20:893 | C9: Cut-off path 1 | D9: Field (1) (Field set (1)) | E9: 2956 mm | F9: 9920 ms | G9: 108.7 | I9: n/a
A10: 9 | B10: 17.01.2023 14:59:37:990 | C10: Cut-off path 1 | D10: Field (1) (Field set (1)) | E10: 1268 mm | F10: 753880 ms | G10: 148.7 | I10: n/a
A11: 10 | B11: 17.01.2023 14:27:16:556 | C11: Cut-off path 1 | D11: Field (1) (Field set (1)) | E11: 1375 mm | F11: 5480 ms | G11: 148.7 | I11: n/a
A12: 11 | B12: 17.01.2023 14:27:12:202 | C12: Cut-off path 1 | D12: Field (1) (Field set (1)) | E12: 1437 mm | F12: 2800 ms | G12: 147.1 | I12: n/a
A13: 12 | B13: 17.01.2023 08:48:58:085 | C13: Cut-off path 1 | D13: Field (1) (Field set (1)) | E13: 1191 mm | F13: 2120 ms | G13: 163.3 | I13: n/a
... A153: 152 | B153: 12.01.2023 17:28:01:246 | C153: Cut-off path 1 | D153: Field (1) (Field set (1)) | E153: 1279 mm | F153: 4840 ms | G153: 26 | I153: n/a

Sheet Sortie table 1
A1: Parcours d*arrêter | B1: Temps | C1: Circuits de désactivation | D1: Champ (jeux de champs) | E1: Distance | F1: Durée | G1: Angulaire | H1: Colonne1 | I1: Détails
A2: 1 | B2: 18.01.2023 12:02:56:328 | C2: Circuit de désactivation 1 | D2: Champ (1) (Jeu de champs (1)) | E2: 1349 mm | F2: 2378 ms | G2: 17.9 | I2: n/a
A3: 2 | B3: 18.01.2023 12:01:55:202 | C3: Circuit de désactivation 1 | D3: Champ (1) (Jeu de champs (1)) | E3: 1028 mm | F3: 3034 ms | G3: 165.6 | I3: n/a
A4: 3 | B4: 18.01.2023 11:59:08:581 | C4: Circuit de désactivation 1 | D4: Champ (1) (Jeu de champs (1)) | E4: 1508 mm | F4: 3772 ms | G4: 26 | I4: n/a
A5: 4 | B5: 18.01.2023 11:48:02:931 | C5: Circuit de désactivation 1 | D5: Champ (1) (Jeu de champs (1)) | E5: 1035 mm | F5: 6273 ms | G5: 169.8 | I5: n/a
A6: 5 | B6: 18.01.2023 11:21:29:817 | C6: Circuit de désactivation 1 | D6: Champ (1) (Jeu de champs (1)) | E6: 1586 mm | F6: 6929 ms | G6: 30.2 | I6: n/a
A7: 6 | B7: 18.01.2023 11:13:41:085 | C7: Circuit de désactivation 1 | D7: Champ (1) (Jeu de champs (1)) | E7: 1393 mm | F7: 2460 ms | G7: 12.1 | I7: n/a
A8: 7 | B8: 18.01.2023 11:12:41:886 | C8: Circuit de désactivation 1 | D8: Champ (1) (Jeu de champs (1)) | E8: 1233 mm | F8: 2296 ms | G8: 161.3 | I8: n/a
A9: 8 | B9: 18.01.2023 10:44:16:456 | C9: Circuit de désactivation 1 | D9: Champ (1) (Jeu de champs (1)) | E9: 1164 mm | F9: 8077 ms | G9: 172.9 | I9: n/a
A10: 9 | B10: 18.01.2023 08:54:12:394 | C10: Circuit de désactivation 1 | D10: Champ (1) (Jeu de champs (1)) | E10: 2306 mm | F10: 2583 ms | G10: 52.9 | I10: n/a
A11: 10 | B11: 18.01.2023 08:53:46:872 | C11: Circuit de désactivation 1 | D11: Champ (1) (Jeu de champs (1)) | E11: 2500 mm | F11: 2542 ms | G11: 128.7 | I11: n/a
A12: 11 | B12: 18.01.2023 08:50:12:219 | C12: Circuit de désactivation 1 | D12: Champ (1) (Jeu de champs (1)) | E12: 5271 mm | F12: 65108 ms | G12: 102.9 | I12: n/a
A13: 12 | B13: 18.01.2023 08:49:23:148 | C13: Circuit de désactivation 1 | D13: Champ (1) (Jeu de champs (1)) | E13: 1136 mm | F13: 6027 ms | G13: 163.3 | I13: n/a
... A153: 152 | B153: 15.01.2023 21:11:56:064 | C153: Circuit de désactivation 1 | D153: Champ (1) (Jeu de champs (1)) | E153: 1401 mm | F153: 287 ms | G153: 120.6 | I153: n/a

Sheet Sortie TIP
A1: Parcours d*arrêter | B1: Temps | C1: Circuits de désactivation | D1: Champ (jeux de champs) | E1: Distance | F1: Durée | G1: Angulaire | H1: Numéro de cas | I1: Détails
A2: 19 | B2: 15.01.2023 14:32:32:778 | C2: Circuit de désactivation 1 | D2: Champ (1) (Jeu de champs (1)) | E2: 5277 mm | F2: 79212 ms | G2: 100.6 | I2: n/a
A3: 24 | B3: 14.01.2023 15:02:55:636 | C3: Circuit de désactivation 1 | D3: Champ (1) (Jeu de champs (1)) | E3: 5298 mm | F3: 667002 ms | G3: 101 | I3: n/a
A4: 27 | B4: 13.01.2023 22:06:13:256 | C4: Circuit de désactivation 1 | D4: Champ (1) (Jeu de champs (1)) | E4: 5251 mm | F4: 4200 ms | G4: 101 | I4: n/a
A5: 8 | B5: 16.01.2023 22:34:26:062 | C5: Circuit de désactivation 1 | D5: Champ (1) (Jeu de champs (1)) | E5: 3635 mm | F5: 252 ms | G5: 111.7 | I5: n/a
A6: 31 | B6: 13.01.2023 15:00:24:810 | C6: Circuit de désactivation 1 | D6: Champ (1) (Jeu de champs (1)) | E6: 3375 mm | F6: 378 ms | G6: 112.9 | I6: n/a
A7: 1 | B7: 18.01.2023 13:58:54:924 | C7: Circuit de désactivation 1 | D7: Champ (1) (Jeu de champs (1)) | E7: 1485 mm | F7: 2562 ms | G7: 157.5 | I7: n/a
A8: 2 | B8: 18.01.2023 13:58:43:932 | C8: Circuit de désactivation 1 | D8: Champ (1) (Jeu de champs (1)) | E8: 1510 mm | F8: 2478 ms | G8: 29.4 | I8: n/a
A9: 30 | B9: 13.01.2023 15:37:10:468 | C9: Circuit de désactivation 1 | D9: Champ (1) (Jeu de champs (1)) | E9: 2111 mm | F9: 252 ms | G9: 73.7 | I9: n/a
A10: 32 | B10: 13.01.2023 14:36:53:466 | C10: Circuit de désactivation 1 | D10: Champ (1) (Jeu de champs (1)) | E10: 5298 mm | F10: 904932 ms | G10: 76.7 | I10: n/a
A11: 4 | B11: 17.01.2023 14:59:59:224 | C11: Circuit de désactivation 1 | D11: Champ (1) (Jeu de champs (1)) | E11: 5059 mm | F11: 742266 ms | G11: 77.1 | I11: n/a
A12: 23 | B12: 14.01.2023 20:28:52:324 | C12: Circuit de désactivation 1 | D12: Champ (1) (Jeu de champs (1)) | E12: 5092 mm | F12: 3499356 ms | G12: 77.9 | I12: n/a
A13: 3 | B13: 17.01.2023 20:36:44:572 | C13: Circuit de désactivation 1 | D13: Champ (1) (Jeu de champs (1)) | E13: 5064 mm | F13: 5396160 ms | G13: 78.3 | I13: n/a
... A35: 7 | B35: 16.01.2023 22:34:35:326 | C35: Circuit de désactivation 1 | D35: Champ (1) (Jeu de champs (1)) | E35: 4354 mm | F35: 798 ms | G35: 96.3 | I35: n/a
