Workbook

Sheet Feuil1
A1: Product Status | B1: Theme | C1: Material | D1: Desctiption | E1: TO unit | F1: Actual Value Power BI | G1: Actual Qty Power BI | H1: Submitted DP Qty Power BI | I1: Actual-DP(Qty) | J1: Bias Total FRIB | K1: Item Error Total FRIB Power BI | L1: Cause 1 | M1: Item/Theme value weighting | N1: Item Error Item | O1: Version | P1: Period | Q1: Plan Version | S1: =(SUMIFS(F:F,L:L,"Under-Forecasted")/SUMIFS(G:G,L:L,"Under-Forecasted")*(SUMIFS(I:I,L:L,"Under-Forecasted"))/7.45) -> -13531028
A2: Carry-Over | B2: ART | C2: 6333061 | D2: 31203 World Map V29 | E2: 172.88849 | F2: 66977 | G2: 52 | H2: 29 | I2: -23 | J2: 0.44230769 | K2: 0.00012840857 | L2: Under-Forecasted | M2: 0 | N2: 0 | O2: JAN 2023 | P2: 01.2023 | Q2: ST W48.2022
A3: Carry-Over | B3: ART | C3: 6379834 | D3: 31205 Jim Lee Batman™ Collection V29 | E3: 82.978924 | F3: 105711 | G3: 171 | H3: 120 | I3: -51 | J3: 0.29824561 | K3: 0.00013665895 | L3: Under-Forecasted | M3: 0 | N3: 0 | O3: JAN 2023 | P3: 01.2023 | Q3: ST W48.2022
A4: Carry-Over | B4: ART | C4: 6379836 | D4: 31206 The Rolling Stones V29 | E4: 103.72861 | F4: 480668 | G4: 622 | H4: 288 | I4: -334 | J4: 0.53697749 | K4: 0.0011187811 | L4: Under-Forecasted | M4: 0 | N4: 0 | O4: JAN 2023 | P4: 01.2023 | Q4: ST W48.2022
A5: Carry-Over | B5: ART | C5: 6379838 | D5: 31207 Floral Art V29 | E5: 46.349273 | F5: 33149 | G5: 96 | H5: 150 | I5: 54 | J5: -0.5625 | K5: 8.082334e-05 | L5: Over-Forecasted | M5: 0 | N5: 0 | O5: JAN 2023 | P5: 01.2023 | Q5: ST W48.2022
A6: Nouveauté | B6: ART | C6: 6425630 | D6: 31208 Hokusai – The Great Wave V29 | E6: 66.219114 | F6: 529839 | G6: 1074 | H6: 494 | I6: -580 | J6: 0.54003724 | K6: 0.0012402564 | L6: Under-Forecasted | M6: 0 | N6: 0 | O6: JAN 2023 | P6: 01.2023 | Q6: ST W48.2022
A7: Nouveauté | B7: ART | C7: 6425634 | D7: 31209 The Amazing Spider-Man V29 | E7: 0 | H7: 0 | I7: 0 | J7: 0 | M7: 0 | N7: 0 | O7: JAN 2023 | P7: 01.2023 | Q7: ST W48.2022
A8: Nouveauté | B8: ART | C8: 6425636 | D8: 31210 Modern Art V29 | E8: 0 | H8: 0 | I8: 0 | J8: 0 | M8: 0 | N8: 0 | O8: JAN 2023 | P8: 01.2023 | Q8: ST W48.2022
A9: Carry-Over | B9: Avatar | C9: 6332828 | D9: 75571 Neytiri & Thanator vs. AMP S.. V29 | E9: 29.789584 | F9: 413682 | G9: 1864 | H9: 420 | I9: -1444 | J9: 0.77467811 | K9: 0.0013890943 | L9: Under-Forecasted | M9: 0 | N9: 0 | O9: JAN 2023 | P9: 01.2023 | Q9: ST W48.2022
A10: Carry-Over | B10: Avatar | C10: 6332830 | D10: 75572 Jake & Neytiri’s First Bansh.. V29 | E10: 36.409488 | F10: 788797 | G10: 2908 | H10: 972 | I10: -1936 | J10: 0.66574966 | K10: 0.0022762504 | L10: Under-Forecasted | M10: 0 | N10: 0 | O10: JAN 2023 | P10: 01.2023 | Q10: ST W48.2022
A11: Carry-Over | B11: Avatar | C11: 6332832 | D11: 75573 Floating Mountains: Site 26.. V29 | E11: 66.208977 | F11: 161295 | G11: 327 | H11: 130 | I11: -197 | J11: 0.60244648 | K11: 0.00042119501 | L11: Under-Forecasted | M11: 0 | N11: 0 | O11: JAN 2023 | P11: 01.2023 | Q11: ST W48.2022
A12: Carry-Over | B12: Avatar | C12: 6332834 | D12: 75574 Toruk Makto & Tree of Souls V29 | E12: 103.73826 | F12: 123656 | G12: 160 | H12: 210 | I12: 50 | J12: -0.3125 | K12: 0.00016749778 | L12: Over-Forecasted | M12: 0 | N12: 0 | O12: JAN 2023 | P12: 01.2023 | Q12: ST W48.2022
A13: Nouveauté | B13: Avatar | C13: 6427952 | D13: 75575 Ilu Discovery V29 | E13: 15.709788 | F13: 682097 | G13: 5828 | H13: 5116 | I13: -712 | J13: 0.12216884 | K13: 0.00036120223 | L13: Under-Forecasted | M13: 0 | N13: 0 | O13: JAN 2023 | P13: 01.2023 | Q13: ST W48.2022
A14: Nouveauté | B14: Avatar | C14: 6427954 | D14: 75576 Skimwing Adventure V29 | E14: 21.989709 | F14: 1648718 | G14: 10064 | H14: 6936 | I14: -3128 | J14: 0.31081081 | K14: 0.0022211932 | L14: Under-Forecasted | M14: 0 | N14: 0 | O14: JAN 2023 | P14: 01.2023 | Q14: ST W48.2022
A15: Nouveauté | B15: Avatar | C15: 6427956 | D15: 75577 Mako Submarine V29 | E15: 36.409614 | F15: 167091 | G15: 616 | H15: 1352 | I15: 736 | J15: -1.1948052 | K15: 0.00086535438 | L15: Over-Forecasted | M15: 0 | N15: 0 | O15: JAN 2023 | P15: 01.2023 | Q15: ST W48.2022
A16: Nouveauté | B16: Avatar | C16: 6427958 | D16: 75578 Metkayina Reef Home V29 | E16: 52.969253 | F16: 776614 | G16: 1968 | H16: 1989 | I16: 21 | J16: -0.010670732 | K16: 3.5920573e-05 | L16: Over-Forecasted | M16: 0 | N16: 0 | O16: JAN 2023 | P16: 01.2023 | Q16: ST W48.2022
A17: Nouveauté | B17: Avatar | C17: 6427962 | D17: 75579 Payakan the Tulkun & Crabsuit V29 | E17: 66.209074 | F17: 957413 | G17: 1941 | H17: 1512 | I17: -429 | J17: 0.22102009 | K17: 0.00091722295 | L17: Under-Forecasted | M17: 0 | N17: 0 | O17: JAN 2023 | P17: 01.2023 | Q17: ST W48.2022
A18: Carry-Over | B18: Chinese Festivals | C18: 6426328 | D18: 80110 Lunar New Year Display V29 | E18: 38.85906 | F18: 1737 | G18: 6 | H18: 0 | I18: -6 | J18: 1 | K18: 7.5291102e-06 | L18: Under-Forecasted | M18: 0 | N18: 0 | O18: JAN 2023 | P18: 01.2023 | Q18: ST W48.2022
A19: Carry-Over | B19: Chinese Festivals | C19: 6426331 | D19: 80111 Lunar New Year Parade V29 | E19: 48.568233 | F19: 2171 | G19: 6 | H19: 0 | I19: -6 | J19: 1 | K19: 9.4103041e-06 | L19: Under-Forecasted | M19: 0 | N19: 0 | O19: JAN 2023 | P19: 01.2023 | Q19: ST W48.2022
A20: Nouveauté | B20: City Exploration | C20: 6425816 | D20: 60367 Passenger Airplane V29 | E20: 0 | H20: 0 | I20: 0 | J20: 0 | M20: 0 | N20: 0 | O20: JAN 2023 | P20: 01.2023 | Q20: ST W48.2022
A21: Nouveauté | B21: City Exploration | C21: 6425818 | D21: 60368 Arctic Explorer Ship V29 | E21: 0 | H21: 0 | I21: 0 | J21: 0 | M21: 0 | N21: 0 | O21: JAN 2023 | P21: 01.2023 | Q21: ST W48.2022
A22: Nouveauté | B22: City Exploration | C22: 6425842 | D22: 60376 Arctic Explorer Snowmobile V29 | E22: 0 | H22: 0 | I22: 0 | J22: 0 | M22: 0 | N22: 0 | O22: JAN 2023 | P22: 01.2023 | Q22: ST W48.2022
A23: Nouveauté | B23: City Exploration | C23: 6425844 | D23: 60377 Explorer Diving Boat V29 | E23: 0 | H23: 0 | I23: 0 | J23: 0 | M23: 0 | N23: 0 | O23: JAN 2023 | P23: 01.2023 | Q23: ST W48.2022
A24: Nouveauté | B24: City Exploration | C24: 6425846 | D24: 60378 Arctic Explorer Truck and Mo.. V29 | E24: 0 | H24: 0 | I24: 0 | J24: 0 | M24: 0 | N24: 0 | O24: JAN 2023 | P24: 01.2023 | Q24: ST W48.2022
A25: Nouveauté | B25: City Exploration | C25: 6425850 | D25: 60379 Deep-Sea Explorer Submarine V29 | E25: 0 | H25: 0 | I25: 0 | J25: 0 | M25: 0 | N25: 0 | O25: JAN 2023 | P25: 01.2023 | Q25: ST W48.2022
A26: Carry-Over | B26: City Farm | C26: 6379667 | D26: 60346 Barn & Farm Animals V29 | E26: 32.46952 | F26: 151670 | G26: 627 | H26: 852 | I26: 225 | J26: -0.35885167 | K26: 0.0002359166 | L26: Over-Forecasted | M26: 0 | N26: 0 | O26: JAN 2023 | P26: 01.2023 | Q26: ST W48.2022
A27: Carry-Over | B27: City Fire | C27: 6379613 | D27: 60318 Fire Helicopter V29 | E27: 6.1499226 | F27: 119124 | G27: 2600 | H27: 2591 | I27: -9 | J27: 0.0034615385 | K27: 1.7873609e-06 | L27: Under-Forecasted | M27: 0 | N27: 0 | O27: JAN 2023 | P27: 01.2023 | Q27: ST W48.2022
A28: Carry-Over | B28: City Fire | C28: 6379615 | D28: 60319 Fire Rescue & Police Chase V29 | E28: 18.469752 | F28: 393535 | G28: 2860 | H28: 772 | I28: -2088 | J28: 0.73006993 | K28: 0.0012453507 | L28: Under-Forecasted | M28: 0 | N28: 0 | O28: JAN 2023 | P28: 01.2023 | Q28: ST W48.2022
A29: Carry-Over | B29: City Fire | C29: 6379617 | D29: 60320 Fire Station V29 | E29: 38.969503 | F29: 385839 | G29: 1329 | H29: 386 | I29: -943 | J29: 0.70955606 | K29: 0.0011866883 | L29: Under-Forecasted | M29: 0 | N29: 0 | O29: JAN 2023 | P29: 01.2023 | Q29: ST W48.2022
A30: Carry-Over | B30: City Fire | C30: 6379621 | D30: 60321 Fire Brigade V29 | E30: 64.949043 | F30: 52258 | G30: 108 | H30: 327 | I30: 219 | J30: -2.0277778 | K30: 0.00045932172 | L30: Over-Forecasted | M30: 0 | N30: 0 | O30: JAN 2023 | P30: 01.2023 | Q30: ST W48.2022
A31: Nouveauté | B31: City Fire | C31: 6425834 | D31: 60373 Fire Rescue Boat V29 | E31: 12.309832 | F31: 1020346 | G31: 11126 | H31: 12047 | I31: 921 | J31: -0.082779076 | K31: 0.00036611024 | L31: Over-Forecasted | M31: 0 | N31: 0 | O31: JAN 2023 | P31: 01.2023 | Q31: ST W48.2022
A32: Nouveauté | B32: City Fire | C32: 6425836 | D32: 60374 Fire Command Truck V29 | E32: 35.719511 | F32: 1053797 | G32: 3960 | H32: 3105 | I32: -855 | J32: 0.21590909 | K32: 0.00098621527 | L32: Under-Forecasted | M32: 0 | N32: 0 | O32: JAN 2023 | P32: 01.2023 | Q32: ST W48.2022
A33: Nouveauté | B33: City Fire | C33: 6425840 | D33: 60375 Fire Station and Fire Truck V29 | E33: 21.549698 | F33: 649245 | G33: 4044 | H33: 4098 | I33: 54 | J33: -0.013353116 | K33: 3.7578121e-05 | L33: Over-Forecasted | M33: 0 | N33: 0 | O33: JAN 2023 | P33: 01.2023 | Q33: ST W48.2022
A34: Nouveauté | B34: City Fire | C34: 6425877 | D34: 60393 4x4 Fire Truck Rescue V29 | E34: 6.1499171 | F34: 538440 | G34: 11752 | H34: 13424 | I34: 1672 | J34: -0.14227366 | K34: 0.00033205165 | L34: Over-Forecasted | M34: 0 | N34: 0 | O34: JAN 2023 | P34: 01.2023 | Q34: ST W48.2022
A35: Carry-Over | B35: City Great Vehicles | C35: 6288838 | D35: 60253 Ice-Cream Truck V29 | E35: 12.309855 | F35: 259168 | G35: 2826 | H35: 426 | I35: -2400 | J35: 0.8492569 | K35: 0.00095403497 | L35: Under-Forecasted | M35: 0 | N35: 0 | O35: JAN 2023 | P35: 01.2023 | Q35: ST W48.2022
A36: Carry-Over | B36: City Great Vehicles | C36: 6327954 | D36: 60283 Holiday Camper Van V29 | E36: 12.309843 | F36: 374170 | G36: 4080 | H36: 1734 | I36: -2346 | J36: 0.575 | K36: 0.00093256829 | L36: Under-Forecasted | M36: 0 | N36: 0 | O36: JAN 2023 | P36: 01.2023 | Q36: ST W48.2022
A37: Carry-Over | B37: City Great Vehicles | C37: 6327969 | D37: 60287 Tractor V29 | E37: 12.309843 | F37: 356562 | G37: 3888 | H37: 1921 | I37: -1967 | J37: 0.50591564 | K37: 0.00078191041 | L37: Under-Forecasted | M37: 0 | N37: 0 | O37: JAN 2023 | P37: 01.2023 | Q37: ST W48.2022
... A53: Nouveauté | B53: City Great Vehicles | C53: 6425869 | D53: 60390 Park Tractor V29 | E53: 6.1499167 | F53: 444607 | G53: 9704 | H53: 15292 | I53: 5588 | J53: -0.57584501 | K53: 0.0011097515 | L53: Over-Forecasted | M53: 0 | N53: 0 | O53: JAN 2023 | P53: 01.2023 | Q53: ST W48.2022
A54: Nouveauté | B54: City Great Vehicles | C54: 6425871 | D54: 60391 Construction Trucks and Wrec.. V29 | E54: 0 | H54: 0 | I54: 0 | J54: 0 | M54: 0 | N54: 0 | O54: JAN 2023 | P54: 01.2023 | Q54: ST W48.2022
A55: Nouveauté | B55: City Great Vehicles | C55: 6431232 | D55: 60394 ATV and Otter Habitat V29 | E55: 6.1502213 | F55: 8614 | G55: 188 | H55: 1983 | I55: 1795 | J55: -9.5478723 | K55: 0.00035649653 | L55: Over-Forecasted | M55: 0 | N55: 0 | O55: JAN 2023 | P55: 01.2023 | Q55: ST W48.2022
...

Sheet Feuil2
A1: Theme | B1: Material | C1: Desctiption | D1: TO unit | E1: Total FRIB Power BI
A2: ART | B2: 6333061 | C2: 31203 World Map V29 | D2: 172.88822 | E2: =IFERROR(((SUMIFS(Feuil1!I:I,Feuil1!L:L,"Under-Forecasted",Feuil1!C:C,B2))*D2),"") -> -3976.4291
A3: ART | B3: 6379834 | C3: 31205 Jim Lee Batman™ Collection V29 | D3: 82.978924 | E3: =IFERROR(((SUMIFS(Feuil1!I:I,Feuil1!L:L,"Under-Forecasted",Feuil1!C:C,B3))*D3),"") -> -4231.9251
A4: ART | B4: 6379836 | C4: 31206 The Rolling Stones V29 | D4: 103.72863 | E4: =IFERROR(((SUMIFS(Feuil1!I:I,Feuil1!L:L,"Under-Forecasted",Feuil1!C:C,B4))*D4),"") -> -34645.361
A5: ART | B5: 6379838 | C5: 31207 Floral Art V29 | D5: 46.349235 | E5: =IFERROR(((SUMIFS(Feuil1!I:I,Feuil1!L:L,"Under-Forecasted",Feuil1!C:C,B5))*D5),"") -> -7184.1314
A6: ART | B6: 6425630 | C6: 31208 Hokusai – The Great Wave V29 | D6: 66.219125 | E6: =IFERROR(((SUMIFS(Feuil1!I:I,Feuil1!L:L,"Under-Forecasted",Feuil1!C:C,B6))*D6),"") -> -38407.093
A7: ART | B7: 6425634 | C7: 31209 The Amazing Spider-Man V29 | E7: =IFERROR(((SUMIFS(Feuil1!I:I,Feuil1!L:L,"Under-Forecasted",Feuil1!C:C,B7))*D7),"")
A8: ART | B8: 6425636 | C8: 31210 Modern Art V29 | E8: =IFERROR(((SUMIFS(Feuil1!I:I,Feuil1!L:L,"Under-Forecasted",Feuil1!C:C,B8))*D8),"")
A9: Avatar | B9: 6332828 | C9: 75571 Neytiri & Thanator vs. AMP S.. V29 | D9: 29.789598 | E9: =IFERROR(((SUMIFS(Feuil1!I:I,Feuil1!L:L,"Under-Forecasted",Feuil1!C:C,B9))*D9),"") -> -55289.493
A10: Avatar | B10: 6332830 | C10: 75572 Jake & Neytiri’s First Bansh.. V29 | D10: 36.409499 | E10: =IFERROR(((SUMIFS(Feuil1!I:I,Feuil1!L:L,"Under-Forecasted",Feuil1!C:C,B10))*D10),"") -> -78498.881
A11: Avatar | B11: 6332832 | C11: 75573 Floating Mountains: Site 26.. V29 | D11: 66.20908 | E11: =IFERROR(((SUMIFS(Feuil1!I:I,Feuil1!L:L,"Under-Forecasted",Feuil1!C:C,B11))*D11),"") -> -18670.961
A12: Avatar | B12: 6332834 | C12: 75574 Toruk Makto & Tree of Souls V29 | D12: 103.73863 | E12: =IFERROR(((SUMIFS(Feuil1!I:I,Feuil1!L:L,"Under-Forecasted",Feuil1!C:C,B12))*D12),"") -> 0
A13: Avatar | B13: 6427952 | C13: 75575 Ilu Discovery V29 | D13: 15.709783 | E13: =IFERROR(((SUMIFS(Feuil1!I:I,Feuil1!L:L,"Under-Forecasted",Feuil1!C:C,B13))*D13),"") -> -37954.836
A14: Avatar | B14: 6427954 | C14: 75576 Skimwing Adventure V29 | D14: 21.989713 | E14: =IFERROR(((SUMIFS(Feuil1!I:I,Feuil1!L:L,"Under-Forecasted",Feuil1!C:C,B14))*D14),"") -> -79075.006
A15: Avatar | B15: 6427956 | C15: 75577 Mako Submarine V29 | D15: 36.409568 | E15: =IFERROR(((SUMIFS(Feuil1!I:I,Feuil1!L:L,"Under-Forecasted",Feuil1!C:C,B15))*D15),"") -> 0
A16: Avatar | B16: 6427958 | C16: 75578 Metkayina Reef Home V29 | D16: 52.969242 | E16: =IFERROR(((SUMIFS(Feuil1!I:I,Feuil1!L:L,"Under-Forecasted",Feuil1!C:C,B16))*D16),"") -> -3654.8777
A17: Avatar | B17: 6427962 | C17: 75579 Payakan the Tulkun & Crabsuit V29 | D17: 66.209095 | E17: =IFERROR(((SUMIFS(Feuil1!I:I,Feuil1!L:L,"Under-Forecasted",Feuil1!C:C,B17))*D17),"") -> -29727.884
A18: Chinese Festivals | B18: 6426328 | C18: 80110 Lunar New Year Display V29 | D18: 38.85906 | E18: =IFERROR(((SUMIFS(Feuil1!I:I,Feuil1!L:L,"Under-Forecasted",Feuil1!C:C,B18))*D18),"") -> -233.15436
A19: Chinese Festivals | B19: 6426331 | C19: 80111 Lunar New Year Parade V29 | D19: 48.572707 | E19: =IFERROR(((SUMIFS(Feuil1!I:I,Feuil1!L:L,"Under-Forecasted",Feuil1!C:C,B19))*D19),"") -> -728.5906
A20: City Exploration | B20: 6425816 | C20: 60367 Passenger Airplane V29 | E20: =IFERROR(((SUMIFS(Feuil1!I:I,Feuil1!L:L,"Under-Forecasted",Feuil1!C:C,B20))*D20),"")
A21: City Exploration | B21: 6425818 | C21: 60368 Arctic Explorer Ship V29 | E21: =IFERROR(((SUMIFS(Feuil1!I:I,Feuil1!L:L,"Under-Forecasted",Feuil1!C:C,B21))*D21),"")
A22: City Exploration | B22: 6425842 | C22: 60376 Arctic Explorer Snowmobile V29 | E22: =IFERROR(((SUMIFS(Feuil1!I:I,Feuil1!L:L,"Under-Forecasted",Feuil1!C:C,B22))*D22),"")
A23: City Exploration | B23: 6425844 | C23: 60377 Explorer Diving Boat V29 | E23: =IFERROR(((SUMIFS(Feuil1!I:I,Feuil1!L:L,"Under-Forecasted",Feuil1!C:C,B23))*D23),"")
A24: City Exploration | B24: 6425846 | C24: 60378 Arctic Explorer Truck and Mo.. V29 | E24: =IFERROR(((SUMIFS(Feuil1!I:I,Feuil1!L:L,"Under-Forecasted",Feuil1!C:C,B24))*D24),"")
A25: City Exploration | B25: 6425850 | C25: 60379 Deep-Sea Explorer Submarine V29 | E25: =IFERROR(((SUMIFS(Feuil1!I:I,Feuil1!L:L,"Under-Forecasted",Feuil1!C:C,B25))*D25),"")
A26: City Farm | B26: 6379667 | C26: 60346 Barn & Farm Animals V29 | D26: 32.469546 | E26: =IFERROR(((SUMIFS(Feuil1!I:I,Feuil1!L:L,"Under-Forecasted",Feuil1!C:C,B26))*D26),"") -> 0
A27: City Fire | B27: 6379613 | C27: 60318 Fire Helicopter V29 | D27: 6.1499314 | E27: =IFERROR(((SUMIFS(Feuil1!I:I,Feuil1!L:L,"Under-Forecasted",Feuil1!C:C,B27))*D27),"") -> -55.349383
A28: City Fire | B28: 6379615 | C28: 60319 Fire Rescue & Police Chase V29 | D28: 18.469757 | E28: =IFERROR(((SUMIFS(Feuil1!I:I,Feuil1!L:L,"Under-Forecasted",Feuil1!C:C,B28))*D28),"") -> -85570.383
A29: City Fire | B29: 6379617 | C29: 60320 Fire Station V29 | D29: 38.969483 | E29: =IFERROR(((SUMIFS(Feuil1!I:I,Feuil1!L:L,"Under-Forecasted",Feuil1!C:C,B29))*D29),"") -> -36748.223
A30: City Fire | B30: 6379621 | C30: 60321 Fire Brigade V29 | D30: 64.949011 | E30: =IFERROR(((SUMIFS(Feuil1!I:I,Feuil1!L:L,"Under-Forecasted",Feuil1!C:C,B30))*D30),"") -> 0
A31: City Fire | B31: 6425834 | C31: 60373 Fire Rescue Boat V29 | D31: 12.309834 | E31: =IFERROR(((SUMIFS(Feuil1!I:I,Feuil1!L:L,"Under-Forecasted",Feuil1!C:C,B31))*D31),"") -> 0
A32: City Fire | B32: 6425836 | C32: 60374 Fire Command Truck V29 | D32: 35.719508 | E32: =IFERROR(((SUMIFS(Feuil1!I:I,Feuil1!L:L,"Under-Forecasted",Feuil1!C:C,B32))*D32),"") -> -30647.338
A33: City Fire | B33: 6425840 | C33: 60375 Fire Station and Fire Truck V29 | D33: 21.549691 | E33: =IFERROR(((SUMIFS(Feuil1!I:I,Feuil1!L:L,"Under-Forecasted",Feuil1!C:C,B33))*D33),"") -> 0
A34: City Fire | B34: 6425877 | C34: 60393 4x4 Fire Truck Rescue V29 | D34: 6.1499148 | E34: =IFERROR(((SUMIFS(Feuil1!I:I,Feuil1!L:L,"Under-Forecasted",Feuil1!C:C,B34))*D34),"") -> 0
A35: City Great Vehicles | B35: 6288838 | C35: 60253 Ice-Cream Truck V29 | D35: 12.309857 | E35: =IFERROR(((SUMIFS(Feuil1!I:I,Feuil1!L:L,"Under-Forecasted",Feuil1!C:C,B35))*D35),"") -> -35218.501
A36: City Great Vehicles | B36: 6327954 | C36: 60283 Holiday Camper Van V29 | D36: 12.309832 | E36: =IFERROR(((SUMIFS(Feuil1!I:I,Feuil1!L:L,"Under-Forecasted",Feuil1!C:C,B36))*D36),"") -> -48894.652
A37: City Great Vehicles | B37: 6327969 | C37: 60287 Tractor V29 | D37: 12.309838 | E37: =IFERROR(((SUMIFS(Feuil1!I:I,Feuil1!L:L,"Under-Forecasted",Feuil1!C:C,B37))*D37),"") -> -26195.336
... A53: City Great Vehicles | B53: 6425869 | C53: 60390 Park Tractor V29 | D53: 6.1499177 | E53: =IFERROR(((SUMIFS(Feuil1!I:I,Feuil1!L:L,"Under-Forecasted",Feuil1!C:C,B53))*D53),"") -> -14267.809
A54: City Great Vehicles | B54: 6425871 | C54: 60391 Construction Trucks and Wrec.. V29 | E54: =IFERROR(((SUMIFS(Feuil1!I:I,Feuil1!L:L,"Under-Forecasted",Feuil1!C:C,B54))*D54),"")
A55: City Great Vehicles | B55: 6431232 | C55: 60394 ATV and Otter Habitat V29 | D55: 6.1499549 | E55: =IFERROR(((SUMIFS(Feuil1!I:I,Feuil1!L:L,"Under-Forecasted",Feuil1!C:C,B55))*D55),"") -> 0
...
