Workbook

Sheet Feuil1
A1: Product Status | B1: Theme | C1: Material | D1: Desctiption | E1: TO unit | F1: Actual Value Power BI | G1: Actual Qty Power BI | H1: Submitted DP Qty Power BI | I1: Actual-DP(Qty) | J1: Bias Total FRIB | K1: Item Error Total FRIB Power BI | L1: Cause 1 | M1: Item/Theme value weighting | N1: Item Error Item | O1: Version | P1: Period | Q1: Plan Version | S1: =(SUMIFS(F:F,L:L,"Under-Forecasted")/SUMIFS(G:G,L:L,"Under-Forecasted")*(SUMIFS(I:I,L:L,"Under-Forecasted"))/7.45) -> -13531028
A2: Carry-Over | B2: ART | C2: 6333061 | D2: 31203 World Map V29 | E2: 172.88849 | F2: 66977 | G2: 52 | H2: 29 | I2: -23 | J2: 0.44230769 | K2: 0.00012840857 | L2: Under-Forecasted | M2: 0 | N2: 0 | O2: JAN 2023 | P2: 01.2023 | Q2: ST W48.2022
A3: Carry-Over | B3: ART | C3: 6379834 | D3: 31205 Jim Lee Batman™ Collection V29 | E3: 82.978924 | F3: 105711 | G3: 171 | H3: 120 | I3: -51 | J3: 0.29824561 | K3: 0.00013665895 | L3: Under-Forecasted | M3: 0 | N3: 0 | O3: JAN 2023 | P3: 01.2023 | Q3: ST W48.2022
A4: Carry-Over | B4: ART | C4: 6379836 | D4: 31206 The Rolling Stones V29 | E4: 103.72861 | F4: 480668 | G4: 622 | H4: 288 | I4: -334 | J4: 0.53697749 | K4: 0.0011187811 | L4: Under-Forecasted | M4: 0 | N4: 0 | O4: JAN 2023 | P4: 01.2023 | Q4: ST W48.2022
A5: Carry-Over | B5: ART | C5: 6379838 | D5: 31207 Floral Art V29 | E5: 46.349273 | F5: 33149 | G5: 96 | H5: 150 | I5: 54 | J5: -0.5625 | K5: 8.082334e-05 | L5: Over-Forecasted | M5: 0 | N5: 0 | O5: JAN 2023 | P5: 01.2023 | Q5: ST W48.2022
A6: Nouveauté | B6: ART | C6: 6425630 | D6: 31208 Hokusai – The Great Wave V29 | E6: 66.219114 | F6: 529839 | G6: 1074 | H6: 494 | I6: -580 | J6: 0.54003724 | K6: 0.0012402564 | L6: Under-Forecasted | M6: 0 | N6: 0 | O6: JAN 2023 | P6: 01.2023 | Q6: ST W48.2022
A7: Nouveauté | B7: ART | C7: 6425634 | D7: 31209 The Amazing Spider-Man V29 | E7: 0 | H7: 0 | I7: 0 | J7: 0 | M7: 0 | N7: 0 | O7: JAN 2023 | P7: 01.2023 | Q7: ST W48.2022
A8: Nouveauté | B8: ART | C8: 6425636 | D8: 31210 Modern Art V29 | E8: 0 | H8: 0 | I8: 0 | J8: 0 | M8: 0 | N8: 0 | O8: JAN 2023 | P8: 01.2023 | Q8: ST W48.2022
A9: Carry-Over | B9: Avatar | C9: 6332828 | D9: 75571 Neytiri & Thanator vs. AMP S.. V29 | E9: 29.789584 | F9: 413682 | G9: 1864 | H9: 420 | I9: -1444 | J9: 0.77467811 | K9: 0.0013890943 | L9: Under-Forecasted | M9: 0 | N9: 0 | O9: JAN 2023 | P9: 01.2023 | Q9: ST W48.2022
A10: Carry-Over | B10: Avatar | C10: 6332830 | D10: 75572 Jake & Neytiri’s First Bansh.. V29 | E10: 36.409488 | F10: 788797 | G10: 2908 | H10: 972 | I10: -1936 | J10: 0.66574966 | K10: 0.0022762504 | L10: Under-Forecasted | M10: 0 | N10: 0 | O10: JAN 2023 | P10: 01.2023 | Q10: ST W48.2022
A11: Carry-Over | B11: Avatar | C11: 6332832 | D11: 75573 Floating Mountains: Site 26.. V29 | E11: 66.208977 | F11: 161295 | G11: 327 | H11: 130 | I11: -197 | J11: 0.60244648 | K11: 0.00042119501 | L11: Under-Forecasted | M11: 0 | N11: 0 | O11: JAN 2023 | P11: 01.2023 | Q11: ST W48.2022
A12: Carry-Over | B12: Avatar | C12: 6332834 | D12: 75574 Toruk Makto & Tree of Souls V29 | E12: 103.73826 | F12: 123656 | G12: 160 | H12: 210 | I12: 50 | J12: -0.3125 | K12: 0.00016749778 | L12: Over-Forecasted | M12: 0 | N12: 0 | O12: JAN 2023 | P12: 01.2023 | Q12: ST W48.2022
A13: Nouveauté | B13: Avatar | C13: 6427952 | D13: 75575 Ilu Discovery V29 | E13: 15.709788 | F13: 682097 | G13: 5828 | H13: 5116 | I13: -712 | J13: 0.12216884 | K13: 0.00036120223 | L13: Under-Forecasted | M13: 0 | N13: 0 | O13: JAN 2023 | P13: 01.2023 | Q13: ST W48.2022
A14: Nouveauté | B14: Avatar | C14: 6427954 | D14: 75576 Skimwing Adventure V29 | E14: 21.989709 | F14: 1648718 | G14: 10064 | H14: 6936 | I14: -3128 | J14: 0.31081081 | K14: 0.0022211932 | L14: Under-Forecasted | M14: 0 | N14: 0 | O14: JAN 2023 | P14: 01.2023 | Q14: ST W48.2022
A15: Nouveauté | B15: Avatar | C15: 6427956 | D15: 75577 Mako Submarine V29 | E15: 36.409614 | F15: 167091 | G15: 616 | H15: 1352 | I15: 736 | J15: -1.1948052 | K15: 0.00086535438 | L15: Over-Forecasted | M15: 0 | N15: 0 | O15: JAN 2023 | P15: 01.2023 | Q15: ST W48.2022
A16: Nouveauté | B16: Avatar | C16: 6427958 | D16: 75578 Metkayina Reef Home V29 | E16: 52.969253 | F16: 776614 | G16: 1968 | H16: 1989 | I16: 21 | J16: -0.010670732 | K16: 3.5920573e-05 | L16: Over-Forecasted | M16: 0 | N16: 0 | O16: JAN 2023 | P16: 01.2023 | Q16: ST W48.2022
A17: Nouveauté | B17: Avatar | C17: 6427962 | D17: 75579 Payakan the Tulkun & Crabsuit V29 | E17: 66.209074 | F17: 957413 | G17: 1941 | H17: 1512 | I17: -429 | J17: 0.22102009 | K17: 0.00091722295 | L17: Under-Forecasted | M17: 0 | N17: 0 | O17: JAN 2023 | P17: 01.2023 | Q17: ST W48.2022
A18: Carry-Over | B18: Chinese Festivals | C18: 6426328 | D18: 80110 Lunar New Year Display V29 | E18: 38.85906 | F18: 1737 | G18: 6 | H18: 0 | I18: -6 | J18: 1 | K18: 7.5291102e-06 | L18: Under-Forecasted | M18: 0 | N18: 0 | O18: JAN 2023 | P18: 01.2023 | Q18: ST W48.2022
A19: Carry-Over | B19: Chinese Festivals | C19: 6426331 | D19: 80111 Lunar New Year Parade V29 | E19: 48.568233 | F19: 2171 | G19: 6 | H19: 0 | I19: -6 | J19: 1 | K19: 9.4103041e-06 | L19: Under-Forecasted | M19: 0 | N19: 0 | O19: JAN 2023 | P19: 01.2023 | Q19: ST W48.2022
A20: Nouveauté | B20: City Exploration | C20: 6425816 | D20: 60367 Passenger Airplane V29 | E20: 0 | H20: 0 | I20: 0 | J20: 0 | M20: 0 | N20: 0 | O20: JAN 2023 | P20: 01.2023 | Q20: ST W48.2022
A21: Nouveauté | B21: City Exploration | C21: 6425818 | D21: 60368 Arctic Explorer Ship V29 | E21: 0 | H21: 0 | I21: 0 | J21: 0 | M21: 0 | N21: 0 | O21: JAN 2023 | P21: 01.2023 | Q21: ST W48.2022
A22: Nouveauté | B22: City Exploration | C22: 6425842 | D22: 60376 Arctic Explorer Snowmobile V29 | E22: 0 | H22: 0 | I22: 0 | J22: 0 | M22: 0 | N22: 0 | O22: JAN 2023 | P22: 01.2023 | Q22: ST W48.2022
A23: Nouveauté | B23: City Exploration | C23: 6425844 | D23: 60377 Explorer Diving Boat V29 | E23: 0 | H23: 0 | I23: 0 | J23: 0 | M23: 0 | N23: 0 | O23: JAN 2023 | P23: 01.2023 | Q23: ST W48.2022
A24: Nouveauté | B24: City Exploration | C24: 6425846 | D24: 60378 Arctic Explorer Truck and Mo.. V29 | E24: 0 | H24: 0 | I24: 0 | J24: 0 | M24: 0 | N24: 0 | O24: JAN 2023 | P24: 01.2023 | Q24: ST W48.2022
A25: Nouveauté | B25: City Exploration | C25: 6425850 | D25: 60379 Deep-Sea Explorer Submarine V29 | E25: 0 | H25: 0 | I25: 0 | J25: 0 | M25: 0 | N25: 0 | O25: JAN 2023 | P25: 01.2023 | Q25: ST W48.2022
A26: Carry-Over | B26: City Farm | C26: 6379667 | D26: 60346 Barn & Farm Animals V29 | E26: 32.46952 | F26: 151670 | G26: 627 | H26: 852 | I26: 225 | J26: -0.35885167 | K26: 0.0002359166 | L26: Over-Forecasted | M26: 0 | N26: 0 | O26: JAN 2023 | P26: 01.2023 | Q26: ST W48.2022
A27: Carry-Over | B27: City Fire | C27: 6379613 | D27: 60318 Fire Helicopter V29 | E27: 6.1499226 | F27: 119124 | G27: 2600 | H27: 2591 | I27: -9 | J27: 0.0034615385 | K27: 1.7873609e-06 | L27: Under-Forecasted | M27: 0 | N27: 0 | O27: JAN 2023 | P27: 01.2023 | Q27: ST W48.2022
A28: Carry-Over | B28: City Fire | C28: 6379615 | D28: 60319 Fire Rescue & Police Chase V29 | E28: 18.469752 | F28: 393535 | G28: 2860 | H28: 772 | I28: -2088 | J28: 0.73006993 | K28: 0.0012453507 | L28: Under-Forecasted | M28: 0 | N28: 0 | O28: JAN 2023 | P28: 01.2023 | Q28: ST W48.2022
A29: Carry-Over | B29: City Fire | C29: 6379617 | D29: 60320 Fire Station V29 | E29: 38.969503 | F29: 385839 | G29: 1329 | H29: 386 | I29: -943 | J29: 0.70955606 | K29: 0.0011866883 | L29: Under-Forecasted | M29: 0 | N29: 0 | O29: JAN 2023 | P29: 01.2023 | Q29: ST W48.2022
A30: Carry-Over | B30: City Fire | C30: 6379621 | D30: 60321 Fire Brigade V29 | E30: 64.949043 | F30: 52258 | G30: 108 | H30: 327 | I30: 219 | J30: -2.0277778 | K30: 0.00045932172 | L30: Over-Forecasted | M30: 0 | N30: 0 | O30: JAN 2023 | P30: 01.2023 | Q30: ST W48.2022
A31: Nouveauté | B31: City Fire | C31: 6425834 | D31: 60373 Fire Rescue Boat V29 | E31: 12.309832 | F31: 1020346 | G31: 11126 | H31: 12047 | I31: 921 | J31: -0.082779076 | K31: 0.00036611024 | L31: Over-Forecasted | M31: 0 | N31: 0 | O31: JAN 2023 | P31: 01.2023 | Q31: ST W48.2022
A32: Nouveauté | B32: City Fire | C32: 6425836 | D32: 60374 Fire Command Truck V29 | E32: 35.719511 | F32: 1053797 | G32: 3960 | H32: 3105 | I32: -855 | J32: 0.21590909 | K32: 0.00098621527 | L32: Under-Forecasted | M32: 0 | N32: 0 | O32: JAN 2023 | P32: 01.2023 | Q32: ST W48.2022
A33: Nouveauté | B33: City Fire | C33: 6425840 | D33: 60375 Fire Station and Fire Truck V29 | E33: 21.549698 | F33: 649245 | G33: 4044 | H33: 4098 | I33: 54 | J33: -0.013353116 | K33: 3.7578121e-05 | L33: Over-Forecasted | M33: 0 | N33: 0 | O33: JAN 2023 | P33: 01.2023 | Q33: ST W48.2022
A34: Nouveauté | B34: City Fire | C34: 6425877 | D34: 60393 4x4 Fire Truck Rescue V29 | E34: 6.1499171 | F34: 538440 | G34: 11752 | H34: 13424 | I34: 1672 | J34: -0.14227366 | K34: 0.00033205165 | L34: Over-Forecasted | M34: 0 | N34: 0 | O34: JAN 2023 | P34: 01.2023 | Q34: ST W48.2022
A35: Carry-Over | B35: City Great Vehicles | C35: 6288838 | D35: 60253 Ice-Cream Truck V29 | E35: 12.309855 | F35: 259168 | G35: 2826 | H35: 426 | I35: -2400 | J35: 0.8492569 | K35: 0.00095403497 | L35: Under-Forecasted | M35: 0 | N35: 0 | O35: JAN 2023 | P35: 01.2023 | Q35: ST W48.2022
A36: Carry-Over | B36: City Great Vehicles | C36: 6327954 | D36: 60283 Holiday Camper Van V29 | E36: 12.309843 | F36: 374170 | G36: 4080 | H36: 1734 | I36: -2346 | J36: 0.575 | K36: 0.00093256829 | L36: Under-Forecasted | M36: 0 | N36: 0 | O36: JAN 2023 | P36: 01.2023 | Q36: ST W48.2022
A37: Carry-Over | B37: City Great Vehicles | C37: 6327969 | D37: 60287 Tractor V29 | E37: 12.309843 | F37: 356562 | G37: 3888 | H37: 1921 | I37: -1967 | J37: 0.50591564 | K37: 0.00078191041 | L37: Under-Forecasted | M37: 0 | N37: 0 | O37: JAN 2023 | P37: 01.2023 | Q37: ST W48.2022
... A53: Nouveauté | B53: City Great Vehicles | C53: 6425869 | D53: 60390 Park Tractor V29 | E53: 6.1499167 | F53: 444607 | G53: 9704 | H53: 15292 | I53: 5588 | J53: -0.57584501 | K53: 0.0011097515 | L53: Over-Forecasted | M53: 0 | N53: 0 | O53: JAN 2023 | P53: 01.2023 | Q53: ST W48.2022
A54: Nouveauté | B54: City Great Vehicles | C54: 6425871 | D54: 60391 Construction Trucks and Wrec.. V29 | E54: 0 | H54: 0 | I54: 0 | J54: 0 | M54: 0 | N54: 0 | O54: JAN 2023 | P54: 01.2023 | Q54: ST W48.2022
A55: Nouveauté | B55: City Great Vehicles | C55: 6431232 | D55: 60394 ATV and Otter Habitat V29 | E55: 6.1502213 | F55: 8614 | G55: 188 | H55: 1983 | I55: 1795 | J55: -9.5478723 | K55: 0.00035649653 | L55: Over-Forecasted | M55: 0 | N55: 0 | O55: JAN 2023 | P55: 01.2023 | Q55: ST W48.2022
A56: Nouveauté | B56: City Great Vehicles | C56: 6431365 | D56: 60395 Combo Race Pack V29 | E56: 0 | H56: 0 | I56: 0 | J56: 0 | M56: 0 | N56: 0 | O56: JAN 2023 | P56: 01.2023 | Q56: ST W48.2022
A57: Nouveauté | B57: City Great Vehicles | C57: 6431367 | D57: 60396 Modified Race Cars V29 | E57: 0 | H57: 0 | I57: 0 | J57: 0 | M57: 0 | N57: 0 | O57: JAN 2023 | P57: 01.2023 | Q57: ST W48.2022
A58: Nouveauté | B58: City Great Vehicles | C58: 6431369 | D58: 60397 Monster Truck Race V29 | E58: 0 | H58: 0 | I58: 0 | J58: 0 | M58: 0 | N58: 0 | O58: JAN 2023 | P58: 01.2023 | Q58: ST W48.2022
B59: City Great Vehicles | C59: 6449356 | D59: 66744 WE Value Pack City 1HY2023 V29 | E59: 0 | H59: 0 | I59: 0 | J59: 0 | M59: 0 | N59: 0 | O59: JAN 2023 | P59: 01.2023 | Q59: ST W48.2022
A60: Carry-Over | B60: City Missions | C60: 6385810 | D60: 60353 Wild Animal Rescue Missions V29 | E60: 18.469648 | F60: 73753 | G60: 536 | H60: 1212 | I60: 676 | J60: -1.261194 | K60: 0.00040318599 | L60: Over-Forecasted | M60: 0 | N60: 0 | O60: JAN 2023 | P60: 01.2023 | Q60: ST W48.2022
A61: Carry-Over | B61: City Missions | C61: 6385812 | D61: 60354 Mars Spacecraft Exploration.. V29 | E61: 18.469799 | F61: 101824 | G61: 740 | H61: 1605 | I61: 865 | J61: -1.1689189 | K61: 0.00051591526 | L61: Over-Forecasted | M61: 0 | N61: 0 | O61: JAN 2023 | P61: 01.2023 | Q61: ST W48.2022
A62: Carry-Over | B62: City Missions | C62: 6385814 | D62: 60355 Water Police Detective Missi.. V29 | E62: 18.46968 | F62: 93017 | G62: 676 | H62: 1333 | I62: 657 | J62: -0.97189349 | K62: 0.0003918545 | L62: Over-Forecasted | M62: 0 | N62: 0 | O62: JAN 2023 | P62: 01.2023 | Q62: ST W48.2022
A63: Nouveauté | B63: City Occasions | C63: 6425854 | D63: 60381 LEGO® City Advent Calendar 2.. V29 | E63: 0 | H63: 0 | I63: 0 | J63: 0 | M63: 0 | N63: 0 | O63: JAN 2023 | P63: 01.2023 | Q63: ST W48.2022
A64: Carry-Over | B64: City Police | C64: 6379599 | D64: 60312 Police Car V29 | E64: 6.1499121 | F64: 529826 | G64: 11564 | H64: 6659 | I64: -4905 | J64: 0.42416119 | K64: 0.00097411006 | L64: Under-Forecasted | M64: 0 | N64: 0 | O64: JAN 2023 | P64: 01.2023 | Q64: ST W48.2022
A65: Carry-Over | B65: City Police | C65: 6379601 | D65: 60314 Ice Cream Truck Police Chase V29 | E65: 18.469799 | F65: 134848 | G65: 980 | H65: 1038 | I65: 58 | J65: -0.059183673 | K65: 3.4593162e-05 | L65: Over-Forecasted | M65: 0 | N65: 0 | O65: JAN 2023 | P65: 01.2023 | Q65: ST W48.2022
A66: Carry-Over | B66: City Police | C66: 6379603 | D66: 60315 Police Mobile Command Truck V29 | E66: 29.229643 | F66: 321415 | G66: 1476 | H66: 588 | I66: -888 | J66: 0.60162602 | K66: 0.00083817863 | L66: Under-Forecasted | M66: 0 | N66: 0 | O66: JAN 2023 | P66: 01.2023 | Q66: ST W48.2022
A67: Carry-Over | B67: City Police | C67: 6379605 | D67: 60316 Police Station V29 | E67: 42.219435 | F67: 1121002 | G67: 3564 | H67: 1031 | I67: -2533 | J67: 0.71071829 | K67: 0.0034534066 | L67: Under-Forecasted | M67: 0 | N67: 0 | O67: JAN 2023 | P67: 01.2023 | Q67: ST W48.2022
A68: Carry-Over | B68: City Police | C68: 6379609 | D68: 60317 Police Chase at the Bank V29 | E68: 64.948732 | F68: 69677 | G68: 144 | H68: 334 | I68: 190 | J68: -1.3194444 | K68: 0.00039849639 | L68: Over-Forecasted | M68: 0 | N68: 0 | O68: JAN 2023 | P68: 01.2023 | Q68: ST W48.2022
A69: Nouveauté | B69: City Police | C69: 6425822 | D69: 60369 Mobile Police Dog Training V29 | E69: 12.30984 | F69: 679100 | G69: 7405 | H69: 11833 | I69: 4428 | J69: -0.59797434 | K69: 0.0017601923 | L69: Over-Forecasted | M69: 0 | N69: 0 | O69: JAN 2023 | P69: 01.2023 | Q69: ST W48.2022
A70: Nouveauté | B70: City Police | C70: 6425824 | D70: 60370 Police Station Chase V29 | E70: 21.549715 | F70: 785388 | G70: 4892 | H70: 5546 | I70: 654 | J70: -0.13368765 | K70: 0.00045511316 | L70: Over-Forecasted | M70: 0 | N70: 0 | O70: JAN 2023 | P70: 01.2023 | Q70: ST W48.2022
A71: Nouveauté | B71: City Police | C71: 6425826 | D71: 60371 Emergency Vehicles HQ V29 | E71: 42.219436 | F71: 989841 | G71: 3147 | H71: 2355 | I71: -792 | J71: 0.25166826 | K71: 0.001079786 | L71: Under-Forecasted | M71: 0 | N71: 0 | O71: JAN 2023 | P71: 01.2023 | Q71: ST W48.2022
A72: Nouveauté | B72: City Police | C72: 6425830 | D72: 60372 Police Training Academy V29 | E72: 58.45921 | F72: 845782 | G72: 1942 | H72: 1282 | I72: -660 | J72: 0.33985582 | K72: 0.0012459396 | L72: Under-Forecasted | M72: 0 | N72: 0 | O72: JAN 2023 | P72: 01.2023 | Q72: ST W48.2022
A73: Nouveauté | B73: City Police | C73: 6425875 | D73: 60392 Police Bike Car Chase V29 | E73: 6.1499152 | F73: 608952 | G73: 13291 | H73: 15725 | I73: 2434 | J73: -0.18313144 | K73: 0.00048338126 | L73: Over-Forecasted | M73: 0 | N73: 0 | O73: JAN 2023 | P73: 01.2023 | Q73: ST W48.2022
A74: Carry-Over | B74: City Space | C74: 6379671 | D74: 60348 Lunar Roving Vehicle V29 | E74: 21.549664 | F74: 224763 | G74: 1400 | H74: 884 | I74: -516 | J74: 0.36857143 | K74: 0.00035907926 | L74: Under-Forecasted | M74: 0 | N74: 0 | O74: JAN 2023 | P74: 01.2023 | Q74: ST W48.2022
A75: Carry-Over | B75: City Space | C75: 6379673 | D75: 60349 Lunar Space Station V29 | E75: 38.969587 | F75: 166065 | G75: 572 | H75: 808 | I75: 236 | J75: -0.41258741 | K75: 0.00029698733 | L75: Over-Forecasted | M75: 0 | N75: 0 | O75: JAN 2023 | P75: 01.2023 | Q75: ST W48.2022
... A84: Nouveauté | B84: City Stuntz | C84: 6425786 | D84: 60356 Bear Stunt Bike V29 | E84: 4.9199269 | F84: 320901 | G84: 8755 | H84: 14470 | I84: 5715 | J84: -0.65276985 | K84: 0.0009079773 | L84: Over-Forecasted | M84: 0 | N84: 0 | O84: JAN 2023 | P84: 01.2023 | Q84: ST W48.2022
A85: Nouveauté | B85: City Stuntz | C85: 6425788 | D85: 60357 Stunt Truck & Ring of Fire C.. V29 | E85: 0 | H85: 0 | I85: 0 | J85: 0 | M85: 0 | N85: 0 | O85: JAN 2023 | P85: 01.2023 | Q85: ST W48.2022
A86: Nouveauté | B86: City Stuntz | C86: 6425792 | D86: 60358 Cyber Stunt Bike V29 | E86: 4.9199404 | F86: 296344 | G86: 8085 | H86: 12265 | I86: 4180 | J86: -0.5170068 | K86: 0.00066410421 | L86: Over-Forecasted | M86: 0 | N86: 0 | O86: JAN 2023 | P86: 01.2023 | Q86: ST W48.2022
A87: Nouveauté | B87: City Stuntz | C87: 6425794 | D87: 60359 Dunk Stunt Ramp Challenge V29 | E87: 0 | H87: 0 | I87: 0 | J87: 0 | M87: 0 | N87: 0 | O87: JAN 2023 | P87: 01.2023 | Q87: ST W48.2022
A88: Nouveauté | B88: City Stuntz | C88: 6425796 | D88: 60360 Spinning Stunt Challenge V29 | E88: 0 | H88: 0 | I88: 0 | J88: 0 | M88: 0 | N88: 0 | O88: JAN 2023 | P88: 01.2023 | Q88: ST W48.2022
A89: Nouveauté | B89: City Stuntz | C89: 6425798 | D89: 60361 Ultimate Stunt Riders Challe.. V29 | E89: 0 | H89: 0 | I89: 0 | J89: 0 | M89: 0 | N89: 0 | O89: JAN 2023 | P89: 01.2023 | Q89: ST W48.2022
A90: Carry-Over | B90: City Trains | C90: 6212495 | D90: 60198 Cargo Train V29 | E90: 128.99822 | F90: 601609 | G90: 626 | H90: 254 | I90: -372 | J90: 0.5942492 | K90: 0.0015496255 | L90: Under-Forecasted | M90: 0 | N90: 0 | O90: JAN 2023 | P90: 01.2023 | Q90: ST W48.2022
A91: Carry-Over | B91: City Trains | C91: 6230583 | D91: 60205 Tracks V29 | E91: 12.309834 | F91: 319695 | G91: 3486 | H91: 2440 | I91: -1046 | J91: 0.30005737 | K91: 0.00041579952 | L91: Under-Forecasted | M91: 0 | N91: 0 | O91: JAN 2023 | P91: 01.2023 | Q91: ST W48.2022
A92: Carry-Over | B92: City Trains | C92: 6250163 | D92: 60238 Switch Tracks V29 | E92: 12.30983 | F92: 222851 | G92: 2430 | H92: 377 | I92: -2053 | J92: 0.84485597 | K92: 0.00081609571 | L92: Under-Forecasted | M92: 0 | N92: 0 | O92: JAN 2023 | P92: 01.2023 | Q92: ST W48.2022
A93: Carry-Over | B93: City Trains | C93: 6385806 | D93: 60335 Train Station V29 | E93: 51.959225 | F93: 205161 | G93: 530 | H93: 728 | I93: 198 | J93: -0.37358491 | K93: 0.00033222167 | L93: Over-Forecasted | M93: 0 | N93: 0 | O93: JAN 2023 | P93: 01.2023 | Q93: ST W48.2022
A94: Carry-Over | B94: City Trains | C94: 6385808 | D94: 60336 Freight Train V29 | E94: 122.20823 | F94: 411524 | G94: 452 | H94: 264 | I94: -188 | J94: 0.4159292 | K94: 0.00074192229 | L94: Under-Forecasted | M94: 0 | N94: 0 | O94: JAN 2023 | P94: 01.2023 | Q94: ST W48.2022
A95: Carry-Over | B95: City Trains | C95: 6379645 | D95: 60337 Express Passenger Train V29 | E95: 108.62853 | F95: 1120047 | G95: 1384 | H95: 1446 | I95: 62 | J95: -0.044797688 | K95: 0.00021748819 | L95: Over-Forecasted | M95: 0 | N95: 0 | O95: JAN 2023 | P95: 01.2023 | Q95: ST W48.2022
A96: Carry-Over | B96: Creator Expert | C96: 6174033 | D96: 10255 Assembly Square V29 | E96: 207.46747 | F96: 302944 | G96: 196 | H96: 68 | I96: -128 | J96: 0.65306122 | K96: 0.00085755126 | L96: Under-Forecasted | M96: 0 | N96: 0 | O96: JAN 2023 | P96: 01.2023 | Q96: ST W48.2022
A97: Carry-Over | B97: Creator Expert | C97: 6250884 | D97: 10265 Ford Mustang V29 | E97: 117.56849 | F97: 427432 | G97: 488 | H97: 188 | I97: -300 | J97: 0.6147541 | K97: 0.00113897 | L97: Under-Forecasted | M97: 0 | N97: 0 | O97: JAN 2023 | P97: 01.2023 | Q97: ST W48.2022
A98: Carry-Over | B98: Creator Expert | C98: 6250888 | D98: 10266 NASA Apollo 11 Lunar Lander V29 | E98: 66.209252 | F98: 165735 | G98: 336 | H98: 208 | I98: -128 | J98: 0.38095238 | K98: 0.00027367099 | L98: Under-Forecasted | M98: 0 | N98: 0 | O98: JAN 2023 | P98: 01.2023 | Q98: ST W48.2022
A99: Carry-Over | B99: Creator Expert | C99: 6294055 | D99: 10270 Bookshop V29 | E99: 138.30826 | F99: 119526 | G99: 116 | H99: 180 | I99: 64 | J99: -0.55172414 | K99: 0.00028584342 | L99: Over-Forecasted | M99: 0 | N99: 0 | O99: JAN 2023 | P99: 01.2023 | Q99: ST W48.2022
A100: Nouveauté | B100: Disney Classic | C100: 6427564 | D100: 43212 Disney Celebration Train​ V29 | E100: 0 | H100: 0 | I100: 0 | J100: 0 | M100: 0 | N100: 0 | O100: JAN 2023 | P100: 01.2023 | Q100: ST W48.2022
A101: Nouveauté | B101: Disney Classic | C101: 6427570 | D101: 43215 tbd-Disney-Princess-5-2023 V29 | E101: 0 | H101: 0 | I101: 0 | J101: 0 | M101: 0 | N101: 0 | O101: JAN 2023 | P101: 01.2023 | Q101: ST W48.2022
A102: Nouveauté | B102: Disney Classic | C102: 6427574 | D102: 43217 ‘Up’ House​ V29 | E102: 0 | H102: 0 | I102: 0 | J102: 0 | M102: 0 | N102: 0 | O102: JAN 2023 | P102: 01.2023 | Q102: ST W48.2022
A103: Nouveauté | B103: Disney Classic | C103: 6427580 | D103: 43220 Peter Pan & Wendy's Storyboo.. V29 | E103: 0 | H103: 0 | I103: 0 | J103: 0 | M103: 0 | N103: 0 | O103: JAN 2023 | P103: 01.2023 | Q103: ST W48.2022
A104: Nouveauté | B104: Disney Classic | C104: 6427582 | D104: 43221 tbd-Disney-Animation-4-2023 V29 | E104: 0 | H104: 0 | I104: 0 | J104: 0 | M104: 0 | N104: 0 | O104: JAN 2023 | P104: 01.2023 | Q104: ST W48.2022
A105: Nouveauté | B105: Disney Classic | C105: 6427584 | D105: 43222 tbd-Disney-Animation-5-2023 V29 | E105: 0 | H105: 0 | I105: 0 | J105: 0 | M105: 0 | N105: 0 | O105: JAN 2023 | P105: 01.2023 | Q105: ST W48.2022
A106: Nouveauté | B106: Disney Classic | C106: 6431224 | D106: 43226 tbd-Disney-Animation-MDP-1 V29 | E106: 0 | H106: 0 | I106: 0 | J106: 0 | M106: 0 | N106: 0 | O106: JAN 2023 | P106: 01.2023 | Q106: ST W48.2022
A107: Nouveauté | B107: Disney Classic | C107: 6431226 | D107: 43227 tbd-Disney-Animation-MDP-2 V29 | E107: 0 | H107: 0 | I107: 0 | J107: 0 | M107: 0 | N107: 0 | O107: JAN 2023 | P107: 01.2023 | Q107: ST W48.2022
A108: Nouveauté | B108: Disney Classic | C108: 6440276 | D108: 43230 tbd-Disney-Animation-5-2023 V29 | E108: 0 | H108: 0 | I108: 0 | J108: 0 | M108: 0 | N108: 0 | O108: JAN 2023 | P108: 01.2023 | Q108: ST W48.2022
A109: Nouveauté | B109: Disney Classic | C109: 6444008 | D109: 43232 Tbd-Disney-Animation-6-2023 V29 | E109: 0 | H109: 0 | I109: 0 | J109: 0 | M109: 0 | N109: 0 | O109: JAN 2023 | P109: 01.2023 | Q109: ST W48.2022
A110: Carry-Over | B110: Disney Princess | C110: 6251060 | D110: 41168 Elsa's Jewelry Box Creation V29 | E110: 26.479436 | F110: 38468 | G110: 195 | H110: 465 | I110: 270 | J110: -1.3846154 | K110: 0.00023087271 | L110: Over-Forecasted | M110: 0 | N110: 0 | O110: JAN 2023 | P110: 01.2023 | Q110: ST W48.2022
A111: Carry-Over | B111: Disney Princess | C111: 6330767 | D111: 43187 Rapunzel's Tower V29 | E111: 43.029503 | F111: 112520 | G111: 351 | H111: 145 | I111: -206 | J111: 0.58689459 | K111: 0.0002862422 | L111: Under-Forecasted | M111: 0 | N111: 0 | O111: JAN 2023 | P111: 01.2023 | Q111: ST W48.2022
A112: Carry-Over | B112: Disney Princess | C112: 6331778 | D112: 43189 Elsa and the Nokk Storybook.. V29 | E112: 12.569804 | F112: 177551 | G112: 1896 | H112: 1176 | I112: -720 | J112: 0.37974684 | K112: 0.00029225444 | L112: Under-Forecasted | M112: 0 | N112: 0 | O112: JAN 2023 | P112: 01.2023 | Q112: ST W48.2022
A113: Carry-Over | B113: Disney Princess | C113: 6331877 | D113: 43194 Anna and Elsa's Frozen Wonde.. V29 | E113: 29.789527 | F113: 130496 | G113: 588 | H113: 216 | I113: -372 | J113: 0.63265306 | K113: 0.00035785464 | L113: Under-Forecasted | M113: 0 | N113: 0 | O113: JAN 2023 | P113: 01.2023 | Q113: ST W48.2022
A114: 0 | B114: Disney Princess | C114: 6391173 | D114: 43196 Belle and the Beast's Castle V119 | E114: 0 | H114: 0 | I114: 0 | J114: 0 | M114: 0 | N114: 0 | O114: JAN 2023 | P114: 01.2023 | Q114: ST W48.2022
A115: Carry-Over | B115: Disney Princess | C115: 6333557 | D115: 43196 Belle and the Beast's Castle V29 | E115: 66.209513 | F115: 45380 | G115: 92 | H115: 80 | I115: -12 | J115: 0.13043478 | K115: 2.5656756e-05 | L115: Under-Forecasted | M115: 0 | N115: 0 | O115: JAN 2023 | P115: 01.2023 | Q115: ST W48.2022
A116: Carry-Over | B116: Disney Princess | C116: 6333559 | D116: 43197 The Ice Castle V29 | E116: 152.15014 | F116: 30605 | G116: 27 | H116: 45 | I116: 18 | J116: -0.66666667 | K116: 8.8439231e-05 | L116: Over-Forecasted | M116: 0 | N116: 0 | O116: JAN 2023 | P116: 01.2023 | Q116: ST W48.2022
A117: Carry-Over | B117: Disney Princess | C117: 6378992 | D117: 43198 Anna’s Castle Courtyard V29 | E117: 6.2799293 | F117: 83091 | G117: 1776 | H117: 1040 | I117: -736 | J117: 0.41441441 | K117: 0.0001492563 | L117: Under-Forecasted | M117: 0 | N117: 0 | O117: JAN 2023 | P117: 01.2023 | Q117: ST W48.2022
A118: Carry-Over | B118: Disney Princess | C118: 6378993 | D118: 43199 Elsa’s Castle Courtyard V29 | E118: 6.279901 | F118: 103489 | G118: 2212 | H118: 1300 | I118: -912 | J118: 0.41229656 | K118: 0.00018494719 | L118: Under-Forecasted | M118: 0 | N118: 0 | O118: JAN 2023 | P118: 01.2023 | Q118: ST W48.2022
A119: Carry-Over | B119: Disney Princess | C119: 6365773 | D119: 43202 The Madrigal House V29 | E119: 33.099532 | F119: 557790 | G119: 2262 | H119: 1861 | I119: -401 | J119: 0.17727675 | K119: 0.00042861398 | L119: Under-Forecasted | M119: 0 | N119: 0 | O119: JAN 2023 | P119: 01.2023 | Q119: ST W48.2022
A120: Carry-Over | B120: Disney Princess | C120: 6378994 | D120: 43203 Aurora, Merida and Tiana’s E.. V29 | E120: 43.029722 | F120: 13464 | G120: 42 | H120: 132 | I120: 90 | J120: -2.1428571 | K120: 0.00012505791 | L120: Over-Forecasted | M120: 0 | N120: 0 | O120: JAN 2023 | P120: 01.2023 | Q120: ST W48.2022
A121: Carry-Over | B121: Disney Princess | C121: 6378995 | D121: 43204 Anna and Olaf's Castle Fun V29 | E121: 21.989746 | F121: 117953 | G121: 720 | H121: 462 | I121: -258 | J121: 0.35833333 | K121: 0.00018320614 | L121: Under-Forecasted | M121: 0 | N121: 0 | O121: JAN 2023 | P121: 01.2023 | Q121: ST W48.2022
A122: Carry-Over | B122: Disney Princess | C122: 6378996 | D122: 43205 Ultimate Adventure Castle V29 | E122: 66.20906 | F122: 197303 | G122: 400 | H122: 473 | I122: 73 | J122: -0.1825 | K122: 0.00015607753 | L122: Over-Forecasted | M122: 0 | N122: 0 | O122: JAN 2023 | P122: 01.2023 | Q122: ST W48.2022
A123: Carry-Over | B123: Disney Princess | C123: 6378997 | D123: 43206 Cinderella and Prince Charmi.. V29 | E123: 56.279362 | F123: 147587 | G123: 352 | H123: 236 | I123: -116 | J123: 0.32954545 | K123: 0.00021081779 | L123: Under-Forecasted | M123: 0 | N123: 0 | O123: JAN 2023 | P123: 01.2023 | Q123: ST W48.2022
...

Sheet Feuil2
A1: Theme | B1: Material | C1: Desctiption | D1: TO unit | E1: Total FRIB Power BI
A2: ART | B2: 6333061 | C2: 31203 World Map V29 | D2: 172.88822 | E2: =IFERROR(((SUMIFS(Feuil1!I:I,Feuil1!L:L,"Under-Forecasted",Feuil1!C:C,B2))*D2),"") -> -3976.4291
A3: ART | B3: 6379834 | C3: 31205 Jim Lee Batman™ Collection V29 | D3: 82.978924 | E3: =IFERROR(((SUMIFS(Feuil1!I:I,Feuil1!L:L,"Under-Forecasted",Feuil1!C:C,B3))*D3),"") -> -4231.9251
A4: ART | B4: 6379836 | C4: 31206 The Rolling Stones V29 | D4: 103.72863 | E4: =IFERROR(((SUMIFS(Feuil1!I:I,Feuil1!L:L,"Under-Forecasted",Feuil1!C:C,B4))*D4),"") -> -34645.361
A5: ART | B5: 6379838 | C5: 31207 Floral Art V29 | D5: 46.349235 | E5: =IFERROR(((SUMIFS(Feuil1!I:I,Feuil1!L:L,"Under-Forecasted",Feuil1!C:C,B5))*D5),"") -> -7184.1314
A6: ART | B6: 6425630 | C6: 31208 Hokusai – The Great Wave V29 | D6: 66.219125 | E6: =IFERROR(((SUMIFS(Feuil1!I:I,Feuil1!L:L,"Under-Forecasted",Feuil1!C:C,B6))*D6),"") -> -38407.093
A7: ART | B7: 6425634 | C7: 31209 The Amazing Spider-Man V29 | E7: =IFERROR(((SUMIFS(Feuil1!I:I,Feuil1!L:L,"Under-Forecasted",Feuil1!C:C,B7))*D7),"")
A8: ART | B8: 6425636 | C8: 31210 Modern Art V29 | E8: =IFERROR(((SUMIFS(Feuil1!I:I,Feuil1!L:L,"Under-Forecasted",Feuil1!C:C,B8))*D8),"")
A9: Avatar | B9: 6332828 | C9: 75571 Neytiri & Thanator vs. AMP S.. V29 | D9: 29.789598 | E9: =IFERROR(((SUMIFS(Feuil1!I:I,Feuil1!L:L,"Under-Forecasted",Feuil1!C:C,B9))*D9),"") -> -55289.493
A10: Avatar | B10: 6332830 | C10: 75572 Jake & Neytiri’s First Bansh.. V29 | D10: 36.409499 | E10: =IFERROR(((SUMIFS(Feuil1!I:I,Feuil1!L:L,"Under-Forecasted",Feuil1!C:C,B10))*D10),"") -> -78498.881
A11: Avatar | B11: 6332832 | C11: 75573 Floating Mountains: Site 26.. V29 | D11: 66.20908 | E11: =IFERROR(((SUMIFS(Feuil1!I:I,Feuil1!L:L,"Under-Forecasted",Feuil1!C:C,B11))*D11),"") -> -18670.961
A12: Avatar | B12: 6332834 | C12: 75574 Toruk Makto & Tree of Souls V29 | D12: 103.73863 | E12: =IFERROR(((SUMIFS(Feuil1!I:I,Feuil1!L:L,"Under-Forecasted",Feuil1!C:C,B12))*D12),"") -> 0
A13: Avatar | B13: 6427952 | C13: 75575 Ilu Discovery V29 | D13: 15.709783 | E13: =IFERROR(((SUMIFS(Feuil1!I:I,Feuil1!L:L,"Under-Forecasted",Feuil1!C:C,B13))*D13),"") -> -37954.836
A14: Avatar | B14: 6427954 | C14: 75576 Skimwing Adventure V29 | D14: 21.989713 | E14: =IFERROR(((SUMIFS(Feuil1!I:I,Feuil1!L:L,"Under-Forecasted",Feuil1!C:C,B14))*D14),"") -> -79075.006
A15: Avatar | B15: 6427956 | C15: 75577 Mako Submarine V29 | D15: 36.409568 | E15: =IFERROR(((SUMIFS(Feuil1!I:I,Feuil1!L:L,"Under-Forecasted",Feuil1!C:C,B15))*D15),"") -> 0
A16: Avatar | B16: 6427958 | C16: 75578 Metkayina Reef Home V29 | D16: 52.969242 | E16: =IFERROR(((SUMIFS(Feuil1!I:I,Feuil1!L:L,"Under-Forecasted",Feuil1!C:C,B16))*D16),"") -> -3654.8777
A17: Avatar | B17: 6427962 | C17: 75579 Payakan the Tulkun & Crabsuit V29 | D17: 66.209095 | E17: =IFERROR(((SUMIFS(Feuil1!I:I,Feuil1!L:L,"Under-Forecasted",Feuil1!C:C,B17))*D17),"") -> -29727.884
A18: Chinese Festivals | B18: 6426328 | C18: 80110 Lunar New Year Display V29 | D18: 38.85906 | E18: =IFERROR(((SUMIFS(Feuil1!I:I,Feuil1!L:L,"Under-Forecasted",Feuil1!C:C,B18))*D18),"") -> -233.15436
A19: Chinese Festivals | B19: 6426331 | C19: 80111 Lunar New Year Parade V29 | D19: 48.572707 | E19: =IFERROR(((SUMIFS(Feuil1!I:I,Feuil1!L:L,"Under-Forecasted",Feuil1!C:C,B19))*D19),"") -> -728.5906
A20: City Exploration | B20: 6425816 | C20: 60367 Passenger Airplane V29 | E20: =IFERROR(((SUMIFS(Feuil1!I:I,Feuil1!L:L,"Under-Forecasted",Feuil1!C:C,B20))*D20),"")
A21: City Exploration | B21: 6425818 | C21: 60368 Arctic Explorer Ship V29 | E21: =IFERROR(((SUMIFS(Feuil1!I:I,Feuil1!L:L,"Under-Forecasted",Feuil1!C:C,B21))*D21),"")
A22: City Exploration | B22: 6425842 | C22: 60376 Arctic Explorer Snowmobile V29 | E22: =IFERROR(((SUMIFS(Feuil1!I:I,Feuil1!L:L,"Under-Forecasted",Feuil1!C:C,B22))*D22),"")
A23: City Exploration | B23: 6425844 | C23: 60377 Explorer Diving Boat V29 | E23: =IFERROR(((SUMIFS(Feuil1!I:I,Feuil1!L:L,"Under-Forecasted",Feuil1!C:C,B23))*D23),"")
A24: City Exploration | B24: 6425846 | C24: 60378 Arctic Explorer Truck and Mo.. V29 | E24: =IFERROR(((SUMIFS(Feuil1!I:I,Feuil1!L:L,"Under-Forecasted",Feuil1!C:C,B24))*D24),"")
A25: City Exploration | B25: 6425850 | C25: 60379 Deep-Sea Explorer Submarine V29 | E25: =IFERROR(((SUMIFS(Feuil1!I:I,Feuil1!L:L,"Under-Forecasted",Feuil1!C:C,B25))*D25),"")
A26: City Farm | B26: 6379667 | C26: 60346 Barn & Farm Animals V29 | D26: 32.469546 | E26: =IFERROR(((SUMIFS(Feuil1!I:I,Feuil1!L:L,"Under-Forecasted",Feuil1!C:C,B26))*D26),"") -> 0
A27: City Fire | B27: 6379613 | C27: 60318 Fire Helicopter V29 | D27: 6.1499314 | E27: =IFERROR(((SUMIFS(Feuil1!I:I,Feuil1!L:L,"Under-Forecasted",Feuil1!C:C,B27))*D27),"") -> -55.349383
A28: City Fire | B28: 6379615 | C28: 60319 Fire Rescue & Police Chase V29 | D28: 18.469757 | E28: =IFERROR(((SUMIFS(Feuil1!I:I,Feuil1!L:L,"Under-Forecasted",Feuil1!C:C,B28))*D28),"") -> -85570.383
A29: City Fire | B29: 6379617 | C29: 60320 Fire Station V29 | D29: 38.969483 | E29: =IFERROR(((SUMIFS(Feuil1!I:I,Feuil1!L:L,"Under-Forecasted",Feuil1!C:C,B29))*D29),"") -> -36748.223
A30: City Fire | B30: 6379621 | C30: 60321 Fire Brigade V29 | D30: 64.949011 | E30: =IFERROR(((SUMIFS(Feuil1!I:I,Feuil1!L:L,"Under-Forecasted",Feuil1!C:C,B30))*D30),"") -> 0
A31: City Fire | B31: 6425834 | C31: 60373 Fire Rescue Boat V29 | D31: 12.309834 | E31: =IFERROR(((SUMIFS(Feuil1!I:I,Feuil1!L:L,"Under-Forecasted",Feuil1!C:C,B31))*D31),"") -> 0
A32: City Fire | B32: 6425836 | C32: 60374 Fire Command Truck V29 | D32: 35.719508 | E32: =IFERROR(((SUMIFS(Feuil1!I:I,Feuil1!L:L,"Under-Forecasted",Feuil1!C:C,B32))*D32),"") -> -30647.338
A33: City Fire | B33: 6425840 | C33: 60375 Fire Station and Fire Truck V29 | D33: 21.549691 | E33: =IFERROR(((SUMIFS(Feuil1!I:I,Feuil1!L:L,"Under-Forecasted",Feuil1!C:C,B33))*D33),"") -> 0
A34: City Fire | B34: 6425877 | C34: 60393 4x4 Fire Truck Rescue V29 | D34: 6.1499148 | E34: =IFERROR(((SUMIFS(Feuil1!I:I,Feuil1!L:L,"Under-Forecasted",Feuil1!C:C,B34))*D34),"") -> 0
A35: City Great Vehicles | B35: 6288838 | C35: 60253 Ice-Cream Truck V29 | D35: 12.309857 | E35: =IFERROR(((SUMIFS(Feuil1!I:I,Feuil1!L:L,"Under-Forecasted",Feuil1!C:C,B35))*D35),"") -> -35218.501
A36: City Great Vehicles | B36: 6327954 | C36: 60283 Holiday Camper Van V29 | D36: 12.309832 | E36: =IFERROR(((SUMIFS(Feuil1!I:I,Feuil1!L:L,"Under-Forecasted",Feuil1!C:C,B36))*D36),"") -> -48894.652
A37: City Great Vehicles | B37: 6327969 | C37: 60287 Tractor V29 | D37: 12.309838 | E37: =IFERROR(((SUMIFS(Feuil1!I:I,Feuil1!L:L,"Under-Forecasted",Feuil1!C:C,B37))*D37),"") -> -26195.336
... A53: City Great Vehicles | B53: 6425869 | C53: 60390 Park Tractor V29 | D53: 6.1499177 | E53: =IFERROR(((SUMIFS(Feuil1!I:I,Feuil1!L:L,"Under-Forecasted",Feuil1!C:C,B53))*D53),"") -> -14267.809
A54: City Great Vehicles | B54: 6425871 | C54: 60391 Construction Trucks and Wrec.. V29 | E54: =IFERROR(((SUMIFS(Feuil1!I:I,Feuil1!L:L,"Under-Forecasted",Feuil1!C:C,B54))*D54),"")
A55: City Great Vehicles | B55: 6431232 | C55: 60394 ATV and Otter Habitat V29 | D55: 6.1499549 | E55: =IFERROR(((SUMIFS(Feuil1!I:I,Feuil1!L:L,"Under-Forecasted",Feuil1!C:C,B55))*D55),"") -> 0
A56: City Great Vehicles | B56: 6431365 | C56: 60395 Combo Race Pack V29 | E56: =IFERROR(((SUMIFS(Feuil1!I:I,Feuil1!L:L,"Under-Forecasted",Feuil1!C:C,B56))*D56),"")
A57: City Great Vehicles | B57: 6431367 | C57: 60396 Modified Race Cars V29 | E57: =IFERROR(((SUMIFS(Feuil1!I:I,Feuil1!L:L,"Under-Forecasted",Feuil1!C:C,B57))*D57),"")
A58: City Great Vehicles | B58: 6431369 | C58: 60397 Monster Truck Race V29 | E58: =IFERROR(((SUMIFS(Feuil1!I:I,Feuil1!L:L,"Under-Forecasted",Feuil1!C:C,B58))*D58),"")
A59: City Great Vehicles | B59: 6449356 | C59: 66744 WE Value Pack City 1HY2023 V29 | E59: =IFERROR(((SUMIFS(Feuil1!I:I,Feuil1!L:L,"Under-Forecasted",Feuil1!C:C,B59))*D59),"")
A60: City Missions | B60: 6385810 | C60: 60353 Wild Animal Rescue Missions V29 | D60: 18.469672 | E60: =IFERROR(((SUMIFS(Feuil1!I:I,Feuil1!L:L,"Under-Forecasted",Feuil1!C:C,B60))*D60),"") -> 0
A61: City Missions | B61: 6385812 | C61: 60354 Mars Spacecraft Exploration.. V29 | D61: 18.46978 | E61: =IFERROR(((SUMIFS(Feuil1!I:I,Feuil1!L:L,"Under-Forecasted",Feuil1!C:C,B61))*D61),"") -> 0
A62: City Missions | B62: 6385814 | C62: 60355 Water Police Detective Missi.. V29 | D62: 18.469679 | E62: =IFERROR(((SUMIFS(Feuil1!I:I,Feuil1!L:L,"Under-Forecasted",Feuil1!C:C,B62))*D62),"") -> 0
A63: City Occasions | B63: 6425854 | C63: 60381 LEGO® City Advent Calendar 2.. V29 | E63: =IFERROR(((SUMIFS(Feuil1!I:I,Feuil1!L:L,"Under-Forecasted",Feuil1!C:C,B63))*D63),"")
A64: City Police | B64: 6379599 | C64: 60312 Police Car V29 | D64: 6.1499121 | E64: =IFERROR(((SUMIFS(Feuil1!I:I,Feuil1!L:L,"Under-Forecasted",Feuil1!C:C,B64))*D64),"") -> -39986.728
A65: City Police | B65: 6379601 | C65: 60314 Ice Cream Truck Police Chase V29 | D65: 18.469799 | E65: =IFERROR(((SUMIFS(Feuil1!I:I,Feuil1!L:L,"Under-Forecasted",Feuil1!C:C,B65))*D65),"") -> 0
A66: City Police | B66: 6379603 | C66: 60315 Police Mobile Command Truck V29 | D66: 29.229626 | E66: =IFERROR(((SUMIFS(Feuil1!I:I,Feuil1!L:L,"Under-Forecasted",Feuil1!C:C,B66))*D66),"") -> -25955.908
A67: City Police | B67: 6379605 | C67: 60316 Police Station V29 | D67: 42.219441 | E67: =IFERROR(((SUMIFS(Feuil1!I:I,Feuil1!L:L,"Under-Forecasted",Feuil1!C:C,B67))*D67),"") -> -110868.25
A68: City Police | B68: 6379609 | C68: 60317 Police Chase at the Bank V29 | D68: 64.949137 | E68: =IFERROR(((SUMIFS(Feuil1!I:I,Feuil1!L:L,"Under-Forecasted",Feuil1!C:C,B68))*D68),"") -> 0
A69: City Police | B69: 6425822 | C69: 60369 Mobile Police Dog Training V29 | D69: 12.309839 | E69: =IFERROR(((SUMIFS(Feuil1!I:I,Feuil1!L:L,"Under-Forecasted",Feuil1!C:C,B69))*D69),"") -> 0
A70: City Police | B70: 6425824 | C70: 60370 Police Station Chase V29 | D70: 21.549713 | E70: =IFERROR(((SUMIFS(Feuil1!I:I,Feuil1!L:L,"Under-Forecasted",Feuil1!C:C,B70))*D70),"") -> -22842.696
A71: City Police | B71: 6425826 | C71: 60371 Emergency Vehicles HQ V29 | D71: 42.21944 | E71: =IFERROR(((SUMIFS(Feuil1!I:I,Feuil1!L:L,"Under-Forecasted",Feuil1!C:C,B71))*D71),"") -> -38630.788
A72: City Police | B72: 6425830 | C72: 60372 Police Training Academy V29 | D72: 58.459224 | E72: =IFERROR(((SUMIFS(Feuil1!I:I,Feuil1!L:L,"Under-Forecasted",Feuil1!C:C,B72))*D72),"") -> -38583.088
A73: City Police | B73: 6425875 | C73: 60392 Police Bike Car Chase V29 | D73: 6.1499179 | E73: =IFERROR(((SUMIFS(Feuil1!I:I,Feuil1!L:L,"Under-Forecasted",Feuil1!C:C,B73))*D73),"") -> 0
A74: City Space | B74: 6379671 | C74: 60348 Lunar Roving Vehicle V29 | D74: 21.549708 | E74: =IFERROR(((SUMIFS(Feuil1!I:I,Feuil1!L:L,"Under-Forecasted",Feuil1!C:C,B74))*D74),"") -> -16463.977
A75: City Space | B75: 6379673 | C75: 60349 Lunar Space Station V29 | D75: 38.969482 | E75: =IFERROR(((SUMIFS(Feuil1!I:I,Feuil1!L:L,"Under-Forecasted",Feuil1!C:C,B75))*D75),"") -> 0
... A99: Creator Expert | B99: 6294055 | C99: 10270 Bookshop V29 | D99: 138.30799 | E99: =IFERROR(((SUMIFS(Feuil1!I:I,Feuil1!L:L,"Under-Forecasted",Feuil1!C:C,B99))*D99),"") -> -6915.3997
A100: Disney Classic | B100: 6427564 | C100: 43212 Disney Celebration Train​ V29 | E100: =IFERROR(((SUMIFS(Feuil1!I:I,Feuil1!L:L,"Under-Forecasted",Feuil1!C:C,B100))*D100),"")
A101: Disney Classic | B101: 6427570 | C101: 43215 tbd-Disney-Princess-5-2023 V29 | E101: =IFERROR(((SUMIFS(Feuil1!I:I,Feuil1!L:L,"Under-Forecasted",Feuil1!C:C,B101))*D101),"")
A102: Disney Classic | B102: 6427574 | C102: 43217 ‘Up’ House​ V29 | E102: =IFERROR(((SUMIFS(Feuil1!I:I,Feuil1!L:L,"Under-Forecasted",Feuil1!C:C,B102))*D102),"")
A103: Disney Classic | B103: 6427580 | C103: 43220 Peter Pan & Wendy's Storyboo.. V29 | D103: 12.569836 | E103: =IFERROR(((SUMIFS(Feuil1!I:I,Feuil1!L:L,"Under-Forecasted",Feuil1!C:C,B103))*D103),"") -> -6347.7673
A104: Disney Classic | B104: 6427582 | C104: 43221 tbd-Disney-Animation-4-2023 V29 | E104: =IFERROR(((SUMIFS(Feuil1!I:I,Feuil1!L:L,"Under-Forecasted",Feuil1!C:C,B104))*D104),"")
A105: Disney Classic | B105: 6427584 | C105: 43222 tbd-Disney-Animation-5-2023 V29 | E105: =IFERROR(((SUMIFS(Feuil1!I:I,Feuil1!L:L,"Under-Forecasted",Feuil1!C:C,B105))*D105),"")
A106: Disney Classic | B106: 6431224 | C106: 43226 tbd-Disney-Animation-MDP-1 V29 | E106: =IFERROR(((SUMIFS(Feuil1!I:I,Feuil1!L:L,"Under-Forecasted",Feuil1!C:C,B106))*D106),"")
A107: Disney Classic | B107: 6431226 | C107: 43227 tbd-Disney-Animation-MDP-2 V29 | E107: =IFERROR(((SUMIFS(Feuil1!I:I,Feuil1!L:L,"Under-Forecasted",Feuil1!C:C,B107))*D107),"")
A108: Disney Classic | B108: 6440276 | C108: 43230 tbd-Disney-Animation-5-2023 V29 | E108: =IFERROR(((SUMIFS(Feuil1!I:I,Feuil1!L:L,"Under-Forecasted",Feuil1!C:C,B108))*D108),"")
A109: Disney Classic | B109: 6444008 | C109: 43232 Tbd-Disney-Animation-6-2023 V29 | E109: =IFERROR(((SUMIFS(Feuil1!I:I,Feuil1!L:L,"Under-Forecasted",Feuil1!C:C,B109))*D109),"")
A110: Disney Princess | B110: 6251060 | C110: 41168 Elsa's Jewelry Box Creation V29 | D110: 26.47961 | E110: =IFERROR(((SUMIFS(Feuil1!I:I,Feuil1!L:L,"Under-Forecasted",Feuil1!C:C,B110))*D110),"") -> 0
A111: Disney Princess | B111: 6330767 | C111: 43187 Rapunzel's Tower V29 | D111: 43.02949 | E111: =IFERROR(((SUMIFS(Feuil1!I:I,Feuil1!L:L,"Under-Forecasted",Feuil1!C:C,B111))*D111),"") -> -8864.0748
A112: Disney Princess | B112: 6331778 | C112: 43189 Elsa and the Nokk Storybook.. V29 | D112: 12.569808 | E112: =IFERROR(((SUMIFS(Feuil1!I:I,Feuil1!L:L,"Under-Forecasted",Feuil1!C:C,B112))*D112),"") -> -18628.456
A113: Disney Princess | B113: 6331877 | C113: 43194 Anna and Elsa's Frozen Wonde.. V29 | D113: 29.789534 | E113: =IFERROR(((SUMIFS(Feuil1!I:I,Feuil1!L:L,"Under-Forecasted",Feuil1!C:C,B113))*D113),"") -> -11081.707
A114: Disney Princess | B114: 6391173 | C114: 43196 Belle and the Beast's Castle V119 | E114: =IFERROR(((SUMIFS(Feuil1!I:I,Feuil1!L:L,"Under-Forecasted",Feuil1!C:C,B114))*D114),"")
A115: Disney Princess | B115: 6333557 | C115: 43196 Belle and the Beast's Castle V29 | D115: 66.209136 | E115: =IFERROR(((SUMIFS(Feuil1!I:I,Feuil1!L:L,"Under-Forecasted",Feuil1!C:C,B115))*D115),"") -> -794.50963
A116: Disney Princess | B116: 6333559 | C116: 43197 The Ice Castle V29 | D116: 152.14925 | E116: =IFERROR(((SUMIFS(Feuil1!I:I,Feuil1!L:L,"Under-Forecasted",Feuil1!C:C,B116))*D116),"") -> 0
A117: Disney Princess | B117: 6378992 | C117: 43198 Anna’s Castle Courtyard V29 | D117: 6.2799237 | E117: =IFERROR(((SUMIFS(Feuil1!I:I,Feuil1!L:L,"Under-Forecasted",Feuil1!C:C,B117))*D117),"") -> -4622.0238
A118: Disney Princess | B118: 6378993 | C118: 43199 Elsa’s Castle Courtyard V29 | D118: 6.2799221 | E118: =IFERROR(((SUMIFS(Feuil1!I:I,Feuil1!L:L,"Under-Forecasted",Feuil1!C:C,B118))*D118),"") -> -5727.289
A119: Disney Princess | B119: 6365773 | C119: 43202 The Madrigal House V29 | D119: 33.099534 | E119: =IFERROR(((SUMIFS(Feuil1!I:I,Feuil1!L:L,"Under-Forecasted",Feuil1!C:C,B119))*D119),"") -> -46074.551
A120: Disney Princess | B120: 6378994 | C120: 43203 Aurora, Merida and Tiana’s E.. V29 | D120: 43.029346 | E120: =IFERROR(((SUMIFS(Feuil1!I:I,Feuil1!L:L,"Under-Forecasted",Feuil1!C:C,B120))*D120),"") -> 0
A121: Disney Princess | B121: 6378995 | C121: 43204 Anna and Olaf's Castle Fun V29 | D121: 21.989717 | E121: =IFERROR(((SUMIFS(Feuil1!I:I,Feuil1!L:L,"Under-Forecasted",Feuil1!C:C,B121))*D121),"") -> -5673.3471
A122: Disney Princess | B122: 6378996 | C122: 43205 Ultimate Adventure Castle V29 | D122: 66.209102 | E122: =IFERROR(((SUMIFS(Feuil1!I:I,Feuil1!L:L,"Under-Forecasted",Feuil1!C:C,B122))*D122),"") -> 0
A123: Disney Princess | B123: 6378997 | C123: 43206 Cinderella and Prince Charmi.. V29 | D123: 56.279221 | E123: =IFERROR(((SUMIFS(Feuil1!I:I,Feuil1!L:L,"Under-Forecasted",Feuil1!C:C,B123))*D123),"") -> -6528.3896
A124: Disney Princess | B124: 6378998 | C124: 43207 Ariel's Underwater Palace V29 | D124: 66.209075 | E124: =IFERROR(((SUMIFS(Feuil1!I:I,Feuil1!L:L,"Under-Forecasted",Feuil1!C:C,B124))*D124),"") -> -34163.883
A125: Disney Princess | B125: 6378999 | C125: 43208 Jasmine and Mulan’s Adventure V29 | D125: 29.78952 | E125: =IFERROR(((SUMIFS(Feuil1!I:I,Feuil1!L:L,"Under-Forecasted",Feuil1!C:C,B125))*D125),"") -> -2144.8454
A126: Disney Princess | B126: 6379000 | C126: 43209 Elsa and the Nokk’s Ice Stable V29 | D126: 9.4198943 | E126: =IFERROR(((SUMIFS(Feuil1!I:I,Feuil1!L:L,"Under-Forecasted",Feuil1!C:C,B126))*D126),"") -> -7535.9154
... A128: Disney Princess | B128: 6427562 | C128: 43211 Aurora's Castle V29 | D128: 29.789596 | E128: =IFERROR(((SUMIFS(Feuil1!I:I,Feuil1!L:L,"Under-Forecasted",Feuil1!C:C,B128))*D128),"") -> -8817.7203
A129: Disney Princess | B129: 6427566 | C129: 43213 Tbd-Disney-Princess-3-2023 V29 | E129: =IFERROR(((SUMIFS(Feuil1!I:I,Feuil1!L:L,"Under-Forecasted",Feuil1!C:C,B129))*D129),"")
A130: Disney Princess | B130: 6427568 | C130: 43214 Twirling Rapunzel V29 | D130: 6.2799177 | E130: =IFERROR(((SUMIFS(Feuil1!I:I,Feuil1!L:L,"Under-Forecasted",Feuil1!C:C,B130))*D130),"") -> 0
A131: Disney Princess | B131: 6427572 | C131: 43216 Princess Enchanted Journey V29 | D131: 43.029406 | E131: =IFERROR(((SUMIFS(Feuil1!I:I,Feuil1!L:L,"Under-Forecasted",Feuil1!C:C,B131))*D131),"") -> -17555.998
A132: Disney Princess | B132: 6427576 | C132: 43218 Anna and Elsa's Magical Caro.. V29 | E132: =IFERROR(((SUMIFS(Feuil1!I:I,Feuil1!L:L,"Under-Forecasted",Feuil1!C:C,B132))*D132),"")
A133: Disney Princess | B133: 6427578 | C133: 43219 Disney Princess Creative Cas.. V29 | D133: 21.989708 | E133: =IFERROR(((SUMIFS(Feuil1!I:I,Feuil1!L:L,"Under-Forecasted",Feuil1!C:C,B133))*D133),"") -> -20890.223
A134: Disney Princess | B134: 6427586 | C134: 43223 tbd-Disney-Animation-6-2023 V29 | E134: =IFERROR(((SUMIFS(Feuil1!I:I,Feuil1!L:L,"Under-Forecasted",Feuil1!C:C,B134))*D134),"")
A135: Disney Princess | B135: 6427588 | C135: 43224 tbd-Disney-Animation-7-2023 V29 | E135: =IFERROR(((SUMIFS(Feuil1!I:I,Feuil1!L:L,"Under-Forecasted",Feuil1!C:C,B135))*D135),"")
A136: Disney Princess | B136: 6427592 | C136: 43225 tbd-Disney-Princess-9-2023 V29 | E136: =IFERROR(((SUMIFS(Feuil1!I:I,Feuil1!L:L,"Under-Forecasted",Feuil1!C:C,B136))*D136),"")
A137: Disney Princess | B137: 6431230 | C137: 43229 tbd-Disney-MDP-3 V29 | E137: =IFERROR(((SUMIFS(Feuil1!I:I,Feuil1!L:L,"Under-Forecasted",Feuil1!C:C,B137))*D137),"")
A138: Disney Princess | B138: 6440280 | C138: 43231 tbd-Disney-Princess-11-2023 V29 | E138: =IFERROR(((SUMIFS(Feuil1!I:I,Feuil1!L:L,"Under-Forecasted",Feuil1!C:C,B138))*D138),"")
A139: DOTS | B139: 6420667 | C139: 41801 My Pets Bracelet V29 | D139: 4.2999494 | E139: =IFERROR(((SUMIFS(Feuil1!I:I,Feuil1!L:L,"Under-Forecasted",Feuil1!C:C,B139))*D139),"") -> -739.5913
...
