Workbook

Sheet Feuil1
B1: Date | C1: Expire | D1: Achat | E1: Référence | G1: Prod. four. | H1: Description | I1: Qté | J1: BO | K1: commentaires
A2: 1 | B2: 27/11/2020 | C2: 27/11/2022 | D2: 63314 | E2: 30294955 | F2: 16876599 | G2: 6876599 | H2: HSK80F BLANK 100MM DIA X 250MM | I2: 6 | J2: 6 | K2: 15-03-2021
A3: 1 | B3: 12/01/2021 | C3: 12/01/2023 | D3: 63686 | E3: T&D 30430896 | F3: 11505115 | G3: 1505115 | H3: KSEM0813R3SSF100 KSEM DRILL W/FLANGE 0.813DIA 3XD SEAT #3 | I3: 1 | J3: 1 | K3: 16-03-2021 | L3: back order 12 février 2021
A4: 1 | B4: 18/01/2021 | C4: 18/01/2023 | D4: 63759 | E4: 30431030 | F4: 15545402 | G4: 5545402 | H4: EP1808S KCPM40 MILL 1-18 INSERTS RADIUS 0.8R SGD | I4: 40 | J4: 40 | K4: 01-03-2021
A5: 1 | B5: 20/01/2021 | C5: 20/01/2023 | D5: 63782 | E5: 30440469 | F5: 11233501 | G5: 1233501 | H5: MA89R6 S104 TNMA-438 MOD CARBIDE INSERT | I5: 120 | J5: 120 | K5: 04-03-2021
F6: 15545402 | G6: 5545402 | H6: EP1808S KCPM40 MILL 1-18 INSERTS RADIUS 0.8R SGD | I6: 40 | J6: 40 | K6: 01-03-2021
A7: 1 | B7: 20/01/2021 | C7: 20/01/2023 | D7: 63784 | E7: 30443930 | F7: 14048318 | G7: 4048318 | H7: RPG32E KYHS10 KENDEX POSITVE CERAMIC INSERT CVW1 | I7: 100 | J7: 100 | K7: 08-03-2021
A8: 1 | B8: 21/01/2021 | C8: 21/01/2023 | D8: 63801 | E8: 30445372 | F8: 11505115 | G8: 1505115 | H8: KSEM0813R3SSF100 KSEM DRILL W/FLANGE 0.813DIA 3XD SEAT #3 | I8: 3 | J8: 3 | K8: 12-03-2021
A9: 1 | B9: 22/01/2021 | C9: 22/01/2023 | D9: 63823 | E9: 30450126 | F9: 12651021 | G9: 2651021 | H9: B343S08700HPG KC7315 BF-DRILL TIALN COATED DIAMETER=8.7MM | I9: 1 | J9: 1 | K9: 25-03-2021
A10: 1 | B10: 26/01/2021 | C10: 26/01/2023 | D10: 63850 | E10: 30459711 | F10: 13386262 | G10: 3386262 | H10: KRR658671 KC5125RR Railroad Turning Insert | I10: 50 | J10: 43 | K10: 02-03-2021
A11: 1 | B11: 29/01/2021 | C11: 29/01/2023 | D11: 63899 | E11: 30473354 | F11: 16359035 | G11: 6359035 | H11: B951A10000 KCH15 SC DRILL KMH 10mm/.3937/ 3xD COOLANT | I11: 1 | J11: 1 | K11: 05-03-2021
A12: 1 | B12: 29/01/2021 | C12: 29/01/2023 | D12: 63908 | E12: 30473598 | F12: 13051249 | G12: 3051249 | H12: EP1431EHD KCPK30 MILL 1-14 INSERT R=3 1 MM | I12: 50 | J12: 20 | K12: 11-03-2021
F13: 13658901 | G13: 3658901 | H13: AADF0375J2C K600 END MILL HPF45A3/8 X 1 1/2 X 4 | I13: 5 | J13: 5 | K13: 02-03-2021
F14: 15620158 | G14: 5620158 | H14: LNPU763PNSRHD2 KCPM40 MEGA INSERT LNPU-HD2 R=1.2 | I14: 20 | J14: 20 | K14: 03-03-2021
F15: 11913583 | G15: 1913583 | H15: B977A08500 KC7315 SC DRILL KU 8,5mm/.3346/ 5xD COOLANT | I15: 2 | J15: 2 | K15: 01-03-2021
A16: 1 | B16: 03/02/2021 | C16: 03/02/2023 | D16: 63955 | E16: 30488632 | F16: 16892741 | G16: 6892741 | H16: 6892741 KSEM DRILL BODY A 0.625 + CHANFREIN | I16: 5 | J16: 5 | K16: 17-03-2021
F17: 16892742 | G17: 6892742 | H17: 6892742 SIS INSERT SPECIAL 60589085 | I17: 50 | J17: 50 | K17: 09-03-2021
A18: 1 | B18: 05/02/2021 | C18: 05/02/2023 | D18: 63988 | E18: 30498223 | F18: 12980526 | G18: 2980526 | H18: EP1412SGD KCPK30 MILL 1-14 INSERT R=1 2 MM | I18: 45 | J18: 45 | K18: 18-03-2021
F19: 13856514 | G19: 3856514 | H19: CNGX452T0820 KYK25 ANSI/ISO Turning Insert CN.. | I19: 10 | J19: 10 | K19: 02-03-2021
A20: 1 | B20: 05/02/2021 | C20: 05/02/2023 | D20: 63990 | E20: 30498244 | F20: 14158961 | G20: 4158961 | H20: KTIP05080HP KCP15 KTIP INSERT HP 12.903MM / .508 | I20: 2 | J20: 2 | K20: 29-03-2021
A21: 1 | B21: 08/02/2021 | C21: 08/02/2023 | D21: 64002 | E21: 30503216 | F21: 13749338 | G21: 3749338 | H21: DNMG431CT KCP10 ANSI/ISO Turning Insert DN.. | I21: 10 | J21: 10 | K21: 15-03-2021
F22: 13964225 | G22: 3964225 | H22: KDMB20M0ERGP KC515M KDMB DIA.20 POSITIVE MEDIUM MACHINING | I22: 10 | J22: 10 | K22: 03-03-2021
A23: 1 | B23: 09/02/2021 | C23: 09/02/2023 | D23: 64008 | E23: 30507733 | F23: 16391608 | G23: 6391608 | H23: TACU036KM40DR60945570 DRIVEN TOOL RADIAL MMC036 X KM40 X 72 | I23: 1 | J23: 1 | K23: 26-02-2021
A24: 1 | B24: 09/02/2021 | C24: 09/02/2023 | D24: 64024 | E24: 30507961 | F24: 11592469 | G24: 1592469 | H24: KSEM281R5WN32M DRILL BODY, 5XD, DIAMETER=28.01MM | I24: 3 | J24: 3 | K24: 04-03-2021
A25: 1 | B25: 09/02/2021 | C25: 09/02/2023 | D25: 64025 | E25: 30508047 | F25: 13763727 | G25: 3763727 | H25: HNPJ535ANSNGD KC725M DODEKA INSERT HNPJ-SNGD R=1.2 W | I25: 50 | J25: 50 | K25: 04-03-2021
A26: 1 | B26: 11/02/2021 | C26: 11/02/2023 | D26: 64060 | E26: 30517269 | F26: 11121716 | G26: 1121716 | H26: 880.252.550 CARTRIDGE MOUNTING SCREW | I26: 3 | J26: 3 | K26: 29-03-2021
F27: 11505115 | G27: 1505115 | H27: KSEM0813R3SSF100 KSEM DRILL W/FLANGE 0.813DIA 3XD SEAT #3 | I27: 1 | J27: 1 | K27: 16-03-2021
A28: 3 | B28: 28/01/2021 | C28: 28/01/2023 | D28: 63874 | E28: SO-00134768 | F28: 003C80050WF | G28: C80050WF | H28: 1/2x1/2x1-1/4x3 4 Flt VI 0.030CR WF | I28: 6 | J28: 1 | K28: 18-02-2021
A29: 3 | B29: 29/01/2021 | C29: 29/01/2023 | D29: 63894 | E29: SO-00134831 | F29: 003C15053 | G29: C15053 | H29: 7/64 2175TA QCOBALT SCRMA | I29: 10 | J29: 10 | K29: 10-02-2021
A30: 3 | B30: 03/02/2021 | C30: 03/02/2023 | D30: 63945 | E30: SO-00134954 | F30: 003C20535 | G30: C20535 | H30: 1894 35/64 TAPER SHK #2TS | I30: 4 | J30: 2 | K30: 19-02-2021
F31: 003C20730 | G31: C20730 | H31: 1813 1-1/32 S&D 1/2" SHK | I31: 1 | J31: 1 | K31: 19-02-2021
A32: 3 | B32: 09/02/2021 | C32: 09/02/2023 | D32: 64005 | E32: SO-00135188 | F32: 003C55313 | G32: C55313 | H32: #12-28 1011TN H3 2F SPR PT PLG TAP-TIN | I32: 3 | J32: 3 | K32: 17-02-2021
A33: 3 | B33: 10/02/2021 | C33: 10/02/2023 | D33: 64028 | E33: SO-00135248 | F33: 003C32637 | G33: C32637 | H33: 3/4 556 3/4S 4F TiCN | I33: 2 | J33: 2 | K33: 24-02-2021
A34: 3 | B34: 11/02/2021 | C34: 11/02/2023 | D34: 64045 | E34: SO-00135319 | F34: 003B71522 | G34: B71522 | H34: 3/4-10UNCTMC5FLCFTHRMILLF/INT-TiAlN | I34: 8 | J34: 5 | K34: 24-02-2021
A35: 4 | B35: 05/02/2021 | C35: 05/02/2023 | D35: 63975 | E35: 3303496 | F35: 45702703 | G35: 5702703 | H35: TNGA332 AB2010 | I35: 10 | J35: 10 | K35: 25-02-2021
A36: 4 | B36: 04/02/2021 | C36: 04/02/2023 | D36: 63966 | E36: 225484 | F36: 6146976 | G36: 146-976 | H36: VHX0512B SCREW | I36: 5 | J36: 1 | K36: 27-02-2021
F37: 6162032 | G37: 162-032 | H37: 0-11/16 T-15 TIN COATED SPADE DRILL BLADE | I37: 10 | J37: 7 | K37: 19-02-2021
A38: 6 | B38: 05/02/2021 | C38: 05/02/2023 | D38: 63986 | E38: 225758 | F38: 6145689 | G38: 145-689 | H38: ICSN-442 SHIM | I38: 10 | J38: 5 | K38: 18-03-2021
F39: 6162258 | G39: 162-258 | H39: #2-1-1/8 T-15 TIAIN COATED SPADE DRILL BLADE | I39: 10 | J39: 6 | K39: 26-02-2021
A40: 6 | B40: 08/02/2021 | C40: 08/02/2023 | D40: 64000 | E40: 226046 | F40: 6162760 | G40: 162-760 | H40: #2-28.00MM T-15 TIAIN COATED SPADE DRILL BLADE | I40: 3 | J40: 2 | K40: 26-02-2021
...

Sheet Feuil2
A1: Prod. four. | C1: Date | D1: Expire | E1: Achat | F1: Référence | G1: Produit | H1: Prod. four. | I1: Description | J1: Qté | K1: BO | M1: Back order 19 fevrier 2021
A2: 6876599 | B2: 1 | C2: 27/11/2020 | D2: 27/11/2022 | E2: 63314 | F2: 30294955 | G2: 16876599 | H2: 6876599 | I2: HSK80F BLANK 100MM DIA X 250MM | J2: 6 | K2: 6 | L2: =INDEX(Feuil1!K:K,MATCH(Feuil2!G2,Feuil1!F:F,0)) -> 15-03-2021
A3: 5545402 | G3: 15545402 | H3: 5545402 | I3: EP1808S KCPM40 MILL 1-18 INSERTS RADIUS 0.8R SGD | J3: 40 | K3: 40 | L3: =INDEX(Feuil1!K:K,MATCH(Feuil2!G3,Feuil1!F:F,0)) -> 01-03-2021
A4: 1233501 | B4: 1 | C4: 20/01/2021 | D4: 20/01/2023 | E4: 63782 | F4: 30440469 | G4: 11233501 | H4: 1233501 | I4: MA89R6 S104 TNMA-438 MOD CARBIDE INSERT | J4: 120 | K4: 2 | L4: =INDEX(Feuil1!K:K,MATCH(Feuil2!G4,Feuil1!F:F,0)) -> 04-03-2021
A5: 5545402 | G5: 15545402 | H5: 5545402 | I5: EP1808S KCPM40 MILL 1-18 INSERTS RADIUS 0.8R SGD | J5: 40 | K5: 40 | L5: =INDEX(Feuil1!K:K,MATCH(Feuil2!G5,Feuil1!F:F,0)) -> 01-03-2021
A6: 4048318 | B6: 1 | C6: 20/01/2021 | D6: 20/01/2023 | E6: 63784 | F6: 30443930 | G6: 14048318 | H6: 4048318 | I6: RPG32E KYHS10 KENDEX POSITVE CERAMIC INSERT CVW1 | J6: 100 | K6: 100 | L6: =INDEX(Feuil1!K:K,MATCH(Feuil2!G6,Feuil1!F:F,0)) -> 08-03-2021
A7: 2651021 | B7: 1 | C7: 22/01/2021 | D7: 22/01/2023 | E7: 63823 | F7: 30450126 | G7: 12651021 | H7: 2651021 | I7: B343S08700HPG KC7315 BF-DRILL TIALN COATED DIAMETER=8.7MM | J7: 1 | K7: 1 | L7: =INDEX(Feuil1!K:K,MATCH(Feuil2!G7,Feuil1!F:F,0)) -> 25-03-2021
A8: 3386262 | B8: 1 | C8: 26/01/2021 | D8: 26/01/2023 | E8: 63850 | F8: 30459711 | G8: 13386262 | H8: 3386262 | I8: KRR658671 KC5125RR Railroad Turning Insert | J8: 50 | K8: 43 | L8: =INDEX(Feuil1!K:K,MATCH(Feuil2!G8,Feuil1!F:F,0)) -> 02-03-2021
A9: 6359035 | B9: 1 | C9: 29/01/2021 | D9: 29/01/2023 | E9: 63899 | F9: 30473354 | G9: 16359035 | H9: 6359035 | I9: B951A10000 KCH15 SC DRILL KMH 10mm/.3937/ 3xD COOLANT | J9: 1 | K9: 1 | L9: =INDEX(Feuil1!K:K,MATCH(Feuil2!G9,Feuil1!F:F,0)) -> 05-03-2021
A10: 3051249 | B10: 1 | C10: 29/01/2021 | D10: 29/01/2023 | E10: 63908 | F10: 30473598 | G10: 13051249 | H10: 3051249 | I10: EP1431EHD KCPK30 MILL 1-14 INSERT R=3 1 MM | J10: 50 | K10: 20 | L10: =INDEX(Feuil1!K:K,MATCH(Feuil2!G10,Feuil1!F:F,0)) -> 11-03-2021
A11: 3658901 | G11: 13658901 | H11: 3658901 | I11: AADF0375J2C K600 END MILL HPF45A3/8 X 1 1/2 X 4 | J11: 5 | K11: 5 | L11: 19-03-2021
A12: 5620158 | G12: 15620158 | H12: 5620158 | I12: LNPU763PNSRHD2 KCPM40 MEGA INSERT LNPU-HD2 R=1.2 | J12: 20 | K12: 20 | L12: =INDEX(Feuil1!K:K,MATCH(Feuil2!G12,Feuil1!F:F,0)) -> 03-03-2021
A13: 6892741 | B13: 1 | C13: 03/02/2021 | D13: 03/02/2023 | E13: 63955 | F13: 30488632 | G13: 16892741 | H13: 6892741 | I13: 6892741 KSEM DRILL BODY A 0.625 + CHANFREIN | J13: 5 | K13: 5 | L13: =INDEX(Feuil1!K:K,MATCH(Feuil2!G13,Feuil1!F:F,0)) -> 17-03-2021
A14: 2980526 | B14: 1 | C14: 05/02/2021 | D14: 05/02/2023 | E14: 63988 | F14: 30498223 | G14: 12980526 | H14: 2980526 | I14: EP1412SGD KCPK30 MILL 1-14 INSERT R=1 2 MM | J14: 45 | K14: 45 | L14: =INDEX(Feuil1!K:K,MATCH(Feuil2!G14,Feuil1!F:F,0)) -> 18-03-2021
A15: 3749338 | B15: 1 | C15: 08/02/2021 | D15: 08/02/2023 | E15: 64002 | F15: 30503216 | G15: 13749338 | H15: 3749338 | I15: DNMG431CT KCP10 ANSI/ISO Turning Insert DN.. | J15: 10 | K15: 10 | L15: =INDEX(Feuil1!K:K,MATCH(Feuil2!G15,Feuil1!F:F,0)) -> 15-03-2021
A16: 6391608 | B16: 1 | C16: 09/02/2021 | D16: 09/02/2023 | E16: 64008 | F16: 30507733 | G16: 16391608 | H16: 6391608 | I16: TACU036KM40DR60945570 DRIVEN TOOL RADIAL MMC036 X KM40 X 72 | J16: 1 | K16: 1 | L16: =INDEX(Feuil1!K:K,MATCH(Feuil2!G16,Feuil1!F:F,0)) -> 26-02-2021
A17: 1592469 | B17: 1 | C17: 09/02/2021 | D17: 09/02/2023 | E17: 64024 | F17: 30507961 | G17: 11592469 | H17: 1592469 | I17: KSEM281R5WN32M DRILL BODY, 5XD, DIAMETER=28.01MM | J17: 3 | K17: 3 | L17: =INDEX(Feuil1!K:K,MATCH(Feuil2!G17,Feuil1!F:F,0)) -> 04-03-2021
A18: 3763727 | B18: 1 | C18: 09/02/2021 | D18: 09/02/2023 | E18: 64025 | F18: 30508047 | G18: 13763727 | H18: 3763727 | I18: HNPJ535ANSNGD KC725M DODEKA INSERT HNPJ-SNGD R=1.2 W | J18: 50 | K18: 50 | L18: =INDEX(Feuil1!K:K,MATCH(Feuil2!G18,Feuil1!F:F,0)) -> 04-03-2021
A19: 1913577 | B19: 1 | C19: 12/02/2021 | D19: 12/02/2023 | E19: 64077 | F19: 30521593 | G19: 11913577 | H19: 1913577 | I19: B977A06800 KC7315 SC DRILL KU 6,8mm/.2677/ 5xD COOLANT | J19: 3 | K19: 1 | L19: 09-03-2021
A20: 1918683 | G20: 11918683 | H20: 1918683 | I20: KDMB25R190A25SN KENNA BALL NOSE ENDMILL 2519025 HIGH PR | J20: 1 | K20: 1 | L20: 09-03-2021
A21: 3386262 | B21: 1 | C21: 12/02/2021 | D21: 12/02/2023 | E21: 64078 | F21: 30521619 | G21: 13386262 | H21: 3386262 | I21: KRR658671 KC5125RR Railroad Turning Insert | J21: 50 | K21: 50 | L21: =INDEX(Feuil1!K:K,MATCH(Feuil2!G21,Feuil1!F:F,0)) -> 02-03-2021
A22: 2509326 | B22: 1 | C22: 15/02/2021 | D22: 15/02/2023 | E22: 64089 | F22: 30525937 | G22: 12509326 | H22: 2509326 | I22: EP1808S KC725M 18MM MILL 1 INSERT 0.8MM RAD TLAND + HON | J22: 40 | K22: 40 | L22: 15-03-2021
A23: 3881461 | G23: 13881461 | H23: 3881461 | I23: HPHV250S4050 KC633M END MILL CARBIDE HPHV 1/4X1/4X1/2X2 1/2 | J23: 3 | K23: 3 | L23: 10-03-2021
A24: 6353749 | B24: 1 | C24: 18/02/2021 | D24: 18/02/2023 | E24: 64149 | F24: 30539303 | G24: 16353749 | H24: 6353749 | I24: TNMG544RP KCU10 KENLOC RP ROUGHING POSITIVE INSERT | J24: 60 | K24: 60 | L24: 02-03-2021
A25: 1095795 | B25: 1 | C25: 18/02/2021 | D25: 18/02/2023 | E25: 64151 | F25: 30539340 | G25: 11095795 | H25: 1095795 | I25: A16TMWLNR4 M Clamping Boring Bar D1.00 L12.00 | J25: 1 | K25: 1 | L25: 24-03-2021
A26: 1191157 | G26: 11191157 | H26: 1191157 | I26: A2BNSN26J03 A2 Cut-Off Blade | J26: 1 | K26: 1 | L26: 24-03-2021
A27: 1245573 | G27: 11245573 | H27: 1245573 | I27: A2BNSN32M03 A2 Cut-Off Blade | J27: 2 | K27: 2 | L27: 24-03-2021
A28: 1775037 | G28: 11775037 | H28: 1775037 | I28: NG3062RK KC5025 Top Notch Grooving Insert | J28: 5 | K28: 5 | L28: 24-03-2021
A29: 1818119 | G29: 11818119 | H29: 1818119 | I29: NGD3125LK KC5025 Top Notch Grooving Insert | J29: 10 | K29: 10 | L29: 24-03-2021
A30: 1875138 | G30: 11875138 | H30: 1875138 | I30: DWLNR164DKC3 D Clamping Holder W1.00 L6.00 | J30: 1 | K30: 1 | L30: 24-03-2021
A31: 4109665 | G31: 14109665 | H31: 4109665 | I31: NG2041L KCU25 Top Notch Grooving Insert | J31: 5 | K31: 5 | L31: 24-03-2021
A32: 4109673 | G32: 14109673 | H32: 4109673 | I32: NG2062L KCU25 Top Notch Grooving Insert | J32: 5 | K32: 5 | L32: 24-03-2021
A33: 4150695 | G33: 14150695 | H33: 4150695 | I33: B042A06746CPG KC7325 SC DRILL 6.746mm/.2656/ 5xD | J33: 2 | K33: 2 | L33: 24-03-2021
A34: 6389422 | G34: 16389422 | H34: 6389422 | I34: KTFS0315R05SS038 KTFS DRILLBODY ANSI SS 5xD .315IN F | J34: 2 | K34: 2 | L34: 24-03-2021
A35: C62063BO | B35: 2 | C35: 12/02/2021 | D35: 12/02/2023 | E35: 64063 | G35: 003C62063BO | H35: C62063BO | I35: 1/2-13NC H3 4FL GP Bottom Hand Tap W/ Steam Oxide | J35: 2 | K35: 2 | L35: 01-03-2021
A36: C80050WF | B36: 3 | C36: 28/01/2021 | D36: 28/01/2023 | E36: 63874 | F36: SO-00134768 | G36: 003C80050WF | H36: C80050WF | I36: 1/2x1/2x1-1/4x3 4 Flt VI 0.030CR WF | J36: 6 | K36: 1 | L36: =INDEX(Feuil1!K:K,MATCH(Feuil2!G36,Feuil1!F:F,0)) -> 18-02-2021
A37: C15053 | B37: 3 | C37: 29/01/2021 | D37: 29/01/2023 | E37: 63894 | F37: SO-00134831 | G37: 003C15053 | H37: C15053 | I37: 7/64 2175TA QCOBALT SCRMA | J37: 10 | K37: 10 | L37: =INDEX(Feuil1!K:K,MATCH(Feuil2!G37,Feuil1!F:F,0)) -> 10-02-2021
A38: C20535 | B38: 3 | C38: 03/02/2021 | D38: 03/02/2023 | E38: 63945 | F38: SO-00134954 | G38: 003C20535 | H38: C20535 | I38: 1894 35/64 TAPER SHK #2TS | J38: 4 | K38: 2 | L38: =INDEX(Feuil1!K:K,MATCH(Feuil2!G38,Feuil1!F:F,0)) -> 19-02-2021
A39: C20730 | G39: 003C20730 | H39: C20730 | I39: 1813 1-1/32 S&D 1/2" SHK | J39: 1 | K39: 1 | L39: =INDEX(Feuil1!K:K,MATCH(Feuil2!G39,Feuil1!F:F,0)) -> 19-02-2021
A40: C55313 | B40: 3 | C40: 09/02/2021 | D40: 09/02/2023 | E40: 64005 | F40: SO-00135188 | G40: 003C55313 | H40: C55313 | I40: #12-28 1011TN H3 2F SPR PT PLG TAP-TIN | J40: 3 | K40: 3 | L40: =INDEX(Feuil1!K:K,MATCH(Feuil2!G40,Feuil1!F:F,0)) -> 17-02-2021
...

Sheet Feuil3
A1: Prod. four. | B1: Fournisseur | C1: Date | D1: Expire | E1: Achat | F1: Référence | G1: Produit | H1: Prod. four. | I1: Description | J1: Qté | K1: BO
A2: 6876599 | B2: 1 | C2: 27/11/2020 | D2: 27/11/2022 | E2: 63314 | F2: 30294955 | G2: 16876599 | H2: 6876599 | I2: HSK80F BLANK 100MM DIA X 250MM | J2: 6 | K2: 6
A3: 5545402 | B3: 1 | C3: 18/01/2021 | D3: 18/01/2023 | E3: 63759 | F3: 30431030 | G3: 15545402 | H3: 5545402 | I3: EP1808S KCPM40 MILL 1-18 INSERTS RADIUS 0.8R SGD | J3: 40 | K3: 40
A4: 5545402 | B4: 1 | C4: 20/01/2021 | D4: 20/01/2023 | E4: 63782 | F4: 30440469 | G4: 15545402 | H4: 5545402 | I4: EP1808S KCPM40 MILL 1-18 INSERTS RADIUS 0.8R SGD | J4: 40 | K4: 40
A5: 4048318 | B5: 1 | C5: 20/01/2021 | D5: 20/01/2023 | E5: 63784 | F5: 30443930 | G5: 14048318 | H5: 4048318 | I5: RPG32E KYHS10 KENDEX POSITVE CERAMIC INSERT CVW1 | J5: 100 | K5: 100
A6: 2651021 | B6: 1 | C6: 22/01/2021 | D6: 22/01/2023 | E6: 63823 | F6: 30450126 | G6: 12651021 | H6: 2651021 | I6: B343S08700HPG KC7315 BF-DRILL TIALN COATED DIAMETER=8.7MM | J6: 1 | K6: 1
A7: 3386262 | B7: 1 | C7: 26/01/2021 | D7: 26/01/2023 | E7: 63850 | F7: 30459711 | G7: 13386262 | H7: 3386262 | I7: KRR658671 KC5125RR Railroad Turning Insert | J7: 50 | K7: 43
A8: 6359035 | B8: 1 | C8: 29/01/2021 | D8: 29/01/2023 | E8: 63899 | F8: 30473354 | G8: 16359035 | H8: 6359035 | I8: B951A10000 KCH15 SC DRILL KMH 10mm/.3937/ 3xD COOLANT | J8: 1 | K8: 1
A9: 3051249 | B9: 1 | C9: 29/01/2021 | D9: 29/01/2023 | E9: 63908 | F9: 30473598 | G9: 13051249 | H9: 3051249 | I9: EP1431EHD KCPK30 MILL 1-14 INSERT R=3 1 MM | J9: 50 | K9: 20
A10: 3658901 | G10: 13658901 | H10: 3658901 | I10: AADF0375J2C K600 END MILL HPF45A3/8 X 1 1/2 X 4 | J10: 5 | K10: 5
A11: 5620158 | G11: 15620158 | H11: 5620158 | I11: LNPU763PNSRHD2 KCPM40 MEGA INSERT LNPU-HD2 R=1.2 | J11: 20 | K11: 20
A12: 1913583 | B12: 1 | C12: 29/01/2021 | D12: 29/01/2023 | E12: 63909 | F12: 30473678 | G12: 11913583 | H12: 1913583 | I12: B977A08500 KC7315 SC DRILL KU 8,5mm/.3346/ 5xD COOLANT | J12: 2 | K12: 2
A13: 6892741 | B13: 1 | C13: 03/02/2021 | D13: 03/02/2023 | E13: 63955 | F13: 30488632 | G13: 16892741 | H13: 6892741 | I13: 6892741 KSEM DRILL BODY A 0.625 + CHANFREIN | J13: 5 | K13: 5
A14: 6149946 | G14: 16149946 | H14: 6149946 | I14: 6149946 KC7315 S1S INSERT 60589085 | J14: 53 | K14: 53
A15: 2980526 | B15: 1 | C15: 05/02/2021 | D15: 05/02/2023 | E15: 63988 | F15: 30498223 | G15: 12980526 | H15: 2980526 | I15: EP1412SGD KCPK30 MILL 1-14 INSERT R=1 2 MM | J15: 45 | K15: 45
A16: 3749338 | B16: 1 | C16: 08/02/2021 | D16: 08/02/2023 | E16: 64002 | F16: 30503216 | G16: 13749338 | H16: 3749338 | I16: DNMG431CT KCP10 ANSI/ISO Turning Insert DN.. | J16: 10 | K16: 10
A17: 6391608 | B17: 1 | C17: 09/02/2021 | D17: 09/02/2023 | E17: 64008 | F17: 30507733 | G17: 16391608 | H17: 6391608 | I17: TACU036KM40DR60945570 DRIVEN TOOL RADIAL MMC036 X KM40 X 72 | J17: 1 | K17: 1
A18: 1592469 | B18: 1 | C18: 09/02/2021 | D18: 09/02/2023 | E18: 64024 | F18: 30507961 | G18: 11592469 | H18: 1592469 | I18: KSEM281R5WN32M DRILL BODY, 5XD, DIAMETER=28.01MM | J18: 3 | K18: 3
A19: 3763727 | B19: 1 | C19: 09/02/2021 | D19: 09/02/2023 | E19: 64025 | F19: 30508047 | G19: 13763727 | H19: 3763727 | I19: HNPJ535ANSNGD KC725M DODEKA INSERT HNPJ-SNGD R=1.2 W | J19: 50 | K19: 50
A20: 1913577 | B20: 1 | C20: 12/02/2021 | D20: 12/02/2023 | E20: 64077 | F20: 30521593 | G20: 11913577 | H20: 1913577 | I20: B977A06800 KC7315 SC DRILL KU 6,8mm/.2677/ 5xD COOLANT | J20: 3 | K20: 1
A21: 1918683 | G21: 11918683 | H21: 1918683 | I21: KDMB25R190A25SN KENNA BALL NOSE ENDMILL 2519025 HIGH PR | J21: 1 | K21: 1
A22: 3386262 | B22: 1 | C22: 12/02/2021 | D22: 12/02/2023 | E22: 64078 | F22: 30521619 | G22: 13386262 | H22: 3386262 | I22: KRR658671 KC5125RR Railroad Turning Insert | J22: 50 | K22: 50
A23: 2509326 | B23: 1 | C23: 15/02/2021 | D23: 15/02/2023 | E23: 64089 | F23: 30525937 | G23: 12509326 | H23: 2509326 | I23: EP1808S KC725M 18MM MILL 1 INSERT 0.8MM RAD TLAND + HON | J23: 40 | K23: 40
A24: 6353749 | B24: 1 | C24: 18/02/2021 | D24: 18/02/2023 | E24: 64149 | F24: 30539303 | G24: 16353749 | H24: 6353749 | I24: TNMG544RP KCU10 KENLOC RP ROUGHING POSITIVE INSERT | J24: 60 | K24: 60
A25: 1026475 | B25: 1 | C25: 19/02/2021 | D25: 19/02/2023 | E25: 64164 | F25: 30543597 | G25: 11026475 | H25: 1026475 | I25: 40ERTC025 ER40 - 1/4 TAP COLLET (.255 x .191) | J25: 1 | K25: 1
A26: 1026479 | G26: 11026479 | H26: 1026479 | I26: 40ERTC037 ER40 - 3/8 TAP COLLET (.381 x .286) | J26: 1 | K26: 1
A27: 1312947 | B27: 1 | C27: 22/02/2021 | D27: 22/02/2023 | E27: 64179 | F27: 30548678 | G27: 11312947 | H27: 1312947 | I27: HSK100AHSK63100M REDUCER DIN69873-1 A/C HSK100A HSK63 | J27: 2 | K27: 1
A28: 3770159 | G28: 13770159 | H28: 3770159 | I28: DA63-08 SEALING RING HSK63 | J28: 10 | K28: 10
A29: 4073653 | G29: 14073653 | H29: 4073653 | I29: CV50BST16M736 CV SCREW ON ADAPTER | J29: 4 | K29: 4
A30: 1807349 | B30: 1 | C30: 22/02/2021 | D30: 22/02/2023 | E30: 64180 | F30: 30548709 | G30: 11807349 | H30: 1807349 | I30: F3BA2000BWX40C380 K600 END MILL SC ROUGHER B D=20 Z=3 40 | J30: 7 | K30: 5
A31: 3051249 | G31: 13051249 | H31: 3051249 | I31: EP1431EHD KCPK30 MILL 1-14 INSERT R=3 1 MM | J31: 30 | K31: 30
A32: 5550795 | G32: 15550795 | H32: 5550795 | I32: HNPJ535ANSNGD KCPM40 DODEKA INSERT HNPJ-SNGD R=1.2 W | J32: 50 | K32: 50
A33: 5910213 | G33: 15910213 | H33: 5910213 | I33: CPMT2152MF KCP10B ANSI/ISO Turning Insert CP.. | J33: 20 | K33: 14
A34: 1913577 | B34: 1 | C34: 22/02/2021 | D34: 22/02/2023 | E34: 64181 | F34: 30548766 | G34: 11913577 | H34: 1913577 | I34: B977A06800 KC7315 SC DRILL KU 6,8mm/.2677/ 5xD COOLANT | J34: 4 | K34: 4
A35: 3331115 | G35: 13331115 | H35: 3331115 | I35: L08KSCLPR06 S Clamping Boring Bar D8,0mm L123,3mm | J35: 1 | K35: 1
A36: 6151515 | G36: 16151515 | H36: 6151515 | I36: VDIC1M402585C VDI40 C1 SQ SHANK HOLDER AXIAL RH 25MM | J36: 1 | K36: 1
A37: 2509326 | B37: 1 | C37: 23/02/2021 | D37: 23/02/2023 | E37: 64198 | F37: 30553369 | G37: 12509326 | H37: 2509326 | I37: EP1808S KC725M 18MM MILL 1 INSERT 0.8MM RAD TLAND + HON | J37: 10 | K37: 10
A38: 6687134 | G38: 16687134 | H38: 6687134 | I38: VNMG332MP KCS10B KENLOC MP MEDIUM POSITIVE INSERT | J38: 10 | K38: 5
A39: 3386262 | B39: 1 | C39: 23/02/2021 | D39: 23/02/2023 | E39: 64200 | F39: 30553460 | G39: 13386262 | H39: 3386262 | I39: KRR658671 KC5125RR Railroad Turning Insert | J39: 50 | K39: 50
A40: 1094699 | B40: 1 | C40: 24/02/2021 | D40: 24/02/2023 | E40: 64210 | F40: 30558077 | G40: 11094699 | H40: 1094699 | I40: A12SSVUBR2 S Clamping Boring Bar D0.75 L10.00 | J40: 1 | K40: 1
...
