Workbook

Sheet Feuil1
B1: Date | C1: Expire | D1: Achat | E1: Référence | G1: Prod. four. | H1: Description | I1: Qté | J1: BO | K1: commentaires
A2: 1 | B2: 27/11/2020 | C2: 27/11/2022 | D2: 63314 | E2: 30294955 | F2: 16876599 | G2: 6876599 | H2: HSK80F BLANK 100MM DIA X 250MM | I2: 6 | J2: 6 | K2: 15-03-2021
A3: 1 | B3: 12/01/2021 | C3: 12/01/2023 | D3: 63686 | E3: T&D 30430896 | F3: 11505115 | G3: 1505115 | H3: KSEM0813R3SSF100 KSEM DRILL W/FLANGE 0.813DIA 3XD SEAT #3 | I3: 1 | J3: 1 | K3: 16-03-2021 | L3: back order 12 février 2021
A4: 1 | B4: 18/01/2021 | C4: 18/01/2023 | D4: 63759 | E4: 30431030 | F4: 15545402 | G4: 5545402 | H4: EP1808S KCPM40 MILL 1-18 INSERTS RADIUS 0.8R SGD | I4: 40 | J4: 40 | K4: 01-03-2021
A5: 1 | B5: 20/01/2021 | C5: 20/01/2023 | D5: 63782 | E5: 30440469 | F5: 11233501 | G5: 1233501 | H5: MA89R6 S104 TNMA-438 MOD CARBIDE INSERT | I5: 120 | J5: 120 | K5: 04-03-2021
F6: 15545402 | G6: 5545402 | H6: EP1808S KCPM40 MILL 1-18 INSERTS RADIUS 0.8R SGD | I6: 40 | J6: 40 | K6: 01-03-2021
A7: 1 | B7: 20/01/2021 | C7: 20/01/2023 | D7: 63784 | E7: 30443930 | F7: 14048318 | G7: 4048318 | H7: RPG32E KYHS10 KENDEX POSITVE CERAMIC INSERT CVW1 | I7: 100 | J7: 100 | K7: 08-03-2021
A8: 1 | B8: 21/01/2021 | C8: 21/01/2023 | D8: 63801 | E8: 30445372 | F8: 11505115 | G8: 1505115 | H8: KSEM0813R3SSF100 KSEM DRILL W/FLANGE 0.813DIA 3XD SEAT #3 | I8: 3 | J8: 3 | K8: 12-03-2021
A9: 1 | B9: 22/01/2021 | C9: 22/01/2023 | D9: 63823 | E9: 30450126 | F9: 12651021 | G9: 2651021 | H9: B343S08700HPG KC7315 BF-DRILL TIALN COATED DIAMETER=8.7MM | I9: 1 | J9: 1 | K9: 25-03-2021
A10: 1 | B10: 26/01/2021 | C10: 26/01/2023 | D10: 63850 | E10: 30459711 | F10: 13386262 | G10: 3386262 | H10: KRR658671 KC5125RR Railroad Turning Insert | I10: 50 | J10: 43 | K10: 02-03-2021
A11: 1 | B11: 29/01/2021 | C11: 29/01/2023 | D11: 63899 | E11: 30473354 | F11: 16359035 | G11: 6359035 | H11: B951A10000 KCH15 SC DRILL KMH 10mm/.3937/ 3xD COOLANT | I11: 1 | J11: 1 | K11: 05-03-2021
A12: 1 | B12: 29/01/2021 | C12: 29/01/2023 | D12: 63908 | E12: 30473598 | F12: 13051249 | G12: 3051249 | H12: EP1431EHD KCPK30 MILL 1-14 INSERT R=3 1 MM | I12: 50 | J12: 20 | K12: 11-03-2021
F13: 13658901 | G13: 3658901 | H13: AADF0375J2C K600 END MILL HPF45A3/8 X 1 1/2 X 4 | I13: 5 | J13: 5 | K13: 02-03-2021
F14: 15620158 | G14: 5620158 | H14: LNPU763PNSRHD2 KCPM40 MEGA INSERT LNPU-HD2 R=1.2 | I14: 20 | J14: 20 | K14: 03-03-2021
F15: 11913583 | G15: 1913583 | H15: B977A08500 KC7315 SC DRILL KU 8,5mm/.3346/ 5xD COOLANT | I15: 2 | J15: 2 | K15: 01-03-2021
A16: 1 | B16: 03/02/2021 | C16: 03/02/2023 | D16: 63955 | E16: 30488632 | F16: 16892741 | G16: 6892741 | H16: 6892741 KSEM DRILL BODY A 0.625 + CHANFREIN | I16: 5 | J16: 5 | K16: 17-03-2021
F17: 16892742 | G17: 6892742 | H17: 6892742 SIS INSERT SPECIAL 60589085 | I17: 50 | J17: 50 | K17: 09-03-2021
A18: 1 | B18: 05/02/2021 | C18: 05/02/2023 | D18: 63988 | E18: 30498223 | F18: 12980526 | G18: 2980526 | H18: EP1412SGD KCPK30 MILL 1-14 INSERT R=1 2 MM | I18: 45 | J18: 45 | K18: 18-03-2021
F19: 13856514 | G19: 3856514 | H19: CNGX452T0820 KYK25 ANSI/ISO Turning Insert CN.. | I19: 10 | J19: 10 | K19: 02-03-2021
A20: 1 | B20: 05/02/2021 | C20: 05/02/2023 | D20: 63990 | E20: 30498244 | F20: 14158961 | G20: 4158961 | H20: KTIP05080HP KCP15 KTIP INSERT HP 12.903MM / .508 | I20: 2 | J20: 2 | K20: 29-03-2021
A21: 1 | B21: 08/02/2021 | C21: 08/02/2023 | D21: 64002 | E21: 30503216 | F21: 13749338 | G21: 3749338 | H21: DNMG431CT KCP10 ANSI/ISO Turning Insert DN.. | I21: 10 | J21: 10 | K21: 15-03-2021
F22: 13964225 | G22: 3964225 | H22: KDMB20M0ERGP KC515M KDMB DIA.20 POSITIVE MEDIUM MACHINING | I22: 10 | J22: 10 | K22: 03-03-2021
A23: 1 | B23: 09/02/2021 | C23: 09/02/2023 | D23: 64008 | E23: 30507733 | F23: 16391608 | G23: 6391608 | H23: TACU036KM40DR60945570 DRIVEN TOOL RADIAL MMC036 X KM40 X 72 | I23: 1 | J23: 1 | K23: 26-02-2021
A24: 1 | B24: 09/02/2021 | C24: 09/02/2023 | D24: 64024 | E24: 30507961 | F24: 11592469 | G24: 1592469 | H24: KSEM281R5WN32M DRILL BODY, 5XD, DIAMETER=28.01MM | I24: 3 | J24: 3 | K24: 04-03-2021
A25: 1 | B25: 09/02/2021 | C25: 09/02/2023 | D25: 64025 | E25: 30508047 | F25: 13763727 | G25: 3763727 | H25: HNPJ535ANSNGD KC725M DODEKA INSERT HNPJ-SNGD R=1.2 W | I25: 50 | J25: 50 | K25: 04-03-2021
A26: 1 | B26: 11/02/2021 | C26: 11/02/2023 | D26: 64060 | E26: 30517269 | F26: 11121716 | G26: 1121716 | H26: 880.252.550 CARTRIDGE MOUNTING SCREW | I26: 3 | J26: 3 | K26: 29-03-2021
F27: 11505115 | G27: 1505115 | H27: KSEM0813R3SSF100 KSEM DRILL W/FLANGE 0.813DIA 3XD SEAT #3 | I27: 1 | J27: 1 | K27: 16-03-2021
A28: 3 | B28: 28/01/2021 | C28: 28/01/2023 | D28: 63874 | E28: SO-00134768 | F28: 003C80050WF | G28: C80050WF | H28: 1/2x1/2x1-1/4x3 4 Flt VI 0.030CR WF | I28: 6 | J28: 1 | K28: 18-02-2021
A29: 3 | B29: 29/01/2021 | C29: 29/01/2023 | D29: 63894 | E29: SO-00134831 | F29: 003C15053 | G29: C15053 | H29: 7/64 2175TA QCOBALT SCRMA | I29: 10 | J29: 10 | K29: 10-02-2021
A30: 3 | B30: 03/02/2021 | C30: 03/02/2023 | D30: 63945 | E30: SO-00134954 | F30: 003C20535 | G30: C20535 | H30: 1894 35/64 TAPER SHK #2TS | I30: 4 | J30: 2 | K30: 19-02-2021
F31: 003C20730 | G31: C20730 | H31: 1813 1-1/32 S&D 1/2" SHK | I31: 1 | J31: 1 | K31: 19-02-2021
A32: 3 | B32: 09/02/2021 | C32: 09/02/2023 | D32: 64005 | E32: SO-00135188 | F32: 003C55313 | G32: C55313 | H32: #12-28 1011TN H3 2F SPR PT PLG TAP-TIN | I32: 3 | J32: 3 | K32: 17-02-2021
A33: 3 | B33: 10/02/2021 | C33: 10/02/2023 | D33: 64028 | E33: SO-00135248 | F33: 003C32637 | G33: C32637 | H33: 3/4 556 3/4S 4F TiCN | I33: 2 | J33: 2 | K33: 24-02-2021
A34: 3 | B34: 11/02/2021 | C34: 11/02/2023 | D34: 64045 | E34: SO-00135319 | F34: 003B71522 | G34: B71522 | H34: 3/4-10UNCTMC5FLCFTHRMILLF/INT-TiAlN | I34: 8 | J34: 5 | K34: 24-02-2021
A35: 4 | B35: 05/02/2021 | C35: 05/02/2023 | D35: 63975 | E35: 3303496 | F35: 45702703 | G35: 5702703 | H35: TNGA332 AB2010 | I35: 10 | J35: 10 | K35: 25-02-2021
A36: 4 | B36: 04/02/2021 | C36: 04/02/2023 | D36: 63966 | E36: 225484 | F36: 6146976 | G36: 146-976 | H36: VHX0512B SCREW | I36: 5 | J36: 1 | K36: 27-02-2021
F37: 6162032 | G37: 162-032 | H37: 0-11/16 T-15 TIN COATED SPADE DRILL BLADE | I37: 10 | J37: 7 | K37: 19-02-2021
A38: 6 | B38: 05/02/2021 | C38: 05/02/2023 | D38: 63986 | E38: 225758 | F38: 6145689 | G38: 145-689 | H38: ICSN-442 SHIM | I38: 10 | J38: 5 | K38: 18-03-2021
F39: 6162258 | G39: 162-258 | H39: #2-1-1/8 T-15 TIAIN COATED SPADE DRILL BLADE | I39: 10 | J39: 6 | K39: 26-02-2021
A40: 6 | B40: 08/02/2021 | C40: 08/02/2023 | D40: 64000 | E40: 226046 | F40: 6162760 | G40: 162-760 | H40: #2-28.00MM T-15 TIAIN COATED SPADE DRILL BLADE | I40: 3 | J40: 2 | K40: 26-02-2021
A41: 7 | B41: 14/01/2021 | C41: 14/01/2023 | D41: 63726 | E41: 10110608 | F41: 7603678 | G41: 603678 | H41: DOUBLE ANGLE CUTTER 2-3/4 X1/2X 1 60DEG | I41: 3 | J41: 2 | K41: 23-04-2021
A42: 7 | B42: 28/01/2021 | C42: 28/01/2023 | D42: 63880 | E42: 10112092 | F42: 7612120 | G42: 612120 | H42: L421 25/32 S/S CORE DRL 3 FL | I42: 4 | J42: 4 | K42: 12-02-2021
A43: 7 | B43: 09/02/2021 | C43: 09/02/2023 | D43: 64020 | E43: 10113372 | F43: 7516240 | G43: 516240 | H43: 7/8 SQ X 6 INCH M42 TOOLBIT | I43: 1 | J43: 1 | K43: #N/A
A44: 7 | B44: 10/02/2021 | C44: 10/02/2023 | D44: 64036 | E44: 10113582 & 10113583 | F44: 7540616 | G44: 540616 | H44: SERIES 115 #6 - 60DEG COMB. DRILL & C'SINK | I44: 75 | J44: 3 | K44: #N/A
F45: 7816564 | G45: 816564 | H45: OUTSIDE MICROMETER 0-1IN RES 0.0001IN | I45: 1 | J45: 1 | K45: #N/A
A46: 10 | B46: 05/02/2021 | C46: 05/02/2023 | D46: 63973 | E46: S21-020802 | F46: 4M-1-3/4 | G46: 4M-1-3/4 | H46: UNIT COMPLETE (ROUND HOLES) PUNCH 3/8 ALU 1/16 THICK ALU | I46: 1 | J46: 1 | K46: 17-02-2021
A47: 15 | B47: 23/10/2020 | C47: 23/10/2022 | D47: 62918 | F47: 015100TCT05264 | G47: 100TCT05264 | H47: TCT Plus Univ.13/16" x 1-9/16" | I47: 125 | J47: 50 | K47: relache
A48: 15 | B48: 02/02/2021 | C48: 02/02/2023 | D48: 63932 | E48: 167242 | F48: 015PPT16J3 | G48: PPT16T3 | H48: PORTA KEYLESS CHUCK JT3 1-64-5/8 | I48: 1 | J48: 1 | K48: 18-02-2021
A49: 15 | B49: 04/02/2021 | C49: 04/02/2023 | D49: 63962 | E49: 167315 | F49: 15201785040 | G49: 20.1785.040 | H49: Fraise ébavurage 82° Type C HSS-XE+BlueTec 1/2" | I49: 3 | J49: 3 | K49: 18-02-2021
A50: 16 | B50: 28/10/2020 | C50: 28/10/2022 | D50: 62976 | E50: 5393489 | F50: 1660141 | G50: 60141 | H50: 1360T HPC 3/8 WL PAR/SM DRL COB | I50: 10 | J50: 3 | K50: 20-04-2021
A51: 16 | B51: 14/12/2020 | C51: 14/12/2022 | D51: 63502 | E51: 5532346 | F51: 1634141 | G51: 34141 | H51: 2070X 8-32 S/P PLUG H3 2FL BLK | I51: 3 | J51: 3 | K51: # RLG000327353
A52: 16 | B52: 17/12/2020 | C52: 17/12/2022 | D52: 63545 | E52: 5546098 | F52: 1660141 | G52: 60141 | H52: 1360T HPC 3/8 WL PAR/SM DRL COB | I52: 15 | J52: 15 | K52: 44306
A53: 16 | B53: 21/01/2021 | C53: 21/01/2023 | D53: 63795 | E53: 5641341 | F53: 1634141 | G53: 34141 | H53: 2070X 8-32 S/P PLUG H3 2FL BLK | I53: 5 | J53: 5 | K53: 28-02-2021
F54: 1656166 | G54: 56166 | H54: 5753 1/2 60' 3FL CTSK SC | I54: 1 | J54: 1 | K54: 21-02-2021
A55: 16 | B55: 05/02/2021 | C55: 05/02/2023 | D55: 63980 | E55: 5690460 | F55: 1621732 | G55: 21732 | H55: 1653 19/32 RHS ST/SH HSS RMR | I55: 1 | J55: 1 | K55: #
F56: 1622732 | G56: 22732 | H56: 1701 1-1/8 BRIDGE RMR LHS 3MTS | I56: 2 | J56: 2 | K56: #
A57: 18 | B57: 05/01/2021 | C57: 05/01/2023 | D57: 63621 | E57: 599716.00 | F57: 018RE41900 | G57: RE41900 | H57: 40MM HSS STRAIGHT SHANK SPIRAL FLUTE HAND REAMER | I57: 1 | J57: 1 | K57: 16-02-2021
A58: 22 | B58: 26/01/2021 | C58: 26/01/2023 | D58: 63844 | F58: AL 5000-1 | G58: AL 5000-1 | H58: AF FLUIDS AL 5000 GALLONS | I58: 16 | J58: 16 | K58: #
A59: 26 | B59: 28/01/2021 | C59: 28/01/2023 | D59: 63876 | E59: 90549 | F59: TAP 1-1/8-12 LH | G59: ST4758 | H59: TAP 1-1/8-12 SPIRAL POINT 8"L BLUE FINISH LEFT HAND | I59: 4 | J59: 4 | K59: 15-02-2021
F60: TAP 1-1/8-12 RH | G60: ST4757 | H60: TAP 1-1/8-12 SPIRAL POINT 8"L BLUE FINISH RIGHT HAND | I60: 4 | J60: 4 | K60: 15-02-2021
A61: 26 | B61: 04/02/2021 | C61: 04/02/2023 | D61: 63961 | E61: 90681 & 90682 | F61: TAP 1-1/4-12 RH | G61: ST269 | H61: TAP 1-1/4-12 SPIRAL POINT 8"L RIGHT HAND BLUE FINISH | I61: 2 | J61: 2 | K61: 10-03-2021
A62: 34 | B62: 15/10/2020 | C62: 15/10/2022 | D62: 62828 | E62: 169711 & 169766 | F62: 13-539-865 | G62: 13-539-865 | H62: 539-811 AT715 RÈGLE 112' MITUTOYO | I62: 1 | J62: 1 | K62: 28-01-2021
A63: 34 | B63: 20/01/2021 | C63: 20/01/2023 | D63: 63775 | E63: 170851 | F63: 13-137-220 | G63: 13-137-220 | H63: Micrometer, Tubular Inside, Mech Ext Rod, 2-poinT 2-60 MITUT | I63: 1 | J63: 1 | K63: 01-05-2021
A64: 40 | B64: 30/11/2020 | C64: 30/11/2022 | D64: 63335 | F64: 40207208 | G64: 207208 | H64: SMT 940 abrasive mop discs thread 5/8" 4-1/2 x 5/8 Inch gr 250 50_x000D_ 040207208 207208 SMT 940 abrasive mop discs thread 5/8"" 4-1/2 x 5/8 Inch gr | I64: 250 | J64: 250 | K64: sur relache de 250
F65: 40207209 | G65: 207209 | H65: SMT 940 abrasive mop discs thread 5/8" 4-1/2 x 5/8 Inch gr 250 250_x000D_ 040207208 207208 SMT 940 abrasive mop discs thread 5/8"" 4-1/2 x 5/8 Inch gr | I65: 250 | J65: 250 | K65: sur relache de 250
F66: 40207209 | G66: 207209 | H66: SMT 940 abrasive mop discs thread 5/8" 4-1/2 x 5/8 Inch gr 250 250_x000D_ 040207208 207208 SMT 940 abrasive mop discs thread 5/8"" 4-1/2 x 5/8 Inch gr | I66: 250 | J66: 250 | K66: sur relache de 250
F67: 40207209 | G67: 207209 | H67: SMT 940 abrasive mop discs thread 5/8" 4-1/2 x 5/8 Inch gr 250 250_x000D_ 040 10/12/2020 10/12/2022 63477 6354329 040278964 278964 KM 613 small abrasive mops 1-1/2 x 1 x 1/4 Inch grain 40 40 40_x000D_ 040 14/01/2021 14/01/2023 63724 6373838 040295226 295226 QMC 412 quick change discs 3 Inch grain 180 100 100_x000D_ 040 15/01/2021 15/01/2023 63739 6374885 040322812 322812 SMT 314 abrasive mop discs 4-1/2 x 7/8 Inch grain 80 convex 10 10_x000D_ 040 21/01/2021 21/01/2023 63788 6380350 040321674 321674 SMT 925 abrasive mop discs 4-1/2 x 7/8 Inch grain 60 flat 20 10_x000D_ 040 04/02/2021 04/02/2023 63963 6393236 CS411X4X59G24 CS411X4X59G24 BELT CS411X/24/S/4X59'' PQT/10 10 10_x000D_ 040 11/02/2021 11/02/2023 64053 6399194 040147170 147170 PS 33 CK discs self-fastening 5 Inch grain 120 hole pattern 200 200_x000D_ 040147604 147604 PS 33 CK discs self-fastening 5 Inch grain 60 200 200_x000D_ 040303529 303529 KM 613 small abrasive mops 3/4 x 3/4 x 1/4 Inch grain 80 10 10_x000D_ CS310X4X36G240 CS310X4X36G240 BELT CS310X/240/S/F4G/4X36'' PQT/10 10 10_x000D_ CS310X4X36G320 CS310X4X36G320 BELT CS310X/320/S/F4G/4X36'' PQT/10 10 10_x000D_ CS330X2X48G800 CS330X2X48G800 BELT CS330X/800/S/F4G/2X48'' PQT/10 10 10_x000D_ 048 03/09/2020 03/09/2022 62393 07838951324 07838951324 INSERT SKIVING & BERNISHING TIALN 40 40_x000D_ 07838951324 07838951324 INSERT SKIVING & BERNISHING TIALN 40 40_x000D_ 07838951324 07838951324 INSERT SKIVING & BERNISHING TIALN 40 40_x000D_ 07838951324 07838951324 INSERT SKIVING & BERNISHING TIALN 40 40_x000D_ 07838951324 07838951324 INSERT SKIVING & BERNISHING TIALN 40 40_x000D_ 07838951324 07838951324 INSERT SKIVING & BERNISHING TIALN 40 40_x000D_ 07838951324 07838951324 INSERT SKIVING & BERNISHING TIALN 40 40_x000D_ 050 04/08/2020 04/08/2022 62059 ORD00063136 ACLHM1.25-3-170 ACLHM1.25-3-170 AXCELA-H MAX 1-1/4''X0.042X3/4 CARB. NEGATIVE 340 170_x000D_ 050 01/10/2020 01/10/2022 62695 ORD00066761 PR2-3-250 WS PR2-3-WS-250 PROTECTOR 2X.063"X3/4WS WIDE SET FEET | I67: 2250 | J67: 500 | K67: sur relache de 250
A68: 50 | B68: 30/11/2020 | C68: 30/11/2022 | D68: 63331 | E68: ORD00070174 | F68: PR1.5-3-250 | G68: PR1.5-3-250 | H68: PROTECTOR 1-1/2"X.050"X3/4 | I68: 500 | J68: 500 | K68: inventaire
F69: PR3/4-4-250 | G69: PR3/4-4-250 | H69: PROTECTOR 3/4"X.035"X4/6 FEET | I69: 250 | J69: 250 | K69: inventaire
A70: 50 | B70: 08/12/2020 | C70: 08/12/2022 | D70: 63432 | E70: ORD00070621 | F70: PR1.5-3-250 | G70: PR1.5-3-250 | H70: PROTECTOR 1-1/2"X.050"X3/4 | I70: 250 | J70: 250 | K70: inventaire
A71: 50 | B71: 29/12/2020 | C71: 29/12/2022 | D71: 63606 | F71: ACLS1-3-170 | G71: ACLS1-3-170 | H71: AXCELA S 1''X.035''X3/4 CARBURE POSITIVE | I71: 170 | J71: 170 | K71: inventaire
F72: ACLS1.25-1.8-170 | G72: ACLS1.25-1.8-170 | H72: AXCELA S 1-1/4"X.042"X1.8/2..0 CARBURE | I72: 680 | J72: 680 | K72: inventaire
F73: GP1.25-4-250 | G73: GP1.25-4-250 | H73: COBALT8 1-1/4"X0.045"X4/6 | I73: 500 | J73: 250 | K73: inventaire
F74: PR1.25-4-250 | G74: PR1.25-4-250 | H74: PROTECTOR 1-1/4"X.042"X4/6 FEET | I74: 500 | J74: 500 | K74: inventaire
F75: PR1.5-4-250 | G75: PR1.5-4-250 | H75: PROTECTOR 1-1/2"X.050"X4/6 FEET | I75: 250 | J75: 250 | K75: inventaire
F76: PR2-3-250 WS | G76: PR2-3-WS-250 | H76: PROTECTOR 2"X.063"X3/4WS WIDE SET FEET | I76: 1000 | J76: 1000 | K76: inventaire
F77: PR3/4-4-250 | G77: PR3/4-4-250 | H77: PROTECTOR 3/4"X.035"X4/6 FEET | I77: 250 | J77: 250 | K77: inventaire
A78: 50 | B78: 01/02/2021 | C78: 01/02/2023 | D78: 63916 | E78: ORD00073730 | F78: ACL2.00-63-1.8-20.0 | G78: ACL2.00-63-1.8-20.0 | H78: SCIE 20'X2''X.063 X1.8/2.0 AXCELA G POUR SCIE AMADA 430 | I78: 4 | J78: 4 | K78: inventaire
F79: ACLHM1.25-3-170 | G79: ACLHM1.25-3-170 | H79: AXCELA-H MAX 1-1/4''X0.042X3/4 CARB. NEGATIVE | I79: 170 | J79: 170 | K79: inventaire
F80: CBK1-3-250 | G80: CBK1-3-250 | H80: CHIPBREAKER 1"X.035"X3/4 | I80: 250 | J80: 250 | K80: inventaire
F81: DU.5-025-9-100 | G81: DU.5-025-9-100 | H81: SAW DUOS 1/2X.025X9/11 | I81: 200 | J81: 200 | K81: inventaire
F82: DU.5-035-9-100 | G82: DU.5-035-9-100 | H82: SAW DUOS 1/2X.035X9/11 | I82: 200 | J82: 200 | K82: inventaire
F83: EBSST1-4-250 | G83: EBSST1-4-250 | H83: EAGLE BEAK SST 1-0/0 35 4/6 250 FT | I83: 250 | J83: 250 | K83: inventaire
F84: GP1-4-250 | G84: GP1-4-250 | H84: COBALT8 1"X0.035"X4/6 | I84: 1500 | J84: 1500 | K84: inventaire
F85: GP1-5-250 | G85: GP1-5-250 | H85: COBALT8 1"X0.035"X5/7 | I85: 500 | J85: 500 | K85: inventaire
F86: MG.25-035-6-250 | G86: MG.25-035-6-250 | H86: COIL SCIE 1/4X.035X6 MGLB (250') | I86: 500 | J86: 500 | K86: inventaire
F87: MV.75-10-250 | G87: MV.75-10- 250 | H87: MVGLB 3/4X10/14S | I87: 250 | J87: 250 | K87: inventaire
F88: MV.75-5-250 | G88: MV.75-5-250 | H88: MVGLB 3/4"X.035"X5/7 | I88: 500 | J88: 500 | K88: inventaire
F89: MV.75-6-250 | G89: MV.75-6- 250 | H89: MVGLB 3/4X6/10S | I89: 500 | J89: 500 | K89: inventaire
F90: MV1-6-250 | G90: MV1-6-250 | H90: MVGLB 1"X.035X6/10 MATRIX | I90: 250 | J90: 250 | K90: inventaire
... F101: TCB-CR 460X2.7X60T | G101: TCB-CR 460X2.7X60T | H101: CIRCULAIRE SAW CERMET FOR CMB-150 60 T | I101: 1 | J101: 1 | K101: inventaire
A102: 58 | B102: 08/01/2021 | C102: 08/01/2023 | D102: 63658 | E102: ORD753109 | F102: KC2402LED-ST | G102: KC2402LED-ST | H102: 2400 LUMENS LED WORK LIGHT WITH TRIPOD | I102: 2 | J102: 2 | K102: Jonathan
A103: 61 | B103: 10/12/2020 | C103: 10/12/2022 | D103: 63471 | F103: 600149 | G103: WHE600149 | H103: WHE600149 ROLL PIN | I103: 3 | J103: 2 | K103: 22-02-2021
A104: 63 | B104: 09/02/2021 | C104: 09/02/2023 | D104: 64015 | F104: 930557511-PL | G104: 103323-PL | H104: MOBIL TREAD CUTTING OIL MOBILMET 766 18.9 LITRES | I104: 1 | J104: 1 | K104: #
A105: 76 | B105: 10/02/2021 | C105: 10/02/2023 | D105: 64027 | F105: 331234000-250 | G105: 331234000-200 | H105: LAME CARBURE NEGATIVE 1'' X.035X3/4 DOALL | I105: 250 | J105: 250 | K105: #
A106: 77 | B106: 11/02/2021 | C106: 11/02/2023 | D106: 64051 | E106: 431760 | F106: 3760-3611 | G106: 3760-3611 | H106: SET SCREW 3/4-10X5/8'' | I106: 10 | J106: 10 | K106: 25-02-2021
F107: 5602148 | G107: ISCA-5602148 | H107: O45MT 050505-RM IC 4050 CHAMMILL ISCAR | I107: 20 | J107: 20 | K107: 25-02-2021
A108: 82 | B108: 27/01/2021 | C108: 27/01/2023 | D108: 63861 | E108: CO-0048043 | F108: 82823106 | G108: 823-106 | H108: 1/8x1/4x1/4x2 1FL Downcut O-Flute Xtreme Crescent End Router | I108: 15 | J108: 14 | K108: 03-03-2021
A109: 82 | B109: 04/02/2021 | C109: 04/02/2023 | D109: 63965 | E109: CO-0048391 | F109: 821032117 | G109: 103-2117 | H109: END ROUTER 5X16X8X60 1FL DOWNCUT | I109: 10 | J109: 10 | K109: 12-03-2021
F110: 828230324 | G110: 823-032-4 | H110: 3/8x1-1/8x3/8x3 1FL Upcut O-Flute Xtreme Crescent End Router | I110: 10 | J110: 10 | K110: 12-03-2021
...

Sheet Feuil2
A1: Prod. four. | C1: Date | D1: Expire | E1: Achat | F1: Référence | G1: Produit | H1: Prod. four. | I1: Description | J1: Qté | K1: BO | M1: Back order 19 fevrier 2021
A2: 6876599 | B2: 1 | C2: 27/11/2020 | D2: 27/11/2022 | E2: 63314 | F2: 30294955 | G2: 16876599 | H2: 6876599 | I2: HSK80F BLANK 100MM DIA X 250MM | J2: 6 | K2: 6 | L2: =INDEX(Feuil1!K:K,MATCH(Feuil2!G2,Feuil1!F:F,0)) -> 15-03-2021
A3: 5545402 | G3: 15545402 | H3: 5545402 | I3: EP1808S KCPM40 MILL 1-18 INSERTS RADIUS 0.8R SGD | J3: 40 | K3: 40 | L3: =INDEX(Feuil1!K:K,MATCH(Feuil2!G3,Feuil1!F:F,0)) -> 01-03-2021
A4: 1233501 | B4: 1 | C4: 20/01/2021 | D4: 20/01/2023 | E4: 63782 | F4: 30440469 | G4: 11233501 | H4: 1233501 | I4: MA89R6 S104 TNMA-438 MOD CARBIDE INSERT | J4: 120 | K4: 2 | L4: =INDEX(Feuil1!K:K,MATCH(Feuil2!G4,Feuil1!F:F,0)) -> 04-03-2021
A5: 5545402 | G5: 15545402 | H5: 5545402 | I5: EP1808S KCPM40 MILL 1-18 INSERTS RADIUS 0.8R SGD | J5: 40 | K5: 40 | L5: =INDEX(Feuil1!K:K,MATCH(Feuil2!G5,Feuil1!F:F,0)) -> 01-03-2021
A6: 4048318 | B6: 1 | C6: 20/01/2021 | D6: 20/01/2023 | E6: 63784 | F6: 30443930 | G6: 14048318 | H6: 4048318 | I6: RPG32E KYHS10 KENDEX POSITVE CERAMIC INSERT CVW1 | J6: 100 | K6: 100 | L6: =INDEX(Feuil1!K:K,MATCH(Feuil2!G6,Feuil1!F:F,0)) -> 08-03-2021
A7: 2651021 | B7: 1 | C7: 22/01/2021 | D7: 22/01/2023 | E7: 63823 | F7: 30450126 | G7: 12651021 | H7: 2651021 | I7: B343S08700HPG KC7315 BF-DRILL TIALN COATED DIAMETER=8.7MM | J7: 1 | K7: 1 | L7: =INDEX(Feuil1!K:K,MATCH(Feuil2!G7,Feuil1!F:F,0)) -> 25-03-2021
A8: 3386262 | B8: 1 | C8: 26/01/2021 | D8: 26/01/2023 | E8: 63850 | F8: 30459711 | G8: 13386262 | H8: 3386262 | I8: KRR658671 KC5125RR Railroad Turning Insert | J8: 50 | K8: 43 | L8: =INDEX(Feuil1!K:K,MATCH(Feuil2!G8,Feuil1!F:F,0)) -> 02-03-2021
A9: 6359035 | B9: 1 | C9: 29/01/2021 | D9: 29/01/2023 | E9: 63899 | F9: 30473354 | G9: 16359035 | H9: 6359035 | I9: B951A10000 KCH15 SC DRILL KMH 10mm/.3937/ 3xD COOLANT | J9: 1 | K9: 1 | L9: =INDEX(Feuil1!K:K,MATCH(Feuil2!G9,Feuil1!F:F,0)) -> 05-03-2021
A10: 3051249 | B10: 1 | C10: 29/01/2021 | D10: 29/01/2023 | E10: 63908 | F10: 30473598 | G10: 13051249 | H10: 3051249 | I10: EP1431EHD KCPK30 MILL 1-14 INSERT R=3 1 MM | J10: 50 | K10: 20 | L10: =INDEX(Feuil1!K:K,MATCH(Feuil2!G10,Feuil1!F:F,0)) -> 11-03-2021
A11: 3658901 | G11: 13658901 | H11: 3658901 | I11: AADF0375J2C K600 END MILL HPF45A3/8 X 1 1/2 X 4 | J11: 5 | K11: 5 | L11: 19-03-2021
A12: 5620158 | G12: 15620158 | H12: 5620158 | I12: LNPU763PNSRHD2 KCPM40 MEGA INSERT LNPU-HD2 R=1.2 | J12: 20 | K12: 20 | L12: =INDEX(Feuil1!K:K,MATCH(Feuil2!G12,Feuil1!F:F,0)) -> 03-03-2021
A13: 6892741 | B13: 1 | C13: 03/02/2021 | D13: 03/02/2023 | E13: 63955 | F13: 30488632 | G13: 16892741 | H13: 6892741 | I13: 6892741 KSEM DRILL BODY A 0.625 + CHANFREIN | J13: 5 | K13: 5 | L13: =INDEX(Feuil1!K:K,MATCH(Feuil2!G13,Feuil1!F:F,0)) -> 17-03-2021
A14: 2980526 | B14: 1 | C14: 05/02/2021 | D14: 05/02/2023 | E14: 63988 | F14: 30498223 | G14: 12980526 | H14: 2980526 | I14: EP1412SGD KCPK30 MILL 1-14 INSERT R=1 2 MM | J14: 45 | K14: 45 | L14: =INDEX(Feuil1!K:K,MATCH(Feuil2!G14,Feuil1!F:F,0)) -> 18-03-2021
A15: 3749338 | B15: 1 | C15: 08/02/2021 | D15: 08/02/2023 | E15: 64002 | F15: 30503216 | G15: 13749338 | H15: 3749338 | I15: DNMG431CT KCP10 ANSI/ISO Turning Insert DN.. | J15: 10 | K15: 10 | L15: =INDEX(Feuil1!K:K,MATCH(Feuil2!G15,Feuil1!F:F,0)) -> 15-03-2021
A16: 6391608 | B16: 1 | C16: 09/02/2021 | D16: 09/02/2023 | E16: 64008 | F16: 30507733 | G16: 16391608 | H16: 6391608 | I16: TACU036KM40DR60945570 DRIVEN TOOL RADIAL MMC036 X KM40 X 72 | J16: 1 | K16: 1 | L16: =INDEX(Feuil1!K:K,MATCH(Feuil2!G16,Feuil1!F:F,0)) -> 26-02-2021
A17: 1592469 | B17: 1 | C17: 09/02/2021 | D17: 09/02/2023 | E17: 64024 | F17: 30507961 | G17: 11592469 | H17: 1592469 | I17: KSEM281R5WN32M DRILL BODY, 5XD, DIAMETER=28.01MM | J17: 3 | K17: 3 | L17: =INDEX(Feuil1!K:K,MATCH(Feuil2!G17,Feuil1!F:F,0)) -> 04-03-2021
A18: 3763727 | B18: 1 | C18: 09/02/2021 | D18: 09/02/2023 | E18: 64025 | F18: 30508047 | G18: 13763727 | H18: 3763727 | I18: HNPJ535ANSNGD KC725M DODEKA INSERT HNPJ-SNGD R=1.2 W | J18: 50 | K18: 50 | L18: =INDEX(Feuil1!K:K,MATCH(Feuil2!G18,Feuil1!F:F,0)) -> 04-03-2021
A19: 1913577 | B19: 1 | C19: 12/02/2021 | D19: 12/02/2023 | E19: 64077 | F19: 30521593 | G19: 11913577 | H19: 1913577 | I19: B977A06800 KC7315 SC DRILL KU 6,8mm/.2677/ 5xD COOLANT | J19: 3 | K19: 1 | L19: 09-03-2021
A20: 1918683 | G20: 11918683 | H20: 1918683 | I20: KDMB25R190A25SN KENNA BALL NOSE ENDMILL 2519025 HIGH PR | J20: 1 | K20: 1 | L20: 09-03-2021
A21: 3386262 | B21: 1 | C21: 12/02/2021 | D21: 12/02/2023 | E21: 64078 | F21: 30521619 | G21: 13386262 | H21: 3386262 | I21: KRR658671 KC5125RR Railroad Turning Insert | J21: 50 | K21: 50 | L21: =INDEX(Feuil1!K:K,MATCH(Feuil2!G21,Feuil1!F:F,0)) -> 02-03-2021
A22: 2509326 | B22: 1 | C22: 15/02/2021 | D22: 15/02/2023 | E22: 64089 | F22: 30525937 | G22: 12509326 | H22: 2509326 | I22: EP1808S KC725M 18MM MILL 1 INSERT 0.8MM RAD TLAND + HON | J22: 40 | K22: 40 | L22: 15-03-2021
A23: 3881461 | G23: 13881461 | H23: 3881461 | I23: HPHV250S4050 KC633M END MILL CARBIDE HPHV 1/4X1/4X1/2X2 1/2 | J23: 3 | K23: 3 | L23: 10-03-2021
A24: 6353749 | B24: 1 | C24: 18/02/2021 | D24: 18/02/2023 | E24: 64149 | F24: 30539303 | G24: 16353749 | H24: 6353749 | I24: TNMG544RP KCU10 KENLOC RP ROUGHING POSITIVE INSERT | J24: 60 | K24: 60 | L24: 02-03-2021
A25: 1095795 | B25: 1 | C25: 18/02/2021 | D25: 18/02/2023 | E25: 64151 | F25: 30539340 | G25: 11095795 | H25: 1095795 | I25: A16TMWLNR4 M Clamping Boring Bar D1.00 L12.00 | J25: 1 | K25: 1 | L25: 24-03-2021
A26: 1191157 | G26: 11191157 | H26: 1191157 | I26: A2BNSN26J03 A2 Cut-Off Blade | J26: 1 | K26: 1 | L26: 24-03-2021
A27: 1245573 | G27: 11245573 | H27: 1245573 | I27: A2BNSN32M03 A2 Cut-Off Blade | J27: 2 | K27: 2 | L27: 24-03-2021
A28: 1775037 | G28: 11775037 | H28: 1775037 | I28: NG3062RK KC5025 Top Notch Grooving Insert | J28: 5 | K28: 5 | L28: 24-03-2021
A29: 1818119 | G29: 11818119 | H29: 1818119 | I29: NGD3125LK KC5025 Top Notch Grooving Insert | J29: 10 | K29: 10 | L29: 24-03-2021
A30: 1875138 | G30: 11875138 | H30: 1875138 | I30: DWLNR164DKC3 D Clamping Holder W1.00 L6.00 | J30: 1 | K30: 1 | L30: 24-03-2021
A31: 4109665 | G31: 14109665 | H31: 4109665 | I31: NG2041L KCU25 Top Notch Grooving Insert | J31: 5 | K31: 5 | L31: 24-03-2021
A32: 4109673 | G32: 14109673 | H32: 4109673 | I32: NG2062L KCU25 Top Notch Grooving Insert | J32: 5 | K32: 5 | L32: 24-03-2021
A33: 4150695 | G33: 14150695 | H33: 4150695 | I33: B042A06746CPG KC7325 SC DRILL 6.746mm/.2656/ 5xD | J33: 2 | K33: 2 | L33: 24-03-2021
A34: 6389422 | G34: 16389422 | H34: 6389422 | I34: KTFS0315R05SS038 KTFS DRILLBODY ANSI SS 5xD .315IN F | J34: 2 | K34: 2 | L34: 24-03-2021
A35: C62063BO | B35: 2 | C35: 12/02/2021 | D35: 12/02/2023 | E35: 64063 | G35: 003C62063BO | H35: C62063BO | I35: 1/2-13NC H3 4FL GP Bottom Hand Tap W/ Steam Oxide | J35: 2 | K35: 2 | L35: 01-03-2021
A36: C80050WF | B36: 3 | C36: 28/01/2021 | D36: 28/01/2023 | E36: 63874 | F36: SO-00134768 | G36: 003C80050WF | H36: C80050WF | I36: 1/2x1/2x1-1/4x3 4 Flt VI 0.030CR WF | J36: 6 | K36: 1 | L36: =INDEX(Feuil1!K:K,MATCH(Feuil2!G36,Feuil1!F:F,0)) -> 18-02-2021
A37: C15053 | B37: 3 | C37: 29/01/2021 | D37: 29/01/2023 | E37: 63894 | F37: SO-00134831 | G37: 003C15053 | H37: C15053 | I37: 7/64 2175TA QCOBALT SCRMA | J37: 10 | K37: 10 | L37: =INDEX(Feuil1!K:K,MATCH(Feuil2!G37,Feuil1!F:F,0)) -> 10-02-2021
A38: C20535 | B38: 3 | C38: 03/02/2021 | D38: 03/02/2023 | E38: 63945 | F38: SO-00134954 | G38: 003C20535 | H38: C20535 | I38: 1894 35/64 TAPER SHK #2TS | J38: 4 | K38: 2 | L38: =INDEX(Feuil1!K:K,MATCH(Feuil2!G38,Feuil1!F:F,0)) -> 19-02-2021
A39: C20730 | G39: 003C20730 | H39: C20730 | I39: 1813 1-1/32 S&D 1/2" SHK | J39: 1 | K39: 1 | L39: =INDEX(Feuil1!K:K,MATCH(Feuil2!G39,Feuil1!F:F,0)) -> 19-02-2021
A40: C55313 | B40: 3 | C40: 09/02/2021 | D40: 09/02/2023 | E40: 64005 | F40: SO-00135188 | G40: 003C55313 | H40: C55313 | I40: #12-28 1011TN H3 2F SPR PT PLG TAP-TIN | J40: 3 | K40: 3 | L40: =INDEX(Feuil1!K:K,MATCH(Feuil2!G40,Feuil1!F:F,0)) -> 17-02-2021
A41: C32637 | B41: 3 | C41: 10/02/2021 | D41: 10/02/2023 | E41: 64028 | F41: SO-00135248 | G41: 003C32637 | H41: C32637 | I41: 3/4 556 3/4S 4F TiCN | J41: 2 | K41: 2 | L41: =INDEX(Feuil1!K:K,MATCH(Feuil2!G41,Feuil1!F:F,0)) -> 24-02-2021
A42: B71522 | B42: 3 | C42: 11/02/2021 | D42: 11/02/2023 | E42: 64045 | F42: SO-00135319 | G42: 003B71522 | H42: B71522 | I42: 3/4-10UNCTMC5FLCFTHRMILLF/INT-TiAlN | J42: 8 | K42: 5 | L42: =INDEX(Feuil1!K:K,MATCH(Feuil2!G42,Feuil1!F:F,0)) -> 24-02-2021
A43: C80050WF | G43: 003C80050WF | H43: C80050WF | I43: 1/2x1/2x1-1/4x3 4 Flt VI 0.030CR WF | J43: 3 | K43: 3 | L43: =INDEX(Feuil1!K:K,MATCH(Feuil2!G43,Feuil1!F:F,0)) -> 18-02-2021
A44: C25086 | B44: 3 | C44: 15/02/2021 | D44: 15/02/2023 | E44: 64079 | F44: SO-00135400 | G44: 003C25086 | H44: C25086 | I44: 1887 55MM HOLE SAW M3 | J44: 2 | K44: 2 | L44: 01-03-2021
A45: C33341 | G45: 003C33341 | H45: C33341 | I45: 1" 589 1"S TiCN | J45: 2 | K45: 2 | L45: 24-02-2021
A46: C23468 | B46: 3 | C46: 16/02/2021 | D46: 16/02/2023 | E46: 64096 | F46: SO-00135448 | G46: 003C23468 | H46: C23468 | I46: 1896 3/16 HD SCR MACH BLKOX | J46: 36 | K46: 12 | L46: 01-03-2021
A47: 146-976 | B47: 6 | C47: 04/02/2021 | D47: 04/02/2023 | E47: 63966 | F47: 225484 | G47: 6146976 | H47: 146-976 | I47: VHX0512B SCREW | J47: 5 | K47: 1 | L47: =INDEX(Feuil1!K:K,MATCH(Feuil2!G47,Feuil1!F:F,0)) -> 27-02-2021
A48: 145-689 | B48: 6 | C48: 05/02/2021 | D48: 05/02/2023 | E48: 63986 | F48: 225758 | G48: 6145689 | H48: 145-689 | I48: ICSN-442 SHIM | J48: 10 | K48: 5 | L48: =INDEX(Feuil1!K:K,MATCH(Feuil2!G48,Feuil1!F:F,0)) -> 18-03-2021
A49: 337-537 | B49: 6 | C49: 18/02/2021 | D49: 18/02/2023 | E49: 64146 | F49: 228001 | G49: 6337537 | H49: 337-537 | I49: ER16 1/4" (.2500") COLLET | J49: 6 | K49: 6 | L49: 10-03-2021
A50: 603678 | B50: 7 | C50: 14/01/2021 | D50: 14/01/2023 | E50: 63726 | F50: 10110608 | G50: 7603678 | H50: 603678 | I50: DOUBLE ANGLE CUTTER 2-3/4 X1/2X 1 60DEG | J50: 3 | K50: 2 | L50: =INDEX(Feuil1!K:K,MATCH(Feuil2!G50,Feuil1!F:F,0)) -> 23-04-2021
A51: 612120 | B51: 7 | C51: 28/01/2021 | D51: 28/01/2023 | E51: 63880 | F51: 10112092 | G51: 7612120 | H51: 612120 | I51: L421 25/32 S/S CORE DRL 3 FL | J51: 4 | K51: 4 | L51: =INDEX(Feuil1!K:K,MATCH(Feuil2!G51,Feuil1!F:F,0)) -> 12-02-2021
A52: 516240 | B52: 7 | C52: 09/02/2021 | D52: 09/02/2023 | E52: 64020 | F52: 10113372 | G52: 7516240 | H52: 516240 | I52: 7/8 SQ X 6 INCH M42 TOOLBIT | J52: 1 | K52: 1 | L52: =INDEX(Feuil1!K:K,MATCH(Feuil2!G52,Feuil1!F:F,0)) -> #N/A
A53: 816564 | B53: 7 | C53: 10/02/2021 | D53: 10/02/2023 | E53: 64036 | F53: 10113582 & 10113583 | G53: 7816564 | H53: 816564 | I53: OUTSIDE MICROMETER 0-1IN RES 0.0001IN | J53: 1 | K53: 1 | L53: =INDEX(Feuil1!K:K,MATCH(Feuil2!G53,Feuil1!F:F,0)) -> #N/A
A54: 318023 | B54: 7 | C54: 12/02/2021 | D54: 12/02/2023 | E54: 64071 | F54: 10113917 | G54: 7318023 | H54: 318023 | I54: 1 1/2 DIA DIE STOCKS | J54: 1 | K54: 1 | L54: =INDEX(Feuil1!K:K,MATCH(Feuil2!G54,Feuil1!F:F,0)) -> #N/A
A55: 550722 | G55: 7550722 | H55: 550722 | I55: SET CERAMIX Q10 SHAVIV | J55: 1 | K55: 1 | L55: =INDEX(Feuil1!K:K,MATCH(Feuil2!G55,Feuil1!F:F,0)) -> #N/A
A56: 208132 | B56: 7 | C56: 17/02/2021 | D56: 17/02/2023 | E56: 64124 | F56: 10114263 | G56: 13-950748 | H56: 208132 | I56: RUPE ASSY 187-902 | J56: 2 | K56: 1 | L56: =INDEX(Feuil1!K:K,MATCH(Feuil2!G56,Feuil1!F:F,0)) -> #N/A
A57: 313602 | B57: 7 | C57: 18/02/2021 | D57: 18/02/2023 | E57: 64145 | F57: 10114424 & 10114426 | G57: 7313602 | H57: 313602 | I57: 1/4 X 1 1/4LOC X 5 DEG TAP E/M | J57: 2 | K57: 2 | L57: =INDEX(Feuil1!K:K,MATCH(Feuil2!G57,Feuil1!F:F,0)) -> #N/A
A58: 540616 | G58: 7540616 | H58: 540616 | I58: SERIES 115 #6 - 60DEG COMB. DRILL & C'SINK | J58: 50 | K58: 33 | L58: =INDEX(Feuil1!K:K,MATCH(Feuil2!G58,Feuil1!F:F,0)) -> #N/A
A59: 603609 | G59: 7603609 | H59: 603609 | I59: 1211 WOODRUFF STAG/TOOTH | J59: 2 | K59: 2 | L59: =INDEX(Feuil1!K:K,MATCH(Feuil2!G59,Feuil1!F:F,0)) -> #N/A
A60: 816012 | G60: 7816012 | H60: 816012 | I60: ELECTRONIC CALIPER ALLOY CASE 0-150MM/0-6IN RES 0.01MM/0.000 | J60: 1 | K60: 1 | L60: =INDEX(Feuil1!K:K,MATCH(Feuil2!G60,Feuil1!F:F,0)) -> #N/A
A61: 816252 | G61: 7816252 | H61: 816252 | I61: MAGNETIC STAND W/FINE ADJUST 60KGF | J61: 4 | K61: 1 | L61: =INDEX(Feuil1!K:K,MATCH(Feuil2!G61,Feuil1!F:F,0)) -> #N/A
A62: 816500 | G62: 7816500 | H62: 816500 | I62: ELECTRONIC MICROMETER 2-BUTTON 0-25MM/0-1IN RES 0.001MM/0.00 | J62: 1 | K62: 1 | L62: =INDEX(Feuil1!K:K,MATCH(Feuil2!G62,Feuil1!F:F,0)) -> #N/A
A63: 266526 | B63: 7 | C63: 19/02/2021 | D63: 19/02/2023 | E63: 64152 | G63: 7266526 | H63: 266526 | I63: MODEL #204 CROSS-SLIDE TABLE (430-XY) | J63: 2 | K63: 2 | L63: =INDEX(Feuil1!K:K,MATCH(Feuil2!G63,Feuil1!F:F,0)) -> #N/A
A64: 4M-1-3/4 | B64: 10 | C64: 05/02/2021 | D64: 05/02/2023 | E64: 63973 | F64: S21-020802 | G64: 4M-1-3/4 | H64: 4M-1-3/4 | I64: UNIT COMPLETE (ROUND HOLES) PUNCH 3/8 ALU 1/16 THICK ALU | J64: 1 | K64: 1 | L64: =INDEX(Feuil1!K:K,MATCH(Feuil2!G64,Feuil1!F:F,0)) -> 17-02-2021
A65: 100TCT05264 | B65: 15 | C65: 23/10/2020 | D65: 23/10/2022 | E65: 62918 | G65: 015100TCT05264 | H65: 100TCT05264 | I65: TCT Plus Univ.13/16" x 1-9/16" | J65: 125 | K65: 50 | L65: =INDEX(Feuil1!K:K,MATCH(Feuil2!G65,Feuil1!F:F,0)) -> relache
A66: PPT16T3 | B66: 15 | C66: 02/02/2021 | D66: 02/02/2023 | E66: 63932 | F66: 167242 | G66: 015PPT16J3 | H66: PPT16T3 | I66: PORTA KEYLESS CHUCK JT3 1-64-5/8 | J66: 1 | K66: 1 | L66: =INDEX(Feuil1!K:K,MATCH(Feuil2!G66,Feuil1!F:F,0)) -> 18-02-2021
A67: 20.1785.040 | B67: 15 | C67: 04/02/2021 | D67: 04/02/2023 | E67: 63962 | F67: 167315 | G67: 15201785040 | H67: 20.1785.040 | I67: Fraise ébavurage 82° Type C HSS-XE+BlueTec 1/2" | J67: 3 | K67: 2 | L67: =INDEX(Feuil1!K:K,MATCH(Feuil2!G67,Feuil1!F:F,0)) -> 18-02-2021
A68: 34141 | B68: 16 | C68: 14/12/2020 | D68: 14/12/2022 | E68: 63502 | F68: 5532346 | G68: 1634141 | H68: 34141 | I68: 2070X 8-32 S/P PLUG H3 2FL BLK | J68: 3 | K68: 3 | L68: =INDEX(Feuil1!K:K,MATCH(Feuil2!G68,Feuil1!F:F,0)) -> # RLG000327353
A69: 34141 | B69: 16 | C69: 21/01/2021 | D69: 21/01/2023 | E69: 63795 | F69: 5641341 | G69: 1634141 | H69: 34141 | I69: 2070X 8-32 S/P PLUG H3 2FL BLK | J69: 5 | K69: 5 | L69: =INDEX(Feuil1!K:K,MATCH(Feuil2!G69,Feuil1!F:F,0)) -> # RLG000327353
A70: 56166 | G70: 1656166 | H70: 56166 | I70: 5753 1/2 60' 3FL CTSK SC | J70: 1 | K70: 1 | L70: =INDEX(Feuil1!K:K,MATCH(Feuil2!G70,Feuil1!F:F,0)) -> 21-02-2021
A71: 22732 | B71: 16 | C71: 05/02/2021 | D71: 05/02/2023 | E71: 63980 | F71: 5690460 | G71: 1622732 | H71: 22732 | I71: 1701 1-1/8 BRIDGE RMR LHS 3MTS | J71: 2 | K71: 2 | L71: 24-03-2021
A72: RE41900 | B72: 18 | C72: 05/01/2021 | D72: 05/01/2023 | E72: 63621 | F72: 599716.00 | G72: 018RE41900 | H72: RE41900 | I72: 40MM HSS STRAIGHT SHANK SPIRAL FLUTE HAND REAMER | J72: 1 | K72: 1 | L72: =INDEX(Feuil1!K:K,MATCH(Feuil2!G72,Feuil1!F:F,0)) -> 16-02-2021
A73: AL 5000-1 | B73: 22 | C73: 26/01/2021 | D73: 26/01/2023 | E73: 63844 | G73: AL 5000-1 | H73: AL 5000-1 | I73: AF FLUIDS AL 5000 GALLONS | J73: 16 | K73: 16 | L73: DANY
A74: ST269 | B74: 26 | C74: 04/02/2021 | D74: 04/02/2023 | E74: 63961 | F74: 90681 & 90682 | G74: TAP 1-1/4-12 RH | H74: ST269 | I74: TAP 1-1/4-12 SPIRAL POINT 8"L RIGHT HAND BLUE FINISH | J74: 2 | K74: 2 | L74: =INDEX(Feuil1!K:K,MATCH(Feuil2!G74,Feuil1!F:F,0)) -> 10-03-2021
A75: ST2393 | B75: 26 | C75: 18/02/2021 | D75: 18/02/2023 | E75: 64134 | F75: 90897 & 90898 | G75: ST2393 | H75: ST2393 | I75: TR28 x 5.0 HSS Tandem Trapezoidal Tap | J75: 1 | K75: 1 | L75: fabrication spéciale
A76: TAP ACME 3/4-16 | G76: TAP ACME 3/4-16 | H76: TAP ACME 3/4-16 | I76: TAP 3/4-16 ACME | J76: 1 | K76: 1 | L76: fabrication spéciale
A77: 13-539-865 | B77: 34 | C77: 15/10/2020 | D77: 15/10/2022 | E77: 62828 | F77: 169711 & 169766 | G77: 13-539-865 | H77: 13-539-865 | I77: 539-811 AT715 RÈGLE 112' MITUTOYO | J77: 1 | K77: 1 | L77: =INDEX(Feuil1!K:K,MATCH(Feuil2!G77,Feuil1!F:F,0)) -> 28-01-2021
A78: 13-137-220 | B78: 34 | C78: 20/01/2021 | D78: 20/01/2023 | E78: 63775 | F78: 170851 | G78: 13-137-220 | H78: 13-137-220 | I78: Micrometer, Tubular Inside, Mech Ext Rod, 2-poinT 2-60 MITUT | J78: 1 | K78: 1 | L78: =INDEX(Feuil1!K:K,MATCH(Feuil2!G78,Feuil1!F:F,0)) -> 01-05-2021
A79: 207208 | B79: 40 | C79: 30/11/2020 | D79: 30/11/2022 | E79: 63335 | G79: 40207208 | H79: 207208 | I79: SMT 940 abrasive mop discs thread 5/8" 4-1/2 x 5/8 Inch gr 250 50_x000D_ 040207208 207208 SMT 940 abrasive mop discs thread 5/8"" 4-1/2 x 5/8 Inch gr | J79: 250 | K79: 250 | L79: =INDEX(Feuil1!K:K,MATCH(Feuil2!G79,Feuil1!F:F,0)) -> sur relache de 250
A80: 207209 | G80: 40207209 | H80: 207209 | I80: SMT 940 abrasive mop discs thread 5/8" 4-1/2 x 5/8 Inch gr 250 250_x000D_ 040207208 207208 SMT 940 abrasive mop discs thread 5/8"" 4-1/2 x 5/8 Inch gr | J80: 250 | K80: 250 | L80: =INDEX(Feuil1!K:K,MATCH(Feuil2!G80,Feuil1!F:F,0)) -> sur relache de 250
A81: 207209 | G81: 40207209 | H81: 207209 | I81: SMT 940 abrasive mop discs thread 5/8" 4-1/2 x 5/8 Inch gr 250 250_x000D_ 040207208 207208 SMT 940 abrasive mop discs thread 5/8"" 4-1/2 x 5/8 Inch gr | J81: 250 | K81: 250 | L81: =INDEX(Feuil1!K:K,MATCH(Feuil2!G81,Feuil1!F:F,0)) -> sur relache de 250
A82: PR3/4-4-250 | B82: 50 | C82: 29/12/2020 | D82: 29/12/2022 | E82: 63606 | G82: PR3/4-4-250 | H82: PR3/4-4-250 | I82: PROTECTOR 3/4"X.035"X4/6 FEET | J82: 250 | K82: 250 | L82: =INDEX(Feuil1!K:K,MATCH(Feuil2!G82,Feuil1!F:F,0)) -> inventaire
A83: CBK1-3-250 | B83: 50 | C83: 01/02/2021 | D83: 01/02/2023 | E83: 63916 | F83: ORD00073730 | G83: CBK1-3-250 | H83: CBK1-3-250 | I83: CHIPBREAKER 1"X.035"X3/4 | J83: 250 | K83: 250 | L83: =INDEX(Feuil1!K:K,MATCH(Feuil2!G83,Feuil1!F:F,0)) -> inventaire
A84: SV1-3-250 | G84: SV1-3-250 | H84: SV1-3-250 | I84: SVGLB 1"X.035"X3/4 M42 | J84: 500 | K84: 500 | L84: =INDEX(Feuil1!K:K,MATCH(Feuil2!G84,Feuil1!F:F,0)) -> inventaire
A85: SV1-5-250 | G85: SV1-5-250 | H85: SV1-5-250 | I85: SVGLB 1"X.035"X5/7 M42 | J85: 500 | K85: 500 | L85: =INDEX(Feuil1!K:K,MATCH(Feuil2!G85,Feuil1!F:F,0)) -> inventaire
A86: KC2402LED-ST | B86: 58 | C86: 08/01/2021 | D86: 08/01/2023 | E86: 63658 | F86: ORD753109 | G86: KC2402LED-ST | H86: KC2402LED-ST | I86: 2400 LUMENS LED WORK LIGHT WITH TRIPOD | J86: 2 | K86: 2 | L86: =INDEX(Feuil1!K:K,MATCH(Feuil2!G86,Feuil1!F:F,0)) -> Jonathan
A87: WHE600149 | B87: 61 | C87: 10/12/2020 | D87: 10/12/2022 | E87: 63471 | G87: 600149 | H87: WHE600149 | I87: WHE600149 ROLL PIN | J87: 3 | K87: 2 | L87: 10-03-2021 | M87: relancer avant
A88: 103323-PL | B88: 63 | C88: 09/02/2021 | D88: 09/02/2023 | E88: 64015 | G88: 930557511-PL | H88: 103323-PL | I88: MOBIL TREAD CUTTING OIL MOBILMET 766 18.9 LITRES | J88: 1 | K88: 1 | L88: 05-03-2021
A89: MAC-A | B89: 67 | C89: 16/02/2021 | D89: 16/02/2023 | E89: 64097 | G89: AIGUIS KARNASCH CAR | H89: MAC-A | I89: AIGUISAGE DE DENT KARN. CAR. | J89: 24 | K89: 24 | L89: =INDEX(Feuil1!K:K,MATCH(Feuil2!G89,Feuil1!F:F,0)) -> michel
A90: 3760-3611 | B90: 77 | C90: 11/02/2021 | D90: 11/02/2023 | E90: 64051 | F90: 431760 | G90: 3760-3611 | H90: 3760-3611 | I90: SET SCREW 3/4-10X5/8'' | J90: 10 | K90: 10 | L90: =INDEX(Feuil1!K:K,MATCH(Feuil2!G90,Feuil1!F:F,0)) -> 25-02-2021
A91: ISCA-5602148 | G91: 5602148 | H91: ISCA-5602148 | I91: O45MT 050505-RM IC 4050 CHAMMILL ISCAR | J91: 20 | K91: 20 | L91: =INDEX(Feuil1!K:K,MATCH(Feuil2!G91,Feuil1!F:F,0)) -> 25-02-2021
A92: ISCA-6003049 | B92: 77 | C92: 17/02/2021 | D92: 17/02/2023 | E92: 64122 | F92: 432250 | G92: 6003049 | H92: ISCA-6003049 | I92: DGR 2202J-6D IC1028 | J92: 20 | K92: 20 | L92: =INDEX(Feuil1!K:K,MATCH(Feuil2!G92,Feuil1!F:F,0)) -> #N/A
A93: ISCA-6003672 | G93: 6003672 | H93: ISCA-6003672 | I93: DGR 2202J-6D IC830 DOGRIP ISCAR | J93: 20 | K93: 20 | L93: =INDEX(Feuil1!K:K,MATCH(Feuil2!G93,Feuil1!F:F,0)) -> #N/A
A94: 823-106 | B94: 82 | C94: 27/01/2021 | D94: 27/01/2023 | E94: 63861 | F94: CO-0048043 | G94: 82823106 | H94: 823-106 | I94: 1/8x1/4x1/4x2 1FL Downcut O-Flute Xtreme Crescent End Router | J94: 15 | K94: 14 | L94: =INDEX(Feuil1!K:K,MATCH(Feuil2!G94,Feuil1!F:F,0)) -> 03-03-2021
A95: 103-2117 | B95: 82 | C95: 04/02/2021 | D95: 04/02/2023 | E95: 63965 | F95: CO-0048391 | G95: 821032117 | H95: 103-2117 | I95: END ROUTER 5X16X8X60 1FL DOWNCUT | J95: 10 | K95: 10 | L95: =INDEX(Feuil1!K:K,MATCH(Feuil2!G95,Feuil1!F:F,0)) -> 12-03-2021
A96: 823-032-4 | G96: 828230324 | H96: 823-032-4 | I96: 3/8x1-1/8x3/8x3 1FL Upcut O-Flute Xtreme Crescent End Router | J96: 10 | K96: 10 | L96: =INDEX(Feuil1!K:K,MATCH(Feuil2!G96,Feuil1!F:F,0)) -> 12-03-2021
A97: 823-118 | B97: 82 | C97: 05/02/2021 | D97: 05/02/2023 | E97: 63979 | F97: CO-0048437 | G97: 82823118 | H97: 823-118 | I97: 3/16x3/8x1/4x2 1FL Downcut O-Flute Xtreme Crescent End Route | J97: 5 | K97: 2 | L97: 28-02-2021
A98: 823-002 | B98: 82 | C98: 12/02/2021 | D98: 12/02/2023 | E98: 64070 | F98: CO-0048733 | G98: 82823002 | H98: 823-002 | I98: 1/16X1/4X1/8X2 1FL Xtrme Upcut | J98: 6 | K98: 6 | L98: 26-02-2021
A99: 823-032 | G99: 82823032 | H99: 823-032 | I99: 3/8x1-1/8x3/8x3 1FL Upcut O-Flute Xtreme Crescent End Router | J99: 12 | K99: 3 | L99: 05-03-2021
A100: 823-132 | G100: 82823132 | H100: 823-132 | I100: 3/8x1-1/8x3/8x3 1FL Downcut O-Flute Xtreme Crescent End Rout | J100: 6 | K100: 3 | L100: 05-03-2021
...

Sheet Feuil3
A1: Prod. four. | B1: Fournisseur | C1: Date | D1: Expire | E1: Achat | F1: Référence | G1: Produit | H1: Prod. four. | I1: Description | J1: Qté | K1: BO
A2: 6876599 | B2: 1 | C2: 27/11/2020 | D2: 27/11/2022 | E2: 63314 | F2: 30294955 | G2: 16876599 | H2: 6876599 | I2: HSK80F BLANK 100MM DIA X 250MM | J2: 6 | K2: 6
A3: 5545402 | B3: 1 | C3: 18/01/2021 | D3: 18/01/2023 | E3: 63759 | F3: 30431030 | G3: 15545402 | H3: 5545402 | I3: EP1808S KCPM40 MILL 1-18 INSERTS RADIUS 0.8R SGD | J3: 40 | K3: 40
A4: 5545402 | B4: 1 | C4: 20/01/2021 | D4: 20/01/2023 | E4: 63782 | F4: 30440469 | G4: 15545402 | H4: 5545402 | I4: EP1808S KCPM40 MILL 1-18 INSERTS RADIUS 0.8R SGD | J4: 40 | K4: 40
A5: 4048318 | B5: 1 | C5: 20/01/2021 | D5: 20/01/2023 | E5: 63784 | F5: 30443930 | G5: 14048318 | H5: 4048318 | I5: RPG32E KYHS10 KENDEX POSITVE CERAMIC INSERT CVW1 | J5: 100 | K5: 100
A6: 2651021 | B6: 1 | C6: 22/01/2021 | D6: 22/01/2023 | E6: 63823 | F6: 30450126 | G6: 12651021 | H6: 2651021 | I6: B343S08700HPG KC7315 BF-DRILL TIALN COATED DIAMETER=8.7MM | J6: 1 | K6: 1
A7: 3386262 | B7: 1 | C7: 26/01/2021 | D7: 26/01/2023 | E7: 63850 | F7: 30459711 | G7: 13386262 | H7: 3386262 | I7: KRR658671 KC5125RR Railroad Turning Insert | J7: 50 | K7: 43
A8: 6359035 | B8: 1 | C8: 29/01/2021 | D8: 29/01/2023 | E8: 63899 | F8: 30473354 | G8: 16359035 | H8: 6359035 | I8: B951A10000 KCH15 SC DRILL KMH 10mm/.3937/ 3xD COOLANT | J8: 1 | K8: 1
A9: 3051249 | B9: 1 | C9: 29/01/2021 | D9: 29/01/2023 | E9: 63908 | F9: 30473598 | G9: 13051249 | H9: 3051249 | I9: EP1431EHD KCPK30 MILL 1-14 INSERT R=3 1 MM | J9: 50 | K9: 20
A10: 3658901 | G10: 13658901 | H10: 3658901 | I10: AADF0375J2C K600 END MILL HPF45A3/8 X 1 1/2 X 4 | J10: 5 | K10: 5
A11: 5620158 | G11: 15620158 | H11: 5620158 | I11: LNPU763PNSRHD2 KCPM40 MEGA INSERT LNPU-HD2 R=1.2 | J11: 20 | K11: 20
A12: 1913583 | B12: 1 | C12: 29/01/2021 | D12: 29/01/2023 | E12: 63909 | F12: 30473678 | G12: 11913583 | H12: 1913583 | I12: B977A08500 KC7315 SC DRILL KU 8,5mm/.3346/ 5xD COOLANT | J12: 2 | K12: 2
A13: 6892741 | B13: 1 | C13: 03/02/2021 | D13: 03/02/2023 | E13: 63955 | F13: 30488632 | G13: 16892741 | H13: 6892741 | I13: 6892741 KSEM DRILL BODY A 0.625 + CHANFREIN | J13: 5 | K13: 5
A14: 6149946 | G14: 16149946 | H14: 6149946 | I14: 6149946 KC7315 S1S INSERT 60589085 | J14: 53 | K14: 53
A15: 2980526 | B15: 1 | C15: 05/02/2021 | D15: 05/02/2023 | E15: 63988 | F15: 30498223 | G15: 12980526 | H15: 2980526 | I15: EP1412SGD KCPK30 MILL 1-14 INSERT R=1 2 MM | J15: 45 | K15: 45
A16: 3749338 | B16: 1 | C16: 08/02/2021 | D16: 08/02/2023 | E16: 64002 | F16: 30503216 | G16: 13749338 | H16: 3749338 | I16: DNMG431CT KCP10 ANSI/ISO Turning Insert DN.. | J16: 10 | K16: 10
A17: 6391608 | B17: 1 | C17: 09/02/2021 | D17: 09/02/2023 | E17: 64008 | F17: 30507733 | G17: 16391608 | H17: 6391608 | I17: TACU036KM40DR60945570 DRIVEN TOOL RADIAL MMC036 X KM40 X 72 | J17: 1 | K17: 1
A18: 1592469 | B18: 1 | C18: 09/02/2021 | D18: 09/02/2023 | E18: 64024 | F18: 30507961 | G18: 11592469 | H18: 1592469 | I18: KSEM281R5WN32M DRILL BODY, 5XD, DIAMETER=28.01MM | J18: 3 | K18: 3
A19: 3763727 | B19: 1 | C19: 09/02/2021 | D19: 09/02/2023 | E19: 64025 | F19: 30508047 | G19: 13763727 | H19: 3763727 | I19: HNPJ535ANSNGD KC725M DODEKA INSERT HNPJ-SNGD R=1.2 W | J19: 50 | K19: 50
A20: 1913577 | B20: 1 | C20: 12/02/2021 | D20: 12/02/2023 | E20: 64077 | F20: 30521593 | G20: 11913577 | H20: 1913577 | I20: B977A06800 KC7315 SC DRILL KU 6,8mm/.2677/ 5xD COOLANT | J20: 3 | K20: 1
A21: 1918683 | G21: 11918683 | H21: 1918683 | I21: KDMB25R190A25SN KENNA BALL NOSE ENDMILL 2519025 HIGH PR | J21: 1 | K21: 1
A22: 3386262 | B22: 1 | C22: 12/02/2021 | D22: 12/02/2023 | E22: 64078 | F22: 30521619 | G22: 13386262 | H22: 3386262 | I22: KRR658671 KC5125RR Railroad Turning Insert | J22: 50 | K22: 50
A23: 2509326 | B23: 1 | C23: 15/02/2021 | D23: 15/02/2023 | E23: 64089 | F23: 30525937 | G23: 12509326 | H23: 2509326 | I23: EP1808S KC725M 18MM MILL 1 INSERT 0.8MM RAD TLAND + HON | J23: 40 | K23: 40
A24: 6353749 | B24: 1 | C24: 18/02/2021 | D24: 18/02/2023 | E24: 64149 | F24: 30539303 | G24: 16353749 | H24: 6353749 | I24: TNMG544RP KCU10 KENLOC RP ROUGHING POSITIVE INSERT | J24: 60 | K24: 60
A25: 1026475 | B25: 1 | C25: 19/02/2021 | D25: 19/02/2023 | E25: 64164 | F25: 30543597 | G25: 11026475 | H25: 1026475 | I25: 40ERTC025 ER40 - 1/4 TAP COLLET (.255 x .191) | J25: 1 | K25: 1
A26: 1026479 | G26: 11026479 | H26: 1026479 | I26: 40ERTC037 ER40 - 3/8 TAP COLLET (.381 x .286) | J26: 1 | K26: 1
A27: 1312947 | B27: 1 | C27: 22/02/2021 | D27: 22/02/2023 | E27: 64179 | F27: 30548678 | G27: 11312947 | H27: 1312947 | I27: HSK100AHSK63100M REDUCER DIN69873-1 A/C HSK100A HSK63 | J27: 2 | K27: 1
A28: 3770159 | G28: 13770159 | H28: 3770159 | I28: DA63-08 SEALING RING HSK63 | J28: 10 | K28: 10
A29: 4073653 | G29: 14073653 | H29: 4073653 | I29: CV50BST16M736 CV SCREW ON ADAPTER | J29: 4 | K29: 4
A30: 1807349 | B30: 1 | C30: 22/02/2021 | D30: 22/02/2023 | E30: 64180 | F30: 30548709 | G30: 11807349 | H30: 1807349 | I30: F3BA2000BWX40C380 K600 END MILL SC ROUGHER B D=20 Z=3 40 | J30: 7 | K30: 5
A31: 3051249 | G31: 13051249 | H31: 3051249 | I31: EP1431EHD KCPK30 MILL 1-14 INSERT R=3 1 MM | J31: 30 | K31: 30
A32: 5550795 | G32: 15550795 | H32: 5550795 | I32: HNPJ535ANSNGD KCPM40 DODEKA INSERT HNPJ-SNGD R=1.2 W | J32: 50 | K32: 50
A33: 5910213 | G33: 15910213 | H33: 5910213 | I33: CPMT2152MF KCP10B ANSI/ISO Turning Insert CP.. | J33: 20 | K33: 14
A34: 1913577 | B34: 1 | C34: 22/02/2021 | D34: 22/02/2023 | E34: 64181 | F34: 30548766 | G34: 11913577 | H34: 1913577 | I34: B977A06800 KC7315 SC DRILL KU 6,8mm/.2677/ 5xD COOLANT | J34: 4 | K34: 4
A35: 3331115 | G35: 13331115 | H35: 3331115 | I35: L08KSCLPR06 S Clamping Boring Bar D8,0mm L123,3mm | J35: 1 | K35: 1
A36: 6151515 | G36: 16151515 | H36: 6151515 | I36: VDIC1M402585C VDI40 C1 SQ SHANK HOLDER AXIAL RH 25MM | J36: 1 | K36: 1
A37: 2509326 | B37: 1 | C37: 23/02/2021 | D37: 23/02/2023 | E37: 64198 | F37: 30553369 | G37: 12509326 | H37: 2509326 | I37: EP1808S KC725M 18MM MILL 1 INSERT 0.8MM RAD TLAND + HON | J37: 10 | K37: 10
A38: 6687134 | G38: 16687134 | H38: 6687134 | I38: VNMG332MP KCS10B KENLOC MP MEDIUM POSITIVE INSERT | J38: 10 | K38: 5
A39: 3386262 | B39: 1 | C39: 23/02/2021 | D39: 23/02/2023 | E39: 64200 | F39: 30553460 | G39: 13386262 | H39: 3386262 | I39: KRR658671 KC5125RR Railroad Turning Insert | J39: 50 | K39: 50
A40: 1094699 | B40: 1 | C40: 24/02/2021 | D40: 24/02/2023 | E40: 64210 | F40: 30558077 | G40: 11094699 | H40: 1094699 | I40: A12SSVUBR2 S Clamping Boring Bar D0.75 L10.00 | J40: 1 | K40: 1
A41: 1191157 | G41: 11191157 | H41: 1191157 | I41: A2BNSN26J03 A2 Cut-Off Blade | J41: 1 | K41: 1
A42: 1236006 | G42: 11236006 | H42: 1236006 | I42: A10SSVMBR2E S Clamping Boring Bar D0.63 L10.00 | J42: 1 | K42: 1
A43: 1236018 | G43: 11236018 | H43: 1236018 | I43: A16TSVMBR3E S Clamping Boring Bar D1.00 L12.00 | J43: 1 | K43: 1
A44: 1245573 | G44: 11245573 | H44: 1245573 | I44: A2BNSN32M03 A2 Cut-Off Blade | J44: 1 | K44: 1
A45: 2267650 | G45: 12267650 | H45: 2267650 | I45: M1D200E1805S075L157 2.0 MILL1 BODY 5 INS 3/4 BORE 1.57 THIC | J45: 1 | K45: 1
A46: 3331043 | G46: 13331043 | H46: 3331043 | I46: L06MSCLPR2 S Clamping Boring Bar D0.38 L6.06 | J46: 2 | K46: 2
A47: 4047737 | G47: 14047737 | H47: 4047737 | I47: HPHV312S4050 KCPM15 HARVI ENDMILL5/16 X 5/16 X 1/2 X 2 | J47: 3 | K47: 3
A48: 4047743 | G48: 14047743 | H48: 4047743 | I48: HPHV312S4075 KCPM15 HARVI ENDMILL5/16 X 5/16 X 3/4 X 2 1/2 | J48: 3 | K48: 3
A49: 4149236 | G49: 14149236 | H49: 4149236 | I49: B052A06700CPG KC7325 SC DRILL 6.7mm/.2638/ 5xD COOLANT | J49: 2 | K49: 2
A50: 4149448 | G50: 14149448 | H50: 4149448 | I50: B052F05800CPG KC7325 SC DRILL 5.8mm/.2283/ 5xD COOLANT | J50: 5 | K50: 5
A51: 5307710 | G51: 15307710 | H51: 5307710 | I51: KTIP0512R5SCF063 KenTIP Drill Body Inch SCF 5xD D=0.512 | J51: 1 | K51: 1
A52: 5397478 | G52: 15397478 | H52: 5397478 | I52: KSEM0750HPG KCPM45 INSERT BLADE DIAMETER=.750 / 19.05MM | J52: 2 | K52: 2
... A58: 6688308 | G58: 16688308 | H58: 6688308 | I58: KTFS0473R05SCF063 KTFS DRILLBODY ANSI SCF 5xD .473IN N | J58: 1 | K58: 1
A59: 1020376 | B59: 1 | C59: 25/02/2021 | D59: 25/02/2023 | E59: 64233 | F59: 30562690 | G59: 11020376 | H59: 1020376 | I59: LNA050M LOCKNUT LNA | J59: 1 | K59: 1
A60: 1245573 | B60: 1 | C60: 25/02/2021 | D60: 25/02/2023 | E60: 64234 | F60: 30562736 | G60: 11245573 | H60: 1245573 | I60: A2BNSN32M03 A2 Cut-Off Blade | J60: 2 | K60: 2
A61: 1799238 | G61: 11799238 | H61: 1799238 | I61: NT1L KC5010 Top Notch Threading Insert | J61: 5 | K61: 5
A62: 1818008 | G62: 11818008 | H62: 1818008 | I62: NG2062RK KC5025 Top Notch Grooving Insert | J62: 5 | K62: 5
A63: 1818460 | G63: 11818460 | H63: 1818460 | I63: NR3031RK KC5010 Top Notch Grooving Insert | J63: 5 | K63: 5
A64: 3331075 | G64: 13331075 | H64: 3331075 | I64: L12RSDUPR3 S Clamping Boring Bar D0.75 L7.96 | J64: 1 | K64: 1
A65: 4109750 | G65: 14109750 | H65: 4109750 | I65: NG2M275LK KCU25 Top Notch Grooving Insert | J65: 5 | K65: 5
A66: 4109965 | G66: 14109965 | H66: 4109965 | I66: NTP3R KCU25 Top Notch Threading Insert | J66: 5 | K66: 5
A67: 4149645 | G67: 14149645 | H67: 4149645 | I67: B053A06350CPG KC7325 SC DRILL 6.35mm/.2500/ 8xD COOLANT | J67: 1 | K67: 1
A68: 4150751 | G68: 14150751 | H68: 4150751 | I68: B042A11000CPG KC7325 SC DRILL 11mm/.4331/ 5xD | J68: 2 | K68: 2
A69: 4175909 | G69: 14175909 | H69: 4175909 | I69: NT2L KCU10 Top Notch Threading Insert | J69: 5 | K69: 5
A70: 653003170 | B70: 2 | C70: 25/02/2021 | D70: 25/02/2023 | E70: 64217 | G70: 200653003170 | H70: 653003170 | I70: DRILL 653 DIA 0.1248 HSS-SS STUB DR R-N T | J70: 50 | K70: 50
A71: 9008340040030 | G71: 29008340040030 | H71: 9008340040030 | I71: 834 M4 X .50 Yellow Ring, HSS-E, Bright Finish, Spiral Flute | J71: 3 | K71: 3
A72: 9044023079380 | G72: 29044023079380 | H72: 9044023079380 | I72: 4402 ANSI PT-GBO B 5/16-18 UNC H 3 Oxide Spiral Point | J72: 10 | K72: 10
A73: 9044053079380 | G73: 29044053079380 | H73: 9044053079380 | I73: 4405 ANSI PT-GBO B 5/16-24 UNF H 3 Oxide Spiral Point | J73: 2 | K73: 2
A74: 9044150050000 | G74: 29044150050000 | H74: 9044150050000 | I74: 4415 -GBO B M 5 X 0.80 D 4 Oxide Spiral Point | J74: 3 | K74: 3
A75: 9044150060000 | G75: 29044150060000 | H75: 9044150060000 | I75: 4415 -GBO B M 6 X 1.00 D 5 Oxide Spiral Point | J75: 4 | K75: 4
A76: 9044150070000 | G76: 29044150070000 | H76: 9044150070000 | I76: 4415 -GBO B M 7 X 1.00 D 5 Oxide Spiral Point | J76: 1 | K76: 1
A77: 9044150120000 | G77: 29044150120000 | H77: 9044150120000 | I77: 4415 -GBO B M12 X 1.75 D 6 Oxide Spiral Point | J77: 3 | K77: 3
A78: 9044150140000 | G78: 29044150140000 | H78: 9044150140000 | I78: 4415 T-GBO B M14 X 2.0 D 7 Oxide Spiral Point | J78: 1 | K78: 1
A79: 9044170080050 | G79: 29044170080050 | H79: 9044170080050 | I79: 4417 ANSI PT-GBO B M 8 X1 D 5 Oxide Spiral Point | J79: 1 | K79: 1
A80: 9044170100050 | G80: 29044170100050 | H80: 9044170100050 | I80: 4417 ANSI PT-GBO B M10 X1 D 5 Oxide Spiral Point | J80: 1 | K80: 1
A81: 9044170100060 | G81: 29044170100060 | H81: 9044170100060 | I81: 4417 ANSI PT-GBO B M10 X1,25 D 5 Oxide Spiral Point | J81: 2 | K81: 2
A82: 9044170120070 | G82: 29044170120070 | H82: 9044170120070 | I82: 4417 ANSI PT-GBO B M12 X1,50 D 6 Oxide Spiral Point | J82: 1 | K82: 1
A83: 9044170140070 | G83: 29044170140070 | H83: 9044170140070 | I83: 4417 ANSI PT-GBO B M14 X1,50 D 6 Oxide Spiral Point | J83: 1 | K83: 1
A84: C62031BO | B84: 3 | C84: 25/01/2021 | D84: 25/01/2023 | E84: 63827 | F84: SO-000134642 | G84: 003C62031BO | H84: C62031BO | I84: 1/4-20NC H3 4FL GP Bottom Hand Tap W/ Steam Oxide | J84: 2 | K84: 2
A85: C62063BO | G85: 003C62063BO | H85: C62063BO | I85: 1/2-13NC H3 4FL GP Bottom Hand Tap W/ Steam Oxide | J85: 2 | K85: 2
A86: C80050WF | B86: 3 | C86: 28/01/2021 | D86: 28/01/2023 | E86: 63874 | F86: SO-00134768 | G86: 003C80050WF | H86: C80050WF | I86: 1/2x1/2x1-1/4x3 4 Flt VI 0.030CR WF | J86: 6 | K86: 1
A87: C15053 | B87: 3 | C87: 29/01/2021 | D87: 29/01/2023 | E87: 63894 | F87: SO-00134831 | G87: 003C15053 | H87: C15053 | I87: 7/64 2175TA QCOBALT SCRMA | J87: 10 | K87: 10
A88: C20535 | B88: 3 | C88: 03/02/2021 | D88: 03/02/2023 | E88: 63945 | F88: SO-00134954 | G88: 003C20535 | H88: C20535 | I88: 1894 35/64 TAPER SHK #2TS | J88: 4 | K88: 2
A89: C20730 | G89: 003C20730 | H89: C20730 | I89: 1813 1-1/32 S&D 1/2" SHK | J89: 1 | K89: 1
A90: C55313 | B90: 3 | C90: 09/02/2021 | D90: 09/02/2023 | E90: 64005 | F90: SO-00135188 | G90: 003C55313 | H90: C55313 | I90: #12-28 1011TN H3 2F SPR PT PLG TAP-TIN | J90: 3 | K90: 3
A91: C32637 | B91: 3 | C91: 10/02/2021 | D91: 10/02/2023 | E91: 64028 | F91: SO-00135248 | G91: 003C32637 | H91: C32637 | I91: 3/4 556 3/4S 4F TiCN | J91: 2 | K91: 2
A92: B71522 | B92: 3 | C92: 11/02/2021 | D92: 11/02/2023 | E92: 64045 | F92: SO-00135319 | G92: 003B71522 | H92: B71522 | I92: 3/4-10UNCTMC5FLCFTHRMILLF/INT-TiAlN | J92: 8 | K92: 5
A93: C80050WF | G93: 003C80050WF | H93: C80050WF | I93: 1/2x1/2x1-1/4x3 4 Flt VI 0.030CR WF | J93: 3 | K93: 3
A94: C25086 | B94: 3 | C94: 15/02/2021 | D94: 15/02/2023 | E94: 64079 | F94: SO-00135400 | G94: 003C25086 | H94: C25086 | I94: 1887 55MM HOLE SAW M3 | J94: 2 | K94: 2
A95: C33341 | G95: 003C33341 | H95: C33341 | I95: 1" 589 1"S TiCN | J95: 2 | K95: 2
A96: C23468 | B96: 3 | C96: 16/02/2021 | D96: 16/02/2023 | E96: 64096 | F96: SO-00135448 | G96: 003C23468 | H96: C23468 | I96: 1896 3/16 HD SCR MACH BLKOX | J96: 36 | K96: 12
A97: C32637 | B97: 3 | C97: 18/02/2021 | D97: 18/02/2023 | E97: 64131 | F97: SO-00135559 | G97: 003C32637 | H97: C32637 | I97: 3/4 556 3/4S 4F TiCN | J97: 1 | K97: 1
A98: C18014 | B98: 3 | C98: 24/02/2021 | D98: 24/02/2023 | E98: 64201 | F98: SO-00135798 | G98: 003C18014 | H98: C18014 | I98: 1878 9/32 HD JOBBER BLK&GOLD W/FLATS | J98: 36 | K98: 36
A99: C18028 | G99: 003C18028 | H99: C18028 | I99: 1878 1/2 HD JOBBER BLK&GOLD w/3 flats | J99: 18 | K99: 18
A100: 287400 | B100: 3 | C100: 25/02/2021 | D100: 25/02/2023 | E100: 64216 | G100: 3287400 | H100: 287400 | I100: NO.10-24 HS G H4 4L PL CNC FORM TAP TIN | J100: 1 | K100: 1
A101: 46020 | G101: 346020 | H101: 46020 | I101: 150 B 5/16 | J101: 60 | K101: 60
A102: C20682 | G102: 003C20682 | H102: C20682 | I102: 1892 11/16 S&D 1/2" SHK 3FLATS | J102: 1 | K102: 1
A103: C20695 | G103: 003C20695 | H103: C20695 | I103: 1892 1-IN S&D 1/2" SHK 3FLATS | J103: 1 | K103: 1
A104: C80007 | G104: 003C80007 | H104: C80007 | I104: 3/16x3/16x3/8x2 4Flt VI 0.000 CR - AP/MAX COATED | J104: 1 | K104: 1
A105: C80048 | G105: 003C80048 | H105: C80048 | I105: 1/2x1/2x1-1/4x3 4Flt VI 0.000 CR - AP/MAX COATED | J105: 4 | K105: 4
...
