Workbook
Name Année: Janvier!$AI$4
Name Août: #REF!
Name Avril: Avril!$AI$2
Name Congé: Janvier!$C$2
Name Décembre: #REF!
Name Ecole: Janvier!$N$2
Name Fevrier: Fevrier!$AI$2
Name Janvier: Janvier!$AI$2
Name Juillet: #REF!
Name Juin: #REF!
Name Mai: #REF!
Name Maladie: Janvier!$J$2
Name Mars: Mars!$AI$2
Name N°_DU_JOUR: Janvier!$C$7:$AG$7
Name N°_DU_MOIS: Janvier!$AI$2
Name NJanvier: Janvier!$AI$2
Name NomMois: Janvier!$B$4
Name Novembre: #REF!
Name Octobre: #REF!
Name Personnel: Janvier!$F$2
Name Septembre: #REF!

Sheet Infos employés
B1: Noms des employés et données initiales
B3: Noms des employés | C3: Solde des congés au 31/12/N-1 | D3: Solde heures à récupérer au 31/12/N-1
B5: Éric | C5: 18.5 | D5: -11.25
B8: Séverine | C8: 18.5 | D8: 3.5
B11: Alain | C11: 4.5 | D11: 10
B14: Axelle | C14: 4.68 | D14: 2.5
B17: Sam | C17: 6 | D17: -3

Sheet Janvier
B1: Calendrier des absences des employés
B2: Motif d'absence | C2: 1 | D2: Congé payé | F2: CS | G2: Congé sans solde | J2: M | K2: Maladie | N2: F | O2: Formation | R2: CH | S2: Chômage partiel | AH2: N° du mois : | AI2: 1
B4: Janvier | C4: Dates d'absences et d'heures supplémentaire | AH4: Année : | AI4: 2021
B5: N° de semaine | C5: =IF((IFERROR(WEEKNUM(DATE($AI4,Janvier,DAY(C7)),1),"")-1)<>0,IFERROR(WEEKNUM(DATE($AI4,Janvier,DAY(C7)),1)-1,""),53) -> 53 | D5: =IF((IFERROR(WEEKNUM(DATE($AI4,Janvier,DAY(D7)),1),"")-1)<>0,IFERROR(WEEKNUM(DATE($AI4,Janvier,DAY(D7)),1)-1,""),53) -> 53 | E5: =IF((IFERROR(WEEKNUM(DATE($AI4,Janvier,DAY(E7)),1),"")-1)<>0,IFERROR(WEEKNUM(DATE($AI4,Janvier,DAY(E7)),1)-1,""),53) -> 1 | F5: =IF((IFERROR(WEEKNUM(DATE($AI4,Janvier,DAY(F7)),1),"")-1)<>0,IFERROR(WEEKNUM(DATE($AI4,Janvier,DAY(F7)),1)-1,""),53) -> 1 | G5: =IF((IFERROR(WEEKNUM(DATE($AI4,Janvier,DAY(G7)),1),"")-1)<>0,IFERROR(WEEKNUM(DATE($AI4,Janvier,DAY(G7)),1)-1,""),53) -> 1 | H5: =IF((IFERROR(WEEKNUM(DATE($AI4,Janvier,DAY(H7)),1),"")-1)<>0,IFERROR(WEEKNUM(DATE($AI4,Janvier,DAY(H7)),1)-1,""),53) -> 1 | I5: =IF((IFERROR(WEEKNUM(DATE($AI4,Janvier,DAY(I7)),1),"")-1)<>0,IFERROR(WEEKNUM(DATE($AI4,Janvier,DAY(I7)),1)-1,""),53) -> 1 | J5: =IF((IFERROR(WEEKNUM(DATE($AI4,Janvier,DAY(J7)),1),"")-1)<>0,IFERROR(WEEKNUM(DATE($AI4,Janvier,DAY(J7)),1)-1,""),53) -> 1 | ... AG5: =IF((IFERROR(WEEKNUM(DATE($AI4,Janvier,DAY(AG7)),1),"")-1)<>0,IFERROR(WEEKNUM(DATE($AI4,Janvier,DAY(AG7)),1)-1,""),53) -> 5
C6: =IFERROR(TEXT(WEEKDAY(C7),"jjj"),"") -> ven | D6: =IFERROR(TEXT(WEEKDAY(D7),"jjj"),"") -> sam | E6: =IFERROR(TEXT(WEEKDAY(E7),"jjj"),"") -> dim | F6: =IFERROR(TEXT(WEEKDAY(F7),"jjj"),"") -> lun | G6: =IFERROR(TEXT(WEEKDAY(G7),"jjj"),"") -> mar | H6: =IFERROR(TEXT(WEEKDAY(H7),"jjj"),"") -> mer | I6: =IFERROR(TEXT(WEEKDAY(I7),"jjj"),"") -> jeu | J6: =IFERROR(TEXT(WEEKDAY(J7),"jjj"),"") -> ven | ... AG6: =IFERROR(TEXT(WEEKDAY(AG7),"jjj"),"") -> dim | AH6: Total des jours d'absence | AI6: Total d'heures supp | AJ6: Heures supp à payer | AK6: Total d'heures récupérées | AM6: Solde congé | AO6: Solde heures à récuperer
B7: Nom de l'employé | C7: =DATE(Année,Janvier,1) -> 44197 | D7: 44198 | E7: 44199 | F7: 44200 | G7: 44201 | H7: 44202 | I7: 44203 | J7: 44204 | K7: 44205 | L7: 44206 | M7: 44207 | N7: 44208 | O7: 44209 | P7: 44210 | Q7: 44211 | R7: 44212 | S7: 44213 | T7: 44214 | U7: 44215 | V7: 44216 | W7: 44217 | X7: 44218 | Y7: 44219 | Z7: 44220 | AA7: 44221 | AB7: 44222 | AC7: 44223 | AD7: 44224 | AE7: 44225 | AF7: 44226 | AG7: 44227
B8: Éric | C8: 1 | T8: CH | U8: CH | V8: CH | W8: CH | X8: CH | AA8: CH | AB8: CH | AC8: CH | AD8: CH | AE8: CH | AH8: =SUM($C8:$AG8)+COUNTIF($C8:$AG8,"*") -> 11 | AM8: ='Infos employés'!C5-SUM(C8:AG8)+2.5 -> 20 | AO8: ='Infos employés'!D5+Janvier!AI9-Janvier!AJ9-Janvier!AK10 -> -11.25
B9: Heures Supplémentaires | AI9: =SUM(C9:AG9) -> 0 | AJ9: 0
B10: Heures Récupérées | AK10: =SUM(C10:AG10) -> 0
B11: Séverine | C11: 1 | F11: 1 | G11: 1 | H11: 1 | I11: 1 | J11: 1 | M11: 1 | N11: 1 | O11: 1 | P11: 1 | Q11: 1 | AH11: =SUM($C11:$AG11)+COUNTIF($C11:$AG11,"*") -> 11 | AM11: ='Infos employés'!C8-SUM(C11:AG11)+2.5 -> 10 | AO11: ='Infos employés'!D8+Janvier!AI12-Janvier!AJ12-Janvier!AK13 -> 3.5
B12: Heures Supplémentaires | AI12: =SUM(C12:AG12) -> 0 | AJ12: 0
B13: Heures Récupérées | AK13: =SUM(C13:AG13) -> 0
B14: Alain | C14: 1 | AE14: 1 | AH14: =SUM($C14:$AG14)+COUNTIF($C14:$AG14,"*") -> 2 | AM14: ='Infos employés'!C11-SUM(C14:AG14)+2.5 -> 5 | AO14: ='Infos employés'!D11+Janvier!AI15-Janvier!AJ15-Janvier!AK16 -> 15
B15: Heures Supplémentaires | F15: 1 | M15: 1 | N15: 1 | O15: 1 | P15: 1 | AI15: =SUM(C15:AG15) -> 5 | AJ15: 0
B16: Heures Récupérées | AK16: =SUM(C16:AG16) -> 0
B17: Axelle | C17: 1 | F17: F | G17: F | M17: F | N17: F | T17: F | U17: F | AA17: F | AB17: F | AH17: =SUM($C17:$AG17)+COUNTIF($C17:$AG17,"*") -> 9 | AM17: ='Infos employés'!C14-SUM(C17:AG17)+2.5 -> 6.18 | AO17: ='Infos employés'!D14+Janvier!AI18-Janvier!AJ18-Janvier!AK19 -> 4.5
B18: Heures Supplémentaires | H18: 0.5 | I18: 1.5 | J18: 0.5 | V18: 2 | W18: 0.5 | AD18: 1.5 | AI18: =SUM(C18:AG18) -> 6.5 | AJ18: 0
B19: Heures Récupérées | O19: 0.5 | P19: 0.5 | Q19: 0.5 | X19: 0.5 | AE19: 2.5 | AK19: =SUM(C19:AG19) -> 4.5
B20: Sam | C20: 1 | F20: F | G20: F | H20: F | I20: F | J20: F | K20: F | M20: F | N20: F | O20: F | P20: F | Q20: F | R20: F | T20: F | U20: F | V20: F | W20: F | X20: F | Y20: F | AH20: =SUM($C20:$AG20)+COUNTIF($C20:$AG20,"*") -> 19 | AM20: ='Infos employés'!C17-SUM(C20:AG20)+2.5 -> 7.5 | AO20: ='Infos employés'!D17+Janvier!AI21-Janvier!AJ21-Janvier!AK22 -> -3
B21: Heures Supplémentaires | AI21: =SUM(C21:AG21) -> 0 | AJ21: 0
B22: Heures Récupérées | AK22: =SUM(C22:AG22) -> 0
B23: =NomMois&" Total Absences" -> Janvier Total Absences | C23: =SUBTOTAL(103,C$8,C$11,C$14,C$17,C$20) -> 5 | D23: =SUBTOTAL(103,D$8,D$11,D$14,D$17,D$20) -> 0 | E23: =SUBTOTAL(103,E$8,E$11,E$14,E$17,E$20) -> 0 | F23: =SUBTOTAL(103,F$8,F$11,F$14,F$17,F$20) -> 3 | G23: =SUBTOTAL(103,G$8,G$11,G$14,G$17,G$20) -> 3 | H23: =SUBTOTAL(103,H$8,H$11,H$14,H$17,H$20) -> 2 | I23: =SUBTOTAL(103,I$8,I$11,I$14,I$17,I$20) -> 2 | J23: =SUBTOTAL(103,J$8,J$11,J$14,J$17,J$20) -> 2 | ... AG23: =SUBTOTAL(103,AG$8,AG$11,AG$14,AG$17,AG$20) -> 0 | AH23: =SUM(AH8,AH11,AH14,AH17,AH20) -> 52 | AI23: =SUM(AI9,AI12,AI15,AI18,AI21) -> 11.5 | AJ23: =SUM(AJ9,AJ12,AJ15,AJ18,AJ21) -> 0 | AK23: =SUM(AK8:AK22) -> 4.5

Sheet Fevrier
B1: Calendrier des absences des employés
B2: Motif d'absence | C2: 1 | D2: Congé payé | F2: CS | G2: Congé sans solde | J2: M | K2: Maladie | N2: F | O2: Formation | R2: CH | S2: Chômage partiel | AH2: N° du mois : | AI2: 2
B4: Février | C4: Dates d'absences et d'heures supplémentaire | AH4: Année : | AI4: 2021
B5: N° de semaine | C5: =IFERROR((WEEKNUM(DATE($AI4,Fevrier,DAY(C7)),1))-1,"") -> 5 | D5: =IFERROR((WEEKNUM(DATE($AI4,Fevrier,DAY(D7)),1))-1,"") -> 5 | E5: =IFERROR((WEEKNUM(DATE($AI4,Fevrier,DAY(E7)),1))-1,"") -> 5 | F5: =IFERROR((WEEKNUM(DATE($AI4,Fevrier,DAY(F7)),1))-1,"") -> 5 | G5: =IFERROR((WEEKNUM(DATE($AI4,Fevrier,DAY(G7)),1))-1,"") -> 5 | H5: =IFERROR((WEEKNUM(DATE($AI4,Fevrier,DAY(H7)),1))-1,"") -> 5 | I5: =IFERROR((WEEKNUM(DATE($AI4,Fevrier,DAY(I7)),1))-1,"") -> 6 | J5: =IFERROR((WEEKNUM(DATE($AI4,Fevrier,DAY(J7)),1))-1,"") -> 6 | ... AG5: =IFERROR((WEEKNUM(DATE($AI4,Fevrier,DAY(AG7)),1))-1,"")
C6: =IFERROR(TEXT(WEEKDAY(C7),"jjj"),"") -> lun | D6: =IFERROR(TEXT(WEEKDAY(D7),"jjj"),"") -> mar | E6: =IFERROR(TEXT(WEEKDAY(E7),"jjj"),"") -> mer | F6: =IFERROR(TEXT(WEEKDAY(F7),"jjj"),"") -> jeu | G6: =IFERROR(TEXT(WEEKDAY(G7),"jjj"),"") -> ven | H6: =IFERROR(TEXT(WEEKDAY(H7),"jjj"),"") -> sam | I6: =IFERROR(TEXT(WEEKDAY(I7),"jjj"),"") -> dim | J6: =IFERROR(TEXT(WEEKDAY(J7),"jjj"),"") -> lun | ... AG6: =IFERROR(TEXT(WEEKDAY(AG7),"jjj"),"") | AH6: Total des jours d'absence | AI6: Total d'heures supp | AJ6: Heures supp à payer | AK6: Total d'heures récupérées | AM6: Solde congé | AO6: Solde heures à récuperer
B7: Nom de l'employé | C7: =DATE(AI4,AI2,1) -> 44228 | D7: =IFERROR(IF(C7>=EOMONTH(C7,0),"",C7+1),"") -> 44229 | E7: =IFERROR(IF(D7>=EOMONTH(D7,0),"",D7+1),"") -> 44230 | F7: =IFERROR(IF(E7>=EOMONTH(E7,0),"",E7+1),"") -> 44231 | G7: =IFERROR(IF(F7>=EOMONTH(F7,0),"",F7+1),"") -> 44232 | H7: =IFERROR(IF(G7>=EOMONTH(G7,0),"",G7+1),"") -> 44233 | I7: =IFERROR(IF(H7>=EOMONTH(H7,0),"",H7+1),"") -> 44234 | J7: =IFERROR(IF(I7>=EOMONTH(I7,0),"",I7+1),"") -> 44235 | K7: =IFERROR(IF(J7>=EOMONTH(J7,0),"",J7+1),"") -> 44236 | ... AG7: =IFERROR(IF(AF7>=EOMONTH(AF7,0),"",AF7+1),"")
B8: Éric | C8: CH | D8: CH | E8: CH | F8: CH | G8: CH | H8: CH | J8: CH | K8: CH | L8: CH | M8: CH | N8: CH | O8: CH | Q8: CH | R8: CH | S8: CH | T8: CH | U8: CH | V8: CH | X8: CH | Y8: CH | Z8: CH | AA8: CH | AB8: CH | AC8: CH | AH8: =SUM($C8:$AG8)+COUNTIF($C8:$AG8,"*") -> 24 | AM8: =Janvier!AM8-SUM(C8:AG8)+2.5 -> 22.5 | AO8: =Janvier!AO8+AI9-AJ9-AK10 -> -11.25
B9: Heures Supplémentaires | AI9: =SUM(C9:AG9) -> 0 | AJ9: 0
B10: Heures Récupérées | AK10: =SUM(C10:AG10) -> 0
B11: Séverine | E11: CH | F11: CH | G11: CH | L11: CH | M11: CH | N11: CH | S11: CH | T11: CH | U11: CH | Z11: CH | AA11: CH | AB11: CH | AH11: =SUM($C11:$AG11)+COUNTIF($C11:$AG11,"*") -> 12 | AM11: =Janvier!AM11-SUM(C11:AG11)+2.5 -> 12.5 | AO11: =Janvier!AO11+AI12-AJ12-AK13 -> 4
B12: Heures Supplémentaires | K12: 0.25 | R12: 0.5 | AI12: =SUM(C12:AG12) -> 0.75 | AJ12: 0
B13: Heures Récupérées | J13: 0.25 | AK13: =SUM(C13:AG13) -> 0.25
B14: Alain | C14: 1 | AB14: 1 | AC14: 1 | AD14: 1 | AH14: =SUM($C14:$AG14)+COUNTIF($C14:$AG14,"*") -> 4 | AM14: =Janvier!AM14-SUM(C14:AG14)+2.5 -> 3.5 | AO14: =Janvier!AO14+AI15-AJ15-AK16 -> 22
B15: Heures Supplémentaires | D15: 1 | U15: 1 | X15: 1 | Y15: 1 | Z15: 1 | AA15: 2 | AI15: =SUM(C15:AG15) -> 7 | AJ15: 0
B16: Heures Récupérées | AK16: =SUM(C16:AG16) -> 0
B17: Axelle | C17: F | D17: F | L17: 1 | AH17: =SUM($C17:$AG17)+COUNTIF($C17:$AG17,"*") -> 3 | AM17: =Janvier!AM17-SUM(C17:AG17)+2.5 -> 7.68 | AO17: =Janvier!AO17+AI18-AJ18-AK19 -> 8
B18: Heures Supplémentaires | E18: 1.5 | F18: 0.5 | J18: 0.5 | K18: 0.5 | S18: 0.5 | T18: 1.5 | U18: 0.5 | AB18: 3 | AI18: =SUM(C18:AG18) -> 8.5 | AJ18: 0
B19: Heures Récupérées | N19: 3 | Z19: 2 | AK19: =SUM(C19:AG19) -> 5
B20: Sam | J20: 1 | K20: 1 | L20: 1 | M20: 1 | N20: 1 | O20: 1 | X20: F | Y20: F | Z20: F | AA20: F | AB20: F | AC20: F | AH20: =SUM($C20:$AG20)+COUNTIF($C20:$AG20,"*") -> 12 | AM20: =Janvier!AM20-SUM(C20:AG20)+2.5 -> 4 | AO20: =Janvier!AO20+AI21-AJ21-AK22 -> -15.75
B21: Heures Supplémentaires | S21: 0.25 | AI21: =SUM(C21:AG21) -> 0.25 | AJ21: 0
B22: Heures Récupérées | F22: 6 | U22: 7 | AK22: =SUM(C22:AG22) -> 13
B23: =NomMois&" Total Absences" -> Janvier Total Absences | C23: =SUBTOTAL(103,C$8,C$11,C$14,C$17,C$20) -> 3 | D23: =SUBTOTAL(103,D$8,D$11,D$14,D$17,D$20) -> 2 | E23: =SUBTOTAL(103,E$8,E$11,E$14,E$17,E$20) -> 2 | F23: =SUBTOTAL(103,F$8,F$11,F$14,F$17,F$20) -> 2 | G23: =SUBTOTAL(103,G$8,G$11,G$14,G$17,G$20) -> 2 | H23: =SUBTOTAL(103,H$8,H$11,H$14,H$17,H$20) -> 1 | I23: =SUBTOTAL(103,I$8,I$11,I$14,I$17,I$20) -> 0 | J23: =SUBTOTAL(103,J$8,J$11,J$14,J$17,J$20) -> 2 | ... AG23: =SUBTOTAL(103,AG$8,AG$11,AG$14,AG$17,AG$20) -> 0 | AH23: =SUM(AH8,AH11,AH14,AH17,AH20) -> 55 | AI23: =SUM(AI9,AI12,AI15,AI18,AI21) -> 16.5 | AJ23: =SUM(AJ9,AJ12,AJ15,AJ18,AJ21) -> 0 | AK23: =SUM(AK8:AK22) -> 18.25

Sheet Mars
B1: Calendrier des absences des employés
B2: Motif d'absence | C2: 1 | D2: Congé payé | F2: CS | G2: Congé sans solde | J2: M | K2: Maladie | N2: F | O2: Formation | R2: CH | S2: Chômage partiel | AH2: N° du mois : | AI2: 3
B4: Mars | C4: Dates d'absences et d'heures supplémentaire | AH4: Année : | AI4: 2021
B5: N° de semaine | C5: =IFERROR(WEEKNUM(DATE($AI4,Mars,DAY(C7)),1)-1,"") -> 9 | D5: =IFERROR(WEEKNUM(DATE($AI4,Mars,DAY(D7)),1)-1,"") -> 9 | E5: =IFERROR(WEEKNUM(DATE($AI4,Mars,DAY(E7)),1)-1,"") -> 9 | F5: =IFERROR(WEEKNUM(DATE($AI4,Mars,DAY(F7)),1)-1,"") -> 9 | G5: =IFERROR(WEEKNUM(DATE($AI4,Mars,DAY(G7)),1)-1,"") -> 9 | H5: =IFERROR(WEEKNUM(DATE($AI4,Mars,DAY(H7)),1)-1,"") -> 9 | I5: =IFERROR(WEEKNUM(DATE($AI4,Mars,DAY(I7)),1)-1,"") -> 10 | J5: =IFERROR(WEEKNUM(DATE($AI4,Mars,DAY(J7)),1)-1,"") -> 10 | ... AG5: =IFERROR(WEEKNUM(DATE($AI4,Mars,DAY(AG7)),1)-1,"") -> 13
C6: =IFERROR(TEXT(WEEKDAY(C7),"jjj"),"") -> lun | D6: =IFERROR(TEXT(WEEKDAY(D7),"jjj"),"") -> mar | E6: =IFERROR(TEXT(WEEKDAY(E7),"jjj"),"") -> mer | F6: =IFERROR(TEXT(WEEKDAY(F7),"jjj"),"") -> jeu | G6: =IFERROR(TEXT(WEEKDAY(G7),"jjj"),"") -> ven | H6: =IFERROR(TEXT(WEEKDAY(H7),"jjj"),"") -> sam | I6: =IFERROR(TEXT(WEEKDAY(I7),"jjj"),"") -> dim | J6: =IFERROR(TEXT(WEEKDAY(J7),"jjj"),"") -> lun | ... AG6: =IFERROR(TEXT(WEEKDAY(AG7),"jjj"),"") -> mer | AH6: Total des jours d'absence | AI6: Total d'heures supp | AJ6: Heures supp à payer | AK6: Total d'heures récupérées | AM6: Solde congé | AO6: Solde heures à récuperer
B7: Nom de l'employé | C7: =DATE(AI4,AI2,1) -> 44256 | D7: =IFERROR(IF(C7>=EOMONTH(C7,0),"",C7+1),"") -> 44257 | E7: =IFERROR(IF(D7>=EOMONTH(D7,0),"",D7+1),"") -> 44258 | F7: =IFERROR(IF(E7>=EOMONTH(E7,0),"",E7+1),"") -> 44259 | G7: =IFERROR(IF(F7>=EOMONTH(F7,0),"",F7+1),"") -> 44260 | H7: =IFERROR(IF(G7>=EOMONTH(G7,0),"",G7+1),"") -> 44261 | I7: =IFERROR(IF(H7>=EOMONTH(H7,0),"",H7+1),"") -> 44262 | J7: =IFERROR(IF(I7>=EOMONTH(I7,0),"",I7+1),"") -> 44263 | K7: =IFERROR(IF(J7>=EOMONTH(J7,0),"",J7+1),"") -> 44264 | ... AG7: =IFERROR(IF(AF7>=EOMONTH(AF7,0),"",AF7+1),"") -> 44286
B8: Éric | Q8: 1 | AH8: =SUM($C8:$AG8)+COUNTIF($C8:$AG8,"*") -> 1 | AM8: =Fevrier!AM8-SUM(C8:AG8)+2.5 -> 24 | AO8: =Fevrier!AO8+AI9-AJ9-AK10 -> -11.25
B9: Heures Supplémentaires | AI9: =SUM(C9:AG9) -> 0 | AJ9: 0
B10: Heures Récupérées | AK10: =SUM(C10:AG10) -> 0
B11: Séverine | E11: CH | F11: CH | G11: CH | L11: CH | M11: CH | N11: CH | S11: CH | T11: CH | U11: CH | Z11: CH | AA11: CH | AB11: CH | AG11: CH | AH11: =SUM($C11:$AG11)+COUNTIF($C11:$AG11,"*") -> 13 | AM11: =Fevrier!AM11-SUM(C11:AG11)+2.5 -> 15 | AO11: =Fevrier!AO11+AI12-AJ12-AK13 -> 5
B12: Heures Supplémentaires | K12: 0.5 | AE12: 0.5 | AF12: 0.5 | AI12: =SUM(C12:AG12) -> 1.5 | AJ12: 0
B13: Heures Récupérées | R13: 0.5 | AK13: =SUM(C13:AG13) -> 0.5
B14: Alain | C14: 1 | AH14: =SUM($C14:$AG14)+COUNTIF($C14:$AG14,"*") -> 1 | AM14: =Fevrier!AM14-SUM(C14:AG14)+2.5 -> 5 | AO14: =Fevrier!AO14+AI15-AJ15-AK16 -> 58
B15: Heures Supplémentaires | D15: 1.5 | E15: 1.5 | F15: 1.5 | G15: 2 | J15: 1 | K15: 1 | M15: 0.5 | N15: 2.5 | O15: 5 | Q15: 1 | R15: 2 | S15: 1 | T15: 2 | U15: 3 | V15: 6 | AE15: 1.5 | AF15: 1 | AG15: 2 | AI15: =SUM(C15:AG15) -> 36 | AJ15: 0
B16: Heures Récupérées | AK16: =SUM(C16:AG16) -> 0
B17: Axelle | C17: F | D17: F | J17: F | K17: F | Q17: F | R17: F | X17: F | Y17: F | AH17: =SUM($C17:$AG17)+COUNTIF($C17:$AG17,"*") -> 8 | AM17: =Fevrier!AM17-SUM(C17:AG17)+2.5 -> 10.18 | AO17: =Fevrier!AO17+AI18-AJ18-AK19 -> 3
B18: Heures Supplémentaires | E18: 0.5 | M18: 0.5 | Z18: 1.25 | AI18: =SUM(C18:AG18) -> 2.25 | AJ18: 0
B19: Heures Récupérées | M19: 0.5 | T19: 0.75 | AA19: 2 | AB19: 4 | AK19: =SUM(C19:AG19) -> 7.25
B20: Sam | C20: F | D20: F | E20: F | F20: F | G20: F | H20: F | AE20: F | AF20: F | AG20: F | AH20: =SUM($C20:$AG20)+COUNTIF($C20:$AG20,"*") -> 9 | AM20: =Fevrier!AM20-SUM(C20:AG20)+2.5 -> 6.5 | AO20: =Fevrier!AO20+AI21-AJ21-AK22 -> -15
B21: Heures Supplémentaires | M21: 0.75 | AI21: =SUM(C21:AG21) -> 0.75 | AJ21: 0
B22: Heures Récupérées | AK22: =SUM(C22:AG22) -> 0
B23: =NomMois&" Total Absences" -> Janvier Total Absences | C23: =SUBTOTAL(103,C$8,C$11,C$14,C$17,C$20) -> 3 | D23: =SUBTOTAL(103,D$8,D$11,D$14,D$17,D$20) -> 2 | E23: =SUBTOTAL(103,E$8,E$11,E$14,E$17,E$20) -> 2 | F23: =SUBTOTAL(103,F$8,F$11,F$14,F$17,F$20) -> 2 | G23: =SUBTOTAL(103,G$8,G$11,G$14,G$17,G$20) -> 2 | H23: =SUBTOTAL(103,H$8,H$11,H$14,H$17,H$20) -> 1 | I23: =SUBTOTAL(103,I$8,I$11,I$14,I$17,I$20) -> 0 | J23: =SUBTOTAL(103,J$8,J$11,J$14,J$17,J$20) -> 1 | ... AG23: =SUBTOTAL(103,AG$8,AG$11,AG$14,AG$17,AG$20) -> 2 | AH23: =SUM(AH8,AH11,AH14,AH17,AH20) -> 32 | AI23: =SUM(AI9,AI12,AI15,AI18,AI21) -> 40.5 | AJ23: =SUM(AJ9,AJ12,AJ15,AJ18,AJ21) -> 0 | AK23: =SUM(AK8:AK22) -> 7.75

Sheet Avril
B1: Calendrier des absences des employés
B2: Motif d'absence | C2: 1 | D2: Congé payé | F2: CS | G2: Congé sans solde | J2: M | K2: Maladie | N2: F | O2: Formation | R2: CH | S2: Chômage partiel | AH2: N° du mois : | AI2: 4
B4: Avril | C4: Dates d'absences et d'heures supplémentaire | AH4: Année : | AI4: 2021
B5: N° de semaine | C5: =IFERROR(WEEKNUM(DATE($AI4,Avril,DAY(C7)),1)-1,"") -> 13 | D5: =IFERROR(WEEKNUM(DATE($AI4,Avril,DAY(D7)),1)-1,"") -> 13 | E5: =IFERROR(WEEKNUM(DATE($AI4,Avril,DAY(E7)),1)-1,"") -> 13 | F5: =IFERROR(WEEKNUM(DATE($AI4,Avril,DAY(F7)),1)-1,"") -> 14 | G5: =IFERROR(WEEKNUM(DATE($AI4,Avril,DAY(G7)),1)-1,"") -> 14 | H5: =IFERROR(WEEKNUM(DATE($AI4,Avril,DAY(H7)),1)-1,"") -> 14 | I5: =IFERROR(WEEKNUM(DATE($AI4,Avril,DAY(I7)),1)-1,"") -> 14 | J5: =IFERROR(WEEKNUM(DATE($AI4,Avril,DAY(J7)),1)-1,"") -> 14 | ... AG5: =IFERROR(WEEKNUM(DATE($AI4,Avril,DAY(AG7)),1)-1,"")
C6: =IFERROR(TEXT(WEEKDAY(C7),"jjj"),"") -> jeu | D6: =IFERROR(TEXT(WEEKDAY(D7),"jjj"),"") -> ven | E6: =IFERROR(TEXT(WEEKDAY(E7),"jjj"),"") -> sam | F6: =IFERROR(TEXT(WEEKDAY(F7),"jjj"),"") -> dim | G6: =IFERROR(TEXT(WEEKDAY(G7),"jjj"),"") -> lun | H6: =IFERROR(TEXT(WEEKDAY(H7),"jjj"),"") -> mar | I6: =IFERROR(TEXT(WEEKDAY(I7),"jjj"),"") -> mer | J6: =IFERROR(TEXT(WEEKDAY(J7),"jjj"),"") -> jeu | ... AG6: =IFERROR(TEXT(WEEKDAY(AG7),"jjj"),"") | AH6: Total des jours d'absence | AI6: Total d'heures supp | AJ6: Heures supp à payer | AK6: Total d'heures récupérées | AM6: Solde congé | AO6: Solde heures à récuperer
B7: Nom de l'employé | C7: =DATE(AI4,AI2,1) -> 44287 | D7: =IFERROR(IF(C7>=EOMONTH(C7,0),"",C7+1),"") -> 44288 | E7: =IFERROR(IF(D7>=EOMONTH(D7,0),"",D7+1),"") -> 44289 | F7: =IFERROR(IF(E7>=EOMONTH(E7,0),"",E7+1),"") -> 44290 | G7: =IFERROR(IF(F7>=EOMONTH(F7,0),"",F7+1),"") -> 44291 | H7: =IFERROR(IF(G7>=EOMONTH(G7,0),"",G7+1),"") -> 44292 | I7: =IFERROR(IF(H7>=EOMONTH(H7,0),"",H7+1),"") -> 44293 | J7: =IFERROR(IF(I7>=EOMONTH(I7,0),"",I7+1),"") -> 44294 | K7: =IFERROR(IF(J7>=EOMONTH(J7,0),"",J7+1),"") -> 44295 | ... AG7: =IFERROR(IF(AF7>=EOMONTH(AF7,0),"",AF7+1),"")
B8: Éric | AH8: =SUM($C8:$AG8)+COUNTIF($C8:$AG8,"*") -> 0 | AM8: =Mars!AM8-SUM(C8:AG8)+2.5 -> 26.5 | AO8: =Mars!AO8+AI9-AJ9-AK10 -> -11.25
B9: Heures Supplémentaires | AI9: =SUM(C9:AG9) -> 0 | AJ9: 0
B10: Heures Récupérées | AK10: =SUM(C10:AG10) -> 0
B11: Séverine | C11: CH | D11: CH | J11: CH | K11: CH | AH11: =SUM($C11:$AG11)+COUNTIF($C11:$AG11,"*") -> 4 | AM11: =Mars!AM11-SUM(C11:AG11)+2.5 -> 17.5 | AO11: =Mars!AO11+AI12-AJ12-AK13 -> 4
B12: Heures Supplémentaires | AI12: =SUM(C12:AG12) -> 0 | AJ12: 0
B13: Heures Récupérées | I13: 1 | AK13: =SUM(C13:AG13) -> 1
B14: Alain | AH14: =SUM($C14:$AG14)+COUNTIF($C14:$AG14,"*") -> 0 | AM14: =Mars!AM14-SUM(C14:AG14)+2.5 -> 7.5 | AO14: =Mars!AO14+AI15-AJ15-AK16 -> 61
B15: Heures Supplémentaires | C15: 1 | D15: 2 | AI15: =SUM(C15:AG15) -> 3 | AJ15: 0
B16: Heures Récupérées | AK16: =SUM(C16:AG16) -> 0
B17: Axelle | H17: F | I17: F | AH17: =SUM($C17:$AG17)+COUNTIF($C17:$AG17,"*") -> 2 | AM17: =Mars!AM17-SUM(C17:AG17)+2.5 -> 12.68 | AO17: =Mars!AO17+AI18-AJ18-AK19 -> 2
B18: Heures Supplémentaires | AI18: =SUM(C18:AG18) -> 0 | AJ18: 0
B19: Heures Récupérées | D19: 1 | AK19: =SUM(C19:AG19) -> 1
B20: Sam | C20: F | D20: F | E20: F | H20: F | I20: F | J20: F | K20: F | L20: F | AH20: =SUM($C20:$AG20)+COUNTIF($C20:$AG20,"*") -> 8 | AM20: =Mars!AM20-SUM(C20:AG20)+2.5 -> 9 | AO20: =Mars!AO20+AI21-AJ21-AK22 -> -15
B21: Heures Supplémentaires | AI21: =SUM(C21:AG21) -> 0 | AJ21: 0
B22: Heures Récupérées | AK22: =SUM(C22:AG22) -> 0
B23: =NomMois&" Total Absences" -> Janvier Total Absences | C23: =SUBTOTAL(103,C$8,C$11,C$14,C$17,C$20) -> 2 | D23: =SUBTOTAL(103,D$8,D$11,D$14,D$17,D$20) -> 2 | E23: =SUBTOTAL(103,E$8,E$11,E$14,E$17,E$20) -> 1 | F23: =SUBTOTAL(103,F$8,F$11,F$14,F$17,F$20) -> 0 | G23: =SUBTOTAL(103,G$8,G$11,G$14,G$17,G$20) -> 0 | H23: =SUBTOTAL(103,H$8,H$11,H$14,H$17,H$20) -> 2 | I23: =SUBTOTAL(103,I$8,I$11,I$14,I$17,I$20) -> 2 | J23: =SUBTOTAL(103,J$8,J$11,J$14,J$17,J$20) -> 2 | ... AG23: =SUBTOTAL(103,AG$8,AG$11,AG$14,AG$17,AG$20) -> 0 | AH23: =SUM(AH8,AH11,AH14,AH17,AH20) -> 14 | AI23: =SUM(AI9,AI12,AI15,AI18,AI21) -> 3 | AJ23: =SUM(AJ9,AJ12,AJ15,AJ18,AJ21) -> 0 | AK23: =SUM(AK8:AK22) -> 2

Sheet Bulletin de salaire
D1: Heures majorées | E1: 8.75
B2: Éric | D2: Mars
B4: Libellé de la rubrique | F4: Cotisations salarié | J4: Cotisations employeur
F5: Base | G5: Taux | H5: A déduire | I5: A payer | J5: Base | K5: Taux | L5: Montant
B7: Salaire de base | F7: 151.67 | G7: 10.25 | I7: =G7*F7 -> 1554.6175
B8: Heures mensuelles majorées à 25% | F8: =IF(OR(B2="Éric",B2="Alain"),F7/$E$1,"") -> 17.333714 | G8: =IF(OR(B2="Éric",B2="Alain"),G7*1.25,"") -> 12.8125 | I8: =IFERROR(F8*G8,"") -> 222.08821
B10: Congés payés pris 01.01.21-03.01.21 (1 jour) | F10: =SUMPRODUCT(OFFSET(INDIRECT(D2&"!C7:AG7"),MATCH(B2,INDIRECT(D2&"!B8:B50"),0),)) -> 1 | G10: =(IFERROR((I7+I8),I7)/22.60925) -> 78.583134 | H10: =F10*G10 -> 78.583134
B11: Absence activité partielle | F11: =COUNTIF(OFFSET(INDIRECT(D2&"!C7:AG7"),MATCH(B2,INDIRECT(D2&"!B8:B50"),0),),"CH")*7 -> 0 | G11: 10.25 | H11: =F11*G11 -> 0
B12: Absence activité partielle heures majorées | F12: =F11/$E$1 -> 0 | G12: =G11*1.25 -> 12.8125 | H12: =F12*G12 -> 0
B13: Indemnité congés payés (1 jour) | F13: =F10 -> 1 | G13: =G10 -> 78.583134 | I13: =F13*G13 -> 78.583134
B14: Prime d'ancienneté | F14: 956.66 | G14: 15 | I14: =F14*G14% -> 143.499
B15: SALAIRE BRUT | I15: =SUM(I7:I14)-SUM(H7:H14) -> 1920.2047
B17: Santé
B18: Sécurité sociale-Maladie Maternité Invalidité Décès | J18: =$I$15 -> 1920.2047 | K18: 0.07 | L18: =J18*K18 -> 134.41433
B19: ACCIDENTS DU TRAVAIL-MALADIES PROFESSIONNELLES | J19: =$I$15 -> 1920.2047 | K19: 0.012 | L19: =J19*K19 -> 23.042457
B20: RETRAITE
B21: Sécurité sociale plafonnée | F21: =I15 -> 1920.2047 | G21: 0.069 | H21: =G21*F21 -> 132.49413 | J21: =$I$15 -> 1920.2047 | K21: 0.0855 | L21: =J21*K21 -> 164.1775
B22: Sécurité sociale déplafonnée | F22: =I15 -> 1920.2047 | G22: 0.004 | H22: =G22*F22 -> 7.6808189 | J22: =$I$15 -> 1920.2047 | K22: 0.019 | L22: =J22*K22 -> 36.48389
B23: Complémentaire Tranche A | F23: =I15 -> 1920.2047 | G23: 0.0401 | H23: =G23*F23 -> 77.000209 | J23: =$I$15 -> 1920.2047 | K23: 0.0601 | L23: =J23*K23 -> 115.4043
B24: FAMILLE | J24: =$I$15 -> 1920.2047 | K24: 0.0345 | L24: =J24*K24 -> 66.247063
B25: ASSURANCE CHÔMAGE | O25: Date | P25: Compte | Q25: Libellé | R25: Débit | S25: Crédit
B26: ASSURANCE CHÔMAGE | J26: =$I$15 -> 1920.2047 | K26: 0.042 | L26: =J26*K26 -> 80.648598 | O26: 31/05/XX | P26: 641100 | Q26: Salaires et appointements (salaire brut) | R26: =I15+I31 -> 1920.2047
B27: AUTRES CONTRIBUTIONS DUES PAR L’EMPLOYEUR | J27: =$I$15 -> 1920.2047 | K27: 0.01646 | L27: =J27*K27 -> 31.60657 | O27: 31/05/XX | P27: 421001 | Q27: Salarié X (salaire net) | S27: =K42 -> 1481.2014
B28: CSG déductible de l’impôt sur le revenu | F28: =I15 -> 1920.2047 | G28: 0.068 | H28: =F28*G28 -> 130.57392 | O28: 31/05/XX | P28: 431000 | Q28: Sécurité sociale (charges salariales) | S28: x
B29: CSG/CRDS non déductible de l’impôt sur le revenu | F29: =I15 -> 1920.2047 | G29: 0.029 | H29: =G29*F29 -> 55.685937 | O29: 31/05/XX | P29: 437310 | Q29: Caisse de retraite (charges salariales) | S29: =SUM(H21:H23) -> 217.17515
B30: EXONERATIONS DE COTISATIONS EMPLOYEUR | L30: -222.44 | O30: 31/05/XX | P30: 437200 | Q30: Mutuelles (charges salariales) | S30: x
B31: Indemnité activité partielle | F31: =F11 -> 0 | G31: =0.8257*G7 -> 8.463425 | I31: =G31*F31 -> 0 | O31: 31/05/XX | P31: 645100 | Q31: Cotisations à l’URSAFF (charges patronales) | R31: =SUM(L21:L23) -> 316.0657
B32: EXONERATIONS sociale sur HC/HS | F32: =IFERROR(I8-H12,"") -> 222.08821 | G32: -0.1131 | H32: =IFERROR(G32*F32,"") -> -25.118177 | O32: 31/05/XX | P32: 431000 | Q32: Sécurité sociale (charges patronales) | S32: =SUM(L21:L23) -> 316.0657
B33: Total Cotisations | H33: =SUM(H18:H32) -> 378.31683 | L33: =SUM(L18:L32) -> 429.58471 | O33: 31/05/XX | P33: 645300 | Q33: Cotisations aux caisses de retraite (charges patronales) | R33: =L24 -> 66.247063
O34: 31/05/XX | P34: 437310 | Q34: Caisse de retraite (charges patronales) | S34: =L24 -> 66.247063
O35: 31/05/XX | P35: 645400 | Q35: Cotisations aux ASSEDIC (charges patronales) | R35: x
O36: 31/05/XX | P36: 437400 | Q36: ASSEDIC (charges patronales) | S36: x
B37: NET A PAYER AVANT IMPÔT SUR LE REVENU | K37: =SUM(I15:I36)-SUM(H17:H32) -> 1541.8879 | O37: 31/05/XX | P37: 645200 | Q37: Cotisations aux mutuelles (charges patronales) | R37: 320
O38: 31/05/XX | P38: 437200 | Q38: Mutuelles (charges patronales) | S38: 320
B39: Impôt sur le revenu | F39: Base | H39: Taux personnalisé | K39: Montant
B40: Impôt sur le revenu prélevé à la source | F40: =K37-H28 -> 1411.314 | H40: 0.043 | K40: =F40*H40 -> 60.6865 | R40: =SUM(R26:R38) -> 2622.5175 | S40: =SUM(S26:S38) -> 2400.6893
H41: NET A PAYER
H42: Payé par virement le dd/mm/YYYY | K42: =K37-K40 -> 1481.2014
H43: Allégement de cotisations employeur | K43: 0
H44: Total versé par l'employeur | K44: =I7+L33 -> 1984.2022
...
