Workbook

Sheet BF1
C1: Bulletin: | G1: Nom de l'élève: | I1: Bracciolano Kiara | N1: Bulletin: | R1: Nom de l'élève: | T1: Djoyoum Mba Christ | Y1: Bulletin: | AC1: Nom de l'élève: | AE1: Dogdu Téoman | AJ1: Bulletin: | AN1: Nom de l'élève: | AP1: Galo Nuno | AU1: Bulletin: | AY1: Nom de l'élève: | BA1: Liekens Baptiste | BF1: Bulletin: | BJ1: Nom de l'élève: | BL1: Piéltain Florian | BQ1: Bulletin: | BU1: Nom de l'élève: | BW1: Steens Manon | CB1: Bulletin: | CF1: Nom de l'élève: | CH1: Tomic Marco
A4: Formation générale | G4: BF1 | H4: BF2 | I4: BF3 | J4: BF4 | L4: Formation générale | R4: BF1 | S4: BF2 | T4: BF3 | U4: BF4 | W4: Formation générale | AC4: BF1 | AD4: BF2 | AE4: BF3 | AF4: BF4 | AH4: Formation générale | AN4: BF1 | AO4: BF2 | AP4: BF3 | AQ4: BF4 | AS4: Formation générale | AY4: BF1 | AZ4: BF2 | BA4: BF3 | BB4: BF4 | BD4: Formation générale | BJ4: BF1 | BK4: BF2 | BL4: BF3 | BM4: BF4 | BO4: Formation générale | BU4: BF1 | BV4: BF2 | BW4: BF3 | BX4: BF4 | BZ4: Formation générale | CF4: BF1 | CG4: BF2 | CH4: BF3 | CI4: BF4
A6: Français | B6: Voir détail de compétences en commentaire | G6: =Fr!C2 -> 0 | L6: Français | M6: Voir détail de compétences en commentaire | R6: =Fr!C3 -> 0 | W6: Français | X6: Voir détail de compétences en commentaire | AC6: =Fr!C4 -> 0 | AH6: Français | AI6: Voir détail de compétences en commentaire | AN6: =Fr!C5 -> 0 | AS6: Français | AT6: Voir détail de compétences en commentaire | AY6: =Fr!C6 -> 0 | BD6: Français | BE6: Voir détail de compétences en commentaire | BJ6: =Fr!C7 -> 0 | BO6: Français | BP6: Voir détail de compétences en commentaire | BU6: =Fr!C8 -> 0 | BZ6: Français | CA6: Voir détail de compétences en commentaire | CF6: =Fr!C9 -> 0
A7: Néerlandais | B7: Voir détail de compétences en commentaire | G7: =Ndls!C2 -> 0 | L7: Néerlandais | M7: Voir détail de compétences en commentaire | R7: =Ndls!C3 -> 0 | W7: Néerlandais | X7: Voir détail de compétences en commentaire | AC7: =Ndls!C4 -> 0 | AH7: Néerlandais | AI7: Voir détail de compétences en commentaire | AN7: =Ndls!C5 -> 0 | AS7: Néerlandais | AT7: Voir détail de compétences en commentaire | AY7: =Ndls!C6 -> 0 | BD7: Néerlandais | BE7: Voir détail de compétences en commentaire | BJ7: =Ndls!C7 -> 0 | BO7: Néerlandais | BP7: Voir détail de compétences en commentaire | BU7: =Ndls!C8 -> 0 | BZ7: Néerlandais | CA7: Voir détail de compétences en commentaire | CF7: =Ndls!C9 -> 0
A8: Formation Sociale et Economique | B8: Voir détail de compétences en commentaire | G8: =FSE!C2 -> 0 | L8: Formation Sociale et Economique | M8: Voir détail de compétences en commentaire | R8: =FSE!C3 -> 0 | W8: Formation Sociale et Economique | X8: Voir détail de compétences en commentaire | AC8: =FSE!C4 -> 0 | AH8: Formation Sociale et Economique | AI8: Voir détail de compétences en commentaire | AN8: =FSE!C5 -> 0 | AS8: Formation Sociale et Economique | AT8: Voir détail de compétences en commentaire | AY8: =FSE!C6 -> 0 | BD8: Formation Sociale et Economique | BE8: Voir détail de compétences en commentaire | BJ8: =FSE!C7 -> 0 | BO8: Formation Sociale et Economique | BP8: Voir détail de compétences en commentaire | BU8: =FSE!C8 -> 0 | BZ8: Formation Sociale et Economique | CA8: Voir détail de compétences en commentaire | CF8: =FSE!N8 -> 0
A9: Formation scientifique | B9: Voir détail de compétences en commentaire | G9: =Sciences!C2 -> 0 | L9: Formation scientifique | M9: Voir détail de compétences en commentaire | R9: =Sciences!C3 -> 0 | W9: Formation scientifique | X9: Voir détail de compétences en commentaire | AC9: =Sciences!C4 -> 0 | AH9: Formation scientifique | AI9: Voir détail de compétences en commentaire | AN9: =Sciences!C5 -> 0 | AS9: Formation scientifique | AT9: Voir détail de compétences en commentaire | AY9: =Sciences!C6 -> 0 | BD9: Formation scientifique | BE9: Voir détail de compétences en commentaire | BJ9: =Sciences!C7 -> 0 | BO9: Formation scientifique | BP9: Voir détail de compétences en commentaire | BU9: =Sciences!C8 -> 0 | BZ9: Formation scientifique | CA9: Voir détail de compétences en commentaire | CF9: =Sciences!C9 -> 0
A10: Formation historique et géographique | B10: Voir détail de compétences en commentaire | G10: ='F.H.G'!C2 -> 0 | L10: Formation historique et géographique | M10: Voir détail de compétences en commentaire | R10: ='F.H.G'!C3 -> 0 | W10: Formation historique et géographique | X10: Voir détail de compétences en commentaire | AC10: ='F.H.G'!C4 -> 0 | AH10: Formation historique et géographique | AI10: Voir détail de compétences en commentaire | AN10: ='F.H.G'!C5 -> 0 | AS10: Formation historique et géographique | AT10: Voir détail de compétences en commentaire | AY10: ='F.H.G'!C6 -> 0 | BD10: Formation historique et géographique | BE10: Voir détail de compétences en commentaire | BJ10: ='F.H.G'!C7 -> 0 | BO10: Formation historique et géographique | BP10: Voir détail de compétences en commentaire | BU10: ='F.H.G'!C8 -> 0 | BZ10: Formation historique et géographique | CA10: Voir détail de compétences en commentaire | CF10: ='F.H.G'!N8 -> 0
A11: Religion | B11: Voir détail de compétences en commentaire | G11: =Religion!C2 -> 0 | L11: Religion | M11: Voir détail de compétences en commentaire | R11: =Religion!C3 -> 0 | W11: Religion | X11: Voir détail de compétences en commentaire | AC11: =Religion!C4 -> 0 | AH11: Religion | AI11: Voir détail de compétences en commentaire | AN11: =Religion!C5 -> 0 | AS11: Religion | AT11: Voir détail de compétences en commentaire | AY11: =Religion!C6 -> 0 | BD11: Religion | BE11: Voir détail de compétences en commentaire | BJ11: =Religion!C7 -> 0 | BO11: Religion | BP11: Voir détail de compétences en commentaire | BU11: =Religion!C8 -> 0 | BZ11: Religion | CA11: Voir détail de compétences en commentaire | CF11: =Religion!N8 -> 0
A12: Education physique | B12: Voir détail de compétences en commentaire | G12: ='Education Physique'!C2 -> 0 | L12: Education physique | M12: Voir détail de compétences en commentaire | R12: ='Education Physique'!C3 -> 0 | W12: Education physique | X12: Voir détail de compétences en commentaire | AC12: ='Education Physique'!C4 -> 0 | AH12: Education physique | AI12: Voir détail de compétences en commentaire | AN12: ='Education Physique'!C5 -> 0 | AS12: Education physique | AT12: Voir détail de compétences en commentaire | AY12: ='Education Physique'!C6 -> 0 | BD12: Education physique | BE12: Voir détail de compétences en commentaire | BJ12: ='Education Physique'!C7 -> 0 | BO12: Education physique | BP12: Voir détail de compétences en commentaire | BU12: ='Education Physique'!C8 -> 0 | BZ12: Education physique | CA12: Voir détail de compétences en commentaire | CF12: ='Education Physique'!N8 -> 0
A14: Remarque titulaire : | L14: Remarque titulaire : | W14: Remarque titulaire : | AH14: Remarque titulaire : | AS14: Remarque titulaire : | BD14: Remarque titulaire : | BO14: Remarque titulaire : | BZ14: Remarque titulaire :
C18: Signature de l'élève: | E18: Signature des parents: | G18: Signature du titulaire: | I18: Signature de la direction: | N18: Signature de l'élève: | P18: Signature des parents: | R18: Signature du titulaire: | T18: Signature de la direction: | Y18: Signature de l'élève: | AA18: Signature des parents: | AC18: Signature du titulaire: | AE18: Signature de la direction: | AJ18: Signature de l'élève: | AL18: Signature des parents: | AN18: Signature du titulaire: | AP18: Signature de la direction: | AU18: Signature de l'élève: | AW18: Signature des parents: | AY18: Signature du titulaire: | BA18: Signature de la direction: | BF18: Signature de l'élève: | BH18: Signature des parents: | BJ18: Signature du titulaire: | BL18: Signature de la direction: | BQ18: Signature de l'élève: | BS18: Signature des parents: | BU18: Signature du titulaire: | BW18: Signature de la direction: | CB18: Signature de l'élève: | CD18: Signature des parents: | CF18: Signature du titulaire: | CH18: Signature de la direction:

Sheet Commentaires BF1
F2: Kiara | N2: Christ | V2: Téoman | AD2: Nuno | AL2: Baptiste | AT2: Florian | BB2: Manon | BJ2: Marco
A4: Formation générale | I4: Formation générale | Q4: Formation générale | Y4: Formation générale | AG4: Formation générale | AO4: Formation générale | AW4: Formation générale | BE4: Formation générale
A6: Français | C6: =Fr!D2 -> 0 | I6: Français | K6: =Fr!D3 -> 0 | Q6: Français | S6: =Fr!D4 -> 0 | Y6: Français | AA6: =Fr!D5 -> 0 | AG6: Français | AI6: =Fr!D6 -> 0 | AO6: Français | AQ6: =Fr!D7 -> 0 | AW6: Français | AY6: =Fr!D8 -> 0 | BE6: Français | BG6: =Fr!D9 -> 0
A7: Néerlandais | C7: =Ndls!D2 -> 0 | I7: Néerlandais | K7: =Ndls!D3 -> 0 | Q7: Néerlandais | S7: =Ndls!D4 -> 0 | Y7: Néerlandais | AA7: =Ndls!D5 -> 0 | AG7: Néerlandais | AI7: =Ndls!D6 -> 0 | AO7: Néerlandais | AQ7: =Ndls!D7 -> 0 | AW7: Néerlandais | AY7: =Ndls!D8 -> 0 | BE7: Néerlandais | BG7: =Ndls!D9 -> 0
A8: Formation Sociale et Economique | C8: =FSE!D2 -> 0 | I8: Formation Sociale et Economique | K8: =FSE!D3 -> 0 | Q8: Formation Sociale et Economique | S8: =FSE!D4 -> 0 | Y8: Formation Sociale et Economique | AA8: =FSE!D5 -> 0 | AG8: Formation Sociale et Economique | AI8: =FSE!D6 -> 0 | AO8: Formation Sociale et Economique | AQ8: =FSE!D7 -> 0 | AW8: Formation Sociale et Economique | AY8: =FSE!D8 -> 0 | BE8: Formation Sociale et Economique | BG8: =FSE!D9 -> 0
A9: Formation scientifique | C9: =Sciences!D2 -> 0 | I9: Formation scientifique | K9: =Sciences!D3 -> 0 | Q9: Formation scientifique | S9: =Sciences!D8 -> 0 | Y9: Formation scientifique | AA9: =Sciences!D5 -> 0 | AG9: Formation scientifique | AI9: =Sciences!D6 -> 0 | AO9: Formation scientifique | AQ9: =Sciences!D7 -> 0 | AW9: Formation scientifique | AY9: =Sciences!D8 -> 0 | BE9: Formation scientifique | BG9: =Sciences!D9 -> 0
A10: Formation historique et géographique | C10: ='F.H.G'!D2 -> 0 | I10: Formation historique et géographique | K10: ='F.H.G'!D3 -> 0 | Q10: Formation historique et géographique | S10: ='F.H.G'!D4 -> 0 | Y10: Formation historique et géographique | AA10: ='F.H.G'!D5 -> 0 | AG10: Formation historique et géographique | AI10: ='F.H.G'!D6 -> 0 | AO10: Formation historique et géographique | AQ10: ='F.H.G'!D7 -> 0 | AW10: Formation historique et géographique | AY10: ='F.H.G'!D8 -> 0 | BE10: Formation historique et géographique | BG10: ='F.H.G'!D9 -> 0
A11: Religion | C11: =Religion!D2 -> 0 | I11: Religion | K11: =Religion!D3 -> 0 | Q11: Religion | S11: =Religion!D4 -> 0 | Y11: Religion | AA11: =Religion!D5 -> 0 | AG11: Religion | AI11: =Religion!D6 -> 0 | AO11: Religion | AQ11: =Religion!D7 -> 0 | AW11: Religion | AY11: =Religion!D8 -> 0 | BE11: Religion | BG11: =Religion!D9 -> 0
A12: Education physique | C12: ='Education Physique'!D2 -> 0 | I12: Education physique | K12: ='Education Physique'!D3 -> 0 | Q12: Education physique | S12: ='Education Physique'!D4 -> 0 | Y12: Education physique | AA12: ='Education Physique'!D5 -> 0 | AG12: Education physique | AI12: ='Education Physique'!D6 -> 0 | AO12: Education physique | AQ12: ='Education Physique'!D7 -> 0 | AW12: Education physique | AY12: ='Education Physique'!D8 -> 0 | BE12: Education physique | BG12: ='Education Physique'!D9 -> 0
A14: Option de base groupée | I14: Option de base groupée | Q14: Option de base groupée | Y14: Option de base groupée | AG14: Option de base groupée | AO14: Option de base groupée | AW14: Option de base groupée | BE14: Option de base groupée
A16: Technologie de la cuisine | C16: ='T. Cuisine'!D2 -> 0 | I16: Technologie de la cuisine | K16: ='T. Cuisine'!D3 -> 0 | Q16: Technologie de la cuisine | S16: ='T. Cuisine'!D4 -> 0 | Y16: Technologie de la cuisine | AA16: ='T. Cuisine'!D5 -> 0 | AG16: Technologie de la cuisine | AI16: ='T. Cuisine'!D6 -> 0 | AO16: Technologie de la cuisine | AQ16: ='T. Cuisine'!D7 -> 0 | AW16: Technologie de la cuisine | AY16: ='T. Cuisine'!D8 -> 0 | BE16: Technologie de la cuisine | BG16: ='T. Cuisine'!D9 -> 0
A17: Technologie de la salle | C17: ='T. Salle'!D2 -> 0 | I17: Technologie de la salle | K17: ='T. Salle'!D3 -> 0 | Q17: Technologie de la salle | S17: ='T. Salle'!D4 -> 0 | Y17: Technologie de la salle | AA17: ='T. Salle'!D5 -> 0 | AG17: Technologie de la salle | AI17: ='T. Salle'!D6 -> 0 | AO17: Technologie de la salle | AQ17: ='T. Salle'!D7 -> 0 | AW17: Technologie de la salle | AY17: ='T. Salle'!D8 -> 0 | BE17: Technologie de la salle | BG17: ='T. Salle'!D9 -> 0
A18: Anglais | C18: =Anglais!D2 -> 0 | I18: Anglais | K18: =Anglais!D3 -> 0 | Q18: Anglais | S18: =Anglais!D4 -> 0 | Y18: Anglais | AA18: =Anglais!D5 -> 0 | AG18: Anglais | AI18: =Anglais!D6 -> 0 | AO18: Anglais | AQ18: =Anglais!D7 -> 0 | AW18: Anglais | AY18: =Anglais!D8 -> 0 | BE18: Anglais | BG18: =Anglais!D9 -> 0

Sheet BF2
C1: Bulletin: | G1: Nom de l'élève: | I1: Bracciolano Kiara | N1: Bulletin: | R1: Nom de l'élève: | T1: Djoyoum Mba Christ | Y1: Bulletin: | AC1: Nom de l'élève: | AE1: Dogdu Téoman | AJ1: Bulletin: | AN1: Nom de l'élève: | AP1: Galo Nuno | AU1: Bulletin: | AY1: Nom de l'élève: | BA1: Liekens Baptiste | BF1: Bulletin: | BJ1: Nom de l'élève: | BL1: Piéltain Florian | BQ1: Bulletin: | BU1: Nom de l'élève: | BW1: Steens Manon | CB1: Bulletin: | CF1: Nom de l'élève: | CH1: Tomic Marco
A4: Formation générale | G4: BF1 | H4: BF2 | I4: BF3 | J4: BF4 | L4: Formation générale | R4: BF1 | S4: BF2 | T4: BF3 | U4: BF4 | W4: Formation générale | AC4: BF1 | AD4: BF2 | AE4: BF3 | AF4: BF4 | AH4: Formation générale | AN4: BF1 | AO4: BF2 | AP4: BF3 | AQ4: BF4 | AS4: Formation générale | AY4: BF1 | AZ4: BF2 | BA4: BF3 | BB4: BF4 | BD4: Formation générale | BJ4: BF1 | BK4: BF2 | BL4: BF3 | BM4: BF4 | BO4: Formation générale | BU4: BF1 | BV4: BF2 | BW4: BF3 | BX4: BF4 | BZ4: Formation générale | CF4: BF1 | CG4: BF2 | CH4: BF3 | CI4: BF4
A6: Français | B6: Voir détail de compétences en commentaire | G6: =Fr!C2 -> 0 | H6: =Fr!E2 -> 0 | L6: Français | M6: Voir détail de compétences en commentaire | R6: =Fr!C3 -> 0 | S6: =Fr!E3 -> 0 | W6: Français | X6: Voir détail de compétences en commentaire | AC6: =Fr!C4 -> 0 | AD6: =Fr!E4 -> 0 | AH6: Français | AI6: Voir détail de compétences en commentaire | AN6: =Fr!C5 -> 0 | AO6: =Fr!E5 -> 0 | AS6: Français | AT6: Voir détail de compétences en commentaire | AY6: =Fr!C6 -> 0 | AZ6: =Fr!E6 -> 0 | BD6: Français | BE6: Voir détail de compétences en commentaire | BJ6: =Fr!C7 -> 0 | BK6: =Fr!E7 -> 0 | BO6: Français | BP6: Voir détail de compétences en commentaire | BU6: =Fr!C8 -> 0 | BV6: =Fr!E8 -> 0 | BZ6: Français | CA6: Voir détail de compétences en commentaire | CF6: =Fr!C9 -> 0 | CG6: =Fr!E9 -> 0
A7: Néerlandais | B7: Voir détail de compétences en commentaire | G7: =Ndls!C2 -> 0 | H7: =Ndls!E2 -> 0 | L7: Néerlandais | M7: Voir détail de compétences en commentaire | R7: =Ndls!C3 -> 0 | S7: =Ndls!E3 -> 0 | W7: Néerlandais | X7: Voir détail de compétences en commentaire | AC7: =Ndls!C4 -> 0 | AD7: =Ndls!E4 -> 0 | AH7: Néerlandais | AI7: Voir détail de compétences en commentaire | AN7: =Ndls!C5 -> 0 | AO7: =Ndls!E5 -> 0 | AS7: Néerlandais | AT7: Voir détail de compétences en commentaire | AY7: =Ndls!C6 -> 0 | AZ7: =Ndls!E6 -> 0 | BD7: Néerlandais | BE7: Voir détail de compétences en commentaire | BJ7: =Ndls!C7 -> 0 | BK7: =Ndls!E7 -> 0 | BO7: Néerlandais | BP7: Voir détail de compétences en commentaire | BU7: =Ndls!C8 -> 0 | BV7: =Ndls!E8 -> 0 | BZ7: Néerlandais | CA7: Voir détail de compétences en commentaire | CF7: =Ndls!C9 -> 0 | CG7: =Ndls!E9 -> 0
A8: Formation Sociale et Economique | B8: Voir détail de compétences en commentaire | G8: =FSE!C2 -> 0 | H8: =FSE!E2 -> 0 | L8: Formation Sociale et Economique | M8: Voir détail de compétences en commentaire | R8: =FSE!C3 -> 0 | S8: =FSE!E3 -> 0 | W8: Formation Sociale et Economique | X8: Voir détail de compétences en commentaire | AC8: =FSE!C4 -> 0 | AD8: =FSE!E4 -> 0 | AH8: Formation Sociale et Economique | AI8: Voir détail de compétences en commentaire | AN8: =FSE!C5 -> 0 | AO8: =FSE!E5 -> 0 | AS8: Formation Sociale et Economique | AT8: Voir détail de compétences en commentaire | AY8: =FSE!C6 -> 0 | AZ8: =FSE!E6 -> 0 | BD8: Formation Sociale et Economique | BE8: Voir détail de compétences en commentaire | BJ8: =FSE!C7 -> 0 | BK8: =FSE!E7 -> 0 | BO8: Formation Sociale et Economique | BP8: Voir détail de compétences en commentaire | BU8: =FSE!C8 -> 0 | BV8: =FSE!E8 -> 0 | BZ8: Formation Sociale et Economique | CA8: Voir détail de compétences en commentaire | CF8: =FSE!N8 -> 0 | CG8: =FSE!P8 -> 0
A9: Formation scientifique | B9: Voir détail de compétences en commentaire | G9: =Sciences!C2 -> 0 | H9: =Sciences!E2 -> 0 | L9: Formation scientifique | M9: Voir détail de compétences en commentaire | R9: =Sciences!C3 -> 0 | S9: =Sciences!E3 -> 0 | W9: Formation scientifique | X9: Voir détail de compétences en commentaire | AC9: =Sciences!C4 -> 0 | AD9: =Sciences!E4 -> 0 | AH9: Formation scientifique | AI9: Voir détail de compétences en commentaire | AN9: =Sciences!C5 -> 0 | AO9: =Sciences!E5 -> 0 | AS9: Formation scientifique | AT9: Voir détail de compétences en commentaire | AY9: =Sciences!C6 -> 0 | AZ9: =Sciences!E6 -> 0 | BD9: Formation scientifique | BE9: Voir détail de compétences en commentaire | BJ9: =Sciences!C7 -> 0 | BK9: =Sciences!E7 -> 0 | BO9: Formation scientifique | BP9: Voir détail de compétences en commentaire | BU9: =Sciences!C8 -> 0 | BV9: =Sciences!E8 -> 0 | BZ9: Formation scientifique | CA9: Voir détail de compétences en commentaire | CF9: =Sciences!C9 -> 0 | CG9: =Sciences!E9 -> 0
A10: Formation historique et géographique | B10: Voir détail de compétences en commentaire | G10: ='F.H.G'!C2 -> 0 | H10: ='F.H.G'!E2 -> 0 | L10: Formation historique et géographique | M10: Voir détail de compétences en commentaire | R10: ='F.H.G'!C3 -> 0 | S10: ='F.H.G'!E3 -> 0 | W10: Formation historique et géographique | X10: Voir détail de compétences en commentaire | AC10: ='F.H.G'!C4 -> 0 | AD10: ='F.H.G'!E4 -> 0 | AH10: Formation historique et géographique | AI10: Voir détail de compétences en commentaire | AN10: ='F.H.G'!C5 -> 0 | AO10: ='F.H.G'!E5 -> 0 | AS10: Formation historique et géographique | AT10: Voir détail de compétences en commentaire | AY10: ='F.H.G'!C6 -> 0 | AZ10: ='F.H.G'!E6 -> 0 | BD10: Formation historique et géographique | BE10: Voir détail de compétences en commentaire | BJ10: ='F.H.G'!C7 -> 0 | BK10: ='F.H.G'!E7 -> 0 | BO10: Formation historique et géographique | BP10: Voir détail de compétences en commentaire | BU10: ='F.H.G'!C8 -> 0 | BV10: ='F.H.G'!E8 -> 0 | BZ10: Formation historique et géographique | CA10: Voir détail de compétences en commentaire | CF10: ='F.H.G'!N8 -> 0 | CG10: ='F.H.G'!P8 -> 0
A11: Religion | B11: Voir détail de compétences en commentaire | G11: =Religion!C2 -> 0 | H11: =Religion!E2 -> 0 | L11: Religion | M11: Voir détail de compétences en commentaire | R11: =Religion!C3 -> 0 | S11: =Religion!E3 -> 0 | W11: Religion | X11: Voir détail de compétences en commentaire | AC11: =Religion!C4 -> 0 | AD11: =Religion!E4 -> 0 | AH11: Religion | AI11: Voir détail de compétences en commentaire | AN11: =Religion!C5 -> 0 | AO11: =Religion!E5 -> 0 | AS11: Religion | AT11: Voir détail de compétences en commentaire | AY11: =Religion!C6 -> 0 | AZ11: =Religion!E6 -> 0 | BD11: Religion | BE11: Voir détail de compétences en commentaire | BJ11: =Religion!C7 -> 0 | BK11: =Religion!E7 -> 0 | BO11: Religion | BP11: Voir détail de compétences en commentaire | BU11: =Religion!C8 -> 0 | BV11: =Religion!E8 -> 0 | BZ11: Religion | CA11: Voir détail de compétences en commentaire | CF11: =Religion!N8 -> 0 | CG11: =Religion!P8 -> 0
A12: Education physique | B12: Voir détail de compétences en commentaire | G12: ='Education Physique'!C2 -> 0 | H12: ='Education Physique'!E2 -> 0 | L12: Education physique | M12: Voir détail de compétences en commentaire | R12: ='Education Physique'!C3 -> 0 | S12: ='Education Physique'!E3 -> 0 | W12: Education physique | X12: Voir détail de compétences en commentaire | AC12: ='Education Physique'!C4 -> 0 | AD12: ='Education Physique'!E4 -> 0 | AH12: Education physique | AI12: Voir détail de compétences en commentaire | AN12: ='Education Physique'!C5 -> 0 | AO12: ='Education Physique'!E5 -> 0 | AS12: Education physique | AT12: Voir détail de compétences en commentaire | AY12: ='Education Physique'!C6 -> 0 | AZ12: ='Education Physique'!E6 -> 0 | BD12: Education physique | BE12: Voir détail de compétences en commentaire | BJ12: ='Education Physique'!C7 -> 0 | BK12: ='Education Physique'!E7 -> 0 | BO12: Education physique | BP12: Voir détail de compétences en commentaire | BU12: ='Education Physique'!C8 -> 0 | BV12: ='Education Physique'!E8 -> 0 | BZ12: Education physique | CA12: Voir détail de compétences en commentaire | CF12: ='Education Physique'!N8 -> 0 | CG12: ='Education Physique'!P8 -> 0
A14: Remarque titulaire : | L14: Remarque titulaire : | W14: Remarque titulaire : | AH14: Remarque titulaire : | AS14: Remarque titulaire : | BD14: Remarque titulaire : | BO14: Remarque titulaire : | BZ14: Remarque titulaire :
C18: Signature de l'élève: | E18: Signature des parents: | G18: Signature du titulaire: | I18: Signature de la direction: | N18: Signature de l'élève: | P18: Signature des parents: | R18: Signature du titulaire: | T18: Signature de la direction: | Y18: Signature de l'élève: | AA18: Signature des parents: | AC18: Signature du titulaire: | AE18: Signature de la direction: | AJ18: Signature de l'élève: | AL18: Signature des parents: | AN18: Signature du titulaire: | AP18: Signature de la direction: | AU18: Signature de l'élève: | AW18: Signature des parents: | AY18: Signature du titulaire: | BA18: Signature de la direction: | BF18: Signature de l'élève: | BH18: Signature des parents: | BJ18: Signature du titulaire: | BL18: Signature de la direction: | BQ18: Signature de l'élève: | BS18: Signature des parents: | BU18: Signature du titulaire: | BW18: Signature de la direction: | CB18: Signature de l'élève: | CD18: Signature des parents: | CF18: Signature du titulaire: | CH18: Signature de la direction:

Sheet Commentaires BF2
F2: Kiara | N2: Christ | V2: Téoman | AD2: Nuno | AL2: Baptiste | AT2: Florian | BB2: Manon | BJ2: Marco
A4: Formation générale | I4: Formation générale | Q4: Formation générale | Y4: Formation générale | AG4: Formation générale | AO4: Formation générale | AW4: Formation générale | BE4: Formation générale
A6: Français | C6: =Fr!F2 -> 0 | I6: Français | K6: =Fr!F3 -> 0 | Q6: Français | S6: =Fr!F4 -> 0 | Y6: Français | AA6: =Fr!F5 -> 0 | AG6: Français | AI6: =Fr!F6 -> 0 | AO6: Français | AQ6: =Fr!F7 -> 0 | AW6: Français | AY6: =Fr!F8 -> 0 | BE6: Français | BG6: =Fr!F9 -> 0
A7: Néerlandais | C7: =Ndls!F2 -> 0 | I7: Néerlandais | K7: =Ndls!F3 -> 0 | Q7: Néerlandais | S7: =Ndls!F4 -> 0 | Y7: Néerlandais | AA7: =Ndls!F5 -> 0 | AG7: Néerlandais | AI7: =Ndls!F6 -> 0 | AO7: Néerlandais | AQ7: =Ndls!F7 -> 0 | AW7: Néerlandais | AY7: =Ndls!F8 -> 0 | BE7: Néerlandais | BG7: =Ndls!F9 -> 0
A8: Formation Sociale et Economique | C8: =FSE!F2 -> 0 | I8: Formation Sociale et Economique | K8: =FSE!F3 -> 0 | Q8: Formation Sociale et Economique | S8: =FSE!F4 -> 0 | Y8: Formation Sociale et Economique | AA8: =FSE!F5 -> 0 | AG8: Formation Sociale et Economique | AI8: =FSE!F6 -> 0 | AO8: Formation Sociale et Economique | AQ8: =FSE!F7 -> 0 | AW8: Formation Sociale et Economique | AY8: =FSE!F8 -> 0 | BE8: Formation Sociale et Economique | BG8: =FSE!F9 -> 0
A9: Formation scientifique | C9: =Sciences!F2 -> 0 | I9: Formation scientifique | K9: =Sciences!F3 -> 0 | Q9: Formation scientifique | S9: =Sciences!F4 -> 0 | Y9: Formation scientifique | AA9: =Sciences!F5 -> 0 | AG9: Formation scientifique | AI9: =Sciences!F6 -> 0 | AO9: Formation scientifique | AQ9: =Sciences!F7 -> 0 | AW9: Formation scientifique | AY9: =Sciences!F8 -> 0 | BE9: Formation scientifique | BG9: =Sciences!F9 -> 0
A10: Formation historique et géographique | C10: ='F.H.G'!F2 -> 0 | I10: Formation historique et géographique | K10: ='F.H.G'!F3 -> 0 | Q10: Formation historique et géographique | S10: ='F.H.G'!F4 -> 0 | Y10: Formation historique et géographique | AA10: ='F.H.G'!F5 -> 0 | AG10: Formation historique et géographique | AI10: ='F.H.G'!F6 -> 0 | AO10: Formation historique et géographique | AQ10: ='F.H.G'!F7 -> 0 | AW10: Formation historique et géographique | AY10: ='F.H.G'!F8 -> 0 | BE10: Formation historique et géographique | BG10: ='F.H.G'!F9 -> 0
A11: Religion | C11: =Religion!F2 -> 0 | I11: Religion | K11: =Religion!F3 -> 0 | Q11: Religion | S11: =Religion!F4 -> 0 | Y11: Religion | AA11: =Religion!F5 -> 0 | AG11: Religion | AI11: =Religion!F6 -> 0 | AO11: Religion | AQ11: =Religion!F7 -> 0 | AW11: Religion | AY11: =Religion!F8 -> 0 | BE11: Religion | BG11: =Religion!F9 -> 0
A12: Education physique | C12: ='Education Physique'!F2 -> 0 | I12: Education physique | K12: ='Education Physique'!F3 -> 0 | Q12: Education physique | S12: ='Education Physique'!F4 -> 0 | Y12: Education physique | AA12: ='Education Physique'!F5 -> 0 | AG12: Education physique | AI12: ='Education Physique'!F6 -> 0 | AO12: Education physique | AQ12: ='Education Physique'!F7 -> 0 | AW12: Education physique | AY12: ='Education Physique'!F8 -> 0 | BE12: Education physique | BG12: ='Education Physique'!F9 -> 0
A14: Option de base groupée | I14: Option de base groupée | Q14: Option de base groupée | Y14: Option de base groupée | AG14: Option de base groupée | AO14: Option de base groupée | AW14: Option de base groupée | BE14: Option de base groupée
A16: Technologie de la cuisine | C16: ='T. Cuisine'!F2 -> 0 | I16: Technologie de la cuisine | K16: ='T. Cuisine'!F3 -> 0 | Q16: Technologie de la cuisine | S16: ='T. Cuisine'!F4 -> 0 | Y16: Technologie de la cuisine | AA16: ='T. Cuisine'!F5 -> 0 | AG16: Technologie de la cuisine | AI16: ='T. Cuisine'!F6 -> 0 | AO16: Technologie de la cuisine | AQ16: ='T. Cuisine'!F7 -> 0 | AW16: Technologie de la cuisine | AY16: ='T. Cuisine'!F8 -> 0 | BE16: Technologie de la cuisine | BG16: ='T. Cuisine'!F9 -> 0
A17: Technologie de la salle | C17: ='T. Salle'!F2 -> 0 | I17: Technologie de la salle | K17: ='T. Salle'!F3 -> 0 | Q17: Technologie de la salle | S17: ='T. Salle'!F4 -> 0 | Y17: Technologie de la salle | AA17: ='T. Salle'!F5 -> 0 | AG17: Technologie de la salle | AI17: ='T. Salle'!F6 -> 0 | AO17: Technologie de la salle | AQ17: ='T. Salle'!F7 -> 0 | AW17: Technologie de la salle | AY17: ='T. Salle'!F8 -> 0 | BE17: Technologie de la salle | BG17: ='T. Salle'!F9 -> 0
A18: Anglais | C18: =Anglais!F2 -> 0 | I18: Anglais | K18: =Anglais!F3 -> 0 | Q18: Anglais | S18: =Anglais!F4 -> 0 | Y18: Anglais | AA18: =Anglais!F5 -> 0 | AG18: Anglais | AI18: =Anglais!F6 -> 0 | AO18: Anglais | AQ18: =Anglais!F7 -> 0 | AW18: Anglais | AY18: =Anglais!F8 -> 0 | BE18: Anglais | BG18: =Anglais!F9 -> 0

Sheet BF3
C1: Bulletin: | G1: Nom de l'élève: | I1: Bracciolano Kiara | N1: Bulletin: | R1: Nom de l'élève: | T1: Djoyoum Mba Christ | Y1: Bulletin: | AC1: Nom de l'élève: | AE1: Dogdu Téoman | AJ1: Bulletin: | AN1: Nom de l'élève: | AP1: Galo Nuno | AU1: Bulletin: | AY1: Nom de l'élève: | BA1: Liekens Baptiste | BF1: Bulletin: | BJ1: Nom de l'élève: | BL1: Piéltain Florian | BQ1: Bulletin: | BU1: Nom de l'élève: | BW1: Steens Manon | CB1: Bulletin: | CF1: Nom de l'élève: | CH1: Tomic Marco
A4: Formation générale | G4: BF1 | H4: BF2 | I4: BF3 | J4: BF4 | L4: Formation générale | R4: BF1 | S4: BF2 | T4: BF3 | U4: BF4 | W4: Formation générale | AC4: BF1 | AD4: BF2 | AE4: BF3 | AF4: BF4 | AH4: Formation générale | AN4: BF1 | AO4: BF2 | AP4: BF3 | AQ4: BF4 | AS4: Formation générale | AY4: BF1 | AZ4: BF2 | BA4: BF3 | BB4: BF4 | BD4: Formation générale | BJ4: BF1 | BK4: BF2 | BL4: BF3 | BM4: BF4 | BO4: Formation générale | BU4: BF1 | BV4: BF2 | BW4: BF3 | BX4: BF4 | BZ4: Formation générale | CF4: BF1 | CG4: BF2 | CH4: BF3 | CI4: BF4
A6: Français | B6: Voir détail de compétences en commentaire | G6: =Fr!C2 -> 0 | H6: =Fr!E2 -> 0 | I6: =Fr!G2 -> 0 | L6: Français | M6: Voir détail de compétences en commentaire | R6: =Fr!C3 -> 0 | S6: =Fr!E3 -> 0 | T6: =Fr!G3 -> 0 | W6: Français | X6: Voir détail de compétences en commentaire | AC6: =Fr!C4 -> 0 | AD6: =Fr!E4 -> 0 | AE6: =Fr!G4 -> 0 | AH6: Français | AI6: Voir détail de compétences en commentaire | AN6: =Fr!C5 -> 0 | AO6: =Fr!E5 -> 0 | AP6: =Fr!G5 -> 0 | AS6: Français | AT6: Voir détail de compétences en commentaire | AY6: =Fr!C6 -> 0 | AZ6: =Fr!E6 -> 0 | BA6: =Fr!G6 -> 0 | BD6: Français | BE6: Voir détail de compétences en commentaire | BJ6: =Fr!C7 -> 0 | BK6: =Fr!E7 -> 0 | BL6: =Fr!G7 -> 0 | BO6: Français | BP6: Voir détail de compétences en commentaire | BU6: =Fr!C8 -> 0 | BV6: =Fr!E8 -> 0 | BW6: =Fr!G8 -> 0 | BZ6: Français | CA6: Voir détail de compétences en commentaire | CF6: =Fr!C9 -> 0 | CG6: =Fr!E9 -> 0 | CH6: =Fr!G9 -> 0
A7: Néerlandais | B7: Voir détail de compétences en commentaire | G7: =Ndls!C2 -> 0 | H7: =Ndls!E2 -> 0 | I7: =Ndls!G2 -> 0 | L7: Néerlandais | M7: Voir détail de compétences en commentaire | R7: =Ndls!C3 -> 0 | S7: =Ndls!E3 -> 0 | T7: =Ndls!G3 -> 0 | W7: Néerlandais | X7: Voir détail de compétences en commentaire | AC7: =Ndls!C4 -> 0 | AD7: =Ndls!E4 -> 0 | AE7: =Ndls!G4 -> 0 | AH7: Néerlandais | AI7: Voir détail de compétences en commentaire | AN7: =Ndls!C5 -> 0 | AO7: =Ndls!E5 -> 0 | AP7: =Ndls!HG5 -> 0 | AS7: Néerlandais | AT7: Voir détail de compétences en commentaire | AY7: =Ndls!C6 -> 0 | AZ7: =Ndls!E6 -> 0 | BA7: =Ndls!G6 -> 0 | BD7: Néerlandais | BE7: Voir détail de compétences en commentaire | BJ7: =Ndls!C7 -> 0 | BK7: =Ndls!E7 -> 0 | BL7: =Ndls!G7 -> 0 | BO7: Néerlandais | BP7: Voir détail de compétences en commentaire | BU7: =Ndls!C8 -> 0 | BV7: =Ndls!E8 -> 0 | BW7: =Ndls!G8 -> 0 | BZ7: Néerlandais | CA7: Voir détail de compétences en commentaire | CF7: =Ndls!C9 -> 0 | CG7: =Ndls!E9 -> 0 | CH7: =Ndls!G9 -> 0
A8: Formation Sociale et Economique | B8: Voir détail de compétences en commentaire | G8: =FSE!C2 -> 0 | H8: =FSE!E2 -> 0 | I8: =FSE!G2 -> 0 | L8: Formation Sociale et Economique | M8: Voir détail de compétences en commentaire | R8: =FSE!C3 -> 0 | S8: =FSE!E3 -> 0 | T8: =FSE!G3 -> 0 | W8: Formation Sociale et Economique | X8: Voir détail de compétences en commentaire | AC8: =FSE!C4 -> 0 | AD8: =FSE!E4 -> 0 | AE8: =FSE!G4 -> 0 | AH8: Formation Sociale et Economique | AI8: Voir détail de compétences en commentaire | AN8: =FSE!C5 -> 0 | AO8: =FSE!E5 -> 0 | AP8: =FSE!G5 -> 0 | AS8: Formation Sociale et Economique | AT8: Voir détail de compétences en commentaire | AY8: =FSE!C6 -> 0 | AZ8: =FSE!E6 -> 0 | BA8: =FSE!G6 -> 0 | BD8: Formation Sociale et Economique | BE8: Voir détail de compétences en commentaire | BJ8: =FSE!C7 -> 0 | BK8: =FSE!E7 -> 0 | BL8: =FSE!G7 -> 0 | BO8: Formation Sociale et Economique | BP8: Voir détail de compétences en commentaire | BU8: =FSE!C8 -> 0 | BV8: =FSE!E8 -> 0 | BW8: =FSE!G8 -> 0 | BZ8: Formation Sociale et Economique | CA8: Voir détail de compétences en commentaire | CF8: =FSE!N8 -> 0 | CG8: =FSE!P8 -> 0 | CH8: =FSE!R8 -> 0
A9: Formation scientifique | B9: Voir détail de compétences en commentaire | G9: =Sciences!C2 -> 0 | H9: =Sciences!E2 -> 0 | I9: =Sciences!G2 -> 0 | L9: Formation scientifique | M9: Voir détail de compétences en commentaire | R9: =Sciences!C3 -> 0 | S9: =Sciences!E3 -> 0 | T9: =Sciences!G3 -> 0 | W9: Formation scientifique | X9: Voir détail de compétences en commentaire | AC9: =Sciences!C4 -> 0 | AD9: =Sciences!E4 -> 0 | AE9: =Sciences!G4 -> 0 | AH9: Formation scientifique | AI9: Voir détail de compétences en commentaire | AN9: =Sciences!C5 -> 0 | AO9: =Sciences!E5 -> 0 | AP9: =Sciences!HG5 -> 0 | AS9: Formation scientifique | AT9: Voir détail de compétences en commentaire | AY9: =Sciences!C6 -> 0 | AZ9: =Sciences!E6 -> 0 | BA9: =Sciences!G6 -> 0 | BD9: Formation scientifique | BE9: Voir détail de compétences en commentaire | BJ9: =Sciences!C7 -> 0 | BK9: =Sciences!E7 -> 0 | BL9: =Sciences!G7 -> 0 | BO9: Formation scientifique | BP9: Voir détail de compétences en commentaire | BU9: =Sciences!C8 -> 0 | BV9: =Sciences!E8 -> 0 | BW9: =Sciences!G8 -> 0 | BZ9: Formation scientifique | CA9: Voir détail de compétences en commentaire | CF9: =Sciences!C9 -> 0 | CG9: =Sciences!E9 -> 0 | CH9: =Sciences!G9 -> 0
A10: Formation historique et géographique | B10: Voir détail de compétences en commentaire | G10: ='F.H.G'!C2 -> 0 | H10: ='F.H.G'!E2 -> 0 | I10: ='F.H.G'!G2 -> 0 | L10: Formation historique et géographique | M10: Voir détail de compétences en commentaire | R10: ='F.H.G'!C3 -> 0 | S10: ='F.H.G'!E3 -> 0 | T10: ='F.H.G'!G3 -> 0 | W10: Formation historique et géographique | X10: Voir détail de compétences en commentaire | AC10: ='F.H.G'!C4 -> 0 | AD10: ='F.H.G'!E4 -> 0 | AE10: ='F.H.G'!G4 -> 0 | AH10: Formation historique et géographique | AI10: Voir détail de compétences en commentaire | AN10: ='F.H.G'!C5 -> 0 | AO10: ='F.H.G'!E5 -> 0 | AP10: ='F.H.G'!G5 -> 0 | AS10: Formation historique et géographique | AT10: Voir détail de compétences en commentaire | AY10: ='F.H.G'!C6 -> 0 | AZ10: ='F.H.G'!E6 -> 0 | BA10: ='F.H.G'!G6 -> 0 | BD10: Formation historique et géographique | BE10: Voir détail de compétences en commentaire | BJ10: ='F.H.G'!C7 -> 0 | BK10: ='F.H.G'!E7 -> 0 | BL10: ='F.H.G'!G7 -> 0 | BO10: Formation historique et géographique | BP10: Voir détail de compétences en commentaire | BU10: ='F.H.G'!C8 -> 0 | BV10: ='F.H.G'!E8 -> 0 | BW10: ='F.H.G'!G8 -> 0 | BZ10: Formation historique et géographique | CA10: Voir détail de compétences en commentaire | CF10: ='F.H.G'!N8 -> 0 | CG10: ='F.H.G'!P8 -> 0 | CH10: ='F.H.G'!R8 -> 0
A11: Religion | B11: Voir détail de compétences en commentaire | G11: =Religion!C2 -> 0 | H11: =Religion!E2 -> 0 | I11: =Religion!G2 -> 0 | L11: Religion | M11: Voir détail de compétences en commentaire | R11: =Religion!C3 -> 0 | S11: =Religion!E3 -> 0 | T11: =Religion!G3 -> 0 | W11: Religion | X11: Voir détail de compétences en commentaire | AC11: =Religion!C4 -> 0 | AD11: =Religion!E4 -> 0 | AE11: =Religion!G4 -> 0 | AH11: Religion | AI11: Voir détail de compétences en commentaire | AN11: =Religion!C5 -> 0 | AO11: =Religion!E5 -> 0 | AP11: =Religion!G5 -> 0 | AS11: Religion | AT11: Voir détail de compétences en commentaire | AY11: =Religion!C6 -> 0 | AZ11: =Religion!E6 -> 0 | BA11: =Religion!G6 -> 0 | BD11: Religion | BE11: Voir détail de compétences en commentaire | BJ11: =Religion!C7 -> 0 | BK11: =Religion!E7 -> 0 | BL11: =Religion!G7 -> 0 | BO11: Religion | BP11: Voir détail de compétences en commentaire | BU11: =Religion!C8 -> 0 | BV11: =Religion!E8 -> 0 | BW11: =Religion!G8 -> 0 | BZ11: Religion | CA11: Voir détail de compétences en commentaire | CF11: =Religion!N8 -> 0 | CG11: =Religion!P8 -> 0 | CH11: =Religion!R8 -> 0
A12: Education physique | B12: Voir détail de compétences en commentaire | G12: ='Education Physique'!C2 -> 0 | H12: ='Education Physique'!E2 -> 0 | I12: ='Education Physique'!G2 -> 0 | L12: Education physique | M12: Voir détail de compétences en commentaire | R12: ='Education Physique'!C3 -> 0 | S12: ='Education Physique'!E3 -> 0 | T12: ='Education Physique'!G3 -> 0 | W12: Education physique | X12: Voir détail de compétences en commentaire | AC12: ='Education Physique'!C4 -> 0 | AD12: ='Education Physique'!E4 -> 0 | AE12: ='Education Physique'!G4 -> 0 | AH12: Education physique | AI12: Voir détail de compétences en commentaire | AN12: ='Education Physique'!C5 -> 0 | AO12: ='Education Physique'!E5 -> 0 | AP12: ='Education Physique'!G5 -> 0 | AS12: Education physique | AT12: Voir détail de compétences en commentaire | AY12: ='Education Physique'!C6 -> 0 | AZ12: ='Education Physique'!E6 -> 0 | BA12: ='Education Physique'!G6 -> 0 | BD12: Education physique | BE12: Voir détail de compétences en commentaire | BJ12: ='Education Physique'!C7 -> 0 | BK12: ='Education Physique'!E7 -> 0 | BL12: ='Education Physique'!G7 -> 0 | BO12: Education physique | BP12: Voir détail de compétences en commentaire | BU12: ='Education Physique'!C8 -> 0 | BV12: ='Education Physique'!E8 -> 0 | BW12: ='Education Physique'!G8 -> 0 | BZ12: Education physique | CA12: Voir détail de compétences en commentaire | CF12: ='Education Physique'!N8 -> 0 | CG12: ='Education Physique'!P8 -> 0 | CH12: ='Education Physique'!R8 -> 0
A14: Remarque titulaire : | L14: Remarque titulaire : | W14: Remarque titulaire : | AH14: Remarque titulaire : | AS14: Remarque titulaire : | BD14: Remarque titulaire : | BO14: Remarque titulaire : | BZ14: Remarque titulaire :
C18: Signature de l'élève: | E18: Signature des parents: | G18: Signature du titulaire: | I18: Signature de la direction: | N18: Signature de l'élève: | P18: Signature des parents: | R18: Signature du titulaire: | T18: Signature de la direction: | Y18: Signature de l'élève: | AA18: Signature des parents: | AC18: Signature du titulaire: | AE18: Signature de la direction: | AJ18: Signature de l'élève: | AL18: Signature des parents: | AN18: Signature du titulaire: | AP18: Signature de la direction: | AU18: Signature de l'élève: | AW18: Signature des parents: | AY18: Signature du titulaire: | BA18: Signature de la direction: | BF18: Signature de l'élève: | BH18: Signature des parents: | BJ18: Signature du titulaire: | BL18: Signature de la direction: | BQ18: Signature de l'élève: | BS18: Signature des parents: | BU18: Signature du titulaire: | BW18: Signature de la direction: | CB18: Signature de l'élève: | CD18: Signature des parents: | CF18: Signature du titulaire: | CH18: Signature de la direction:

Sheet Commentaires BF3
F2: Kiara | N2: Christ | V2: Téoman | AD2: Nuno | AL2: Baptiste | AT2: Florian | BB2: Manon | BJ2: Marco
A4: Formation générale | I4: Formation générale | Q4: Formation générale | Y4: Formation générale | AG4: Formation générale | AO4: Formation générale | AW4: Formation générale | BE4: Formation générale
A6: Français | C6: =Fr!H2 -> 0 | I6: Français | K6: =Fr!H3 -> 0 | Q6: Français | S6: =Fr!H4 -> 0 | Y6: Français | AA6: =Fr!H5 -> 0 | AG6: Français | AI6: =Fr!H6 -> 0 | AO6: Français | AQ6: =Fr!H7 -> 0 | AW6: Français | AY6: =Fr!H8 -> 0 | BE6: Français | BG6: =Fr!H9 -> 0
A7: Néerlandais | C7: =Ndls!H2 -> 0 | I7: Néerlandais | K7: =Ndls!H3 -> 0 | Q7: Néerlandais | S7: =Ndls!H4 -> 0 | Y7: Néerlandais | AA7: =Ndls!H5 -> 0 | AG7: Néerlandais | AI7: =Ndls!H6 -> 0 | AO7: Néerlandais | AQ7: =Ndls!H7 -> 0 | AW7: Néerlandais | AY7: =Ndls!H8 -> 0 | BE7: Néerlandais | BG7: =Ndls!H9 -> 0
A8: Formation Sociale et Economique | C8: =FSE!H2 -> 0 | I8: Formation Sociale et Economique | K8: =FSE!H3 -> 0 | Q8: Formation Sociale et Economique | S8: =FSE!H4 -> 0 | Y8: Formation Sociale et Economique | AA8: =FSE!H5 -> 0 | AG8: Formation Sociale et Economique | AI8: =FSE!H6 -> 0 | AO8: Formation Sociale et Economique | AQ8: =FSE!H7 -> 0 | AW8: Formation Sociale et Economique | AY8: =FSE!H8 -> 0 | BE8: Formation Sociale et Economique | BG8: =FSE!H9 -> 0
A9: Formation scientifique | C9: =Sciences!H2 -> 0 | I9: Formation scientifique | K9: =Sciences!H3 -> 0 | Q9: Formation scientifique | S9: =Sciences!H4 -> 0 | Y9: Formation scientifique | AA9: =Sciences!H5 -> 0 | AG9: Formation scientifique | AI9: =Sciences!H6 -> 0 | AO9: Formation scientifique | AQ9: =Sciences!H7 -> 0 | AW9: Formation scientifique | AY9: =Sciences!H8 -> 0 | BE9: Formation scientifique | BG9: =Sciences!H9 -> 0
A10: Formation historique et géographique | C10: ='F.H.G'!H2 -> 0 | I10: Formation historique et géographique | K10: ='F.H.G'!H3 -> 0 | Q10: Formation historique et géographique | S10: ='F.H.G'!H4 -> 0 | Y10: Formation historique et géographique | AA10: ='F.H.G'!H5 -> 0 | AG10: Formation historique et géographique | AI10: ='F.H.G'!H6 -> 0 | AO10: Formation historique et géographique | AQ10: ='F.H.G'!H7 -> 0 | AW10: Formation historique et géographique | AY10: ='F.H.G'!H8 -> 0 | BE10: Formation historique et géographique | BG10: ='F.H.G'!H9 -> 0
A11: Religion | C11: =Religion!H2 -> 0 | I11: Religion | K11: =Religion!H3 -> 0 | Q11: Religion | S11: =Religion!H4 -> 0 | Y11: Religion | AA11: =Religion!H5 -> 0 | AG11: Religion | AI11: =Religion!H6 -> 0 | AO11: Religion | AQ11: =Religion!H7 -> 0 | AW11: Religion | AY11: =Religion!H8 -> 0 | BE11: Religion | BG11: =Religion!H9 -> 0
A12: Education physique | C12: ='Education Physique'!H2 -> 0 | I12: Education physique | K12: ='Education Physique'!H3 -> 0 | Q12: Education physique | S12: ='Education Physique'!H4 -> 0 | Y12: Education physique | AA12: ='Education Physique'!H5 -> 0 | AG12: Education physique | AI12: ='Education Physique'!H6 -> 0 | AO12: Education physique | AQ12: ='Education Physique'!H7 -> 0 | AW12: Education physique | AY12: ='Education Physique'!H8 -> 0 | BE12: Education physique | BG12: ='Education Physique'!H9 -> 0
A14: Option de base groupée | I14: Option de base groupée | Q14: Option de base groupée | Y14: Option de base groupée | AG14: Option de base groupée | AO14: Option de base groupée | AW14: Option de base groupée | BE14: Option de base groupée
A16: Technologie de la cuisine | C16: ='T. Cuisine'!H2 -> 0 | I16: Technologie de la cuisine | K16: ='T. Cuisine'!H3 -> 0 | Q16: Technologie de la cuisine | S16: ='T. Cuisine'!H4 -> 0 | Y16: Technologie de la cuisine | AA16: ='T. Cuisine'!H5 -> 0 | AG16: Technologie de la cuisine | AI16: ='T. Cuisine'!H6 -> 0 | AO16: Technologie de la cuisine | AQ16: ='T. Cuisine'!H7 -> 0 | AW16: Technologie de la cuisine | AY16: ='T. Cuisine'!H8 -> 0 | BE16: Technologie de la cuisine | BG16: ='T. Cuisine'!H9 -> 0
A17: Technologie de la salle | C17: ='T. Salle'!H2 -> 0 | I17: Technologie de la salle | K17: ='T. Salle'!H3 -> 0 | Q17: Technologie de la salle | S17: ='T. Salle'!H4 -> 0 | Y17: Technologie de la salle | AA17: ='T. Salle'!H5 -> 0 | AG17: Technologie de la salle | AI17: ='T. Salle'!H6 -> 0 | AO17: Technologie de la salle | AQ17: ='T. Salle'!H7 -> 0 | AW17: Technologie de la salle | AY17: ='T. Salle'!H8 -> 0 | BE17: Technologie de la salle | BG17: ='T. Salle'!H9 -> 0
A18: Anglais | C18: =Anglais!H2 -> 0 | I18: Anglais | K18: =Anglais!H3 -> 0 | Q18: Anglais | S18: =Anglais!H4 -> 0 | Y18: Anglais | AA18: =Anglais!H5 -> 0 | AG18: Anglais | AI18: =Anglais!H6 -> 0 | AO18: Anglais | AQ18: =Anglais!H7 -> 0 | AW18: Anglais | AY18: =Anglais!H8 -> 0 | BE18: Anglais | BG18: =Anglais!H9 -> 0

Sheet BF4
C1: Bulletin: | G1: Nom de l'élève: | I1: Bracciolano Kiara | N1: Bulletin: | R1: Nom de l'élève: | T1: Djoyoum Mba Christ | Y1: Bulletin: | AC1: Nom de l'élève: | AE1: Dogdu Téoman | AJ1: Bulletin: | AN1: Nom de l'élève: | AP1: Galo Nuno | AU1: Bulletin: | AY1: Nom de l'élève: | BA1: Liekens Baptiste | BF1: Bulletin: | BJ1: Nom de l'élève: | BL1: Piéltain Florian | BQ1: Bulletin: | BU1: Nom de l'élève: | BW1: Steens Manon | CB1: Bulletin: | CF1: Nom de l'élève: | CH1: Tomic Marco
A4: Formation générale | G4: BF1 | H4: BF2 | I4: BF3 | J4: BF4 | L4: Formation générale | R4: BF1 | S4: BF2 | T4: BF3 | U4: BF4 | W4: Formation générale | AC4: BF1 | AD4: BF2 | AE4: BF3 | AF4: BF4 | AH4: Formation générale | AN4: BF1 | AO4: BF2 | AP4: BF3 | AQ4: BF4 | AS4: Formation générale | AY4: BF1 | AZ4: BF2 | BA4: BF3 | BB4: BF4 | BD4: Formation générale | BJ4: BF1 | BK4: BF2 | BL4: BF3 | BM4: BF4 | BO4: Formation générale | BU4: BF1 | BV4: BF2 | BW4: BF3 | BX4: BF4 | BZ4: Formation générale | CF4: BF1 | CG4: BF2 | CH4: BF3 | CI4: BF4
A6: Français | B6: Voir détail de compétences en commentaire | G6: =Fr!C2 -> 0 | H6: =Fr!E2 -> 0 | I6: =Fr!G2 -> 0 | J6: =Fr!I2 -> 0 | L6: Français | M6: Voir détail de compétences en commentaire | R6: =Fr!C3 -> 0 | S6: =Fr!E3 -> 0 | T6: =Fr!G3 -> 0 | U6: =Fr!I3 -> 0 | W6: Français | X6: Voir détail de compétences en commentaire | AC6: =Fr!C4 -> 0 | AD6: =Fr!E4 -> 0 | AE6: =Fr!G4 -> 0 | AF6: =Fr!I4 -> 0 | AH6: Français | AI6: Voir détail de compétences en commentaire | AN6: =Fr!C5 -> 0 | AO6: =Fr!E5 -> 0 | AP6: =Fr!G5 -> 0 | AQ6: =Fr!I5 -> 0 | AS6: Français | AT6: Voir détail de compétences en commentaire | AY6: =Fr!C6 -> 0 | AZ6: =Fr!E6 -> 0 | BA6: =Fr!G6 -> 0 | BB6: =Fr!I6 -> 0 | BD6: Français | BE6: Voir détail de compétences en commentaire | BJ6: =Fr!C7 -> 0 | BK6: =Fr!E7 -> 0 | BL6: =Fr!G7 -> 0 | BM6: =Fr!I7 -> 0 | BO6: Français | BP6: Voir détail de compétences en commentaire | BU6: =Fr!C8 -> 0 | BV6: =Fr!E8 -> 0 | BW6: =Fr!G8 -> 0 | BX6: =Fr!I8 -> 0 | BZ6: Français | CA6: Voir détail de compétences en commentaire | CF6: =Fr!C9 -> 0 | CG6: =Fr!E9 -> 0 | CH6: =Fr!G9 -> 0 | CI6: =Fr!I9 -> 0
A7: Néerlandais | B7: Voir détail de compétences en commentaire | G7: =Ndls!C2 -> 0 | H7: =Ndls!E2 -> 0 | I7: =Ndls!G2 -> 0 | J7: =Ndls!I2 -> 0 | L7: Néerlandais | M7: Voir détail de compétences en commentaire | R7: =Ndls!C3 -> 0 | S7: =Ndls!E3 -> 0 | T7: =Ndls!G3 -> 0 | U7: =Ndls!I3 -> 0 | W7: Néerlandais | X7: Voir détail de compétences en commentaire | AC7: =Ndls!C4 -> 0 | AD7: =Ndls!E4 -> 0 | AE7: =Ndls!G4 -> 0 | AF7: =Ndls!I4 -> 0 | AH7: Néerlandais | AI7: Voir détail de compétences en commentaire | AN7: =Ndls!C5 -> 0 | AO7: =Ndls!E5 -> 0 | AP7: =Ndls!HG5 -> 0 | AQ7: =Ndls!I5 -> 0 | AS7: Néerlandais | AT7: Voir détail de compétences en commentaire | AY7: =Ndls!C6 -> 0 | AZ7: =Ndls!E6 -> 0 | BA7: =Ndls!G6 -> 0 | BB7: =Ndls!I6 -> 0 | BD7: Néerlandais | BE7: Voir détail de compétences en commentaire | BJ7: =Ndls!C7 -> 0 | BK7: =Ndls!E7 -> 0 | BL7: =Ndls!G7 -> 0 | BM7: =Ndls!I7 -> 0 | BO7: Néerlandais | BP7: Voir détail de compétences en commentaire | BU7: =Ndls!C8 -> 0 | BV7: =Ndls!E8 -> 0 | BW7: =Ndls!G8 -> 0 | BX7: =Ndls!I8 -> 0 | BZ7: Néerlandais | CA7: Voir détail de compétences en commentaire | CF7: =Ndls!C9 -> 0 | CG7: =Ndls!E9 -> 0 | CH7: =Ndls!G9 -> 0 | CI7: =Ndls!I9 -> 0
A8: Formation Sociale et Economique | B8: Voir détail de compétences en commentaire | G8: =FSE!C2 -> 0 | H8: =FSE!E2 -> 0 | I8: =FSE!G2 -> 0 | J8: =FSE!I2 -> 0 | L8: Formation Sociale et Economique | M8: Voir détail de compétences en commentaire | R8: =FSE!C3 -> 0 | S8: =FSE!E3 -> 0 | T8: =FSE!G3 -> 0 | U8: =FSE!I3 -> 0 | W8: Formation Sociale et Economique | X8: Voir détail de compétences en commentaire | AC8: =FSE!C4 -> 0 | AD8: =FSE!E4 -> 0 | AE8: =FSE!G4 -> 0 | AF8: =FSE!I4 -> 0 | AH8: Formation Sociale et Economique | AI8: Voir détail de compétences en commentaire | AN8: =FSE!C5 -> 0 | AO8: =FSE!E5 -> 0 | AP8: =FSE!G5 -> 0 | AQ8: =FSE!I5 -> 0 | AS8: Formation Sociale et Economique | AT8: Voir détail de compétences en commentaire | AY8: =FSE!C6 -> 0 | AZ8: =FSE!E6 -> 0 | BA8: =FSE!G6 -> 0 | BB8: =FSE!I6 -> 0 | BD8: Formation Sociale et Economique | BE8: Voir détail de compétences en commentaire | BJ8: =FSE!C7 -> 0 | BK8: =FSE!E7 -> 0 | BL8: =FSE!G7 -> 0 | BM8: =FSE!I7 -> 0 | BO8: Formation Sociale et Economique | BP8: Voir détail de compétences en commentaire | BU8: =FSE!C8 -> 0 | BV8: =FSE!E8 -> 0 | BW8: =FSE!G8 -> 0 | BX8: =FSE!I8 -> 0 | BZ8: Formation Sociale et Economique | CA8: Voir détail de compétences en commentaire | CF8: =FSE!N8 -> 0 | CG8: =FSE!P8 -> 0 | CH8: =FSE!R8 -> 0 | CI8: =FSE!T8 -> 0
A9: Formation scientifique | B9: Voir détail de compétences en commentaire | G9: =Sciences!C2 -> 0 | H9: =Sciences!E2 -> 0 | I9: =Sciences!G2 -> 0 | J9: =Sciences!I2 -> 0 | L9: Formation scientifique | M9: Voir détail de compétences en commentaire | R9: =Sciences!C3 -> 0 | S9: =Sciences!E3 -> 0 | T9: =Sciences!G3 -> 0 | U9: =Sciences!I3 -> 0 | W9: Formation scientifique | X9: Voir détail de compétences en commentaire | AC9: =Sciences!C4 -> 0 | AD9: =Sciences!E4 -> 0 | AE9: =Sciences!G4 -> 0 | AF9: =Sciences!I4 -> 0 | AH9: Formation scientifique | AI9: Voir détail de compétences en commentaire | AN9: =Sciences!C5 -> 0 | AO9: =Sciences!E5 -> 0 | AP9: =Sciences!HG5 -> 0 | AQ9: =Sciences!I5 -> 0 | AS9: Formation scientifique | AT9: Voir détail de compétences en commentaire | AY9: =Sciences!C6 -> 0 | AZ9: =Sciences!E6 -> 0 | BA9: =Sciences!G6 -> 0 | BB9: =Sciences!I6 -> 0 | BD9: Formation scientifique | BE9: Voir détail de compétences en commentaire | BJ9: =Sciences!C7 -> 0 | BK9: =Sciences!E7 -> 0 | BL9: =Sciences!G7 -> 0 | BM9: =Sciences!I7 -> 0 | BO9: Formation scientifique | BP9: Voir détail de compétences en commentaire | BU9: =Sciences!C8 -> 0 | BV9: =Sciences!E8 -> 0 | BW9: =Sciences!G8 -> 0 | BX9: =Sciences!I8 -> 0 | BZ9: Formation scientifique | CA9: Voir détail de compétences en commentaire | CF9: =Sciences!C9 -> 0 | CG9: =Sciences!E9 -> 0 | CH9: =Sciences!G9 -> 0 | CI9: =Sciences!I9 -> 0
A10: Formation historique et géographique | B10: Voir détail de compétences en commentaire | G10: ='F.H.G'!C2 -> 0 | H10: ='F.H.G'!E2 -> 0 | I10: ='F.H.G'!G2 -> 0 | J10: ='F.H.G'!I2 -> 0 | L10: Formation historique et géographique | M10: Voir détail de compétences en commentaire | R10: ='F.H.G'!C3 -> 0 | S10: ='F.H.G'!E3 -> 0 | T10: ='F.H.G'!G3 -> 0 | U10: ='F.H.G'!I3 -> 0 | W10: Formation historique et géographique | X10: Voir détail de compétences en commentaire | AC10: ='F.H.G'!C4 -> 0 | AD10: ='F.H.G'!E4 -> 0 | AE10: ='F.H.G'!G4 -> 0 | AF10: ='F.H.G'!I4 -> 0 | AH10: Formation historique et géographique | AI10: Voir détail de compétences en commentaire | AN10: ='F.H.G'!C5 -> 0 | AO10: ='F.H.G'!E5 -> 0 | AP10: ='F.H.G'!G5 -> 0 | AQ10: ='F.H.G'!I5 -> 0 | AS10: Formation historique et géographique | AT10: Voir détail de compétences en commentaire | AY10: ='F.H.G'!C6 -> 0 | AZ10: ='F.H.G'!E6 -> 0 | BA10: ='F.H.G'!G6 -> 0 | BB10: ='F.H.G'!I6 -> 0 | BD10: Formation historique et géographique | BE10: Voir détail de compétences en commentaire | BJ10: ='F.H.G'!C7 -> 0 | BK10: ='F.H.G'!E7 -> 0 | BL10: ='F.H.G'!G7 -> 0 | BM10: ='F.H.G'!I7 -> 0 | BO10: Formation historique et géographique | BP10: Voir détail de compétences en commentaire | BU10: ='F.H.G'!C8 -> 0 | BV10: ='F.H.G'!E8 -> 0 | BW10: ='F.H.G'!G8 -> 0 | BX10: ='F.H.G'!I8 -> 0 | BZ10: Formation historique et géographique | CA10: Voir détail de compétences en commentaire | CF10: ='F.H.G'!N8 -> 0 | CG10: ='F.H.G'!P8 -> 0 | CH10: ='F.H.G'!R8 -> 0 | CI10: ='F.H.G'!T8 -> 0
A11: Religion | B11: Voir détail de compétences en commentaire | G11: =Religion!C2 -> 0 | H11: =Religion!E2 -> 0 | I11: =Religion!G2 -> 0 | J11: =Religion!I2 -> 0 | L11: Religion | M11: Voir détail de compétences en commentaire | R11: =Religion!C3 -> 0 | S11: =Religion!E3 -> 0 | T11: =Religion!G3 -> 0 | U11: =Religion!I3 -> 0 | W11: Religion | X11: Voir détail de compétences en commentaire | AC11: =Religion!C4 -> 0 | AD11: =Religion!E4 -> 0 | AE11: =Religion!G4 -> 0 | AF11: =Religion!I4 -> 0 | AH11: Religion | AI11: Voir détail de compétences en commentaire | AN11: =Religion!C5 -> 0 | AO11: =Religion!E5 -> 0 | AP11: =Religion!G5 -> 0 | AQ11: =Religion!I5 -> 0 | AS11: Religion | AT11: Voir détail de compétences en commentaire | AY11: =Religion!C6 -> 0 | AZ11: =Religion!E6 -> 0 | BA11: =Religion!G6 -> 0 | BB11: =Religion!I6 -> 0 | BD11: Religion | BE11: Voir détail de compétences en commentaire | BJ11: =Religion!C7 -> 0 | BK11: =Religion!E7 -> 0 | BL11: =Religion!G7 -> 0 | BM11: =Religion!I7 -> 0 | BO11: Religion | BP11: Voir détail de compétences en commentaire | BU11: =Religion!C8 -> 0 | BV11: =Religion!E8 -> 0 | BW11: =Religion!G8 -> 0 | BX11: =Religion!I8 -> 0 | BZ11: Religion | CA11: Voir détail de compétences en commentaire | CF11: =Religion!N8 -> 0 | CG11: =Religion!P8 -> 0 | CH11: =Religion!R8 -> 0 | CI11: =Religion!T8 -> 0
A12: Education physique | B12: Voir détail de compétences en commentaire | G12: ='Education Physique'!C2 -> 0 | H12: ='Education Physique'!E2 -> 0 | I12: ='Education Physique'!G2 -> 0 | J12: ='Education Physique'!I2 -> 0 | L12: Education physique | M12: Voir détail de compétences en commentaire | R12: ='Education Physique'!C3 -> 0 | S12: ='Education Physique'!E3 -> 0 | T12: ='Education Physique'!G3 -> 0 | U12: ='Education Physique'!I3 -> 0 | W12: Education physique | X12: Voir détail de compétences en commentaire | AC12: ='Education Physique'!C4 -> 0 | AD12: ='Education Physique'!E4 -> 0 | AE12: ='Education Physique'!G4 -> 0 | AF12: ='Education Physique'!I4 -> 0 | AH12: Education physique | AI12: Voir détail de compétences en commentaire | AN12: ='Education Physique'!C5 -> 0 | AO12: ='Education Physique'!E5 -> 0 | AP12: ='Education Physique'!G5 -> 0 | AQ12: ='Education Physique'!I5 -> 0 | AS12: Education physique | AT12: Voir détail de compétences en commentaire | AY12: ='Education Physique'!C6 -> 0 | AZ12: ='Education Physique'!E6 -> 0 | BA12: ='Education Physique'!G6 -> 0 | BB12: ='Education Physique'!I6 -> 0 | BD12: Education physique | BE12: Voir détail de compétences en commentaire | BJ12: ='Education Physique'!C7 -> 0 | BK12: ='Education Physique'!E7 -> 0 | BL12: ='Education Physique'!G7 -> 0 | BM12: ='Education Physique'!I7 -> 0 | BO12: Education physique | BP12: Voir détail de compétences en commentaire | BU12: ='Education Physique'!C8 -> 0 | BV12: ='Education Physique'!E8 -> 0 | BW12: ='Education Physique'!G8 -> 0 | BX12: ='Education Physique'!I8 -> 0 | BZ12: Education physique | CA12: Voir détail de compétences en commentaire | CF12: ='Education Physique'!N8 -> 0 | CG12: ='Education Physique'!P8 -> 0 | CH12: ='Education Physique'!R8 -> 0 | CI12: ='Education Physique'!T8 -> 0
A14: Remarque titulaire : | L14: Remarque titulaire : | W14: Remarque titulaire : | AH14: Remarque titulaire : | AS14: Remarque titulaire : | BD14: Remarque titulaire : | BO14: Remarque titulaire : | BZ14: Remarque titulaire :
C18: Signature de l'élève: | E18: Signature des parents: | G18: Signature du titulaire: | I18: Signature de la direction: | N18: Signature de l'élève: | P18: Signature des parents: | R18: Signature du titulaire: | T18: Signature de la direction: | Y18: Signature de l'élève: | AA18: Signature des parents: | AC18: Signature du titulaire: | AE18: Signature de la direction: | AJ18: Signature de l'élève: | AL18: Signature des parents: | AN18: Signature du titulaire: | AP18: Signature de la direction: | AU18: Signature de l'élève: | AW18: Signature des parents: | AY18: Signature du titulaire: | BA18: Signature de la direction: | BF18: Signature de l'élève: | BH18: Signature des parents: | BJ18: Signature du titulaire: | BL18: Signature de la direction: | BQ18: Signature de l'élève: | BS18: Signature des parents: | BU18: Signature du titulaire: | BW18: Signature de la direction: | CB18: Signature de l'élève: | CD18: Signature des parents: | CF18: Signature du titulaire: | CH18: Signature de la direction:

Sheet Commentaires BF4
F2: Kiara | N2: Christ | V2: Téoman | AD2: Nuno | AL2: Baptiste | AT2: Florian | BB2: Manon | BJ2: Marco
A4: Formation générale | I4: Formation générale | Q4: Formation générale | Y4: Formation générale | AG4: Formation générale | AO4: Formation générale | AW4: Formation générale | BE4: Formation générale
A6: Français | C6: =Fr!J2 -> 0 | I6: Français | K6: =Fr!J3 -> 0 | Q6: Français | S6: =Fr!J4 -> 0 | Y6: Français | AA6: =Fr!J5 -> 0 | AG6: Français | AI6: =Fr!J6 -> 0 | AO6: Français | AQ6: =Fr!J7 -> 0 | AW6: Français | AY6: =Fr!J8 -> 0 | BE6: Français | BG6: =Fr!J9 -> 0
A7: Néerlandais | C7: =Ndls!J2 -> 0 | I7: Néerlandais | K7: =Ndls!J3 -> 0 | Q7: Néerlandais | S7: =Ndls!J4 -> 0 | Y7: Néerlandais | AA7: =Ndls!J5 -> 0 | AG7: Néerlandais | AI7: =Ndls!J6 -> 0 | AO7: Néerlandais | AQ7: =Ndls!J7 -> 0 | AW7: Néerlandais | AY7: =Ndls!J8 -> 0 | BE7: Néerlandais | BG7: =Ndls!J9 -> 0
A8: Formation Sociale et Economique | C8: =FSE!J2 -> 0 | I8: Formation Sociale et Economique | K8: =FSE!J3 -> 0 | Q8: Formation Sociale et Economique | S8: =FSE!J4 -> 0 | Y8: Formation Sociale et Economique | AA8: =FSE!J5 -> 0 | AG8: Formation Sociale et Economique | AI8: =FSE!J6 -> 0 | AO8: Formation Sociale et Economique | AQ8: =FSE!J7 -> 0 | AW8: Formation Sociale et Economique | AY8: =FSE!J8 -> 0 | BE8: Formation Sociale et Economique | BG8: =FSE!J9 -> 0
A9: Formation scientifique | C9: =Sciences!J2 -> 0 | I9: Formation scientifique | K9: =Sciences!J3 -> 0 | Q9: Formation scientifique | S9: =Sciences!J4 -> 0 | Y9: Formation scientifique | AA9: =Sciences!J5 -> 0 | AG9: Formation scientifique | AI9: =Sciences!J6 -> 0 | AO9: Formation scientifique | AQ9: =Sciences!J7 -> 0 | AW9: Formation scientifique | AY9: =Sciences!J8 -> 0 | BE9: Formation scientifique | BG9: =Sciences!J9 -> 0
A10: Formation historique et géographique | C10: ='F.H.G'!J2 -> 0 | I10: Formation historique et géographique | K10: ='F.H.G'!J3 -> 0 | Q10: Formation historique et géographique | S10: ='F.H.G'!J4 -> 0 | Y10: Formation historique et géographique | AA10: ='F.H.G'!J5 -> 0 | AG10: Formation historique et géographique | AI10: ='F.H.G'!J6 -> 0 | AO10: Formation historique et géographique | AQ10: ='F.H.G'!J7 -> 0 | AW10: Formation historique et géographique | AY10: ='F.H.G'!J8 -> 0 | BE10: Formation historique et géographique | BG10: ='F.H.G'!J9 -> 0
A11: Religion | C11: =Religion!J2 -> 0 | I11: Religion | K11: =Religion!J3 -> 0 | Q11: Religion | S11: =Religion!J4 -> 0 | Y11: Religion | AA11: =Religion!J5 -> 0 | AG11: Religion | AI11: =Religion!J6 -> 0 | AO11: Religion | AQ11: =Religion!J7 -> 0 | AW11: Religion | AY11: =Religion!J8 -> 0 | BE11: Religion | BG11: =Religion!J9 -> 0
A12: Education physique | C12: ='Education Physique'!J2 -> 0 | I12: Education physique | K12: ='Education Physique'!J3 -> 0 | Q12: Education physique | S12: ='Education Physique'!J4 -> 0 | Y12: Education physique | AA12: ='Education Physique'!J5 -> 0 | AG12: Education physique | AI12: ='Education Physique'!J6 -> 0 | AO12: Education physique | AQ12: ='Education Physique'!J7 -> 0 | AW12: Education physique | AY12: ='Education Physique'!J8 -> 0 | BE12: Education physique | BG12: ='Education Physique'!J9 -> 0
A14: Option de base groupée | I14: Option de base groupée | Q14: Option de base groupée | Y14: Option de base groupée | AG14: Option de base groupée | AO14: Option de base groupée | AW14: Option de base groupée | BE14: Option de base groupée
A16: Technologie de la cuisine | C16: ='T. Cuisine'!J2 -> 0 | I16: Technologie de la cuisine | K16: ='T. Cuisine'!J3 -> 0 | Q16: Technologie de la cuisine | S16: ='T. Cuisine'!J4 -> 0 | Y16: Technologie de la cuisine | AA16: ='T. Cuisine'!J5 -> 0 | AG16: Technologie de la cuisine | AI16: ='T. Cuisine'!J6 -> 0 | AO16: Technologie de la cuisine | AQ16: ='T. Cuisine'!J7 -> 0 | AW16: Technologie de la cuisine | AY16: ='T. Cuisine'!J8 -> 0 | BE16: Technologie de la cuisine | BG16: ='T. Cuisine'!J9 -> 0
A17: Technologie de la salle | C17: ='T. Salle'!J2 -> 0 | I17: Technologie de la salle | K17: ='T. Salle'!J3 -> 0 | Q17: Technologie de la salle | S17: ='T. Salle'!J4 -> 0 | Y17: Technologie de la salle | AA17: ='T. Salle'!J5 -> 0 | AG17: Technologie de la salle | AI17: ='T. Salle'!J6 -> 0 | AO17: Technologie de la salle | AQ17: ='T. Salle'!J7 -> 0 | AW17: Technologie de la salle | AY17: ='T. Salle'!J8 -> 0 | BE17: Technologie de la salle | BG17: ='T. Salle'!J9 -> 0
A18: Anglais | C18: =Anglais!J2 -> 0 | I18: Anglais | K18: =Anglais!J3 -> 0 | Q18: Anglais | S18: =Anglais!J4 -> 0 | Y18: Anglais | AA18: =Anglais!J5 -> 0 | AG18: Anglais | AI18: =Anglais!J6 -> 0 | AO18: Anglais | AQ18: =Anglais!J7 -> 0 | AW18: Anglais | AY18: =Anglais!J8 -> 0 | BE18: Anglais | BG18: =Anglais!J9 -> 0

Sheet Fr
A1: Français | C1: BF1 | D1: Commentaires BF1 | E1: BF2 | F1: Commentaires BF2 | G1: BF3 | H1: Commentaires BF3 | I1: BF4 | J1: Commentaires BF4
A2: Bracciolano | B2: Kiara
A3: Djoyoum Mba | B3: Christ
A4: Dogdu | B4: Téoman
A5: Galo | B5: Nuno
A6: Liekens | B6: Baptiste
A7: Piéltain | B7: Florian
A8: Steens | B8: Manon
A9: Tomic | B9: Marco

Sheet Ndls
A1: Ndls | C1: BF1 | D1: Commentaires BF1 | E1: BF2 | F1: Commentaires BF2 | G1: BF3 | H1: Commentaires BF3 | I1: BF4 | J1: Commentaires BF4
A2: Bracciolano | B2: Kiara
A3: Djoyoum Mba | B3: Christ
A4: Dogdu | B4: Téoman
A5: Galo | B5: Nuno
A6: Liekens | B6: Baptiste
A7: Piéltain | B7: Florian
A8: Steens | B8: Manon
A9: Tomic | B9: Marco

Sheet Sciences
A1: Sciences | C1: BF1 | D1: Commentaires BF1 | E1: BF2 | F1: Commentaires BF2 | G1: BF3 | H1: Commentaires BF3 | I1: BF4 | J1: Commentaires BF4
A2: Bracciolano | B2: Kiara
A3: Djoyoum Mba | B3: Christ
A4: Dogdu | B4: Téoman
A5: Galo | B5: Nuno
A6: Liekens | B6: Baptiste
A7: Piéltain | B7: Florian
A8: Steens | B8: Manon
A9: Tomic | B9: Marco

