Workbook

Sheet Base
A1: Colonnes à recopier dans les autres feuilles | E1: Nom d'une nouvelle feuille | F1: Nom d'une nouvelle feuille
A3: Référence ville | B3: Ville | C3: Adresse | D3: Code postal | E3: Electricité | F3: Eau
A4: PAR001 | B4: Paris | C4: Rue Emile ZOLA | D4: 75010 | E4: 1 | F4: 4
A5: LYO001 | B5: Lyon | C5: Rue Theophile GAUTIER | D5: 69000 | E5: 5 | F5: 1
A6: ARV1 | B6: Arvi | C6: rue blabla | D6: 45000 | E6: 12 | F6: 10
A7: test | B7: ville | C7: rue | D7: 75000 | E7: 1 | F7: 10

Sheet Electricité
A1: =Base!A3 -> Référence ville | B1: =Base!B3 -> Ville | C1: =Base!C3 -> Adresse | D1: =Base!D3 -> Code postal | E1: =Base!E3 -> Electricité
A2: =Base!A4 -> PAR001 | B2: =Base!B4 -> Paris | C2: =Base!C4 -> Rue Emile ZOLA | D2: =Base!D4 -> 75010 | E2: =Base!E4 -> 1
A3: =Base!A5 -> LYO001 | B3: =Base!B5 -> Lyon | C3: =Base!C5 -> Rue Theophile GAUTIER | D3: =Base!D5 -> 69000 | E3: =Base!E5 -> 5
A4: =Base!A6 -> ARV1 | B4: =Base!B6 -> Arvi | C4: =Base!C6 -> rue blabla | D4: =Base!D6 -> 45000 | E4: =Base!E6 -> 12
A5: =Base!A7 -> test | B5: =Base!B7 -> ville | C5: =Base!C7 -> rue | D5: =Base!D7 -> 75000 | E5: =Base!E7 -> 1
A6: =Base!A8 -> 0 | B6: =Base!B8 -> 0 | C6: =Base!C8 -> 0 | D6: =Base!D8 -> 0 | E6: =Base!E8 -> 0
A7: =Base!A9 -> 0 | B7: =Base!B9 -> 0 | C7: =Base!C9 -> 0 | D7: =Base!D9 -> 0 | E7: =Base!E9 -> 0
A8: =Base!A10 -> 0 | B8: =Base!B10 -> 0 | C8: =Base!C10 -> 0 | D8: =Base!D10 -> 0 | E8: =Base!E10 -> 0
A9: =Base!A11 -> 0 | B9: =Base!B11 -> 0 | C9: =Base!C11 -> 0 | D9: =Base!D11 -> 0 | E9: =Base!E11 -> 0
A10: =Base!A12 -> 0 | B10: =Base!B12 -> 0 | C10: =Base!C12 -> 0 | D10: =Base!D12 -> 0 | E10: =Base!E12 -> 0
A11: =Base!A13 -> 0 | B11: =Base!B13 -> 0 | C11: =Base!C13 -> 0 | D11: =Base!D13 -> 0 | E11: =Base!E13 -> 0

Sheet Electricité PQ
A1: Référence ville | B1: Ville | C1: Adresse | D1: Code postal | E1: Electricité
A2: PAR001 | B2: Paris | C2: Rue Emile ZOLA | D2: 75010 | E2: 1
A3: LYO001 | B3: Lyon | C3: Rue Theophile GAUTIER | D3: 69000 | E3: 5
A4: ARV1 | B4: Arvi | C4: rue blabla | D4: 45000 | E4: 12
A5: test | B5: ville | C5: rue | D5: 75000 | E5: 1

Sheet Eau
A1: =Base!A3 -> Référence ville | B1: =Base!B3 -> Ville | C1: =Base!C3 -> Adresse | D1: =Base!D3 -> Code postal | E1: =Base!F3 -> Eau
A2: =Base!A4 -> PAR001 | B2: =Base!B4 -> Paris | C2: =Base!C4 -> Rue Emile ZOLA | D2: =Base!D4 -> 75010 | E2: =Base!F4 -> 4
A3: =Base!A5 -> LYO001 | B3: =Base!B5 -> Lyon | C3: =Base!C5 -> Rue Theophile GAUTIER | D3: =Base!D5 -> 69000 | E3: =Base!F5 -> 1
A4: =Base!A6 -> ARV1 | B4: =Base!B6 -> Arvi | C4: =Base!C6 -> rue blabla | D4: =Base!D6 -> 45000 | E4: =Base!F6 -> 10
A5: =Base!A7 -> test | B5: =Base!B7 -> ville | C5: =Base!C7 -> rue | D5: =Base!D7 -> 75000 | E5: =Base!F7 -> 10
A6: =Base!A8 -> 0 | B6: =Base!B8 -> 0 | C6: =Base!C8 -> 0 | D6: =Base!D8 -> 0 | E6: =Base!F8 -> 0
A7: =Base!A9 -> 0 | B7: =Base!B9 -> 0 | C7: =Base!C9 -> 0 | D7: =Base!D9 -> 0 | E7: =Base!F9 -> 0
A8: =Base!A10 -> 0 | B8: =Base!B10 -> 0 | C8: =Base!C10 -> 0 | D8: =Base!D10 -> 0 | E8: =Base!F10 -> 0
A9: =Base!A11 -> 0 | B9: =Base!B11 -> 0 | C9: =Base!C11 -> 0 | D9: =Base!D11 -> 0 | E9: =Base!F11 -> 0
A10: =Base!A12 -> 0 | B10: =Base!B12 -> 0 | C10: =Base!C12 -> 0 | D10: =Base!D12 -> 0 | E10: =Base!F12 -> 0
A11: =Base!A13 -> 0 | B11: =Base!B13 -> 0 | C11: =Base!C13 -> 0 | D11: =Base!D13 -> 0 | E11: =Base!F13 -> 0
A12: =Base!A14 -> 0 | B12: =Base!B14 -> 0 | C12: =Base!C14 -> 0 | D12: =Base!D14 -> 0 | E12: =Base!F14 -> 0
... A22: =Base!A24 -> 0 | B22: =Base!B24 -> 0 | C22: =Base!C24 -> 0 | D22: =Base!D24 -> 0 | E22: =Base!F24 -> 0

Sheet Eau PQ
A1: Référence ville | B1: Ville | C1: Adresse | D1: Code postal | E1: Eau
A2: PAR001 | B2: Paris | C2: Rue Emile ZOLA | D2: 75010 | E2: 4
A3: LYO001 | B3: Lyon | C3: Rue Theophile GAUTIER | D3: 69000 | E3: 1
A4: ARV1 | B4: Arvi | C4: rue blabla | D4: 45000 | E4: 10
A5: test | B5: ville | C5: rue | D5: 75000 | E5: 10
