Workbook

Sheet Tableau 1
A1: Article | B1: Ref client
A2: A
A3: B | C3: =IF(B3=B4,"",B3)
A4: C | C4: =IF(B4=B5,"",B4)
A5: D | B5: 503614 | C5: =IF(B5=B6,"",B5)
A6: D | B6: 503614
A7: E
A8: E
A9: F | B9: 7903301489
A10: G
A11: H | B11: 7703006309
A12: I | B12: 805966-88A
A13: J | B13: 9619073680
A14: J
A15: K | B15: 9619073680
A16: L | B16: 9625792680
A17: M
A18: N
A19: O
A20: P
A21: Q
A22: R
A23: S
A24: T | B24: 00060483C
A25: U
A26: U
A27: V
A28: W | B28: 9630492080
A29: W | B29: 9630492080
A30: W | B30: 9630492080
A31: W | B31: 9630492080
A32: X
A33: Y | B33: 7800625-01
A34: Y
A35: Y | B35: 7800625-01
A36: Z | B36: 9627595580

Sheet Tableau 2
A2: Article
A3: A | B3: =VLOOKUP(A3,'Tableau 1'!$A$1:$B$36,2,FALSE)
A4: B | B4: =VLOOKUP(A4,'Tableau 1'!$A$1:$B$36,2,FALSE)
A5: C | B5: =VLOOKUP(A5,'Tableau 1'!$A$1:$B$36,2,FALSE)
A6: D | B6: =VLOOKUP(A6,'Tableau 1'!$A$1:$B$36,2,FALSE) -> 503614
A7: E | B7: =VLOOKUP(A7,'Tableau 1'!$A$1:$B$36,2,FALSE)
A8: F | B8: =VLOOKUP(A8,'Tableau 1'!$A$1:$B$36,2,FALSE) -> 7903301489
A9: G | B9: =VLOOKUP(A9,'Tableau 1'!$A$1:$B$36,2,FALSE)
A10: H | B10: =VLOOKUP(A10,'Tableau 1'!$A$1:$B$36,2,FALSE) -> 7703006309
A11: I | B11: =VLOOKUP(A11,'Tableau 1'!$A$1:$B$36,2,FALSE) -> 805966-88A
A12: J | B12: =VLOOKUP(A12,'Tableau 1'!$A$1:$B$36,2,FALSE) -> 9619073680
A13: K | B13: =VLOOKUP(A13,'Tableau 1'!$A$1:$B$36,2,FALSE) -> 9619073680
A14: M | B14: =VLOOKUP(A14,'Tableau 1'!$A$1:$B$36,2,FALSE)
... A23: Z | B23: =VLOOKUP(A23,'Tableau 1'!$A$1:$B$36,2,FALSE) -> 9627595580
