Workbook
Name MAG_L: OFFSET('CA + ALERTE'!$I$4,,,COUNTA('CA + ALERTE'!$I:$I)-1)
Name STATUTCDE: 'CA + ALERTE'!$K$4:$K$6

Sheet COMMANDES2021
B2: COMMERCIAL | C2: CLIENT | E2: NOM DU CLIENT | F2: DATE DE CONFIRMATION | G2: MONTANT | I2: STATUT COMMANDE | L2: DATE DE LIVRAISON | M2: 100% dépot1 | N2: PARTIEL dépot1 | O2: ! | P2: PLAQUE (liv à Dépôt1) PA CDE | Q2: N° DE PLS CDE 100% Dépot1 | R2: DATE PREV DEPART dépot1 | S2: DATE DEPART PLAQUES dépot1 | T2: COMMENTAIRES
B4: COM1 | C4: CLIENT1 | E4: BRICOMARCHE SAINTES | F4: 44140 | G4: 1000 | L4: 44198 | M4: x
B5: COM2 | C5: CLIENT2 | E5: DETAILLANT 1 | F5: 44168 | G5: 1000 | L5: 44198 | M5: x
B6: COM3 | C6: CLIENT3 | E6: DETAILLANT 2 | F6: 44110 | G6: 1000 | L6: 44198 | M6: x
B7: COM4 | C7: CLIENT4 | E7: DETAILLANT 3 | F7: 44112 | G7: 1000 | L7: 44198 | M7: x
B8: COM5 | C8: CLIENT5 | E8: DETAILLANT 4 | F8: 44146 | G8: 1000 | L8: 44198 | M8: x
B9: COM6 | C9: CLIENT6 | E9: DETAILLANT 5 | F9: 44126 | G9: 1000 | L9: 44198 | M9: x
B10: COM7 | C10: CLIENT7 | E10: DETAILLANT 6 | F10: 44166 | G10: 1000 | L10: 44198 | M10: x
B11: COM8 | C11: CLIENT8 | E11: DETAILLANT 7 | F11: 44129 | G11: 1000 | L11: 44198 | M11: x
B12: COM9 | C12: CLIENT9 | E12: DETAILLANT 8 | F12: 44158 | G12: 1000 | L12: 44198 | M12: x
B13: COM10 | C13: CLIENT10 | E13: DETAILLANT 9 | F13: 44110 | G13: 1000 | L13: 44198 | M13: x
B14: COM11 | C14: CLIENT11 | E14: DETAILLANT 10 | F14: 44150 | G14: 1000 | L14: 44198 | M14: x
B15: COM12 | C15: CLIENT12 | E15: DETAILLANT 11 | F15: 44143 | G15: 1000 | L15: 44198 | M15: x
B16: COM13 | C16: CLIENT13 | E16: DETAILLANT 12 | F16: 44152 | G16: 8000 | L16: 44198 | M16: x
F18: TOTAL SEMAINE 01 | G18: =SUM(G3:G17) -> 20000 | L18: 1 | M18: =SUMIF(M3:M17,"X",G3:G17) -> 20000 | N18: =SUMIF(N3:N17,"X",G3:G17)*0.5 -> 0 | P18: CA DEPOT 1 | Q18: =M18+N18 -> 20000
F24: TOTAL SEMAINE 02 | G24: =SUM(G19:G23) -> 0 | M24: =SUMIF(M19:M23,"X",G19:G23) -> 0 | N24: =SUMIF(N19:N23,"X",G19:G23)*0.5 -> 0
F30: TOTAL SEMAINE 03 | G30: =SUM(G25:G29) -> 0 | L30: 2 | M30: =SUMIF(M25:M29,"X",G25:G29) -> 0 | N30: =SUMIF(N25:N29,"X",G25:G29) -> 0 | P30: CA DEPOT 1 | Q30: =M30+N30 -> 0
F36: TOTAL SEMAINE 04 | G36: =SUM(G31:G35) -> 0 | M36: =SUMIF(M31:M35,"X",G31:G35) -> 0 | N36: =SUMIF(N31:N35,"X",G31:G35) -> 0 | P36: CA DEPOT 1 | Q36: =M36+N36 -> 0
F42: TOTAL SEMAINE 05 | G42: =SUM(G37:G41) -> 0 | L42: 2 | M42: =SUMIF(M37:M41,"X",G37:G41) -> 0 | N42: =SUMIF(N37:N41,"X",G37:G41) -> 0 | P42: CA DEPOT 1 | Q42: =M42+N42 -> 0
F48: TOTAL SEMAINE 06 | G48: =SUM(G43:G47) -> 0 | M48: =SUMIF(M43:M47,"X",G43:G47) -> 0 | N48: =SUMIF(N43:N47,"X",G43:G47) -> 0 | P48: CA DEPOT 1 | Q48: =M48+N48 -> 0
F54: TOTAL SEMAINE 07 | G54: =SUM(G49:G53) -> 0 | L54: 2 | M54: =SUMIF(M49:M53,"X",G49:G53) -> 0 | N54: =SUMIF(N49:N53,"X",G49:G53) -> 0 | P54: CA DEPOT 1 | Q54: =M54+N54 -> 0
F60: TOTAL SEMAINE 08 | G60: =SUM(G55:G59) -> 0 | M60: =SUMIF(M55:M59,"X",G55:G59) -> 0 | N60: =SUMIF(N55:N59,"X",G55:G59) -> 0 | P60: CA DEPOT 1 | Q60: =M60+N60 -> 0
F66: TOTAL SEMAINE 09 | G66: =SUM(G61:G65) -> 0 | L66: 2 | M66: =SUMIF(M61:M65,"X",G61:G65) -> 0 | N66: =SUMIF(N61:N65,"X",G61:G65) -> 0 | P66: CA DEPOT 1 | Q66: =M66+N66 -> 0
F72: TOTAL SEMAINE 10 | G72: =SUM(G67:G71) -> 0 | M72: =SUMIF(M67:M71,"X",G67:G71) -> 0 | N72: =SUMIF(N67:N71,"X",G67:G71) -> 0 | P72: CA DEPOT 1 | Q72: =M72+N72 -> 0
F78: TOTAL SEMAINE 11 | G78: =SUM(G73:G77) -> 0 | M78: =SUMIF(M73:M77,"X",G73:G77) -> 0 | N78: =SUMIF(N73:N77,"X",G73:G77) -> 0 | P78: CA DEPOT 1 | Q78: =M78+N78 -> 0
F84: TOTAL SEMAINE 12 | G84: =SUM(G79:G83) -> 0 | L84: 2 | M84: =SUMIF(M79:M83,"X",G79:G83) -> 0 | N84: =SUMIF(N79:N83,"X",G79:G83) -> 0 | P84: CA DEPOT 1 | Q84: =M84+N84 -> 0
F90: TOTAL SEMAINE 13 | G90: =SUM(G85:G89) -> 0 | M90: =SUMIF(M85:M89,"X",G85:G89) -> 0 | N90: =SUMIF(N85:N89,"X",G85:G89) -> 0 | P90: CA DEPOT 1 | Q90: =M90+N90 -> 0
F96: TOTAL SEMAINE 14 | G96: =SUM(G91:G95) -> 0 | L96: 2 | M96: =SUMIF(M91:M95,"X",G91:G95) -> 0 | N96: =SUMIF(N91:N95,"X",G91:G95) -> 0 | P96: CA DEPOT 1 | Q96: =M96+N96 -> 0
F102: TOTAL SEMAINE 15 | G102: =SUM(G97:G101) -> 0 | M102: =SUMIF(M97:M101,"X",G97:G101) -> 0 | N102: =SUMIF(N97:N101,"X",G97:G101) -> 0 | P102: CA DEPOT 1 | Q102: =M102+N102 -> 0
F108: TOTAL SEMAINE 16 | G108: =SUM(G103:G107) -> 0 | L108: 2 | M108: =SUMIF(M103:M107,"X",G103:G107) -> 0 | N108: =SUMIF(N103:N107,"X",G103:G107) -> 0 | P108: CA DEPOT 1 | Q108: =M108+N108 -> 0
F114: TOTAL SEMAINE 17 | G114: =SUM(G109:G113) -> 0 | M114: =SUMIF(M109:M113,"X",G109:G113) -> 0 | N114: =SUMIF(N109:N113,"X",G109:G113) -> 0 | P114: CA DEPOT 1 | Q114: =M114+N114 -> 0
F120: TOTAL SEMAINE 18 | G120: =SUM(G115:G119) -> 0 | L120: 2 | M120: =SUMIF(M115:M119,"X",G115:G119) -> 0 | N120: =SUMIF(N115:N119,"X",G115:G119) -> 0 | P120: CA DEPOT 1 | Q120: =M120+N120 -> 0
F126: TOTAL SEMAINE 19 | G126: =SUM(G121:G125) -> 0 | M126: =SUMIF(M121:M125,"X",G121:G125) -> 0 | N126: =SUMIF(N121:N125,"X",G121:G125) -> 0 | P126: CA DEPOT 1 | Q126: =M126+N126 -> 0
F132: TOTAL SEMAINE 20 | G132: =SUM(G127:G131) -> 0 | L132: 2 | M132: =SUMIF(M127:M131,"X",G127:G131) -> 0 | N132: =SUMIF(N127:N131,"X",G127:G131) -> 0 | P132: CA DEPOT 1 | Q132: =M132+N132 -> 0
F138: TOTAL SEMAINE 21 | G138: =SUM(G133:G137) -> 0 | M138: =SUMIF(M133:M137,"X",G133:G137) -> 0 | N138: =SUMIF(N133:N137,"X",G133:G137) -> 0 | P138: CA DEPOT 1 | Q138: =M138+N138 -> 0
F144: TOTAL SEMAINE 22 | G144: =SUM(G139:G143) -> 0 | L144: 2 | M144: =SUMIF(M139:M143,"X",G139:G143) -> 0 | N144: =SUMIF(N139:N143,"X",G139:G143) -> 0 | P144: CA DEPOT 1 | Q144: =M144+N144 -> 0
F150: TOTAL SEMAINE 23 | G150: =SUM(G145:G149) -> 0 | M150: =SUMIF(M145:M149,"X",G145:G149) -> 0 | N150: =SUMIF(N145:N149,"X",G145:G149) -> 0 | P150: CA DEPOT 1 | Q150: =M150+N150 -> 0
F156: TOTAL SEMAINE 24 | G156: =SUM(G151:G155) -> 0 | L156: 2 | M156: =SUMIF(M151:M155,"X",G151:G155) -> 0 | N156: =SUMIF(N151:N155,"X",G151:G155) -> 0 | P156: CA DEPOT 1 | Q156: =M156+N156 -> 0
F162: TOTAL SEMAINE 25 | G162: =SUM(G157:G161) -> 0 | M162: =SUMIF(M157:M161,"X",G157:G161) -> 0 | N162: =SUMIF(N157:N161,"X",G157:G161) -> 0 | P162: CA DEPOT 1 | Q162: =M162+N162 -> 0
F168: TOTAL SEMAINE 26 | G168: =SUM(G163:G167) -> 0 | L168: 2 | M168: =SUMIF(M163:M167,"X",G163:G167) -> 0 | N168: =SUMIF(N163:N167,"X",G163:G167) -> 0 | P168: CA DEPOT 1 | Q168: =M168+N168 -> 0
...

Sheet CA + ALERTE
C3: CA SEMAINE | D3: ESTI. Depot1 | E3: LIMITE | F3: % ALERTE | I3: LISTE DES MAGASINS PRIORITAIRES
B4: SEMAINE 01 | C4: =COMMANDES2021!G18 -> 20000 | D4: =COMMANDES2021!Q18 -> 20000 | E4: 11000 | F4: 0.5 | G4: =E4-E4*F4 -> 5500 | I4: BRICOMARCHE
B5: SEMAINE 02 | C5: =COMMANDES2021!G24 -> 0 | D5: =COMMANDES2021!Q24 -> 0 | E5: 12000 | F5: 0.2 | G5: =E5-E5*F5 -> 9600 | I5: JARDILAND
B6: SEMAINE 03 | C6: =COMMANDES2021!G30 -> 0 | D6: =COMMANDES2021!Q30 -> 0 | E6: 30000 | F6: 0.4 | G6: =E6-E6*F6 -> 18000 | I6: JARDIVAL
B7: SEMAINE 04 | C7: =COMMANDES2021!G36 -> 0 | D7: =COMMANDES2021!Q36 -> 0 | E7: 25000 | F7: 0.25 | G7: =E7-E7*F7 -> 18750 | I7: MA CAMPAGNE
B8: SEMAINE 05 | C8: =COMMANDES2021!G42 -> 0 | D8: =COMMANDES2021!Q42 -> 0 | E8: 25000 | F8: 0.35 | G8: =E8-E8*F8 -> 16250 | I8: GAMM VERT
B9: SEMAINE 06 | C9: =COMMANDES2021!G48 -> 0 | D9: =COMMANDES2021!Q50 -> 0 | E9: 25000 | F9: 0.2 | G9: =E9-E9*F9 -> 20000 | I9: GAMMVERT
B10: SEMAINE 07 | C10: =COMMANDES2021!G54 -> 0 | D10: =COMMANDES2021!Q56 -> 0 | E10: 25000 | F10: 0.2 | G10: =E10-E10*F10 -> 20000 | I10: LECLERC
B11: SEMAINE 08 | C11: =COMMANDES2021!G60 -> 0 | D11: =COMMANDES2021!Q62 -> 0 | E11: 25000 | F11: 0.2 | G11: =E11-E11*F11 -> 20000 | I11: JARDIPLAY
B12: SEMAINE 09 | C12: =COMMANDES2021!G66 -> 0 | D12: =COMMANDES2021!Q68 -> 0 | E12: 25000 | F12: 0.3 | G12: =E12-E12*F12 -> 17500 | I12: AUTRES
B13: SEMAINE 10 | C13: =COMMANDES2021!G72 -> 0 | D13: =COMMANDES2021!Q74 -> 0 | E13: 25000 | F13: 0.3 | G13: =E13-E13*F13 -> 17500 | I13: AUTRES
B14: SEMAINE 11 | C14: =COMMANDES2021!G78 -> 0 | D14: =COMMANDES2021!Q80 -> 0 | E14: 25000 | F14: 0.3 | G14: =E14-E14*F14 -> 17500 | I14: AUTRES
B15: SEMAINE 12 | C15: =COMMANDES2021!G84 -> 0 | D15: =COMMANDES2021!Q86 -> 0 | E15: 25000 | F15: 0.4 | G15: =E15-E15*F15 -> 15000 | I15: AUTRES
B16: SEMAINE 13 | C16: =COMMANDES2021!G90 -> 0 | D16: =COMMANDES2021!Q92 -> 0 | E16: 25000 | F16: 0.5 | G16: =E16-E16*F16 -> 12500 | I16: AUTRES
B17: SEMAINE 14 | C17: =COMMANDES2021!G96 -> 0 | D17: =COMMANDES2021!Q98 -> 0 | E17: 25000 | F17: 0.25 | G17: =E17-E17*F17 -> 18750 | I17: AUTRES
B18: SEMAINE 15 | C18: =COMMANDES2021!G102 -> 0 | D18: =COMMANDES2021!Q104 -> 0 | E18: 25000 | F18: 0.25 | G18: =E18-E18*F18 -> 18750 | I18: AUTRES
B19: SEMAINE 16 | C19: =COMMANDES2021!G108 -> 0 | D19: =COMMANDES2021!Q110 -> 0 | E19: 25000 | F19: 0.32761905 | G19: =E19-E19*F19 -> 16809.524 | I19: AUTRES
B20: SEMAINE 17 | C20: =COMMANDES2021!G114 -> 0 | D20: =COMMANDES2021!Q66 -> 0 | E20: 25000 | F20: 0.33190476 | G20: =E20-E20*F20 -> 16702.381 | I20: AUTRES
B21: SEMAINE 18 | C21: =COMMANDES2021!G120 -> 0 | D21: =COMMANDES2021!Q67 -> 0 | E21: 25000 | F21: 0.33619048 | G21: =E21-E21*F21 -> 16595.238 | I21: AUTRES
B22: SEMAINE 19 | C22: =COMMANDES2021!G126 -> 0 | D22: =COMMANDES2021!Q68 -> 0 | E22: 25000 | F22: 0.34047619 | G22: =E22-E22*F22 -> 16488.095 | I22: AUTRES
B23: SEMAINE 20 | C23: =COMMANDES2021!G132 -> 0 | E23: 25000 | F23: 0.3447619 | G23: =E23-E23*F23 -> 16380.952 | I23: AUTRES
B24: SEMAINE 21 | C24: =COMMANDES2021!G138 -> 0 | D24: x | E24: 25000 | F24: 0.34904762 | G24: =E24-E24*F24 -> 16273.81 | I24: AUTRES
B25: SEMAINE 22 | C25: =COMMANDES2021!G144 -> 0 | E25: 25000 | F25: 0.35333333 | G25: =E25-E25*F25 -> 16166.667 | I25: AUTRES
B26: SEMAINE 23 | C26: =COMMANDES2021!G150 -> 0 | E26: 25000 | F26: 0.35761905 | G26: =E26-E26*F26 -> 16059.524 | I26: AUTRES
B27: SEMAINE 24 | C27: =COMMANDES2021!G156 -> 0 | E27: 25000 | F27: 0.36190476 | G27: =E27-E27*F27 -> 15952.381 | I27: AUTRES
B28: SEMAINE 25 | C28: =COMMANDES2021!G162 -> 0 | E28: 25000 | F28: 0.36619048 | G28: =E28-E28*F28 -> 15845.238 | I28: AUTRES
B29: SEMAINE 26 | C29: =COMMANDES2021!G168 -> 0 | E29: 25000 | F29: 0.37047619 | G29: =E29-E29*F29 -> 15738.095 | I29: AUTRES
B30: SEMAINE 27 | C30: =COMMANDES2021!G174 -> 0 | E30: 25000 | F30: 0.3747619 | G30: =E30-E30*F30 -> 15630.952 | I30: AUTRES
B31: SEMAINE 28 | C31: =COMMANDES2021!G180 -> 0 | E31: 25000 | F31: 0.37904762 | G31: =E31-E31*F31 -> 15523.81 | I31: AUTRES
B32: SEMAINE 29 | C32: =COMMANDES2021!G186 -> 0 | E32: 25000 | F32: 0.38333333 | G32: =E32-E32*F32 -> 15416.667 | I32: AUTRES
B33: SEMAINE 30 | C33: =COMMANDES2021!G192 -> 0 | E33: 25000 | F33: 0.38761905 | G33: =E33-E33*F33 -> 15309.524 | I33: AUTRES
B34: SEMAINE 31 | C34: =COMMANDES2021!G198 -> 0 | E34: 25000 | F34: 0.39190476 | G34: =E34-E34*F34 -> 15202.381 | I34: AUTRES
B35: SEMAINE 32 | C35: =COMMANDES2021!G204 -> 0 | E35: 25000 | F35: 0.39619048 | G35: =E35-E35*F35 -> 15095.238 | I35: AUTRES
B36: SEMAINE 33 | C36: =COMMANDES2021!G210 -> 0 | E36: 25000 | F36: 0.40047619 | G36: =E36-E36*F36 -> 14988.095 | I36: AUTRES
B37: SEMAINE 34 | C37: =COMMANDES2021!G216 -> 0 | E37: 25000 | F37: 0.4047619 | G37: =E37-E37*F37 -> 14880.952 | I37: AUTRES
B38: SEMAINE 35 | C38: =COMMANDES2021!G222 -> 0 | E38: 25000 | F38: 0.40904762 | G38: =E38-E38*F38 -> 14773.81 | I38: AUTRES
B39: SEMAINE 36 | C39: =COMMANDES2021!G228 -> 0 | E39: 25000 | F39: 0.41333333 | G39: =E39-E39*F39 -> 14666.667 | I39: AUTRES
B40: SEMAINE 37 | C40: =COMMANDES2021!G234 -> 0 | D40: x | E40: 25000 | F40: 0.41761905 | G40: =E40-E40*F40 -> 14559.524 | I40: AUTRES
B41: SEMAINE 38 | C41: =COMMANDES2021!G240 -> 0 | E41: 25000 | F41: 0.42190476 | G41: =E41-E41*F41 -> 14452.381 | I41: AUTRES
B42: SEMAINE 39 | C42: =COMMANDES2021!G246 -> 0 | E42: 25000 | F42: 0.42619048 | G42: =E42-E42*F42 -> 14345.238 | I42: AUTRES
...
