Workbook

Sheet GLOBAL
A1: FICHE N° | B1: 2020 | C1: ADHERENTS | L1: COTISATIONS | V1: BOUEE PASSAGER | W1: TOTAL (en €uros) | X1: BATEAU | AA1: VOITURE | AC1: REMORQUE
B2: NOM | C2: PRENOM | D2: ADRESSE PRINCIPALE | G2: ADRESSE SECONDAIRE | J2: TELEPHONE | K2: COURRIEL | L2: ADHESION CCV | M2: BADGE | O2: GLACIS / PARC BATEAU | P2: BOUEE | Q2: BOX (PETIT) | R2: BOX (GRAND) | S2: PARKING | T2: CANOE | U2: BOUEE PASSAGER | V2: EXTERIEUR
L3: ANNUEL | M3: N° | N3: 1ère année ou perte | O3: ANNUEL | P3: ANNUEL | Q3: ANNUEL | R3: ANNUEL | S3: ANNUEL | T3: ANNUEL | U3: LA SAISON | V3: MENSUEL | X3: NOM | Y3: ASSURANCE | Z3: IMMATRICUALTION | AA3: ASSURANCE | AB3: IMMATRICULATION | AC3: IMMATRICULATION
D4: Adresse | E4: CODE POSTAL | F4: VILLE | G4: Adresse | H4: CODE POSTAL | I4: VILLE | L4: 20 | N4: 25 | O4: 50 | P4: 60 | Q4: 35 | R4: 50 | S4: 70 | T4: 50 | U4: 90 | V4: 90
A6: =IF(B6<>"",HYPERLINK("#" & ROW(B6)-5 & "!A1",ROW(B6)-5),"") -> 1 | B6: LE BARBU | C6: REMI | D6: DSFD | E6: 13300 | F6: SALON DE PROVENCE | I6: MARTIGUES | J6: 612548523 | L6: 20 | M6: 252572 | N6: 25 | O6: 50 | P6: 60 | Q6: 35 | R6: 50 | S6: 70 | T6: 50 | U6: 90 | V6: 90 | W6: =L6+N6+O6+P6+Q6+R6+S6+T6+U6+V6 -> 540 | X6: LE BLEU | Y6: OUI | Z6: XX JFD 13 | AA6: OUI | AB6: EE LJFS 13 | AC6: GG SEF 13
A7: =IF(B7<>"",HYPERLINK("#" & ROW(B7)-5 & "!A1",ROW(B7)-5),"") -> 2 | B7: GRAND | C7: MARC | F7: TOULON | I7: LA CIOTAT | L7: 20 | M7: 75272 | N7: 25 | R7: 50 | W7: =L7+N7+O7+P7+Q7+R7+S7+T7+U7+V7 -> 95 | X7: SARDINE | Y7: OUI | Z7: FGDGFH | AC7: SANS
A8: =IF(B8<>"",HYPERLINK("#" & ROW(B8)-5 & "!A1",ROW(B8)-5),"") -> 3 | B8: BOUBOU | M8: 257 | W8: =L8+N8+O8+P8+Q8+R8+S8+T8+U8+V8 -> 0
A9: =IF(B9<>"",HYPERLINK("#" & ROW(B9)-5 & "!A1",ROW(B9)-5),"") -> 4 | B9: ROHAN | C9: MICHEL
A10: =IF(B10<>"",HYPERLINK("#" & ROW(B10)-5 & "!A1",ROW(B10)-5),"") -> 5 | B10: MARTIN | C10: PIERRE
L13: =SUM(L6:L12) -> 40 | O13: =SUM(O6:O12) -> 50 | P13: =SUM(P6:P12) -> 60 | Q13: =SUM(Q6:Q12) -> 35 | R13: =SUM(R6:R12) -> 100 | S13: =SUM(S6:S12) -> 70 | T13: =SUM(T6:T12) -> 50 | U13: =SUM(U6:U12) -> 90 | V13: =SUM(V6:V12) -> 90 | W13: =SUM(W6:W12) -> 635

Sheet 1
A1: FICHE N° 1 | D1: Année | F1: 2020
D4: =GLOBAL!B6 -> LE BARBU | F4: =GLOBAL!C6 -> REMI
D7: Tél : | F7: =GLOBAL!J6 -> 612548523
A13: Courriel : | B13: =GLOBAL!K6 -> 0
A15: Adresse principale : | B15: =GLOBAL!D6 -> DSFD
B16: =GLOBAL!E6 -> 13300 | F16: =GLOBAL!F6 -> SALON DE PROVENCE
A19: Adresse secondaire : | B19: =GLOBAL!G6 -> 0
B20: =GLOBAL!H6 -> 0 | F20: =GLOBAL!I6 -> MARTIGUES
F23: BADGE | G23: =GLOBAL!N6 -> 25
A24: ADHESION | B24: =GLOBAL!L6 -> 20 | E24: N° | F24: =GLOBAL!M6 -> 252572
A26: GLACIS | B26: =GLOBAL!O6 -> 50
A28: BOUEE | B28: =GLOBAL!P6 -> 60 | E28: BOUEE Passager | G28: =GLOBAL!U6 -> 90
A30: RACK CANOE | B30: =GLOBAL!T6 -> 50 | E30: BOUEE Passager Extérieur | G30: =GLOBAL!V6 -> 90
A32: PETIT BOX | B32: =GLOBAL!Q6 -> 35
A34: GRAND BOX | B34: =GLOBAL!R6 -> 50
A36: PARKING | B36: =GLOBAL!S6 -> 70
A38: ASSURANCE VOITURE | B38: =GLOBAL!AA6 -> OUI | D38: Immatriculation : | F38: =GLOBAL!AB6 -> EE LJFS 13
A40: REMORQUE | D40: Immatriculation : | F40: =GLOBAL!AC6 -> GG SEF 13
A42: ASSURANCE BATEAU | B42: =GLOBAL!Y6 -> OUI | D42: Immatriculation : | F42: =GLOBAL!Z6 -> XX JFD 13
D43: NOM : | F43: =GLOBAL!X6 -> LE BLEU
D46: Montant total de la cotisation : | F46: =GLOBAL!W6 -> 540
A49: La vesse, le
A57: L'adhérent reconnaît avoir pris connaissance du règlement intérieur

Sheet 2
A1: FICHE N° 2 | D1: Année | F1: 2020
D4: =GLOBAL!B7 -> GRAND | F4: =GLOBAL!C7 -> MARC
D7: Tél : | F7: =GLOBAL!J7 -> 0
A13: Courriel : | B13: =GLOBAL!K7 -> 0
A15: Adresse principale : | B15: =GLOBAL!D7 -> 0
B16: =GLOBAL!E7 -> 0 | F16: =GLOBAL!F7 -> TOULON
A19: Adresse secondaire : | B19: =GLOBAL!G7 -> 0
B20: =GLOBAL!H7 -> 0 | F20: =GLOBAL!I7 -> LA CIOTAT
F23: BADGE | G23: =GLOBAL!N7 -> 25
A24: ADHESION | B24: =GLOBAL!L7 -> 20 | E24: N° | F24: =GLOBAL!M7 -> 75272
A26: GLACIS | B26: =GLOBAL!O7 -> 0
A28: BOUEE | B28: =GLOBAL!P7 -> 0 | E28: BOUEE Passager | G28: =GLOBAL!U7 -> 0
A30: RACK CANOE | B30: =GLOBAL!T7 -> 0 | E30: BOUEE Passager Extérieur | G30: =GLOBAL!V7 -> 0
A32: PETIT BOX | B32: =GLOBAL!Q7 -> 0
A34: GRAND BOX | B34: =GLOBAL!R7 -> 50
A36: PARKING | B36: =GLOBAL!S7 -> 0
A38: ASSURANCE VOITURE | B38: =GLOBAL!AA7 -> 0 | D38: Immatriculation : | F38: =GLOBAL!AB7 -> 0
A40: REMORQUE | D40: Immatriculation : | F40: =GLOBAL!AC7 -> SANS
A42: ASSURANCE BATEAU | B42: =GLOBAL!Y7 -> OUI | D42: Immatriculation : | F42: =GLOBAL!Z7 -> FGDGFH
D43: NOM : | F43: =GLOBAL!X7 -> SARDINE
D46: Montant total de la cotisation : | F46: =GLOBAL!W7 -> 95
A49: La vesse, le
A57: L'adhérent reconnaît avoir pris connaissance du règlement intérieur

Sheet 3
A1: FICHE N° 3 | D1: Année | F1: 2020
D4: =GLOBAL!B8 -> BOUBOU | F4: =GLOBAL!C8 -> 0
D7: Tél : | F7: =GLOBAL!J8 -> 0
A13: Courriel : | B13: =GLOBAL!K8 -> 0
A15: Adresse principale : | B15: =GLOBAL!D8 -> 0
B16: =GLOBAL!E8 -> 0 | F16: =GLOBAL!F8 -> 0
A19: Adresse secondaire : | B19: =GLOBAL!G8 -> 0
B20: =GLOBAL!H8 -> 0 | F20: =GLOBAL!I8 -> 0
F23: BADGE | G23: =GLOBAL!N8 -> 0
A24: ADHESION | B24: =GLOBAL!L8 -> 0 | E24: N° | F24: =GLOBAL!M8 -> 257
A26: GLACIS | B26: =GLOBAL!O8 -> 0
A28: BOUEE | B28: =GLOBAL!P8 -> 0 | E28: BOUEE Passager | G28: =GLOBAL!U8 -> 0
A30: RACK CANOE | B30: =GLOBAL!T8 -> 0 | E30: BOUEE Passager Extérieur | G30: =GLOBAL!V8 -> 0
A32: PETIT BOX | B32: =GLOBAL!Q8 -> 0
A34: GRAND BOX | B34: =GLOBAL!R8 -> 0
A36: PARKING | B36: =GLOBAL!S8 -> 0
A38: ASSURANCE VOITURE | B38: =GLOBAL!AA8 -> 0 | D38: Immatriculation : | F38: =GLOBAL!AB8 -> 0
A40: REMORQUE | D40: Immatriculation : | F40: =GLOBAL!AC8 -> 0
A42: ASSURANCE BATEAU | B42: =GLOBAL!Y8 -> 0 | D42: Immatriculation : | F42: =GLOBAL!Z8 -> 0
D43: NOM : | F43: =GLOBAL!X8 -> 0
D46: Montant total de la cotisation : | F46: =GLOBAL!W8 -> 0
A49: La vesse, le
A57: L'adhérent reconnaît avoir pris connaissance du règlement intérieur

Sheet 4
A1: FICHE N° 4 | D1: Année | F1: 2020
D4: ROHAN | F4: Michel
D7: Tél : | F7: =GLOBAL!J8 -> 0
A13: Courriel : | B13: =GLOBAL!K8 -> 0
A15: Adresse principale : | B15: =GLOBAL!D8 -> 0
B16: =GLOBAL!E8 -> 0 | F16: =GLOBAL!F8 -> 0
A19: Adresse secondaire : | B19: =GLOBAL!G8 -> 0
B20: =GLOBAL!H8 -> 0 | F20: =GLOBAL!I8 -> 0
F23: BADGE | G23: =GLOBAL!N8 -> 0
A24: ADHESION | B24: =GLOBAL!L8 -> 0 | E24: N° | F24: =GLOBAL!M8 -> 257
A26: GLACIS | B26: =GLOBAL!O8 -> 0
A28: BOUEE | B28: =GLOBAL!P8 -> 0 | E28: BOUEE Passager | G28: =GLOBAL!U8 -> 0
A30: RACK CANOE | B30: =GLOBAL!T8 -> 0 | E30: BOUEE Passager Extérieur | G30: =GLOBAL!V8 -> 0
A32: PETIT BOX | B32: =GLOBAL!Q8 -> 0
A34: GRAND BOX | B34: =GLOBAL!R8 -> 0
A36: PARKING | B36: =GLOBAL!S8 -> 0
A38: ASSURANCE VOITURE | B38: =GLOBAL!AA8 -> 0 | D38: Immatriculation : | F38: =GLOBAL!AB8 -> 0
A40: REMORQUE | D40: Immatriculation : | F40: =GLOBAL!AC8 -> 0
A42: ASSURANCE BATEAU | B42: =GLOBAL!Y8 -> 0 | D42: Immatriculation : | F42: =GLOBAL!Z8 -> 0
D43: NOM : | F43: =GLOBAL!X8 -> 0
D46: Montant total de la cotisation : | F46: =GLOBAL!W8 -> 0
A49: La vesse, le
A57: L'adhérent reconnaît avoir pris connaissance du règlement intérieur

Sheet 5
A1: FICHE N° | D1: Année | F1: 2020
D4: MARTIN | F4: pierre
D7: Tél : | F7: =GLOBAL!J8 -> 0
A13: Courriel : | B13: =GLOBAL!K8 -> 0
A15: Adresse principale : | B15: =GLOBAL!D8 -> 0
B16: =GLOBAL!E8 -> 0 | F16: =GLOBAL!F8 -> 0
A19: Adresse secondaire : | B19: =GLOBAL!G8 -> 0
B20: =GLOBAL!H8 -> 0 | F20: =GLOBAL!I8 -> 0
F23: BADGE | G23: =GLOBAL!N8 -> 0
A24: ADHESION | B24: =GLOBAL!L8 -> 0 | E24: N° | F24: =GLOBAL!M8 -> 257
A26: GLACIS | B26: =GLOBAL!O8 -> 0
A28: BOUEE | B28: =GLOBAL!P8 -> 0 | E28: BOUEE Passager | G28: =GLOBAL!U8 -> 0
A30: RACK CANOE | B30: =GLOBAL!T8 -> 0 | E30: BOUEE Passager Extérieur | G30: =GLOBAL!V8 -> 0
A32: PETIT BOX | B32: =GLOBAL!Q8 -> 0
A34: GRAND BOX | B34: =GLOBAL!R8 -> 0
A36: PARKING | B36: =GLOBAL!S8 -> 0
A38: ASSURANCE VOITURE | B38: =GLOBAL!AA8 -> 0 | D38: Immatriculation : | F38: =GLOBAL!AB8 -> 0
A40: REMORQUE | D40: Immatriculation : | F40: =GLOBAL!AC8 -> 0
A42: ASSURANCE BATEAU | B42: =GLOBAL!Y8 -> 0 | D42: Immatriculation : | F42: =GLOBAL!Z8 -> 0
D43: NOM : | F43: =GLOBAL!X8 -> 0
D46: Montant total de la cotisation : | F46: =GLOBAL!W8 -> 0
A49: La vesse, le
A57: L'adhérent reconnaît avoir pris connaissance du règlement intérieur

Sheet 6

Sheet 7
