Workbook

Sheet FIN
A1: Nom de cours | B1: Comptez les valeurs uniques de Utilisateur (nom complet) | C1: Pourcentage de Pas commencé | D1: Pourcentage de En cours | E1: Pourcentage de Terminé
A2: Abschreibungen verwalten | B2: 10 | C2: 100.0% | D2: 0.0% | E2: 0.0%
A3: Abschreibungs- und Gutschriftenmanagement | B3: 1 | C3: 100.0% | D3: 0.0% | E3: 0.0%
A4: Accident, LAA, recours | B4: 1 | C4: 100.0% | D4: 0.0% | E4: 0.0%
A5: Alternativmodelle | B5: 1 | C5: 100.0% | D5: 0.0% | E5: 0.0%
A6: Ambulante Leistungen (Zähler und behandlungen) | B6: 1 | C6: 100.0% | D6: 0.0% | E6: 0.0%
A7: Anfrage Medizinischer Bericht für eine Behandlung "Spitalaufenthalt Stationär" | B7: 1 | C7: 100.0% | D7: 0.0% | E7: 0.0%
A8: Antragsmanagement | B8: 1 | C8: 100.0% | D8: 0.0% | E8: 0.0%
A9: Arbeitsanweisungen - Allgemeines | B9: 1 | C9: 100.0% | D9: 0.0% | E9: 0.0%
A10: Arbeitsanweisungen - Anwendung | B10: 1 | C10: 100.0% | D10: 0.0% | E10: 0.0%
A11: Arbeitsanweisungen - Verwaltung | B11: 1 | C11: 100.0% | D11: 0.0% | E11: 0.0%
A12: Archivage de documents | B12: 54 | C12: 59.3% | D12: 7.4% | E12: 33.3%
A13: Archivieren von Dokumenten | B13: 10 | C13: 60.0% | D13: 0.0% | E13: 40.0%
... A120: Zahlersperren verwalten | B120: 10 | C120: 100.0% | D120: 0.0% | E120: 0.0%

Sheet TCD
A1: Étiquettes de lignes | B1: Somme de Comptez les valeurs uniques de Utilisateur (nom complet) | C1: Somme de Pourcentage de Pas commencé | D1: Somme de Pourcentage de En cours | E1: Somme de Pourcentage de Terminé
A2: Accident, LAA, recours | B2: 124 | C2: 0.976 | D2: 0.024 | E2: 0
A3: Alternativmodelle | B3: 162 | C3: 0.84 | D3: 0.093 | E3: 0.068
A4: Ambulante Leistungen (Zähler und behandlungen) | B4: 174 | C4: 0.856 | D4: 0.069 | E4: 0.075
A5: Anfrage Medizinischer Bericht für eine Behandlung "Spitalaufenthalt Stationär" | B5: 61 | C5: 0.869 | D5: 0 | E5: 0.131
A6: Arbeitsanweisungen - Allgemeines | B6: 194 | C6: 0.438 | D6: 0.057 | E6: 0.505
A7: Arbeitsanweisungen - Anwendung | B7: 194 | C7: 0.536 | D7: 0.031 | E7: 0.433
A8: Arbeitsanweisungen - Verwaltung | B8: 194 | C8: 0.5 | D8: 0.046 | E8: 0.454
A9: Archivage de documents | B9: 492 | C9: 0.746 | D9: 0.004 | E9: 0.25
A10: Archivieren von Dokumenten | B10: 194 | C10: 0.418 | D10: 0.026 | E10: 0.557
A11: Assurance invalidité | B11: 104 | C11: 0.962 | D11: 0.039 | E11: 0
A12: Capitaux décès et invalidité | B12: 64 | C12: 0.953 | D12: 0.047 | E12: 0
A13: Connaître les principales fonctionnalités dans Syrius | B13: 492 | C13: 0.372 | D13: 0.041 | E13: 0.587
... A78: Total général | B78: 13906 | C78: 64.505 | D78: 2.552 | E78: 8.952

Sheet PRE
A1: Nom de cours | B1: Comptez les valeurs uniques de Utilisateur (nom complet) | C1: Pourcentage de Pas commencé | D1: Pourcentage de En cours | E1: Pourcentage de Terminé
A2: Accident, LAA, recours | B2: 124 | C2: 0.976 | D2: 0.024 | E2: 0
A3: Alternativmodelle | B3: 162 | C3: 0.84 | D3: 0.093 | E3: 0.068
A4: Ambulante Leistungen (Zähler und behandlungen) | B4: 174 | C4: 0.856 | D4: 0.069 | E4: 0.075
A5: Anfrage Medizinischer Bericht für eine Behandlung "Spitalaufenthalt Stationär" | B5: 61 | C5: 0.869 | D5: 0 | E5: 0.131
A6: Arbeitsanweisungen - Allgemeines | B6: 194 | C6: 0.438 | D6: 0.057 | E6: 0.505
A7: Arbeitsanweisungen - Anwendung | B7: 194 | C7: 0.536 | D7: 0.031 | E7: 0.433
A8: Arbeitsanweisungen - Verwaltung | B8: 194 | C8: 0.5 | D8: 0.046 | E8: 0.454
A9: Archivage de documents | B9: 492 | C9: 0.746 | D9: 0.004 | E9: 0.25
A10: Archivieren von Dokumenten | B10: 194 | C10: 0.418 | D10: 0.026 | E10: 0.557
A11: Assurance invalidité | B11: 104 | C11: 0.962 | D11: 0.039 | E11: 0
A12: Capitaux décès et invalidité | B12: 64 | C12: 0.953 | D12: 0.047 | E12: 0
A13: Connaître les principales fonctionnalités dans Syrius | B13: 492 | C13: 0.372 | D13: 0.041 | E13: 0.587
... A77: VVG Produkte | B77: 168 | C77: 0.911 | D77: 0.048 | E77: 0.042
B80: =SUM(B2:B77) -> 13906

Sheet DonneesFinales
A1: Titre du module | B1: Départements | N1: Taux état de situation | R1: Taux état de situation
N2: PRE | R2: CEM
B3: Tous | C3: PRE | D3: CEM | E3: FIN | F3: INF | G3: RH | H3: COMM | I3: DEV | J3: DG | K3: Audit | L3: Total | M3: DIFF | N3: Pourcentage de Pas commencé | O3: Pourcentage de En cours | P3: Pourcentage de Terminé | R3: Pourcentage de Pas commencé | S3: Pourcentage de En cours | T3: Pourcentage de Terminé
A4: Connaître les principales fonctionnalités dans Syrius | C4: =PRE!$B$13 -> 492 | N4: =PRE!$C$13 -> 0.372 | O4: =PRE!$D$13 -> 0.041 | P4: =PRE!$E$13 -> 0.587 | R4: =PRE!#REF! -> #REF! | S4: =PRE!#REF! -> #REF! | T4: =PRE!#REF! -> #REF!
A5: Die wichtigsten Funktionen in Syrius | C5: =PRE!$B$21 -> 194 | N5: =PRE!$C$21 -> 0.258
A6: Premiers pas dans BSI | C6: =PRE!$B$56 -> 488 | N6: =PRE!$C$56 -> 0.57
A7: Meine ersten Schritte bei BSI | C7: =PRE!$B$52 -> 194 | N7: =PRE!$C$52 -> 0.66
A8: Smartfix - Les fondamentaux
A9: Smartfix - Grundlagen
A10: Gestion des tâches | C10: =PRE!$B$40 -> 492 | N10: =PRE!$C$40 -> 0.547
A11: Verwalten der Aufgaben | C11: =PRE!$B$73 -> 194 | N11: =PRE!$C$73 -> 0.505
A12: Archivage de documents | C12: =PRE!$B$9 -> 492 | N12: =PRE!$C$9 -> 0.746
A13: Archivieren von Dokumenten | C13: =PRE!$B$10 -> 194 | N13: =PRE!$C$10 -> 0.418
A14: Consignes de travail - Généralités | C14: =PRE!$B$14 -> 492 | N14: =PRE!$C$14 -> 0.811
A15: Arbeitsanweisungen - Allgemeines | C15: =PRE!$B$6 -> 194 | N15: =PRE!$C$6 -> 0.438
A16: Consignes de travail - Gestion | C16: =PRE!$B$15 -> 492 | N16: =PRE!$C$15 -> 0.835
A17: Arbeitsanweisungen - Verwaltung | C17: =PRE!$B$8 -> 194 | N17: =PRE!C8 -> 0.5
A18: Gérer les réclamations dans Syrius | C18: =PRE!B36 -> 492 | N18: =PRE!$C$36 -> 0.888
A19: Reklamationsmanagement in Syrius | C19: =PRE!$B$60 -> 194 | N19: =PRE!$C$60 -> 0.696
A20: Contact Management dans BSI | C20: =PRE!B17 -> 430 | N20: =PRE!$C$17 -> 0.823
A21: Kontaktmanagement | C21: =PRE!$B$47 -> 192 | N21: =PRE!C47 -> 0.76
A22: Introduction aux POCO - Partie 1 | C22: =PRE!$B$44 -> 391 | N22: =PRE!C44 -> 0.933
A23: Einführung in die OP - Teil 1 | C23: =PRE!$B$23 -> 185 | N23: =PRE!C23 -> 0.789
A24: Introduction aux POCO - Partie 2 | C24: =PRE!$B$45 -> 2 | N24: =PRE!C45 -> 1
A25: Einführung in die OP - Teil 2
A26: Consignes de travail - Utilisation | C26: =PRE!B16 -> 448 | N26: =PRE!$C$16 -> 0.844
A27: Arbeitsanweisungen - Anwendung | C27: =PRE!$B$7 -> 194 | N27: =PRE!C7 -> 0.536
A28: Prestations - Généralités dans Syrius | C28: =PRE!$B$57 -> 440 | N28: =PRE!C57 -> 0.905
A29: Leistungen - Allgemeines in Syrius | C29: =PRE!$B$48 -> 189 | N29: =PRE!C48 -> 0.545
A30: Factures | C30: =PRE!B27 -> 440 | N30: =PRE!C27 -> 0.941
A31: Rechnungen | C31: =PRE!$B$59 -> 189 | N31: =PRE!C59 -> 0.661
A32: Remboursements, paiements et suspensions | C32: =PRE!$B$61 -> 421 | N32: =PRE!C61 -> 0.967
A33: Rückzahlung, Zahlung und Sistierung | C33: =PRE!$B$63 -> 179 | N33: =PRE!C63 -> 0.905
A34: Produits LCA | C34: =PRE!$B$58 -> 383 | N34: =PRE!C58 -> 0.966
A35: VVG-Produkte | C35: =PRE!$B$77 -> 168 | N35: =PRE!C77 -> 0.911
A36: Modèles Alternatifs | C36: =PRE!$B$53 -> 351 | N36: =PRE!C53 -> 0.977
A37: Alternativmodelle | C37: =PRE!B3 -> 162 | N37: =PRE!C3 -> 0.84
A38: Maternité et stérilité | C38: =PRE!$B$51 -> 335 | N38: =PRE!C51 -> 0.976
A39: Mutterschaft und Sterilität | C39: =PRE!B54 -> 160 | N39: =PRE!C54 -> 0.869
A40: EMS / SAD | C40: =PRE!$B$24 -> 95 | N40: =PRE!C24 -> 0.968
...

Sheet TEST
