Workbook

Sheet L1
C1: toto | F1: arthur | I1: ginette | L1: johny | O1: marc alain
A2: Critères notés sur 20 et pondérés | C2: Justification de l'évaluation | D2: Note/20 | E2: Pondérée | F2: Justification de l'évaluation | G2: Note/20 | H2: Pondérée | I2: Justification de l'évaluation | J2: Note/20 | K2: Pondérée | L2: Justification de l'évaluation | M2: Note/20 | N2: Pondérée | O2: Justification de l'évaluation | P2: Note/20 | Q2: Pondérée | R2: Justification de l'évaluation | S2: Note/20 | T2: Pondérée | U2: Justification de l'évaluation | V2: Note/20 | W2: Pondérée | X2: Justification de l'évaluation | Y2: Note/20 | Z2: Pondérée
A3: Dépenses de chantier | B3: 0.1 | D3: 18 | E3: =D3*$B$3*1.55 -> 2.79 | G3: 18 | H3: =G3*$B$3*1.55 -> 2.79 | K3: =J3*$B$3*1.55 -> 0 | M3: 18 | N3: =M3*$B$3*1.55 -> 2.79 | P3: 18 | Q3: =P3*$B$3*1.55 -> 2.79 | S3: 18 | T3: =S3*$B$3*1.55 -> 2.79 | V3: 0 | W3: =V3*$B$3*1.55 -> 0 | Y3: 8 | Z3: =Y3*$B$3*1.55 -> 1.24
A5: Evaluation des contraintes d'exécution | B5: 0.3 | D5: 14 | E5: =D5*$B$5*1.55 -> 6.51 | G5: 10 | H5: =G5*$B$5*1.55 -> 4.65 | K5: =J5*$B$5*1.55 -> 0 | M5: 16 | N5: =M5*$B$5*1.55 -> 7.44 | P5: 16 | Q5: =P5*$B$5*1.55 -> 7.44 | S5: 12 | T5: =S5*$B$5*1.55 -> 5.58 | V5: 0 | W5: =V5*$B$5*1.55 -> 0 | Y5: 14 | Z5: =Y5*$B$5*1.55 -> 6.51
A7: Analyse du délai cadre | B7: 0.15 | D7: 18 | E7: =D7*$B$7*1.55 -> 4.185 | G7: 13 | H7: =G7*$B$7*1.55 -> 3.0225 | K7: =J7*$B$7*1.55 -> 0 | M7: 14 | N7: =M7*$B$7*1.55 -> 3.255 | P7: 18 | Q7: =P7*$B$7*1.55 -> 4.185 | S7: 8 | T7: =S7*$B$7*1.55 -> 1.86 | V7: 0 | W7: =V7*$B$7*1.55 -> 0 | Y7: 14 | Z7: =Y7*$B$7*1.55 -> 3.255
A9: Moyens | B9: 0.35 | D9: 14 | E9: =D9*$B$9*1.55 -> 7.595 | G9: 12 | H9: =G9*$B$9*1.55 -> 6.51 | K9: =J9*$B$9*1.55 -> 0 | M9: 18 | N9: =M9*$B$9*1.55 -> 9.765 | P9: 17 | Q9: =P9*$B$9*1.55 -> 9.2225 | S9: 18 | T9: =S9*$B$9*1.55 -> 9.765 | V9: 0 | W9: =V9*$B$9*1.55 -> 0 | Y9: 18 | Z9: =Y9*$B$9*1.55 -> 9.765
A11: Dispositions particulières | B11: 0.1 | D11: 18 | E11: =D11*$B$11*1.55 -> 2.79 | G11: 8 | H11: =G11*$B$11*1.55 -> 1.24 | K11: =J11*$B$11*1.55 -> 0 | M11: 10 | N11: =M11*$B$11*1.55 -> 1.55 | P11: 12 | Q11: =P11*$B$11*1.55 -> 1.86 | S11: 13 | T11: =S11*$B$11*1.55 -> 2.015 | V11: 0 | W11: =V11*$B$11*1.55 -> 0 | Y11: 18 | Z11: =Y11*$B$11*1.55 -> 2.79
A19: Récap note technique | E19: =SUM(E3:E17) -> 23.87 | H19: =SUM(H3:H17) -> 18.2125 | K19: =SUM(K3:K17) -> 0 | N19: =SUM(N3:N17) -> 24.8 | Q19: =SUM(Q3:Q17) -> 25.4975 | T19: =SUM(T3:T17) -> 22.01 | W19: =SUM(W3:W17) -> 0 | Z19: =SUM(Z3:Z17) -> 23.56
A21: Offre du candidat | C21: 10000 | F21: 25000 | I21: 12000 | L21: 22000 | O21: 17000 | R21: 56430 | U21: 65294.8 | X21: 54972.62
A22: Prix - remarques sur les prix unitaires
A23: Prix - offre la plus basse/ offre du candidat * 20 et pondérée | B23: 1.45 | D23: =($C$21/C21)*20 -> 20 | E23: =D23*1.45 -> 29 | G23: =($C$21/F21)*20 -> 8 | H23: =G23*1.45 -> 11.6 | J23: =($C$21/I21)*20 -> 16.666667 | K23: =J23*1.45 -> 24.166667 | M23: =($C$21/L21)*20 -> 9.0909091 | N23: =M23*1.45 -> 13.181818 | P23: =($C$21/O21)*20 -> 11.764706 | Q23: =1.45*P23 -> 17.058824 | S23: =($C$21/R21)*20 -> 3.5442141 | T23: =S23*1.45 -> 5.1391104 | V23: =($X$21/U21)*20 -> 16.838284 | W23: =V23*1.45 -> 24.415512 | Y23: =($X$21/X21)*20 -> 20 | Z23: =Y23*1.45 -> 29
A25: NOTE GLOBALE | E25: =E19+E23 -> 52.87 | H25: =H19+H23 -> 29.8125 | K25: =K19+K23 -> 24.166667 | N25: =N19+N23 -> 37.981818 | Q25: =Q19+Q23 -> 42.556324 | T25: =T19+T23 -> 27.14911 | W25: =W19+W23 -> 24.415512 | Z25: =Z19+Z23 -> 52.56
A27: NOTE DEFINITIVE | E27: =E25-E26 -> 52.87 | H27: =H25-H26 -> 29.8125 | K27: =K25-K26 -> 24.166667 | N27: =N25-N26 -> 37.981818 | Q27: =Q25-Q26 -> 42.556324 | T27: =T25-T26 -> 27.14911 | W27: =W25-W26 -> 24.415512 | Z27: =Z25-Z26 -> 52.56
A28: RANG

Sheet L2
C1: robert | F1: sylvie | I1: corinne | L1: camille
A2: Critères notés sur 20 et pondérés | C2: Justification de l'évaluation | D2: Note/20 | E2: Pondérée | F2: Justification de l'évaluation | G2: Note/20 | H2: Pondérée | I2: Justification de l'évaluation | J2: Note/20 | K2: Pondérée | L2: Justification de l'évaluation | M2: Note/20 | N2: Pondérée | O2: Justification de l'évaluation | P2: Note/20 | Q2: Pondérée | R2: Justification de l'évaluation | S2: Note/20 | T2: Pondérée | U2: Justification de l'évaluation | V2: Note/20 | W2: Pondérée | X2: Justification de l'évaluation | Y2: Note/20 | Z2: Pondérée
A3: Dépenses de chantier | B3: 0.1 | D3: 18 | E3: =D3*$B$3*1.55 -> 2.79 | G3: 18 | H3: =G3*$B3*1.55 -> 2.79 | J3: 18 | K3: =J3*$B$3*1.55 -> 2.79 | M3: 18 | N3: =M3*$B3*1.55 -> 2.79
A5: Evaluation des contraintes d'exécution | B5: 0.3 | D5: 14 | E5: =D5*$B$5*1.55 -> 6.51 | G5: 10 | H5: =G5*$B5*1.55 -> 4.65 | J5: 10 | K5: =J5*$B$5*1.55 -> 4.65 | M5: 16 | N5: =M5*$B5*1.55 -> 7.44
A7: Analyse du délai cadre | B7: 0.15 | D7: 18 | E7: =D7*$B$7*1.55 -> 4.185 | G7: 14 | H7: =G7*$B7*1.55 -> 3.255 | J7: 13 | K7: =J7*$B$7*1.55 -> 3.0225 | M7: 18 | N7: =M7*$B7*1.55 -> 4.185
A9: Moyens | B9: 0.35 | D9: 14 | E9: =D9*$B$9*1.55 -> 7.595 | G9: 16 | H9: =G9*$B9*1.55 -> 8.68 | J9: 12 | K9: =J9*$B$9*1.55 -> 6.51 | M9: 17 | N9: =M9*$B9*1.55 -> 9.2225
A11: Dispositions particulières | B11: 0.1 | D11: 18 | E11: =D11*$B$11*1.55 -> 2.79 | G11: 18 | H11: =G11*$B11*1.55 -> 2.79 | J11: 8 | K11: =J11*$B$11*1.55 -> 1.24 | M11: 12 | N11: =M11*$B11*1.55 -> 1.86
A19: Récap note technique | E19: =SUM(E3:E17) -> 23.87 | H19: =SUM(H3:H17) -> 22.165 | K19: =SUM(K3:K17) -> 18.2125 | N19: =SUM(N3:N17) -> 25.4975
A21: Offre du candidat | C21: 25000 | F21: 18000 | I21: 24000 | L21: 23000
A22: Prix - remarques sur les prix unitaires
A23: Prix - offre la plus basse/ offre du candidat * 20 et pondérée | B23: 1.45 | D23: =($C$21/C21)*20 -> 20 | E23: =D23*1.45 -> 29 | G23: =($C$21/F21)*20 -> 27.777778 | H23: =G23*1.45 -> 40.277778 | J23: =($C$21/I21)*20 -> 20.833333 | K23: =J23*1.45 -> 30.208333 | M23: =($C$21/L21)*20 -> 21.73913 | N23: =M23*1.45 -> 31.521739
A25: NOTE GLOBALE | E25: =E19+E23 -> 52.87 | H25: =H19+H23 -> 62.442778 | K25: =K19+K23 -> 48.420833 | N25: =N19+N23 -> 57.019239
A27: NOTE DEFINITIVE | E27: =E25-E26 -> 52.87 | H27: =H25-H26 -> 62.442778 | K27: =K25-K26 -> 48.420833 | N27: =N25-N26 -> 57.019239
A28: RANG

Sheet L3
A2: Critères notés sur 20 et pondérés
B3: 0.1
B5: 0.3
B7: 0.15
B9: 0.35
B11: 0.1
A19: Récap note technique
A21: Offre du candidat
A22: Prix - remarques sur les prix unitaires
A23: Prix - offre la plus basse/ offre du candidat * 20 et pondérée | B23: 1.45
A25: NOTE GLOBALE
A27: NOTE DEFINITIVE
A28: RANG

Sheet L4
A2: Critères notés sur 20 et pondérés
B3: 0.1
B5: 0.3
B7: 0.15
B9: 0.35
B11: 0.1
A19: Récap note technique
A21: Offre du candidat
A22: Prix - remarques sur les prix unitaires
A23: Prix - offre la plus basse/ offre du candidat * 20 et pondérée | B23: 1.45
A25: NOTE GLOBALE
A27: NOTE DEFINITIVE
A28: RANG

Sheet L5
A2: Critères notés sur 20 et pondérés
B3: 0.1
B5: 0.3
B7: 0.15
B9: 0.35
B11: 0.1
A19: Récap note technique
A21: Offre du candidat
A22: Prix - remarques sur les prix unitaires
A23: Prix - offre la plus basse/ offre du candidat * 20 et pondérée | B23: 1.45
A25: NOTE GLOBALE
A27: NOTE DEFINITIVE
A28: RANG

Sheet L6
A2: Critères notés sur 20 et pondérés
B3: 0.1
B5: 0.3
B7: 0.15
B9: 0.35
B11: 0.1
A19: Récap note technique
A21: Offre du candidat
A22: Prix - remarques sur les prix unitaires
A23: Prix - offre la plus basse/ offre du candidat * 20 et pondérée | B23: 1.45
A25: NOTE GLOBALE
A27: NOTE DEFINITIVE
A28: RANG

Sheet L7
A2: Critères notés sur 20 et pondérés
B3: 0.1
B5: 0.3
B7: 0.15
B9: 0.35
B11: 0.1
A19: Récap note technique
A21: Offre du candidat
A22: Prix - remarques sur les prix unitaires
A23: Prix - offre la plus basse/ offre du candidat * 20 et pondérée | B23: 1.45
A25: NOTE GLOBALE
A27: NOTE DEFINITIVE
A28: RANG

Sheet récap
A1: ENTREPRISE | B1: N° LOT | C1: ENTREPRISE RAISON SOCIALE | D1: COTRAITANT OU SOUS TRAITANT | E1: MONTANT HT EUROS | F1: NOTE FINALE | G1: RANG | H1: OBSERVATIONS | I1: NOTE MÉMOIRE
B2: =[1]!NOM_FEUILLE('L1'!B2) -> L1 | C2: ='L1'!C1 -> toto | E2: ='L1'!C$21 -> 10000 | F2: ='L1'!E$27 -> 52.87 | G2: =RANK(F2,F$2:F$9) -> 1 | I2: ='L1'!E19 -> 23.87
B3: =[1]!NOM_FEUILLE('L1'!B3) -> L1 | C3: ='L1'!F1 -> arthur | E3: ='L1'!F$21 -> 25000 | F3: ='L1'!H$27 -> 29.8125 | G3: =RANK(F3,F$2:F$9) -> 4 | I3: ='L1'!H19 -> 18.2125
B4: =[1]!NOM_FEUILLE('L1'!B4) -> L1 | C4: ='L1'!I1 -> ginette | E4: ='L1'!I$21 -> 12000 | F4: ='L1'!K$27 -> 24.166667 | G4: =RANK(F4,F$2:F$9) -> 5 | I4: ='L1'!K19 -> 0
B5: =[1]!NOM_FEUILLE('L1'!B5) -> L1 | C5: ='L1'!L1 -> johny | E5: ='L1'!L$21 -> 22000 | F5: ='L1'!N$27 -> 37.981818 | G5: =RANK(F5,F$2:F$9) -> 3 | I5: ='L1'!N19 -> 24.8
B6: =[1]!NOM_FEUILLE('L1'!B6) -> L1 | C6: ='L1'!O1 -> marc alain | E6: ='L1'!O$21 -> 17000 | F6: ='L1'!Q$27 -> 42.556324 | G6: =RANK(F6,F$2:F$9) -> 2 | I6: ='L1'!Q19 -> 25.4975
C10: ='L1'!AA1 -> 0
B12: =[1]!NOM_FEUILLE('L2'!B12) -> L2
B22: =[1]!NOM_FEUILLE('L3'!B22) -> L3
B31: =[1]!NOM_FEUILLE('L4'!B31) -> L4 | C31: ='L4'!C1 -> 0 | E31: ='L4'!C21 -> 0 | F31: ='L4'!E27 -> 0
C32: ='L4'!F1 -> 0 | E32: ='L4'!F21 -> 0 | F32: ='L4'!H27 -> 0
C33: ='L4'!I1 -> 0 | E33: ='L4'!I21 -> 0 | F33: ='L4'!K27 -> 0
C34: ='L4'!L1 -> 0 | E34: ='L4'!L21 -> 0 | F34: ='L4'!N27 -> 0
B42: =[1]!NOM_FEUILLE('L5'!B42) -> L5 | C42: ='L5'!C1 -> 0 | E42: ='L5'!C21 -> 0 | F42: ='L5'!E27 -> 0 | G42: =RANK(F42,F$42:F$52) -> 1 | I42: ='L5'!E19 -> 0
B43: =[1]!NOM_FEUILLE('L5'!B43) -> L5 | C43: ='L5'!F1 -> 0 | E43: ='L5'!F21 -> 0 | F43: ='L5'!H27 -> 0 | G43: =RANK(F43,F$42:F$52) -> 1 | I43: ='L5'!H19 -> 0
B44: =[1]!NOM_FEUILLE('L5'!B44) -> L5 | C44: ='L5'!I1 -> 0 | E44: ='L5'!I21 -> 0 | F44: ='L5'!K27 -> 0 | G44: =RANK(F44,F$42:F$52) -> 1 | I44: ='L5'!K19 -> 0
B45: =[1]!NOM_FEUILLE('L5'!B45) -> L5 | C45: ='L5'!L1 -> 0 | E45: ='L5'!L21 -> 0 | F45: ='L5'!N27 -> 0 | G45: =RANK(F45,F$42:F$52) -> 1 | I45: ='L5'!N19 -> 0
B46: =[1]!NOM_FEUILLE('L5'!B46) -> L5 | C46: ='L5'!O1 -> 0 | E46: ='L5'!O21 -> 0 | F46: ='L5'!Q27 -> 0 | G46: =RANK(F46,F$42:F$52) -> 1 | I46: ='L5'!Q19 -> 0
B47: =[1]!NOM_FEUILLE('L5'!B47) -> L5 | C47: ='L5'!R1 -> 0 | E47: ='L5'!R21 -> 0 | F47: ='L5'!T27 -> 0 | G47: =RANK(F47,F$42:F$52) -> 1 | I47: ='L5'!T19 -> 0
B48: =[1]!NOM_FEUILLE('L5'!B48) -> L5 | C48: ='L5'!U1 -> 0 | E48: ='L5'!U21 -> 0 | F48: ='L5'!W27 -> 0 | G48: =RANK(F48,F$42:F$52) -> 1 | I48: ='L5'!W19 -> 0
B55: =[1]!NOM_FEUILLE('L6'!B55) -> L6 | C55: ='L6'!C1 -> 0 | E55: ='L6'!C21 -> 0 | F55: ='L6'!E27 -> 0 | G55: =RANK(F55,F$55:F$60) -> 1 | I55: ='L6'!E19 -> 0
B56: =[1]!NOM_FEUILLE('L6'!B56) -> L6 | C56: ='L6'!F1 -> 0 | E56: ='L6'!I21 -> 0 | F56: ='L6'!K27 -> 0 | G56: =RANK(F56,F$55:F$60) -> 1 | I56: ='L6'!K19 -> 0
B57: =[1]!NOM_FEUILLE('L6'!B57) -> L6 | C57: ='L6'!I1 -> 0 | E57: ='L6'!L21 -> 0 | F57: ='L6'!N27 -> 0 | G57: =RANK(F57,F$55:F$60) -> 1 | I57: ='L6'!N19 -> 0
B58: =[1]!NOM_FEUILLE('L6'!B58) -> L6 | C58: ='L6'!L1 -> 0 | E58: ='L6'!R21 -> 0 | F58: ='L6'!T27 -> 0 | G58: =RANK(F58,F$55:F$60) -> 1 | I58: ='L6'!T19 -> 0
B59: =[1]!NOM_FEUILLE('L6'!B59) -> L6 | C59: ='L6'!O1 -> 0 | E59: ='L6'!X21 -> 0 | F59: ='L6'!Z27 -> 0 | G59: =RANK(F59,F$55:F$60) -> 1 | I59: ='L6'!Z19 -> 0
B60: =[1]!NOM_FEUILLE('L6'!B60) -> L6 | C60: ='L6'!R1 -> 0 | E60: ='L6'!AA21 -> 0 | F60: ='L6'!AC27 -> 0 | G60: =RANK(F60,F$55:F$60) -> 1 | I60: ='L6'!AC19 -> 0
B63: =[1]!NOM_FEUILLE('L7'!B63) -> L7 | C63: ='L7'!C1 -> 0 | E63: ='L7'!C21 -> 0 | F63: ='L7'!E27 -> 0 | G63: =RANK(F63,F$63:F$69) -> 1 | I63: ='L7'!E19 -> 0
B64: =[1]!NOM_FEUILLE('L7'!B64) -> L7 | C64: ='L7'!F1 -> 0 | E64: ='L7'!F21 -> 0 | F64: ='L7'!H27 -> 0 | G64: =RANK(F64,F$63:F$69) -> 1 | I64: ='L7'!H19 -> 0
B65: =[1]!NOM_FEUILLE('L7'!B65) -> L7 | C65: ='L7'!I1 -> 0 | E65: ='L7'!I21 -> 0 | F65: ='L7'!K27 -> 0 | G65: =RANK(F65,F$63:F$69) -> 1 | I65: ='L7'!K19 -> 0
B66: =[1]!NOM_FEUILLE('L7'!B66) -> L7 | C66: ='L7'!L1 -> 0 | E66: ='L7'!O21 -> 0 | F66: ='L7'!Q27 -> 0 | G66: =RANK(F66,F$63:F$69) -> 1 | I66: ='L7'!Q19 -> 0
B67: =[1]!NOM_FEUILLE('L7'!B67) -> L7 | C67: ='L7'!O1 -> 0 | E67: ='L7'!U21 -> 0 | F67: ='L7'!W27 -> 0 | G67: =RANK(F67,F$63:F$69) -> 1 | I67: ='L7'!W19 -> 0
