Workbook

Sheet Feuil1
B4: OBJET 1 | D4: NIVEAU | F4: NIVEAU | H4: FRAGMENTS | I4: OR | J4: STAT 1 | K4: UN | L4: STAT 2
D5: ACTUEL | E5: 1 | F5: SOUHAITE | G5: 11 | H5: =SUMPRODUCT((Feuil2!$B$5:$B$23>=$E5)*(Feuil2!$C$5:$C$23<=$G5)*(Feuil2!D$5:D$23)) -> 11000 | I5: =SUMPRODUCT((Feuil2!$B$5:$B$23>=$E5)*(Feuil2!$C$5:$C$23<=$G5)*(Feuil2!E$5:E$23)) -> 220000 | J5: =IFERROR(INDEX(Feuil2!$C$4:$F$23,MATCH($G5,Feuil2!$C$4:$C$23,0),ROW()),"") | K5: 3 | L5: F2Q7
B7: OBJET 2 | D7: NIVEAU | F7: NIVEAU | H7: FRAGMENTS | I7: OR | J7: STAT 1 | K7: UN | L7: STAT 2
D8: ACTUEL | E8: 1 | F8: SOUHAITE | G8: 7 | H8: =SUMPRODUCT((Feuil2!$B$5:$B$23>=$E8)*(Feuil2!$C$5:$C$23<=$G8)*(Feuil2!D$5:D$23)) -> 4200 | I8: =SUMPRODUCT((Feuil2!$B$5:$B$23>=$E8)*(Feuil2!$C$5:$C$23<=$G8)*(Feuil2!E$5:E$23)) -> 84000 | J8: =IFERROR(INDEX(Feuil2!$C$4:$F$23,MATCH($G8,Feuil2!$C$4:$C$23,0),ROW()),"") | K8: 2 | L8: =IFERROR(INDEX(Feuil2!$C$4:$F$23,MATCH($G8,Feuil2!$C$4:$C$23,0),ROW()+1),"")
B10: OBJET 3 | D10: NIVEAU | F10: NIVEAU | H10: FRAGMENTS | I10: OR | J10: STAT 1 | K10: UN | L10: STAT 2
D11: ACTUEL | E11: 1 | F11: SOUHAITE | G11: 4 | H11: =SUMPRODUCT((Feuil2!$B$5:$B$23>=$E11)*(Feuil2!$C$5:$C$23<=$G11)*(Feuil2!D$5:D$23)) -> 1200 | I11: =SUMPRODUCT((Feuil2!$B$5:$B$23>=$E11)*(Feuil2!$C$5:$C$23<=$G11)*(Feuil2!E$5:E$23)) -> 24000 | J11: =IFERROR(INDEX(Feuil2!$C$4:$F$23,MATCH($G11,Feuil2!$C$4:$C$23,0),ROW()),"") | K11: 4 | L11: =IFERROR(INDEX(Feuil2!$C$4:$F$23,MATCH($G11,Feuil2!$C$4:$C$23,0),ROW()+1),"")
B13: OBJET 4 | D13: NIVEAU | F13: NIVEAU | H13: FRAGMENTS | I13: OR | J13: STAT 1 | K13: UN | L13: STAT 2
D14: ACTUEL | E14: 1 | F14: SOUHAITE | G14: 5 | H14: =SUMPRODUCT((Feuil2!$B$5:$B$23>=$E14)*(Feuil2!$C$5:$C$23<=$G14)*(Feuil2!D$5:D$23)) -> 2000 | I14: =SUMPRODUCT((Feuil2!$B$5:$B$23>=$E14)*(Feuil2!$C$5:$C$23<=$G14)*(Feuil2!E$5:E$23)) -> 40000 | J14: =IFERROR(INDEX(Feuil2!$C$4:$F$23,MATCH($G14,Feuil2!$C$4:$C$23,0),ROW()),"") | K14: 1 | L14: =IFERROR(INDEX(Feuil2!$C$4:$F$23,MATCH($G14,Feuil2!$C$4:$C$23,0),ROW()+1),"")
B16: OBJET 5 | D16: NIVEAU | F16: NIVEAU | H16: FRAGMENTS | I16: OR | J16: STAT 1 | K16: UN | L16: STAT 2
D17: ACTUEL | E17: 1 | F17: SOUHAITE | G17: 6 | H17: =SUMPRODUCT((Feuil2!$B$5:$B$23>=$E17)*(Feuil2!$C$5:$C$23<=$G17)*(Feuil2!D$5:D$23)) -> 3000 | I17: =SUMPRODUCT((Feuil2!$B$5:$B$23>=$E17)*(Feuil2!$C$5:$C$23<=$G17)*(Feuil2!E$5:E$23)) -> 60000 | J17: =IFERROR(INDEX(Feuil2!$C$4:$F$23,MATCH($G17,Feuil2!$C$4:$C$23,0),ROW()),"") | K17: 3 | L17: =IFERROR(INDEX(Feuil2!$C$4:$F$23,MATCH($G17,Feuil2!$C$4:$C$23,0),ROW()+1),"")
B19: OBJET 6 | D19: NIVEAU | F19: NIVEAU | H19: FRAGMENTS | I19: OR | J19: STAT 1 | K19: UN | L19: STAT 2
D20: ACTUEL | E20: 1 | F20: SOUHAITE | G20: 7 | H20: =SUMPRODUCT((Feuil2!$B$5:$B$23>=$E20)*(Feuil2!$C$5:$C$23<=$G20)*(Feuil2!D$5:D$23)) -> 4200 | I20: =SUMPRODUCT((Feuil2!$B$5:$B$23>=$E20)*(Feuil2!$C$5:$C$23<=$G20)*(Feuil2!E$5:E$23)) -> 84000 | J20: =IFERROR(INDEX(Feuil2!$C$4:$F$23,MATCH($G20,Feuil2!$C$4:$C$23,0),ROW()),"") | K20: 5 | L20: =IFERROR(INDEX(Feuil2!$C$4:$F$23,MATCH($G20,Feuil2!$C$4:$C$23,0),ROW()+1),"")
B22: OBJET 7 | D22: NIVEAU | F22: NIVEAU | H22: FRAGMENTS | I22: OR | J22: STAT 1 | L22: STAT 2
D23: ACTUEL | E23: 1 | F23: SOUHAITE | G23: 8 | H23: =SUMPRODUCT((Feuil2!$B$5:$B$23>=$E23)*(Feuil2!$C$5:$C$23<=$G23)*(Feuil2!D$5:D$23)) -> 5600 | I23: =SUMPRODUCT((Feuil2!$B$5:$B$23>=$E23)*(Feuil2!$C$5:$C$23<=$G23)*(Feuil2!E$5:E$23)) -> 112000 | J23: =IFERROR(INDEX(Feuil2!$C$4:$F$23,MATCH($G23,Feuil2!$C$4:$C$23,0),ROW()),"") | L23: =IFERROR(INDEX(Feuil2!$C$4:$F$23,MATCH($G23,Feuil2!$C$4:$C$23,0),ROW()+1),"")
B25: OBJET 8 | D25: NIVEAU | F25: NIVEAU | H25: FRAGMENTS | I25: OR | J25: STAT 1 | L25: STAT 2
D26: ACTUEL | E26: 1 | F26: SOUHAITE | G26: 9 | H26: =SUMPRODUCT((Feuil2!$B$5:$B$23>=$E26)*(Feuil2!$C$5:$C$23<=$G26)*(Feuil2!D$5:D$23)) -> 7200 | I26: =SUMPRODUCT((Feuil2!$B$5:$B$23>=$E26)*(Feuil2!$C$5:$C$23<=$G26)*(Feuil2!E$5:E$23)) -> 144000 | J26: =IFERROR(INDEX(Feuil2!$C$4:$F$23,MATCH($G26,Feuil2!$C$4:$C$23,0),ROW()),"") | L26: =IFERROR(INDEX(Feuil2!$C$4:$F$23,MATCH($G26,Feuil2!$C$4:$C$23,0),ROW()+1),"")
B28: OBJET 9 | D28: NIVEAU | F28: NIVEAU | H28: FRAGMENTS | I28: OR | J28: STAT 1 | L28: STAT 2
D29: ACTUEL | E29: 1 | F29: SOUHAITE | G29: 10 | H29: =SUMPRODUCT((Feuil2!$B$5:$B$23>=$E29)*(Feuil2!$C$5:$C$23<=$G29)*(Feuil2!D$5:D$23)) -> 9000 | I29: =SUMPRODUCT((Feuil2!$B$5:$B$23>=$E29)*(Feuil2!$C$5:$C$23<=$G29)*(Feuil2!E$5:E$23)) -> 180000 | J29: =IFERROR(INDEX(Feuil2!$C$4:$F$23,MATCH($G29,Feuil2!$C$4:$C$23,0),ROW()),"") | L29: =IFERROR(INDEX(Feuil2!$C$4:$F$23,MATCH($G29,Feuil2!$C$4:$C$23,0),ROW()+1),"")
B31: OBJET 10 | D31: NIVEAU | F31: NIVEAU | H31: FRAGMENTS | I31: OR | J31: STAT 1 | L31: STAT 2
D32: ACTUEL | E32: 1 | F32: SOUHAITE | G32: 11 | H32: =SUMPRODUCT((Feuil2!$B$5:$B$23>=$E32)*(Feuil2!$C$5:$C$23<=$G32)*(Feuil2!D$5:D$23)) -> 11000 | I32: =SUMPRODUCT((Feuil2!$B$5:$B$23>=$E32)*(Feuil2!$C$5:$C$23<=$G32)*(Feuil2!E$5:E$23)) -> 220000 | J32: =IFERROR(INDEX(Feuil2!$C$4:$F$23,MATCH($G32,Feuil2!$C$4:$C$23,0),ROW()),"") | L32: =IFERROR(INDEX(Feuil2!$C$4:$F$23,MATCH($G32,Feuil2!$C$4:$C$23,0),ROW()+1),"")
B34: OBJET 11 | D34: NIVEAU | F34: NIVEAU | H34: FRAGMENTS | I34: OR | J34: STAT 1 | L34: STAT 2
D35: ACTUEL | E35: 1 | F35: SOUHAITE | G35: 12 | H35: =SUMPRODUCT((Feuil2!$B$5:$B$23>=$E35)*(Feuil2!$C$5:$C$23<=$G35)*(Feuil2!D$5:D$23)) -> 13200 | I35: =SUMPRODUCT((Feuil2!$B$5:$B$23>=$E35)*(Feuil2!$C$5:$C$23<=$G35)*(Feuil2!E$5:E$23)) -> 264000 | J35: =IFERROR(INDEX(Feuil2!$C$4:$F$23,MATCH($G35,Feuil2!$C$4:$C$23,0),ROW()),"") | L35: =IFERROR(INDEX(Feuil2!$C$4:$F$23,MATCH($G35,Feuil2!$C$4:$C$23,0),ROW()+1),"")
B37: OBJET 12 | D37: NIVEAU | F37: NIVEAU | H37: FRAGMENTS | I37: OR | J37: STAT 1 | L37: STAT 2
D38: ACTUEL | E38: 1 | F38: SOUHAITE | G38: 13 | H38: =SUMPRODUCT((Feuil2!$B$5:$B$23>=$E38)*(Feuil2!$C$5:$C$23<=$G38)*(Feuil2!D$5:D$23)) -> 15600 | I38: =SUMPRODUCT((Feuil2!$B$5:$B$23>=$E38)*(Feuil2!$C$5:$C$23<=$G38)*(Feuil2!E$5:E$23)) -> 312000 | J38: =IFERROR(INDEX(Feuil2!$C$4:$F$23,MATCH($G38,Feuil2!$C$4:$C$23,0),ROW()),"") | L38: =IFERROR(INDEX(Feuil2!$C$4:$F$23,MATCH($G38,Feuil2!$C$4:$C$23,0),ROW()+1),"")
B40: OBJET 13 | D40: NIVEAU | F40: NIVEAU | H40: FRAGMENTS | I40: OR | J40: STAT 1 | L40: STAT 2
D41: ACTUEL | E41: 1 | F41: SOUHAITE | G41: 14 | H41: =SUMPRODUCT((Feuil2!$B$5:$B$23>=$E41)*(Feuil2!$C$5:$C$23<=$G41)*(Feuil2!D$5:D$23)) -> 18200 | I41: =SUMPRODUCT((Feuil2!$B$5:$B$23>=$E41)*(Feuil2!$C$5:$C$23<=$G41)*(Feuil2!E$5:E$23)) -> 364000 | J41: =IFERROR(INDEX(Feuil2!$C$4:$F$23,MATCH($G41,Feuil2!$C$4:$C$23,0),ROW()),"") | L41: =IFERROR(INDEX(Feuil2!$C$4:$F$23,MATCH($G41,Feuil2!$C$4:$C$23,0),ROW()+1),"")
B43: OBJET 14 | D43: NIVEAU | F43: NIVEAU | H43: FRAGMENTS | I43: OR | J43: STAT 1 | L43: STAT 2
D44: ACTUEL | E44: 1 | F44: SOUHAITE | G44: 15 | H44: =SUMPRODUCT((Feuil2!$B$5:$B$23>=$E44)*(Feuil2!$C$5:$C$23<=$G44)*(Feuil2!D$5:D$23)) -> 21000 | I44: =SUMPRODUCT((Feuil2!$B$5:$B$23>=$E44)*(Feuil2!$C$5:$C$23<=$G44)*(Feuil2!E$5:E$23)) -> 420000 | J44: =IFERROR(INDEX(Feuil2!$C$4:$F$23,MATCH($G44,Feuil2!$C$4:$C$23,0),ROW()),"") | L44: =IFERROR(INDEX(Feuil2!$C$4:$F$23,MATCH($G44,Feuil2!$C$4:$C$23,0),ROW()+1),"")
B46: OBJET 15 | D46: NIVEAU | F46: NIVEAU | H46: FRAGMENTS | I46: OR | J46: STAT 1 | L46: STAT 2
D47: ACTUEL | E47: 1 | F47: SOUHAITE | G47: 16 | H47: =SUMPRODUCT((Feuil2!$B$5:$B$23>=$E47)*(Feuil2!$C$5:$C$23<=$G47)*(Feuil2!D$5:D$23)) -> 24000 | I47: =SUMPRODUCT((Feuil2!$B$5:$B$23>=$E47)*(Feuil2!$C$5:$C$23<=$G47)*(Feuil2!E$5:E$23)) -> 480000 | J47: =IFERROR(INDEX(Feuil2!$C$4:$F$23,MATCH($G47,Feuil2!$C$4:$C$23,0),ROW()),"") | L47: =IFERROR(INDEX(Feuil2!$C$4:$F$23,MATCH($G47,Feuil2!$C$4:$C$23,0),ROW()+1),"")
B49: OBJET 16 | D49: NIVEAU | F49: NIVEAU | H49: FRAGMENTS | I49: OR | J49: STAT 1 | L49: STAT 2
D50: ACTUEL | E50: 1 | F50: SOUHAITE | G50: 20 | H50: =SUMPRODUCT((Feuil2!$B$5:$B$23>=$E50)*(Feuil2!$C$5:$C$23<=$G50)*(Feuil2!D$5:D$23)) -> 38000 | I50: =SUMPRODUCT((Feuil2!$B$5:$B$23>=$E50)*(Feuil2!$C$5:$C$23<=$G50)*(Feuil2!E$5:E$23)) -> 760000 | J50: =IFERROR(INDEX(Feuil2!$C$4:$F$23,MATCH($G50,Feuil2!$C$4:$C$23,0),ROW()),"") | L50: =IFERROR(INDEX(Feuil2!$C$4:$F$23,MATCH($G50,Feuil2!$C$4:$C$23,0),ROW()+1),"")

Sheet Feuil2
H2: 2 | I2: 3 | J2: 4 | K2: 5 | L2: 6 | M2: 7 | N2: 8 | O2: 9 | P2: 10 | Q2: 11 | R2: 12 | S2: 13 | T2: 14 | U2: 15 | V2: 16 | W2: 17 | X2: 18 | Y2: 19 | Z2: 20
B3: OBJETS 1 A 16 | G3: OBJET 1
B4: NIVEAU | C4: NIVEAU | D4: FRAGS | E4: GOLD | G4: STAT 1 | H4: 0.124 | I4: 0.127 | J4: 0.13 | K4: 0.133 | L4: 0.136 | M4: 0.139 | N4: 0.142 | O4: 0.145 | P4: 0.148 | Q4: 0.151 | R4: 0.154 | S4: 0.157 | T4: 0.16 | U4: 0.163 | V4: 0.166 | W4: 0.169 | X4: 0.172 | Y4: 0.175 | Z4: 0.178
B5: 1 | C5: 2 | D5: 200 | E5: 4000 | G5: 1 | H5: 0.1564 | I5: 0.1598 | J5: 0.03 | K5: 0.04 | L5: 0.05 | M5: 0.06 | N5: 0.07 | O5: 0.08 | P5: 0.09 | Q5: 0.1 | R5: 0.11 | S5: 0.12 | T5: 0.13 | U5: 0.14 | V5: 0.15 | W5: 0.16 | X5: 0.17 | Y5: 0.18 | Z5: 0.19
B6: 2 | C6: 3 | D6: 400 | E6: 8000 | G6: 2 | H6: 0.1888 | I6: 0.1926 | J6: 0.03 | K6: 0.04 | L6: 0.05 | M6: 0.06 | N6: 0.07 | O6: 0.08 | P6: 0.09 | Q6: 0.1 | R6: 0.11 | S6: 0.12 | T6: 0.13 | U6: 0.14 | V6: 0.15 | W6: 0.16 | X6: 0.17 | Y6: 0.18 | Z6: 0.19
B7: 3 | C7: 4 | D7: 600 | E7: 12000 | G7: 3 | H7: 0.2212 | I7: 0.2254 | J7: 0.03 | K7: 0.04 | L7: 0.05 | M7: 0.06 | N7: 0.07 | O7: 0.08 | P7: 0.09 | Q7: 0.1 | R7: 0.11 | S7: 0.12 | T7: 0.13 | U7: 0.14 | V7: 0.15 | W7: 0.16 | X7: 0.17 | Y7: 0.18 | Z7: 0.19
B8: 4 | C8: 5 | D8: 800 | E8: 16000 | G8: 4 | H8: 0.2536 | I8: 0.2582 | J8: 0.03 | K8: 0.04 | L8: 0.05 | M8: 0.06 | N8: 0.07 | O8: 0.08 | P8: 0.09 | Q8: 0.1 | R8: 0.11 | S8: 0.12 | T8: 0.13 | U8: 0.14 | V8: 0.15 | W8: 0.16 | X8: 0.17 | Y8: 0.18 | Z8: 0.19
B9: 5 | C9: 6 | D9: 1000 | E9: 20000 | G9: 5 | H9: 0.286 | I9: 0.291 | J9: 0.295 | K9: 0.3 | L9: 0.304 | M9: 0.309 | N9: 0.314 | O9: 0.318 | P9: 0.323 | Q9: 0.327 | R9: 0.332 | S9: 0.336 | T9: 0.341 | U9: 0.345 | V9: 0.349 | W9: 0.354 | X9: 0.358 | Y9: 0.363 | Z9: 0.367
B10: 6 | C10: 7 | D10: 1200 | E10: 24000
B11: 7 | C11: 8 | D11: 1400 | E11: 28000 | G11: OBJET 2
B12: 8 | C12: 9 | D12: 1600 | E12: 32000 | G12: STAT 1 | H12: 0.1 | I12: 0.11 | J12: 0.12 | K12: 0.13 | L12: 0.14 | M12: 0.15 | N12: 0.16 | O12: 0.17 | P12: 0.18 | Q12: 0.19 | R12: 0.2 | S12: 0.21 | T12: 0.22 | U12: 0.23 | V12: 0.24 | W12: 0.25 | X12: 0.26 | Y12: 0.27 | Z12: 0.28
B13: 9 | C13: 10 | D13: 1800 | E13: 36000 | G13: 1 | H13: 0.01 | I13: 0.02 | J13: 0.03 | K13: 0.04 | L13: 0.05 | M13: 0.06 | N13: 0.07 | O13: 0.08 | P13: 0.09 | Q13: 0.1 | R13: 0.11 | S13: 0.12 | T13: 0.13 | U13: 0.14 | V13: 0.15 | W13: 0.16 | X13: 0.17 | Y13: 0.18 | Z13: 0.19
B14: 10 | C14: 11 | D14: 2000 | E14: 40000 | G14: 2 | H14: 0.01 | I14: 0.02 | J14: 0.03 | K14: 0.04 | L14: 0.05 | M14: 0.06 | N14: 0.07 | O14: 0.08 | P14: 0.09 | Q14: 0.1 | R14: 0.11 | S14: 0.12 | T14: 0.13 | U14: 0.14 | V14: 0.15 | W14: 0.16 | X14: 0.17 | Y14: 0.18 | Z14: 0.19
B15: 11 | C15: 12 | D15: 2200 | E15: 44000 | G15: 3 | H15: 0.01 | I15: 0.02 | J15: 0.03 | K15: 0.04 | L15: 0.05 | M15: 0.06 | N15: 0.07 | O15: 0.08 | P15: 0.09 | Q15: 0.1 | R15: 0.11 | S15: 0.12 | T15: 0.13 | U15: 0.14 | V15: 0.15 | W15: 0.16 | X15: 0.17 | Y15: 0.18 | Z15: 0.19
B16: 12 | C16: 13 | D16: 2400 | E16: 48000 | G16: 4 | H16: 0.01 | I16: 0.02 | J16: 0.03 | K16: 0.04 | L16: 0.05 | M16: 0.06 | N16: 0.07 | O16: 0.08 | P16: 0.09 | Q16: 0.1 | R16: 0.11 | S16: 0.12 | T16: 0.13 | U16: 0.14 | V16: 0.15 | W16: 0.16 | X16: 0.17 | Y16: 0.18 | Z16: 0.19
B17: 13 | C17: 14 | D17: 2600 | E17: 52000 | G17: 5 | H17: 0.01 | I17: 0.02 | J17: 0.03 | K17: 0.04 | L17: 0.05 | M17: 0.06 | N17: 0.07 | O17: 0.08 | P17: 0.09 | Q17: 0.1 | R17: 0.11 | S17: 0.12 | T17: 0.13 | U17: 0.14 | V17: 0.15 | W17: 0.16 | X17: 0.17 | Y17: 0.18 | Z17: 0.19
B18: 14 | C18: 15 | D18: 2800 | E18: 56000
B19: 15 | C19: 16 | D19: 3000 | E19: 60000 | G19: OBJET 3
B20: 16 | C20: 17 | D20: 3200 | E20: 64000 | G20: STAT 1 | H20: 0.1 | I20: 0.11 | J20: 0.12 | K20: 0.13 | L20: 0.14 | M20: 0.15 | N20: 0.16 | O20: 0.17 | P20: 0.18 | Q20: 0.19 | R20: 0.2 | S20: 0.21 | T20: 0.22 | U20: 0.23 | V20: 0.24 | W20: 0.25 | X20: 0.26 | Y20: 0.27 | Z20: 0.28
B21: 17 | C21: 18 | D21: 3400 | E21: 68000 | G21: 1 | H21: 0.01 | I21: 0.02 | J21: 0.03 | K21: 0.04 | L21: 0.05 | M21: 0.06 | N21: 0.07 | O21: 0.08 | P21: 0.09 | Q21: 0.1 | R21: 0.11 | S21: 0.12 | T21: 0.13 | U21: 0.14 | V21: 0.15 | W21: 0.16 | X21: 0.17 | Y21: 0.18 | Z21: 0.19
B22: 18 | C22: 19 | D22: 3600 | E22: 72000 | G22: 2 | H22: 0.01 | I22: 0.02 | J22: 0.03 | K22: 0.04 | L22: 0.05 | M22: 0.06 | N22: 0.07 | O22: 0.08 | P22: 0.09 | Q22: 0.1 | R22: 0.11 | S22: 0.12 | T22: 0.13 | U22: 0.14 | V22: 0.15 | W22: 0.16 | X22: 0.17 | Y22: 0.18 | Z22: 0.19
B23: 19 | C23: 20 | D23: 3800 | E23: 76000 | G23: 3 | H23: 0.01 | I23: 0.02 | J23: 0.03 | K23: 0.04 | L23: 0.05 | M23: 0.06 | N23: 0.07 | O23: 0.08 | P23: 0.09 | Q23: 0.1 | R23: 0.11 | S23: 0.12 | T23: 0.13 | U23: 0.14 | V23: 0.15 | W23: 0.16 | X23: 0.17 | Y23: 0.18 | Z23: 0.19
G24: 4 | H24: 0.01 | I24: 0.02 | J24: 0.03 | K24: 0.04 | L24: 0.05 | M24: 0.06 | N24: 0.07 | O24: 0.08 | P24: 0.09 | Q24: 0.1 | R24: 0.11 | S24: 0.12 | T24: 0.13 | U24: 0.14 | V24: 0.15 | W24: 0.16 | X24: 0.17 | Y24: 0.18 | Z24: 0.19
G25: 5 | H25: 0.01 | I25: 0.02 | J25: 0.03 | K25: 0.04 | L25: 0.05 | M25: 0.06 | N25: 0.07 | O25: 0.08 | P25: 0.09 | Q25: 0.1 | R25: 0.11 | S25: 0.12 | T25: 0.13 | U25: 0.14 | V25: 0.15 | W25: 0.16 | X25: 0.17 | Y25: 0.18 | Z25: 0.19
G27: OBJET 4
G28: STAT 1 | H28: 0.1 | I28: 0.11 | J28: 0.12 | K28: 0.13 | L28: 0.14 | M28: 0.15 | N28: 0.16 | O28: 0.17 | P28: 0.18 | Q28: 0.19 | R28: 0.2 | S28: 0.21 | T28: 0.22 | U28: 0.23 | V28: 0.24 | W28: 0.25 | X28: 0.26 | Y28: 0.27 | Z28: 0.28
G29: 1 | H29: 0.01 | I29: 0.02 | J29: 0.03 | K29: 0.04 | L29: 0.05 | M29: 0.06 | N29: 0.07 | O29: 0.08 | P29: 0.09 | Q29: 0.1 | R29: 0.11 | S29: 0.12 | T29: 0.13 | U29: 0.14 | V29: 0.15 | W29: 0.16 | X29: 0.17 | Y29: 0.18 | Z29: 0.19
G30: 2 | H30: 0.01 | I30: 0.02 | J30: 0.03 | K30: 0.04 | L30: 0.05 | M30: 0.06 | N30: 0.07 | O30: 0.08 | P30: 0.09 | Q30: 0.1 | R30: 0.11 | S30: 0.12 | T30: 0.13 | U30: 0.14 | V30: 0.15 | W30: 0.16 | X30: 0.17 | Y30: 0.18 | Z30: 0.19
G31: 3 | H31: 0.01 | I31: 0.02 | J31: 0.03 | K31: 0.04 | L31: 0.05 | M31: 0.06 | N31: 0.07 | O31: 0.08 | P31: 0.09 | Q31: 0.1 | R31: 0.11 | S31: 0.12 | T31: 0.13 | U31: 0.14 | V31: 0.15 | W31: 0.16 | X31: 0.17 | Y31: 0.18 | Z31: 0.19
G32: 4 | H32: 0.01 | I32: 0.02 | J32: 0.03 | K32: 0.04 | L32: 0.05 | M32: 0.06 | N32: 0.07 | O32: 0.08 | P32: 0.09 | Q32: 0.1 | R32: 0.11 | S32: 0.12 | T32: 0.13 | U32: 0.14 | V32: 0.15 | W32: 0.16 | X32: 0.17 | Y32: 0.18 | Z32: 0.19
G33: 5 | H33: 0.01 | I33: 0.02 | J33: 0.03 | K33: 0.04 | L33: 0.05 | M33: 0.06 | N33: 0.07 | O33: 0.08 | P33: 0.09 | Q33: 0.1 | R33: 0.11 | S33: 0.12 | T33: 0.13 | U33: 0.14 | V33: 0.15 | W33: 0.16 | X33: 0.17 | Y33: 0.18 | Z33: 0.19
G35: OBJET 5
G36: STAT 1 | H36: 0.1 | I36: 0.11 | J36: 0.12 | K36: 0.13 | L36: 0.14 | M36: 0.15 | N36: 0.16 | O36: 0.17 | P36: 0.18 | Q36: 0.19 | R36: 0.2 | S36: 0.21 | T36: 0.22 | U36: 0.23 | V36: 0.24 | W36: 0.25 | X36: 0.26 | Y36: 0.27 | Z36: 0.28
G37: 1 | H37: 0.01 | I37: 0.02 | J37: 0.03 | K37: 0.04 | L37: 0.05 | M37: 0.06 | N37: 0.07 | O37: 0.08 | P37: 0.09 | Q37: 0.1 | R37: 0.11 | S37: 0.12 | T37: 0.13 | U37: 0.14 | V37: 0.15 | W37: 0.16 | X37: 0.17 | Y37: 0.18 | Z37: 0.19
G38: 2 | H38: 0.01 | I38: 0.02 | J38: 0.03 | K38: 0.04 | L38: 0.05 | M38: 0.06 | N38: 0.07 | O38: 0.08 | P38: 0.09 | Q38: 0.1 | R38: 0.11 | S38: 0.12 | T38: 0.13 | U38: 0.14 | V38: 0.15 | W38: 0.16 | X38: 0.17 | Y38: 0.18 | Z38: 0.19
G39: 3 | H39: 0.01 | I39: 0.02 | J39: 0.03 | K39: 0.04 | L39: 0.05 | M39: 0.06 | N39: 0.07 | O39: 0.08 | P39: 0.09 | Q39: 0.1 | R39: 0.11 | S39: 0.12 | T39: 0.13 | U39: 0.14 | V39: 0.15 | W39: 0.16 | X39: 0.17 | Y39: 0.18 | Z39: 0.19
G40: 4 | H40: 0.01 | I40: 0.02 | J40: 0.03 | K40: 0.04 | L40: 0.05 | M40: 0.06 | N40: 0.07 | O40: 0.08 | P40: 0.09 | Q40: 0.1 | R40: 0.11 | S40: 0.12 | T40: 0.13 | U40: 0.14 | V40: 0.15 | W40: 0.16 | X40: 0.17 | Y40: 0.18 | Z40: 0.19
G41: 5 | H41: 0.01 | I41: 0.02 | J41: 0.03 | K41: 0.04 | L41: 0.05 | M41: 0.06 | N41: 0.07 | O41: 0.08 | P41: 0.09 | Q41: 0.1 | R41: 0.11 | S41: 0.12 | T41: 0.13 | U41: 0.14 | V41: 0.15 | W41: 0.16 | X41: 0.17 | Y41: 0.18 | Z41: 0.19
G43: OBJET 6
G44: STAT 1 | H44: 0.1 | I44: 0.11 | J44: 0.12 | K44: 0.13 | L44: 0.14 | M44: 0.15 | N44: 0.16 | O44: 0.17 | P44: 0.18 | Q44: 0.19 | R44: 0.2 | S44: 0.21 | T44: 0.22 | U44: 0.23 | V44: 0.24 | W44: 0.25 | X44: 0.26 | Y44: 0.27 | Z44: 0.28
G45: 1 | H45: 0.01 | I45: 0.02 | J45: 0.03 | K45: 0.04 | L45: 0.05 | M45: 0.06 | N45: 0.07 | O45: 0.08 | P45: 0.09 | Q45: 0.1 | R45: 0.11 | S45: 0.12 | T45: 0.13 | U45: 0.14 | V45: 0.15 | W45: 0.16 | X45: 0.17 | Y45: 0.18 | Z45: 0.19
G46: 2 | H46: 0.01 | I46: 0.02 | J46: 0.03 | K46: 0.04 | L46: 0.05 | M46: 0.06 | N46: 0.07 | O46: 0.08 | P46: 0.09 | Q46: 0.1 | R46: 0.11 | S46: 0.12 | T46: 0.13 | U46: 0.14 | V46: 0.15 | W46: 0.16 | X46: 0.17 | Y46: 0.18 | Z46: 0.19
G47: 3 | H47: 0.01 | I47: 0.02 | J47: 0.03 | K47: 0.04 | L47: 0.05 | M47: 0.06 | N47: 0.07 | O47: 0.08 | P47: 0.09 | Q47: 0.1 | R47: 0.11 | S47: 0.12 | T47: 0.13 | U47: 0.14 | V47: 0.15 | W47: 0.16 | X47: 0.17 | Y47: 0.18 | Z47: 0.19
G48: 4 | H48: 0.01 | I48: 0.02 | J48: 0.03 | K48: 0.04 | L48: 0.05 | M48: 0.06 | N48: 0.07 | O48: 0.08 | P48: 0.09 | Q48: 0.1 | R48: 0.11 | S48: 0.12 | T48: 0.13 | U48: 0.14 | V48: 0.15 | W48: 0.16 | X48: 0.17 | Y48: 0.18 | Z48: 0.19
G49: 5 | H49: 0.01 | I49: 0.02 | J49: 0.03 | K49: 0.04 | L49: 0.05 | M49: 0.06 | N49: 0.07 | O49: 0.08 | P49: 0.09 | Q49: 0.1 | R49: 0.11 | S49: 0.12 | T49: 0.13 | U49: 0.14 | V49: 0.15 | W49: 0.16 | X49: 0.17 | Y49: 0.18 | Z49: 0.19
G51: OBJET 7
G52: STAT 1 | H52: 0.1 | I52: 0.11 | J52: 0.12 | K52: 0.13 | L52: 0.14 | M52: 0.15 | N52: 0.16 | O52: 0.17 | P52: 0.18 | Q52: 0.19 | R52: 0.2 | S52: 0.21 | T52: 0.22 | U52: 0.23 | V52: 0.24 | W52: 0.25 | X52: 0.26 | Y52: 0.27 | Z52: 0.28
G53: STAT 2 | H53: 0.01 | I53: 0.02 | J53: 0.03 | K53: 0.04 | L53: 0.05 | M53: 0.06 | N53: 0.07 | O53: 0.08 | P53: 0.09 | Q53: 0.1 | R53: 0.11 | S53: 0.12 | T53: 0.13 | U53: 0.14 | V53: 0.15 | W53: 0.16 | X53: 0.17 | Y53: 0.18 | Z53: 0.19
G55: OBJET 8
G56: STAT 1 | H56: 0.1 | I56: 0.11 | J56: 0.12 | K56: 0.13 | L56: 0.14 | M56: 0.15 | N56: 0.16 | O56: 0.17 | P56: 0.18 | Q56: 0.19 | R56: 0.2 | S56: 0.21 | T56: 0.22 | U56: 0.23 | V56: 0.24 | W56: 0.25 | X56: 0.26 | Y56: 0.27 | Z56: 0.28
G57: STAT 2 | H57: 0.01 | I57: 0.02 | J57: 0.03 | K57: 0.04 | L57: 0.05 | M57: 0.06 | N57: 0.07 | O57: 0.08 | P57: 0.09 | Q57: 0.1 | R57: 0.11 | S57: 0.12 | T57: 0.13 | U57: 0.14 | V57: 0.15 | W57: 0.16 | X57: 0.17 | Y57: 0.18 | Z57: 0.19
G59: OBJET 9
G60: STAT 1 | H60: 0.1 | I60: 0.11 | J60: 0.12 | K60: 0.13 | L60: 0.14 | M60: 0.15 | N60: 0.16 | O60: 0.17 | P60: 0.18 | Q60: 0.19 | R60: 0.2 | S60: 0.21 | T60: 0.22 | U60: 0.23 | V60: 0.24 | W60: 0.25 | X60: 0.26 | Y60: 0.27 | Z60: 0.28
G61: STAT 2 | H61: 0.01 | I61: 0.02 | J61: 0.03 | K61: 0.04 | L61: 0.05 | M61: 0.06 | N61: 0.07 | O61: 0.08 | P61: 0.09 | Q61: 0.1 | R61: 0.11 | S61: 0.12 | T61: 0.13 | U61: 0.14 | V61: 0.15 | W61: 0.16 | X61: 0.17 | Y61: 0.18 | Z61: 0.19
G63: OBJET 10
G64: STAT 0 | H64: 0.1 | I64: 0.11 | J64: 0.12 | K64: 0.13 | L64: 0.14 | M64: 0.15 | N64: 0.16 | O64: 0.17 | P64: 0.18 | Q64: 0.19 | R64: 0.2 | S64: 0.21 | T64: 0.22 | U64: 0.23 | V64: 0.24 | W64: 0.25 | X64: 0.26 | Y64: 0.27 | Z64: 0.28
G65: STAT 2 | H65: 0.01 | I65: 0.02 | J65: 0.03 | K65: 0.04 | L65: 0.05 | M65: 0.06 | N65: 0.07 | O65: 0.08 | P65: 0.09 | Q65: 0.1 | R65: 0.11 | S65: 0.12 | T65: 0.13 | U65: 0.14 | V65: 0.15 | W65: 0.16 | X65: 0.17 | Y65: 0.18 | Z65: 0.19
G67: OBJET 11
G68: STAT 1 | H68: 0.1 | I68: 0.11 | J68: 0.12 | K68: 0.13 | L68: 0.14 | M68: 0.15 | N68: 0.16 | O68: 0.17 | P68: 0.18 | Q68: 0.19 | R68: 0.2 | S68: 0.21 | T68: 0.22 | U68: 0.23 | V68: 0.24 | W68: 0.25 | X68: 0.26 | Y68: 0.27 | Z68: 0.28
G69: STAT 2 | H69: 0.01 | I69: 0.02 | J69: 0.03 | K69: 0.04 | L69: 0.05 | M69: 0.06 | N69: 0.07 | O69: 0.08 | P69: 0.09 | Q69: 0.1 | R69: 0.11 | S69: 0.12 | T69: 0.13 | U69: 0.14 | V69: 0.15 | W69: 0.16 | X69: 0.17 | Y69: 0.18 | Z69: 0.19
G71: OBJET 12
G72: STAT 1 | H72: 0.1 | I72: 0.11 | J72: 0.12 | K72: 0.13 | L72: 0.14 | M72: 0.15 | N72: 0.16 | O72: 0.17 | P72: 0.18 | Q72: 0.19 | R72: 0.2 | S72: 0.21 | T72: 0.22 | U72: 0.23 | V72: 0.24 | W72: 0.25 | X72: 0.26 | Y72: 0.27 | Z72: 0.28
G73: STAT 2 | H73: 0.01 | I73: 0.02 | J73: 0.03 | K73: 0.04 | L73: 0.05 | M73: 0.06 | N73: 0.07 | O73: 0.08 | P73: 0.09 | Q73: 0.1 | R73: 0.11 | S73: 0.12 | T73: 0.13 | U73: 0.14 | V73: 0.15 | W73: 0.16 | X73: 0.17 | Y73: 0.18 | Z73: 0.19
G75: OBJET 13
G76: STAT 1 | H76: 0.1 | I76: 0.11 | J76: 0.12 | K76: 0.13 | L76: 0.14 | M76: 0.15 | N76: 0.16 | O76: 0.17 | P76: 0.18 | Q76: 0.19 | R76: 0.2 | S76: 0.21 | T76: 0.22 | U76: 0.23 | V76: 0.24 | W76: 0.25 | X76: 0.26 | Y76: 0.27 | Z76: 0.28
G77: STAT 2 | H77: 0.01 | I77: 0.02 | J77: 0.03 | K77: 0.04 | L77: 0.05 | M77: 0.06 | N77: 0.07 | O77: 0.08 | P77: 0.09 | Q77: 0.1 | R77: 0.11 | S77: 0.12 | T77: 0.13 | U77: 0.14 | V77: 0.15 | W77: 0.16 | X77: 0.17 | Y77: 0.18 | Z77: 0.19
G79: OBJET 14
G80: STAT 1 | H80: 0.1 | I80: 0.11 | J80: 0.12 | K80: 0.13 | L80: 0.14 | M80: 0.15 | N80: 0.16 | O80: 0.17 | P80: 0.18 | Q80: 0.19 | R80: 0.2 | S80: 0.21 | T80: 0.22 | U80: 0.23 | V80: 0.24 | W80: 0.25 | X80: 0.26 | Y80: 0.27 | Z80: 0.28
G81: STAT 2 | H81: 0.01 | I81: 0.02 | J81: 0.03 | K81: 0.04 | L81: 0.05 | M81: 0.06 | N81: 0.07 | O81: 0.08 | P81: 0.09 | Q81: 0.1 | R81: 0.11 | S81: 0.12 | T81: 0.13 | U81: 0.14 | V81: 0.15 | W81: 0.16 | X81: 0.17 | Y81: 0.18 | Z81: 0.19
G83: OBJET 15
G84: STAT 1 | H84: 0.1 | I84: 0.11 | J84: 0.12 | K84: 0.13 | L84: 0.14 | M84: 0.15 | N84: 0.16 | O84: 0.17 | P84: 0.18 | Q84: 0.19 | R84: 0.2 | S84: 0.21 | T84: 0.22 | U84: 0.23 | V84: 0.24 | W84: 0.25 | X84: 0.26 | Y84: 0.27 | Z84: 0.28
G85: STAT 2 | H85: 0.01 | I85: 0.02 | J85: 0.03 | K85: 0.04 | L85: 0.05 | M85: 0.06 | N85: 0.07 | O85: 0.08 | P85: 0.09 | Q85: 0.1 | R85: 0.11 | S85: 0.12 | T85: 0.13 | U85: 0.14 | V85: 0.15 | W85: 0.16 | X85: 0.17 | Y85: 0.18 | Z85: 0.19
G87: OBJET 16
G88: STAT 1 | H88: 0.1 | I88: 0.11 | J88: 0.12 | K88: 0.13 | L88: 0.14 | M88: 0.15 | N88: 0.16 | O88: 0.17 | P88: 0.18 | Q88: 0.19 | R88: 0.2 | S88: 0.21 | T88: 0.22 | U88: 0.23 | V88: 0.24 | W88: 0.25 | X88: 0.26 | Y88: 0.27 | Z88: 0.28
G89: STAT 2 | H89: 0.01 | I89: 0.02 | J89: 0.03 | K89: 0.04 | L89: 0.05 | M89: 0.06 | N89: 0.07 | O89: 0.08 | P89: 0.09 | Q89: 0.1 | R89: 0.11 | S89: 0.12 | T89: 0.13 | U89: 0.14 | V89: 0.15 | W89: 0.16 | X89: 0.17 | Y89: 0.18 | Z89: 0.19

Sheet Feuil3
