Workbook
Name Périod.: #REF!

Sheet OT_Générés
B1: REALENDDATE | C1: ESTDURATION | D1: STATUS | E1: CREATIONDATE | F1: FK_CODE_PMSHEET | G1: p_prevue | H1: Prévue_en | I1: Location | J1: Desc. Location | K1: Equipement | L1: Ligne | M1: OT | N1: Description_OT | O1: Week | P1: Planifié | Q1: typeot | R1: law | S1: Type_Maint
B2: 44201.677 | C2: 2.5 | D2: 30-FERM | E2: 44168.958 | F2: BUE-017 | G2: 44198 | H2: =CONCATENATE(YEAR(Table_SSQL1022_altairprod_TBL_WORKORDER[[#This Row],[p_prevue]]),"_",VLOOKUP(Table_SSQL1022_altairprod_TBL_WORKORDER[[#This Row],[p_prevue]]-DATE(YEAR(Table_SSQL1022_altairprod_TBL_WORKORDER[[#This Row],[p_prevue]]),1,0),[1]Période!$D$6:$J$18,7,TRUE)) -> 2021_P01 | I2: RCAPRX1DRY | J2: =VLOOKUP(Table_SSQL1022_altairprod_TBL_WORKORDER[[#This Row],[FK_CODE_PMSHEET]],[1]!Tableau_Lancer_la_requête_à_partir_de_ALTAIR91024[[FK_CODE_PMSHEET]:[DESCRIPTION]],4,FALSE) -> SECHEUR | K2: PRX1DRY-0050 | L2: =RIGHT(LEFT(Table_SSQL1022_altairprod_TBL_WORKORDER[[#This Row],[Location]],7),4) -> PRX1 | M2: 40607 | N2: PRV A 1 MOIS ELM01 M1 | Q2: ARRET | S2: SYS
B3: 44204.536 | C3: 3 | D3: 30-FERM | E3: 44168.958 | F3: DRY-015 | G3: 44197.589 | H3: =CONCATENATE(YEAR(Table_SSQL1022_altairprod_TBL_WORKORDER[[#This Row],[p_prevue]]),"_",VLOOKUP(Table_SSQL1022_altairprod_TBL_WORKORDER[[#This Row],[p_prevue]]-DATE(YEAR(Table_SSQL1022_altairprod_TBL_WORKORDER[[#This Row],[p_prevue]]),1,0),[1]Période!$D$6:$J$18,7,TRUE)) -> 2021_P01 | I3: RCAPRX3DRY | J3: =VLOOKUP(Table_SSQL1022_altairprod_TBL_WORKORDER[[#This Row],[FK_CODE_PMSHEET]],[1]!Tableau_Lancer_la_requête_à_partir_de_ALTAIR91024[[FK_CODE_PMSHEET]:[DESCRIPTION]],4,FALSE) -> SECHEUR | K3: PRX3DRY-0220 | L3: =RIGHT(LEFT(Table_SSQL1022_altairprod_TBL_WORKORDER[[#This Row],[Location]],7),4) -> PRX3 | M3: 40610 | N3: PREVENTIF A 6 MOIS TAPIS ALIMENTATION SECHEUR RPP01 M3 | Q3: ARRET | S3: SYS
B4: 44218.531 | C4: 0.5 | D4: 30-FERM | E4: 44168.958 | F4: FIL-005 | G4: 44197.447 | H4: =CONCATENATE(YEAR(Table_SSQL1022_altairprod_TBL_WORKORDER[[#This Row],[p_prevue]]),"_",VLOOKUP(Table_SSQL1022_altairprod_TBL_WORKORDER[[#This Row],[p_prevue]]-DATE(YEAR(Table_SSQL1022_altairprod_TBL_WORKORDER[[#This Row],[p_prevue]]),1,0),[1]Période!$D$6:$J$18,7,TRUE)) -> 2021_P01 | I4: RCAPRGGTFL | J4: =VLOOKUP(Table_SSQL1022_altairprod_TBL_WORKORDER[[#This Row],[FK_CODE_PMSHEET]],[1]!Tableau_Lancer_la_requête_à_partir_de_ALTAIR91024[[FK_CODE_PMSHEET]:[DESCRIPTION]],4,FALSE) -> TRANSFERT MATIÈRE BROYÉE | K4: PRGGTFL-0040 | L4: =RIGHT(LEFT(Table_SSQL1022_altairprod_TBL_WORKORDER[[#This Row],[Location]],7),4) -> PRGG | M4: 40612 | N4: PREVENTIF A 6 MOIS POUR FIB17 (6É) BROYAGE | Q4: ARRET | S4: SYS
B5: 44224.45 | C5: 1.5 | D5: 30-FERM | E5: 44168.958 | F5: SUR-011 | G5: 44197 | H5: =CONCATENATE(YEAR(Table_SSQL1022_altairprod_TBL_WORKORDER[[#This Row],[p_prevue]]),"_",VLOOKUP(Table_SSQL1022_altairprod_TBL_WORKORDER[[#This Row],[p_prevue]]-DATE(YEAR(Table_SSQL1022_altairprod_TBL_WORKORDER[[#This Row],[p_prevue]]),1,0),[1]Période!$D$6:$J$18,7,TRUE)) -> 2021_P01 | I5: RCAPRGGTFL | J5: =VLOOKUP(Table_SSQL1022_altairprod_TBL_WORKORDER[[#This Row],[FK_CODE_PMSHEET]],[1]!Tableau_Lancer_la_requête_à_partir_de_ALTAIR91024[[FK_CODE_PMSHEET]:[DESCRIPTION]],4,FALSE) -> #N/A | K5: PRGGTFL-0180 | L5: =RIGHT(LEFT(Table_SSQL1022_altairprod_TBL_WORKORDER[[#This Row],[Location]],7),4) -> PRGG | M5: 40638 | N5: PREVENTIF A 3 MOIS POUR SUB07 (RDC) BROYAGE | Q5: ARRET | S5: SYS
B6: 44218.404 | C6: 4 | D6: 30-FERM | E6: 44169.958 | F6: FIL-010 | G6: 44197 | H6: =CONCATENATE(YEAR(Table_SSQL1022_altairprod_TBL_WORKORDER[[#This Row],[p_prevue]]),"_",VLOOKUP(Table_SSQL1022_altairprod_TBL_WORKORDER[[#This Row],[p_prevue]]-DATE(YEAR(Table_SSQL1022_altairprod_TBL_WORKORDER[[#This Row],[p_prevue]]),1,0),[1]Période!$D$6:$J$18,7,TRUE)) -> 2021_P01 | I6: RCAPRGGGDR | J6: =VLOOKUP(Table_SSQL1022_altairprod_TBL_WORKORDER[[#This Row],[FK_CODE_PMSHEET]],[1]!Tableau_Lancer_la_requête_à_partir_de_ALTAIR91024[[FK_CODE_PMSHEET]:[DESCRIPTION]],4,FALSE) -> BROYAGE | K6: PRGGGDR-0260 | L6: =RIGHT(LEFT(Table_SSQL1022_altairprod_TBL_WORKORDER[[#This Row],[Location]],7),4) -> PRGG | M6: 40670 | N6: PREVENTIF A 3 MOIS POUR FIB12(4E) MVRT 39/24 | Q6: WEEK | S6: SYS
B7: 44218.529 | C7: 1 | D7: 30-FERM | E7: 44169.958 | F7: SUR-SUB06-02 | G7: 44197.55 | H7: =CONCATENATE(YEAR(Table_SSQL1022_altairprod_TBL_WORKORDER[[#This Row],[p_prevue]]),"_",VLOOKUP(Table_SSQL1022_altairprod_TBL_WORKORDER[[#This Row],[p_prevue]]-DATE(YEAR(Table_SSQL1022_altairprod_TBL_WORKORDER[[#This Row],[p_prevue]]),1,0),[1]Période!$D$6:$J$18,7,TRUE)) -> 2021_P01 | I7: RCAPRGGTFL | J7: =VLOOKUP(Table_SSQL1022_altairprod_TBL_WORKORDER[[#This Row],[FK_CODE_PMSHEET]],[1]!Tableau_Lancer_la_requête_à_partir_de_ALTAIR91024[[FK_CODE_PMSHEET]:[DESCRIPTION]],4,FALSE) -> TRANSFERT MATIÈRE BROYÉE | K7: PRGGTFL-0110 | L7: =RIGHT(LEFT(Table_SSQL1022_altairprod_TBL_WORKORDER[[#This Row],[Location]],7),4) -> PRGG | M7: 40673 | N7: PREV A 12 MOIS SUB06 BROYAGE | Q7: ARRET | S7: SYS
B8: 44215.462 | C8: 1 | D8: 30-FERM | E8: 44175.424 | F8: GRI-009 | G8: 44205.594 | H8: =CONCATENATE(YEAR(Table_SSQL1022_altairprod_TBL_WORKORDER[[#This Row],[p_prevue]]),"_",VLOOKUP(Table_SSQL1022_altairprod_TBL_WORKORDER[[#This Row],[p_prevue]]-DATE(YEAR(Table_SSQL1022_altairprod_TBL_WORKORDER[[#This Row],[p_prevue]]),1,0),[1]Période!$D$6:$J$18,7,TRUE)) -> 2021_P01 | I8: RCAPRGGGDR | J8: =VLOOKUP(Table_SSQL1022_altairprod_TBL_WORKORDER[[#This Row],[FK_CODE_PMSHEET]],[1]!Tableau_Lancer_la_requête_à_partir_de_ALTAIR91024[[FK_CODE_PMSHEET]:[DESCRIPTION]],4,FALSE) -> #N/A | K8: PRGGGDR-0010 | L8: =RIGHT(LEFT(Table_SSQL1022_altairprod_TBL_WORKORDER[[#This Row],[Location]],7),4) -> PRGG | M8: 40846 | N8: PREVENTIF A 3 MOIS POUR BROYEURS | Q8: ARRET | S8: SYS
B9: 44204.51 | C9: 1.5 | D9: 30-FERM | E9: 44175.424 | F9: SUR-016 | G9: 44205.601 | H9: =CONCATENATE(YEAR(Table_SSQL1022_altairprod_TBL_WORKORDER[[#This Row],[p_prevue]]),"_",VLOOKUP(Table_SSQL1022_altairprod_TBL_WORKORDER[[#This Row],[p_prevue]]-DATE(YEAR(Table_SSQL1022_altairprod_TBL_WORKORDER[[#This Row],[p_prevue]]),1,0),[1]Période!$D$6:$J$18,7,TRUE)) -> 2021_P01 | I9: RCAPRGGSCA | J9: =VLOOKUP(Table_SSQL1022_altairprod_TBL_WORKORDER[[#This Row],[FK_CODE_PMSHEET]],[1]!Tableau_Lancer_la_requête_à_partir_de_ALTAIR91024[[FK_CODE_PMSHEET]:[DESCRIPTION]],4,FALSE) -> #N/A | K9: PRGGSCA-3460 | L9: =RIGHT(LEFT(Table_SSQL1022_altairprod_TBL_WORKORDER[[#This Row],[Location]],7),4) -> PRGG | M9: 40849 | N9: PREVENTIF A 3 MOIS POUR SUB101 BROYAGE | Q9: ARRET | S9: SYS
B10: 44204.511 | C10: 1.5 | D10: 30-FERM | E10: 44178.424 | F10: SUR-003 | G10: 44209 | H10: =CONCATENATE(YEAR(Table_SSQL1022_altairprod_TBL_WORKORDER[[#This Row],[p_prevue]]),"_",VLOOKUP(Table_SSQL1022_altairprod_TBL_WORKORDER[[#This Row],[p_prevue]]-DATE(YEAR(Table_SSQL1022_altairprod_TBL_WORKORDER[[#This Row],[p_prevue]]),1,0),[1]Période!$D$6:$J$18,7,TRUE)) -> 2021_P01 | I10: RCAPRGGFFL | J10: =VLOOKUP(Table_SSQL1022_altairprod_TBL_WORKORDER[[#This Row],[FK_CODE_PMSHEET]],[1]!Tableau_Lancer_la_requête_à_partir_de_ALTAIR91024[[FK_CODE_PMSHEET]:[DESCRIPTION]],4,FALSE) -> #N/A | K10: PRGGFFL-0010 | L10: =RIGHT(LEFT(Table_SSQL1022_altairprod_TBL_WORKORDER[[#This Row],[Location]],7),4) -> PRGG | M10: 40946 | N10: PREVENTIF A 1 MOIS SUB26 (RDC) BROYAGE | Q10: ARRET | S10: SYS
B11: 44215.463 | C11: 0.5 | D11: 30-FERM | E11: 44181.424 | F11: LUB-DR-BLB02 | G11: 44197 | H11: =CONCATENATE(YEAR(Table_SSQL1022_altairprod_TBL_WORKORDER[[#This Row],[p_prevue]]),"_",VLOOKUP(Table_SSQL1022_altairprod_TBL_WORKORDER[[#This Row],[p_prevue]]-DATE(YEAR(Table_SSQL1022_altairprod_TBL_WORKORDER[[#This Row],[p_prevue]]),1,0),[1]Période!$D$6:$J$18,7,TRUE)) -> 2021_P01 | I11: RCAPRGGGDR | J11: =VLOOKUP(Table_SSQL1022_altairprod_TBL_WORKORDER[[#This Row],[FK_CODE_PMSHEET]],[1]!Tableau_Lancer_la_requête_à_partir_de_ALTAIR91024[[FK_CODE_PMSHEET]:[DESCRIPTION]],4,FALSE) -> BROYAGE | K11: PRGGGDR-0210 | L11: =RIGHT(LEFT(Table_SSQL1022_altairprod_TBL_WORKORDER[[#This Row],[Location]],7),4) -> PRGG | M11: 41029 | N11: PREV A 3 MOIS LUBRIFICATION BLUTTERIE | Q11: WEEK | S11: SYS
B12: 44214.453 | C12: 0.5 | D12: 30-FERM | E12: 44181.424 | F12: LUB-DR-BR01 | G12: 44197 | H12: =CONCATENATE(YEAR(Table_SSQL1022_altairprod_TBL_WORKORDER[[#This Row],[p_prevue]]),"_",VLOOKUP(Table_SSQL1022_altairprod_TBL_WORKORDER[[#This Row],[p_prevue]]-DATE(YEAR(Table_SSQL1022_altairprod_TBL_WORKORDER[[#This Row],[p_prevue]]),1,0),[1]Période!$D$6:$J$18,7,TRUE)) -> 2021_P01 | I12: RCAPRGGGDR | J12: =VLOOKUP(Table_SSQL1022_altairprod_TBL_WORKORDER[[#This Row],[FK_CODE_PMSHEET]],[1]!Tableau_Lancer_la_requête_à_partir_de_ALTAIR91024[[FK_CODE_PMSHEET]:[DESCRIPTION]],4,FALSE) -> BROYAGE | K12: PRGGGDR-0010 | L12: =RIGHT(LEFT(Table_SSQL1022_altairprod_TBL_WORKORDER[[#This Row],[Location]],7),4) -> PRGG | M12: 41031 | N12: PREV A 2 MOIS LUBRIFICATION BROYEUR | Q12: WEEK | S12: SYS
B13: 44214.457 | C13: 0.5 | D13: 30-FERM | E13: 44181.424 | F13: LUB-DR-BR03 | G13: 44197 | H13: =CONCATENATE(YEAR(Table_SSQL1022_altairprod_TBL_WORKORDER[[#This Row],[p_prevue]]),"_",VLOOKUP(Table_SSQL1022_altairprod_TBL_WORKORDER[[#This Row],[p_prevue]]-DATE(YEAR(Table_SSQL1022_altairprod_TBL_WORKORDER[[#This Row],[p_prevue]]),1,0),[1]Période!$D$6:$J$18,7,TRUE)) -> 2021_P01 | I13: RCAPRGGGDR | J13: =VLOOKUP(Table_SSQL1022_altairprod_TBL_WORKORDER[[#This Row],[FK_CODE_PMSHEET]],[1]!Tableau_Lancer_la_requête_à_partir_de_ALTAIR91024[[FK_CODE_PMSHEET]:[DESCRIPTION]],4,FALSE) -> BROYAGE | K13: PRGGGDR-0030 | L13: =RIGHT(LEFT(Table_SSQL1022_altairprod_TBL_WORKORDER[[#This Row],[Location]],7),4) -> PRGG | M13: 41033 | N13: PREV A 2 MOIS LUBIFICATION BROYEUR | Q13: WEEK | S13: SYS
C14: 1 | D14: 20-APPR | E14: 44190.424 | F14: IUB-108 | G14: 44220.699 | H14: =CONCATENATE(YEAR(Table_SSQL1022_altairprod_TBL_WORKORDER[[#This Row],[p_prevue]]),"_",VLOOKUP(Table_SSQL1022_altairprod_TBL_WORKORDER[[#This Row],[p_prevue]]-DATE(YEAR(Table_SSQL1022_altairprod_TBL_WORKORDER[[#This Row],[p_prevue]]),1,0),[1]Période!$D$6:$J$18,7,TRUE)) -> 2021_P01 | I14: RCAPRCOM | J14: =VLOOKUP(Table_SSQL1022_altairprod_TBL_WORKORDER[[#This Row],[FK_CODE_PMSHEET]],[1]!Tableau_Lancer_la_requête_à_partir_de_ALTAIR91024[[FK_CODE_PMSHEET]:[DESCRIPTION]],4,FALSE) -> #N/A | K14: PRCOM-0030 | L14: =RIGHT(LEFT(Table_SSQL1022_altairprod_TBL_WORKORDER[[#This Row],[Location]],7),4) -> PRCO | M14: 41247 | N14: PREVENTIF DE GRAISSAGE A 6 MOIS POUR COMMUN-POUDRE | P14: Yes | Q14: ARRET | S14: SYS
C15: 0.5 | D15: 20-APPR | E15: 44192.424 | F15: ELEC-012 | G15: 44222.374 | H15: =CONCATENATE(YEAR(Table_SSQL1022_altairprod_TBL_WORKORDER[[#This Row],[p_prevue]]),"_",VLOOKUP(Table_SSQL1022_altairprod_TBL_WORKORDER[[#This Row],[p_prevue]]-DATE(YEAR(Table_SSQL1022_altairprod_TBL_WORKORDER[[#This Row],[p_prevue]]),1,0),[1]Période!$D$6:$J$18,7,TRUE)) -> 2021_P01 | I15: RCAPRGGAUT | J15: =VLOOKUP(Table_SSQL1022_altairprod_TBL_WORKORDER[[#This Row],[FK_CODE_PMSHEET]],[1]!Tableau_Lancer_la_requête_à_partir_de_ALTAIR91024[[FK_CODE_PMSHEET]:[DESCRIPTION]],4,FALSE) -> #N/A | K15: PRGGAUT-0050 | L15: =RIGHT(LEFT(Table_SSQL1022_altairprod_TBL_WORKORDER[[#This Row],[Location]],7),4) -> PRGG | M15: 41265 | N15: PREVENTIF A 18 MOIS POUR AUTOMATE PREMIUM BROYAGE | Q15: ARRET | S15: SYS
B16: 44218.603 | C16: 1 | D16: 30-FERM | E16: 44199.4 | F16: SCR-016 | G16: 44228.686 | H16: =CONCATENATE(YEAR(Table_SSQL1022_altairprod_TBL_WORKORDER[[#This Row],[p_prevue]]),"_",VLOOKUP(Table_SSQL1022_altairprod_TBL_WORKORDER[[#This Row],[p_prevue]]-DATE(YEAR(Table_SSQL1022_altairprod_TBL_WORKORDER[[#This Row],[p_prevue]]),1,0),[1]Période!$D$6:$J$18,7,TRUE)) -> 2021_P02 | I16: RCAPRX3VAL | J16: =VLOOKUP(Table_SSQL1022_altairprod_TBL_WORKORDER[[#This Row],[FK_CODE_PMSHEET]],[1]!Tableau_Lancer_la_requête_à_partir_de_ALTAIR91024[[FK_CODE_PMSHEET]:[DESCRIPTION]],4,FALSE) -> VALORISATION | K16: PRX3VAL-0020 | L16: =RIGHT(LEFT(Table_SSQL1022_altairprod_TBL_WORKORDER[[#This Row],[Location]],7),4) -> PRX3 | M16: 41400 | N16: PREVENTIF A 6 MOIS M3 FINES | Q16: ARRET | S16: SYS
C17: 1 | D17: 20-APPR | E17: 44199.4 | F17: SPR-002 | G17: 44229.578 | H17: =CONCATENATE(YEAR(Table_SSQL1022_altairprod_TBL_WORKORDER[[#This Row],[p_prevue]]),"_",VLOOKUP(Table_SSQL1022_altairprod_TBL_WORKORDER[[#This Row],[p_prevue]]-DATE(YEAR(Table_SSQL1022_altairprod_TBL_WORKORDER[[#This Row],[p_prevue]]),1,0),[1]Période!$D$6:$J$18,7,TRUE)) -> 2021_P02 | I17: RCAPRRECSPR | J17: =VLOOKUP(Table_SSQL1022_altairprod_TBL_WORKORDER[[#This Row],[FK_CODE_PMSHEET]],[1]!Tableau_Lancer_la_requête_à_partir_de_ALTAIR91024[[FK_CODE_PMSHEET]:[DESCRIPTION]],4,FALSE) -> RECEPTION-SONDE/PRL | K17: PRRECSPR-0040 | L17: =RIGHT(LEFT(Table_SSQL1022_altairprod_TBL_WORKORDER[[#This Row],[Location]],7),4) -> PRRE | M17: 41402 | N17: PREVENTIF A 2 MOIS STATION DE PRELEVEMENT | Q17: ARRET | S17: SYS
B18: 44224.501 | C18: 2 | D18: 30-FERM | E18: 44200.4 | F18: DRY-045 | G18: 44230.439 | H18: =CONCATENATE(YEAR(Table_SSQL1022_altairprod_TBL_WORKORDER[[#This Row],[p_prevue]]),"_",VLOOKUP(Table_SSQL1022_altairprod_TBL_WORKORDER[[#This Row],[p_prevue]]-DATE(YEAR(Table_SSQL1022_altairprod_TBL_WORKORDER[[#This Row],[p_prevue]]),1,0),[1]Période!$D$6:$J$18,7,TRUE)) -> 2021_P02 | I18: RCAPRX1DRY | J18: =VLOOKUP(Table_SSQL1022_altairprod_TBL_WORKORDER[[#This Row],[FK_CODE_PMSHEET]],[1]!Tableau_Lancer_la_requête_à_partir_de_ALTAIR91024[[FK_CODE_PMSHEET]:[DESCRIPTION]],4,FALSE) -> SECHEUR | K18: PRX1DRY-0010 | L18: =RIGHT(LEFT(Table_SSQL1022_altairprod_TBL_WORKORDER[[#This Row],[Location]],7),4) -> PRX1 | M18: 41427 | N18: PREVENTIF A 2 MOIS ENTRETIEN BRULEUR M1 | Q18: ARRET | S18: SYS
B19: 44207.43 | C19: 1 | D19: 30-FERM | E19: 44201.4 | F19: LUB-FLS-02 | G19: 44207 | H19: =CONCATENATE(YEAR(Table_SSQL1022_altairprod_TBL_WORKORDER[[#This Row],[p_prevue]]),"_",VLOOKUP(Table_SSQL1022_altairprod_TBL_WORKORDER[[#This Row],[p_prevue]]-DATE(YEAR(Table_SSQL1022_altairprod_TBL_WORKORDER[[#This Row],[p_prevue]]),1,0),[1]Période!$D$6:$J$18,7,TRUE)) -> 2021_P01 | I19: RCAPRX2FLS | J19: =VLOOKUP(Table_SSQL1022_altairprod_TBL_WORKORDER[[#This Row],[FK_CODE_PMSHEET]],[1]!Tableau_Lancer_la_requête_à_partir_de_ALTAIR91024[[FK_CODE_PMSHEET]:[DESCRIPTION]],4,FALSE) -> M2-ALIMENTATION | K19: PRX2FLS-0040 | L19: =RIGHT(LEFT(Table_SSQL1022_altairprod_TBL_WORKORDER[[#This Row],[Location]],7),4) -> PRX2 | M19: 41446 | N19: PREV A 6 MOIS LUBRIFICATION ALIMENTATION M2 | Q19: GRAI | S19: SYS
C20: 1 | D20: 20-APPR | E20: 44201.4 | F20: LUB-FLS-04 | G20: 44207 | H20: =CONCATENATE(YEAR(Table_SSQL1022_altairprod_TBL_WORKORDER[[#This Row],[p_prevue]]),"_",VLOOKUP(Table_SSQL1022_altairprod_TBL_WORKORDER[[#This Row],[p_prevue]]-DATE(YEAR(Table_SSQL1022_altairprod_TBL_WORKORDER[[#This Row],[p_prevue]]),1,0),[1]Période!$D$6:$J$18,7,TRUE)) -> 2021_P01 | I20: RCAPRX4FLS | J20: =VLOOKUP(Table_SSQL1022_altairprod_TBL_WORKORDER[[#This Row],[FK_CODE_PMSHEET]],[1]!Tableau_Lancer_la_requête_à_partir_de_ALTAIR91024[[FK_CODE_PMSHEET]:[DESCRIPTION]],4,FALSE) -> #N/A | L20: =RIGHT(LEFT(Table_SSQL1022_altairprod_TBL_WORKORDER[[#This Row],[Location]],7),4) -> PRX4 | M20: 41448 | N20: PREV A 6 MOIS LUBRIFIANT ALIMENTATION M4 | Q20: GRAI | S20: SYS
B21: 44208.447 | C21: 1 | D21: 30-FERM | E21: 44201.4 | F21: LUB-VAL-01 | G21: 44214 | H21: =CONCATENATE(YEAR(Table_SSQL1022_altairprod_TBL_WORKORDER[[#This Row],[p_prevue]]),"_",VLOOKUP(Table_SSQL1022_altairprod_TBL_WORKORDER[[#This Row],[p_prevue]]-DATE(YEAR(Table_SSQL1022_altairprod_TBL_WORKORDER[[#This Row],[p_prevue]]),1,0),[1]Période!$D$6:$J$18,7,TRUE)) -> 2021_P01 | I21: RCAPRX1VAL | J21: =VLOOKUP(Table_SSQL1022_altairprod_TBL_WORKORDER[[#This Row],[FK_CODE_PMSHEET]],[1]!Tableau_Lancer_la_requête_à_partir_de_ALTAIR91024[[FK_CODE_PMSHEET]:[DESCRIPTION]],4,FALSE) -> VALORISATION | K21: PRX1VAL-0010 | L21: =RIGHT(LEFT(Table_SSQL1022_altairprod_TBL_WORKORDER[[#This Row],[Location]],7),4) -> PRX1 | M21: 41450 | N21: PREV A 6 MOIS LUBRIFICATION VALORISATION M1 | Q21: GRAI | S21: SYS
C22: 1 | D22: 20-APPR | E22: 44201.4 | F22: LUB-VAL-03 | G22: 44214 | H22: =CONCATENATE(YEAR(Table_SSQL1022_altairprod_TBL_WORKORDER[[#This Row],[p_prevue]]),"_",VLOOKUP(Table_SSQL1022_altairprod_TBL_WORKORDER[[#This Row],[p_prevue]]-DATE(YEAR(Table_SSQL1022_altairprod_TBL_WORKORDER[[#This Row],[p_prevue]]),1,0),[1]Période!$D$6:$J$18,7,TRUE)) -> 2021_P01 | I22: RCAPRX3VAL | J22: =VLOOKUP(Table_SSQL1022_altairprod_TBL_WORKORDER[[#This Row],[FK_CODE_PMSHEET]],[1]!Tableau_Lancer_la_requête_à_partir_de_ALTAIR91024[[FK_CODE_PMSHEET]:[DESCRIPTION]],4,FALSE) -> VALORISATION | L22: =RIGHT(LEFT(Table_SSQL1022_altairprod_TBL_WORKORDER[[#This Row],[Location]],7),4) -> PRX3 | M22: 41452 | N22: PREV A 6 MOIS LUBRIFICATION VALORISATION M3 | Q22: GRAI | S22: SYS
C23: 1 | D23: 20-APPR | E23: 44201.4 | F23: LUB-VAL-05 | G23: 44214 | H23: =CONCATENATE(YEAR(Table_SSQL1022_altairprod_TBL_WORKORDER[[#This Row],[p_prevue]]),"_",VLOOKUP(Table_SSQL1022_altairprod_TBL_WORKORDER[[#This Row],[p_prevue]]-DATE(YEAR(Table_SSQL1022_altairprod_TBL_WORKORDER[[#This Row],[p_prevue]]),1,0),[1]Période!$D$6:$J$18,7,TRUE)) -> 2021_P01 | I23: RCAPRX5VAL | J23: =VLOOKUP(Table_SSQL1022_altairprod_TBL_WORKORDER[[#This Row],[FK_CODE_PMSHEET]],[1]!Tableau_Lancer_la_requête_à_partir_de_ALTAIR91024[[FK_CODE_PMSHEET]:[DESCRIPTION]],4,FALSE) -> VALORISATION | L23: =RIGHT(LEFT(Table_SSQL1022_altairprod_TBL_WORKORDER[[#This Row],[Location]],7),4) -> PRX5 | M23: 41454 | N23: PREV A 6 MOIS LUBRIFICATION VALORISATION W2 | Q23: GRAI | S23: SYS
B24: 44202.688 | C24: 1 | D24: 30-FERM | E24: 44202.31 | F24: PREV-REC | G24: 44202.31 | H24: =CONCATENATE(YEAR(Table_SSQL1022_altairprod_TBL_WORKORDER[[#This Row],[p_prevue]]),"_",VLOOKUP(Table_SSQL1022_altairprod_TBL_WORKORDER[[#This Row],[p_prevue]]-DATE(YEAR(Table_SSQL1022_altairprod_TBL_WORKORDER[[#This Row],[p_prevue]]),1,0),[1]Période!$D$6:$J$18,7,TRUE)) -> 2021_P01 | I24: RCAPRRECSTK | J24: =VLOOKUP(Table_SSQL1022_altairprod_TBL_WORKORDER[[#This Row],[FK_CODE_PMSHEET]],[1]!Tableau_Lancer_la_requête_à_partir_de_ALTAIR91024[[FK_CODE_PMSHEET]:[DESCRIPTION]],4,FALSE) -> #N/A | K24: PRRECSTK-0120 | L24: =RIGHT(LEFT(Table_SSQL1022_altairprod_TBL_WORKORDER[[#This Row],[Location]],7),4) -> PRRE | M24: 41476 | N24: Travaux correctif planifié accostage S12 | Q24: CHGT | S24: PLAN
B25: 44204.629 | C25: 1 | D25: 30-FERM | E25: 44202.486 | F25: PREV-BR | G25: 44202.486 | H25: =CONCATENATE(YEAR(Table_SSQL1022_altairprod_TBL_WORKORDER[[#This Row],[p_prevue]]),"_",VLOOKUP(Table_SSQL1022_altairprod_TBL_WORKORDER[[#This Row],[p_prevue]]-DATE(YEAR(Table_SSQL1022_altairprod_TBL_WORKORDER[[#This Row],[p_prevue]]),1,0),[1]Période!$D$6:$J$18,7,TRUE)) -> 2021_P01 | I25: RCAPRGG | J25: =VLOOKUP(Table_SSQL1022_altairprod_TBL_WORKORDER[[#This Row],[FK_CODE_PMSHEET]],[1]!Tableau_Lancer_la_requête_à_partir_de_ALTAIR91024[[FK_CODE_PMSHEET]:[DESCRIPTION]],4,FALSE) -> #N/A | L25: =RIGHT(LEFT(Table_SSQL1022_altairprod_TBL_WORKORDER[[#This Row],[Location]],7),4) -> PRGG | M25: 41479 | N25: Suivis travaux zones Broyage / Réception | Q25: CTRL/GRAI | S25: PLAN
C26: 2 | D26: 20-APPR | E26: 44203.4 | F26: FIL-ASR32 | G26: 44233.642 | H26: =CONCATENATE(YEAR(Table_SSQL1022_altairprod_TBL_WORKORDER[[#This Row],[p_prevue]]),"_",VLOOKUP(Table_SSQL1022_altairprod_TBL_WORKORDER[[#This Row],[p_prevue]]-DATE(YEAR(Table_SSQL1022_altairprod_TBL_WORKORDER[[#This Row],[p_prevue]]),1,0),[1]Période!$D$6:$J$18,7,TRUE)) -> 2021_P02 | I26: RCAPRRECSTK | J26: =VLOOKUP(Table_SSQL1022_altairprod_TBL_WORKORDER[[#This Row],[FK_CODE_PMSHEET]],[1]!Tableau_Lancer_la_requête_à_partir_de_ALTAIR91024[[FK_CODE_PMSHEET]:[DESCRIPTION]],4,FALSE) -> RECEPTION-STOCKAGE | K26: PRRECSTK-0320 | L26: =RIGHT(LEFT(Table_SSQL1022_altairprod_TBL_WORKORDER[[#This Row],[Location]],7),4) -> PRRE | M26: 41522 | N26: PREV A 1 AN FILTRE ASR32 SILO RECEPTION | Q26: WEEK | S26: SYS
C27: 2.5 | D27: 20-APPR | E27: 44203.4 | F27: HYG-009 | G27: 44233.642 | H27: =CONCATENATE(YEAR(Table_SSQL1022_altairprod_TBL_WORKORDER[[#This Row],[p_prevue]]),"_",VLOOKUP(Table_SSQL1022_altairprod_TBL_WORKORDER[[#This Row],[p_prevue]]-DATE(YEAR(Table_SSQL1022_altairprod_TBL_WORKORDER[[#This Row],[p_prevue]]),1,0),[1]Période!$D$6:$J$18,7,TRUE)) -> 2021_P02 | I27: RCAPRGGSCA | J27: =VLOOKUP(Table_SSQL1022_altairprod_TBL_WORKORDER[[#This Row],[FK_CODE_PMSHEET]],[1]!Tableau_Lancer_la_requête_à_partir_de_ALTAIR91024[[FK_CODE_PMSHEET]:[DESCRIPTION]],4,FALSE) -> #N/A | K27: PRGGSCA-0270 | L27: =RIGHT(LEFT(Table_SSQL1022_altairprod_TBL_WORKORDER[[#This Row],[Location]],7),4) -> PRGG | M27: 41525 | N27: PREVENTIF A 1 AN POUR EX. HYDRAULIQUE S30 | Q27: ARRET | S27: SYS
B28: 44224.67 | C28: 3 | D28: 30-FERM | E28: 44203.4 | F28: SCR-022 | G28: 44233.642 | H28: =CONCATENATE(YEAR(Table_SSQL1022_altairprod_TBL_WORKORDER[[#This Row],[p_prevue]]),"_",VLOOKUP(Table_SSQL1022_altairprod_TBL_WORKORDER[[#This Row],[p_prevue]]-DATE(YEAR(Table_SSQL1022_altairprod_TBL_WORKORDER[[#This Row],[p_prevue]]),1,0),[1]Période!$D$6:$J$18,7,TRUE)) -> 2021_P02 | I28: RCAPRGGSCA | J28: =VLOOKUP(Table_SSQL1022_altairprod_TBL_WORKORDER[[#This Row],[FK_CODE_PMSHEET]],[1]!Tableau_Lancer_la_requête_à_partir_de_ALTAIR91024[[FK_CODE_PMSHEET]:[DESCRIPTION]],4,FALSE) -> #N/A | K28: PRGGSCA-0080 | L28: =RIGHT(LEFT(Table_SSQL1022_altairprod_TBL_WORKORDER[[#This Row],[Location]],7),4) -> PRGG | M28: 41533 | N28: PREVENTIF DE GRAISSAGE A 1 AN POUR VIS-DOS BP01 BROYAGE | Q28: ARRET | S28: SYS
B29: 44204.551 | C29: 2 | D29: 30-FERM | E29: 44168.958 | F29: COO-011 | G29: 44197.583 | H29: =CONCATENATE(YEAR(Table_SSQL1022_altairprod_TBL_WORKORDER[[#This Row],[p_prevue]]),"_",VLOOKUP(Table_SSQL1022_altairprod_TBL_WORKORDER[[#This Row],[p_prevue]]-DATE(YEAR(Table_SSQL1022_altairprod_TBL_WORKORDER[[#This Row],[p_prevue]]),1,0),[1]Période!$D$6:$J$18,7,TRUE)) -> 2021_P01 | I29: RCAPRX5CLR | J29: =VLOOKUP(Table_SSQL1022_altairprod_TBL_WORKORDER[[#This Row],[FK_CODE_PMSHEET]],[1]!Tableau_Lancer_la_requête_à_partir_de_ALTAIR91024[[FK_CODE_PMSHEET]:[DESCRIPTION]],4,FALSE) -> REFROIDISSEUR | K29: PRX5CLR-0270 | L29: =RIGHT(LEFT(Table_SSQL1022_altairprod_TBL_WORKORDER[[#This Row],[Location]],7),4) -> PRX5 | M29: 40609 | N29: PREVENTIF GRAISSAGE A 1 AN REFROIDISSEUR | Q29: ARRET | S29: SYS
B30: 44196.564 | C30: 0.5 | D30: 30-FERM | E30: 44168.958 | F30: DRY-041 | G30: 44198.394 | H30: =CONCATENATE(YEAR(Table_SSQL1022_altairprod_TBL_WORKORDER[[#This Row],[p_prevue]]),"_",VLOOKUP(Table_SSQL1022_altairprod_TBL_WORKORDER[[#This Row],[p_prevue]]-DATE(YEAR(Table_SSQL1022_altairprod_TBL_WORKORDER[[#This Row],[p_prevue]]),1,0),[1]Période!$D$6:$J$18,7,TRUE)) -> 2021_P01 | I30: RCAPRX1DRY | J30: =VLOOKUP(Table_SSQL1022_altairprod_TBL_WORKORDER[[#This Row],[FK_CODE_PMSHEET]],[1]!Tableau_Lancer_la_requête_à_partir_de_ALTAIR91024[[FK_CODE_PMSHEET]:[DESCRIPTION]],4,FALSE) -> SECHEUR | K30: PRX1DRY-0320 | L30: =RIGHT(LEFT(Table_SSQL1022_altairprod_TBL_WORKORDER[[#This Row],[Location]],7),4) -> PRX1 | M30: 40611 | N30: PREVENTIF A 1 AN VLM03 SECHEUR M1 | Q30: ARRET | S30: SYS
B31: 44204.549 | C31: 1 | D31: 30-FERM | E31: 44168.958 | F31: SLG-011 | G31: 44197 | H31: =CONCATENATE(YEAR(Table_SSQL1022_altairprod_TBL_WORKORDER[[#This Row],[p_prevue]]),"_",VLOOKUP(Table_SSQL1022_altairprod_TBL_WORKORDER[[#This Row],[p_prevue]]-DATE(YEAR(Table_SSQL1022_altairprod_TBL_WORKORDER[[#This Row],[p_prevue]]),1,0),[1]Période!$D$6:$J$18,7,TRUE)) -> 2021_P01 | I31: RCAPRX5COA | J31: =VLOOKUP(Table_SSQL1022_altairprod_TBL_WORKORDER[[#This Row],[FK_CODE_PMSHEET]],[1]!Tableau_Lancer_la_requête_à_partir_de_ALTAIR91024[[FK_CODE_PMSHEET]:[DESCRIPTION]],4,FALSE) -> ENROBAGE | K31: PRX5COA-1050 | L31: =RIGHT(LEFT(Table_SSQL1022_altairprod_TBL_WORKORDER[[#This Row],[Location]],7),4) -> PRX5 | M31: 40637 | N31: PREVENTIF A 4 MOIS TTD03 W2 | Q31: ARRET | S31: SYS
B32: 44218.527 | C32: 1.5 | D32: 30-FERM | E32: 44168.958 | F32: SUR-SUB06-01 | G32: 44198.62 | H32: =CONCATENATE(YEAR(Table_SSQL1022_altairprod_TBL_WORKORDER[[#This Row],[p_prevue]]),"_",VLOOKUP(Table_SSQL1022_altairprod_TBL_WORKORDER[[#This Row],[p_prevue]]-DATE(YEAR(Table_SSQL1022_altairprod_TBL_WORKORDER[[#This Row],[p_prevue]]),1,0),[1]Période!$D$6:$J$18,7,TRUE)) -> 2021_P01 | I32: RCAPRGGTFL | J32: =VLOOKUP(Table_SSQL1022_altairprod_TBL_WORKORDER[[#This Row],[FK_CODE_PMSHEET]],[1]!Tableau_Lancer_la_requête_à_partir_de_ALTAIR91024[[FK_CODE_PMSHEET]:[DESCRIPTION]],4,FALSE) -> TRANSFERT MATIÈRE BROYÉE | K32: PRGGTFL-0110 | L32: =RIGHT(LEFT(Table_SSQL1022_altairprod_TBL_WORKORDER[[#This Row],[Location]],7),4) -> PRGG | M32: 40639 | N32: PREV A 3 MOIS SUB06 BROYAGE | Q32: ARRET | S32: SYS
B33: 44214.437 | C33: 1 | D33: 30-FERM | E33: 44169.958 | F33: LUB-SCA-13 | G33: 44197.958 | H33: =CONCATENATE(YEAR(Table_SSQL1022_altairprod_TBL_WORKORDER[[#This Row],[p_prevue]]),"_",VLOOKUP(Table_SSQL1022_altairprod_TBL_WORKORDER[[#This Row],[p_prevue]]-DATE(YEAR(Table_SSQL1022_altairprod_TBL_WORKORDER[[#This Row],[p_prevue]]),1,0),[1]Période!$D$6:$J$18,7,TRUE)) -> 2021_P01 | I33: RCAPRGGSCA | J33: =VLOOKUP(Table_SSQL1022_altairprod_TBL_WORKORDER[[#This Row],[FK_CODE_PMSHEET]],[1]!Tableau_Lancer_la_requête_à_partir_de_ALTAIR91024[[FK_CODE_PMSHEET]:[DESCRIPTION]],4,FALSE) -> STATION BENNE PESEUSE | K33: PRGGSCA-0200 | L33: =RIGHT(LEFT(Table_SSQL1022_altairprod_TBL_WORKORDER[[#This Row],[Location]],7),4) -> PRGG | M33: 40672 | N33: PREV A 2 MOIS LUBRIFICATION ECLUSES BP08/BP09 | Q33: WEEK | S33: SYS
B34: 44196.561 | C34: 3 | D34: 30-FERM | E34: 44169.958 | F34: X185-007 | G34: 44200.486 | H34: =CONCATENATE(YEAR(Table_SSQL1022_altairprod_TBL_WORKORDER[[#This Row],[p_prevue]]),"_",VLOOKUP(Table_SSQL1022_altairprod_TBL_WORKORDER[[#This Row],[p_prevue]]-DATE(YEAR(Table_SSQL1022_altairprod_TBL_WORKORDER[[#This Row],[p_prevue]]),1,0),[1]Période!$D$6:$J$18,7,TRUE)) -> 2021_P01 | I34: RCAPRX2X185 | J34: =VLOOKUP(Table_SSQL1022_altairprod_TBL_WORKORDER[[#This Row],[FK_CODE_PMSHEET]],[1]!Tableau_Lancer_la_requête_à_partir_de_ALTAIR91024[[FK_CODE_PMSHEET]:[DESCRIPTION]],4,FALSE) -> EXTRUDEUR | K34: PRX2X185-0090 | L34: =RIGHT(LEFT(Table_SSQL1022_altairprod_TBL_WORKORDER[[#This Row],[Location]],7),4) -> PRX2 | M34: 40674 | N34: PREVENTIF A 4 MOIS EXN01 EXTRUDEUR M2 | Q34: ARRET | S34: SYS
B35: 44204.508 | C35: 1.5 | D35: 30-FERM | E35: 44175.424 | F35: SUR-013 | G35: 44205.6 | H35: =CONCATENATE(YEAR(Table_SSQL1022_altairprod_TBL_WORKORDER[[#This Row],[p_prevue]]),"_",VLOOKUP(Table_SSQL1022_altairprod_TBL_WORKORDER[[#This Row],[p_prevue]]-DATE(YEAR(Table_SSQL1022_altairprod_TBL_WORKORDER[[#This Row],[p_prevue]]),1,0),[1]Période!$D$6:$J$18,7,TRUE)) -> 2021_P01 | I35: RCAPRGGSCA | J35: =VLOOKUP(Table_SSQL1022_altairprod_TBL_WORKORDER[[#This Row],[FK_CODE_PMSHEET]],[1]!Tableau_Lancer_la_requête_à_partir_de_ALTAIR91024[[FK_CODE_PMSHEET]:[DESCRIPTION]],4,FALSE) -> #N/A | K35: PRGGSCA-3240 | L35: =RIGHT(LEFT(Table_SSQL1022_altairprod_TBL_WORKORDER[[#This Row],[Location]],7),4) -> PRGG | M35: 40848 | N35: PREVENTIF A 3 MOIS POUR SUB100 BROYAGE | Q35: ARRET | S35: SYS
B36: 44218.403 | C36: 1 | D36: 30-FERM | E36: 44178.424 | F36: SUR-002 | G36: 44209 | H36: =CONCATENATE(YEAR(Table_SSQL1022_altairprod_TBL_WORKORDER[[#This Row],[p_prevue]]),"_",VLOOKUP(Table_SSQL1022_altairprod_TBL_WORKORDER[[#This Row],[p_prevue]]-DATE(YEAR(Table_SSQL1022_altairprod_TBL_WORKORDER[[#This Row],[p_prevue]]),1,0),[1]Période!$D$6:$J$18,7,TRUE)) -> 2021_P01 | I36: RCAPRGGSCA | J36: =VLOOKUP(Table_SSQL1022_altairprod_TBL_WORKORDER[[#This Row],[FK_CODE_PMSHEET]],[1]!Tableau_Lancer_la_requête_à_partir_de_ALTAIR91024[[FK_CODE_PMSHEET]:[DESCRIPTION]],4,FALSE) -> #N/A | K36: PRGGSCA-0990 | L36: =RIGHT(LEFT(Table_SSQL1022_altairprod_TBL_WORKORDER[[#This Row],[Location]],7),4) -> PRGG | M36: 40945 | N36: PREVENTIF A 3 MOIS POUR SUB02 BP3 BROYAGE | Q36: ARRET | S36: SYS
B37: 44215.464 | C37: 0.5 | D37: 30-FERM | E37: 44181.424 | F37: LUB-DR-BLB01 | G37: 44197 | H37: =CONCATENATE(YEAR(Table_SSQL1022_altairprod_TBL_WORKORDER[[#This Row],[p_prevue]]),"_",VLOOKUP(Table_SSQL1022_altairprod_TBL_WORKORDER[[#This Row],[p_prevue]]-DATE(YEAR(Table_SSQL1022_altairprod_TBL_WORKORDER[[#This Row],[p_prevue]]),1,0),[1]Période!$D$6:$J$18,7,TRUE)) -> 2021_P01 | I37: RCAPRGGGDR | J37: =VLOOKUP(Table_SSQL1022_altairprod_TBL_WORKORDER[[#This Row],[FK_CODE_PMSHEET]],[1]!Tableau_Lancer_la_requête_à_partir_de_ALTAIR91024[[FK_CODE_PMSHEET]:[DESCRIPTION]],4,FALSE) -> BROYAGE | K37: PRGGGDR-0090 | L37: =RIGHT(LEFT(Table_SSQL1022_altairprod_TBL_WORKORDER[[#This Row],[Location]],7),4) -> PRGG | M37: 41028 | N37: PREV A 3 MOIS LUBRIFICATION BLUTTERIE | Q37: WEEK | S37: SYS
B38: 44214.454 | C38: 0.5 | D38: 30-FERM | E38: 44181.424 | F38: LUB-DR-BLB03 | G38: 44197 | H38: =CONCATENATE(YEAR(Table_SSQL1022_altairprod_TBL_WORKORDER[[#This Row],[p_prevue]]),"_",VLOOKUP(Table_SSQL1022_altairprod_TBL_WORKORDER[[#This Row],[p_prevue]]-DATE(YEAR(Table_SSQL1022_altairprod_TBL_WORKORDER[[#This Row],[p_prevue]]),1,0),[1]Période!$D$6:$J$18,7,TRUE)) -> 2021_P01 | I38: RCAPRGGGDR | J38: =VLOOKUP(Table_SSQL1022_altairprod_TBL_WORKORDER[[#This Row],[FK_CODE_PMSHEET]],[1]!Tableau_Lancer_la_requête_à_partir_de_ALTAIR91024[[FK_CODE_PMSHEET]:[DESCRIPTION]],4,FALSE) -> BROYAGE | K38: PRGGGDR-0330 | L38: =RIGHT(LEFT(Table_SSQL1022_altairprod_TBL_WORKORDER[[#This Row],[Location]],7),4) -> PRGG | M38: 41030 | N38: PREV A 3 MOIS LUBRIFICATION BLUTTERIE | Q38: WEEK | S38: SYS
B39: 44214.454 | C39: 0.5 | D39: 30-FERM | E39: 44181.424 | F39: LUB-DR-BR02 | G39: 44197 | H39: =CONCATENATE(YEAR(Table_SSQL1022_altairprod_TBL_WORKORDER[[#This Row],[p_prevue]]),"_",VLOOKUP(Table_SSQL1022_altairprod_TBL_WORKORDER[[#This Row],[p_prevue]]-DATE(YEAR(Table_SSQL1022_altairprod_TBL_WORKORDER[[#This Row],[p_prevue]]),1,0),[1]Période!$D$6:$J$18,7,TRUE)) -> 2021_P01 | I39: RCAPRGGGDR | J39: =VLOOKUP(Table_SSQL1022_altairprod_TBL_WORKORDER[[#This Row],[FK_CODE_PMSHEET]],[1]!Tableau_Lancer_la_requête_à_partir_de_ALTAIR91024[[FK_CODE_PMSHEET]:[DESCRIPTION]],4,FALSE) -> BROYAGE | K39: PRGGGDR-0020 | L39: =RIGHT(LEFT(Table_SSQL1022_altairprod_TBL_WORKORDER[[#This Row],[Location]],7),4) -> PRGG | M39: 41032 | N39: PREV A 2 MOIS LUBRIFICATION BROYEUR | Q39: WEEK | S39: SYS
B40: 44189.514 | C40: 1 | D40: 30-FERM | E40: 44189.37 | F40: FIL-014 | G40: 44226.538 | H40: =CONCATENATE(YEAR(Table_SSQL1022_altairprod_TBL_WORKORDER[[#This Row],[p_prevue]]),"_",VLOOKUP(Table_SSQL1022_altairprod_TBL_WORKORDER[[#This Row],[p_prevue]]-DATE(YEAR(Table_SSQL1022_altairprod_TBL_WORKORDER[[#This Row],[p_prevue]]),1,0),[1]Période!$D$6:$J$18,7,TRUE)) -> 2021_P02 | I40: RCAPRGGBFL | J40: =VLOOKUP(Table_SSQL1022_altairprod_TBL_WORKORDER[[#This Row],[FK_CODE_PMSHEET]],[1]!Tableau_Lancer_la_requête_à_partir_de_ALTAIR91024[[FK_CODE_PMSHEET]:[DESCRIPTION]],4,FALSE) -> TRANSFERT MATIÈRE A BROYER | K40: PRGGBFL-0160 | L40: =RIGHT(LEFT(Table_SSQL1022_altairprod_TBL_WORKORDER[[#This Row],[Location]],7),4) -> PRGG | M40: 41228 | N40: GAMME PREVENTIVE A 5 MOIS POUR FIB01 (MVRN4/8) (RDC) | Q40: ARRET | S40: SYS
C41: 1 | D41: 20-APPR | E41: 44192.424 | F41: ELEC-004 | G41: 44222.373 | H41: =CONCATENATE(YEAR(Table_SSQL1022_altairprod_TBL_WORKORDER[[#This Row],[p_prevue]]),"_",VLOOKUP(Table_SSQL1022_altairprod_TBL_WORKORDER[[#This Row],[p_prevue]]-DATE(YEAR(Table_SSQL1022_altairprod_TBL_WORKORDER[[#This Row],[p_prevue]]),1,0),[1]Période!$D$6:$J$18,7,TRUE)) -> 2021_P01 | I41: RCAPRGGAUT | J41: =VLOOKUP(Table_SSQL1022_altairprod_TBL_WORKORDER[[#This Row],[FK_CODE_PMSHEET]],[1]!Tableau_Lancer_la_requête_à_partir_de_ALTAIR91024[[FK_CODE_PMSHEET]:[DESCRIPTION]],4,FALSE) -> #N/A | K41: PRGGAUT-0010 | L41: =RIGHT(LEFT(Table_SSQL1022_altairprod_TBL_WORKORDER[[#This Row],[Location]],7),4) -> PRGG | M41: 41264 | N41: GAMME PREVENTIVE A 18 MOIS POUR AUTOMATE PREMIUM | Q41: ARRET | S41: SYS
B42: 44218.377 | C42: 1.5 | D42: 30-FERM | E42: 44192.424 | F42: SUR-007 | G42: 44223 | H42: =CONCATENATE(YEAR(Table_SSQL1022_altairprod_TBL_WORKORDER[[#This Row],[p_prevue]]),"_",VLOOKUP(Table_SSQL1022_altairprod_TBL_WORKORDER[[#This Row],[p_prevue]]-DATE(YEAR(Table_SSQL1022_altairprod_TBL_WORKORDER[[#This Row],[p_prevue]]),1,0),[1]Période!$D$6:$J$18,7,TRUE)) -> 2021_P01 | I42: RCAPRX3CLR | J42: =VLOOKUP(Table_SSQL1022_altairprod_TBL_WORKORDER[[#This Row],[FK_CODE_PMSHEET]],[1]!Tableau_Lancer_la_requête_à_partir_de_ALTAIR91024[[FK_CODE_PMSHEET]:[DESCRIPTION]],4,FALSE) -> REFROIDISSEUR | K42: PRX3CLR-0330 | L42: =RIGHT(LEFT(Table_SSQL1022_altairprod_TBL_WORKORDER[[#This Row],[Location]],7),4) -> PRX3 | M42: 41266 | N42: PREVENTIF A 2 MOIS SUP15 M3 | Q42: ARRET | S42: SYS
B43: 44223.613 | C43: 1 | D43: 30-FERM | E43: 44199.4 | F43: SIF-005 | G43: 44228.65 | H43: =CONCATENATE(YEAR(Table_SSQL1022_altairprod_TBL_WORKORDER[[#This Row],[p_prevue]]),"_",VLOOKUP(Table_SSQL1022_altairprod_TBL_WORKORDER[[#This Row],[p_prevue]]-DATE(YEAR(Table_SSQL1022_altairprod_TBL_WORKORDER[[#This Row],[p_prevue]]),1,0),[1]Période!$D$6:$J$18,7,TRUE)) -> 2021_P02 | I43: RCAPRX2DRY | J43: =VLOOKUP(Table_SSQL1022_altairprod_TBL_WORKORDER[[#This Row],[FK_CODE_PMSHEET]],[1]!Tableau_Lancer_la_requête_à_partir_de_ALTAIR91024[[FK_CODE_PMSHEET]:[DESCRIPTION]],4,FALSE) -> SECHEUR | K43: PRX2DRY-0300 | L43: =RIGHT(LEFT(Table_SSQL1022_altairprod_TBL_WORKORDER[[#This Row],[Location]],7),4) -> PRX2 | M43: 41401 | N43: PREVENTIF A 2 MOIS TAN01 SORTIE SECHEUR 1E M2 | Q43: ARRET | S43: SYS
C44: 1 | D44: 20-APPR | E44: 44199.4 | F44: SUR-022 | G44: 44228.679 | H44: =CONCATENATE(YEAR(Table_SSQL1022_altairprod_TBL_WORKORDER[[#This Row],[p_prevue]]),"_",VLOOKUP(Table_SSQL1022_altairprod_TBL_WORKORDER[[#This Row],[p_prevue]]-DATE(YEAR(Table_SSQL1022_altairprod_TBL_WORKORDER[[#This Row],[p_prevue]]),1,0),[1]Période!$D$6:$J$18,7,TRUE)) -> 2021_P02 | I44: RCAPRX5CLR | J44: =VLOOKUP(Table_SSQL1022_altairprod_TBL_WORKORDER[[#This Row],[FK_CODE_PMSHEET]],[1]!Tableau_Lancer_la_requête_à_partir_de_ALTAIR91024[[FK_CODE_PMSHEET]:[DESCRIPTION]],4,FALSE) -> REFROIDISSEUR | K44: PRX5CLR-0120 | L44: =RIGHT(LEFT(Table_SSQL1022_altairprod_TBL_WORKORDER[[#This Row],[Location]],7),4) -> PRX5 | M44: 41403 | N44: PREVENTIF A 2 MOIS SUD15 | Q44: ARRET | S44: SYS
B45: 44207.398 | C45: 1 | D45: 30-FERM | E45: 44201.4 | F45: LUB-FLS-01 | G45: 44207 | H45: =CONCATENATE(YEAR(Table_SSQL1022_altairprod_TBL_WORKORDER[[#This Row],[p_prevue]]),"_",VLOOKUP(Table_SSQL1022_altairprod_TBL_WORKORDER[[#This Row],[p_prevue]]-DATE(YEAR(Table_SSQL1022_altairprod_TBL_WORKORDER[[#This Row],[p_prevue]]),1,0),[1]Période!$D$6:$J$18,7,TRUE)) -> 2021_P01 | I45: RCAPRX1FLS | J45: =VLOOKUP(Table_SSQL1022_altairprod_TBL_WORKORDER[[#This Row],[FK_CODE_PMSHEET]],[1]!Tableau_Lancer_la_requête_à_partir_de_ALTAIR91024[[FK_CODE_PMSHEET]:[DESCRIPTION]],4,FALSE) -> M1-ALIMENTATION | K45: PRX1FLS-0040 | L45: =RIGHT(LEFT(Table_SSQL1022_altairprod_TBL_WORKORDER[[#This Row],[Location]],7),4) -> PRX1 | M45: 41445 | N45: PREV A 6 MOIS ALIMENTATION M1 | Q45: GRAI | S45: SYS
C46: 1 | D46: 20-APPR | E46: 44201.4 | F46: LUB-FLS-03 | G46: 44207 | H46: =CONCATENATE(YEAR(Table_SSQL1022_altairprod_TBL_WORKORDER[[#This Row],[p_prevue]]),"_",VLOOKUP(Table_SSQL1022_altairprod_TBL_WORKORDER[[#This Row],[p_prevue]]-DATE(YEAR(Table_SSQL1022_altairprod_TBL_WORKORDER[[#This Row],[p_prevue]]),1,0),[1]Période!$D$6:$J$18,7,TRUE)) -> 2021_P01 | I46: RCAPRX3FLS | J46: =VLOOKUP(Table_SSQL1022_altairprod_TBL_WORKORDER[[#This Row],[FK_CODE_PMSHEET]],[1]!Tableau_Lancer_la_requête_à_partir_de_ALTAIR91024[[FK_CODE_PMSHEET]:[DESCRIPTION]],4,FALSE) -> M3-ALIMENTATION | L46: =RIGHT(LEFT(Table_SSQL1022_altairprod_TBL_WORKORDER[[#This Row],[Location]],7),4) -> PRX3 | M46: 41447 | N46: PREV A 6 MOIS LUBRIFICATION ALIMENTATION M3 | Q46: GRAI | S46: SYS
C47: 1 | D47: 20-APPR | E47: 44201.4 | F47: LUB-FLS-05 | G47: 44207 | H47: =CONCATENATE(YEAR(Table_SSQL1022_altairprod_TBL_WORKORDER[[#This Row],[p_prevue]]),"_",VLOOKUP(Table_SSQL1022_altairprod_TBL_WORKORDER[[#This Row],[p_prevue]]-DATE(YEAR(Table_SSQL1022_altairprod_TBL_WORKORDER[[#This Row],[p_prevue]]),1,0),[1]Période!$D$6:$J$18,7,TRUE)) -> 2021_P01 | I47: RCAPRX5FLS | J47: =VLOOKUP(Table_SSQL1022_altairprod_TBL_WORKORDER[[#This Row],[FK_CODE_PMSHEET]],[1]!Tableau_Lancer_la_requête_à_partir_de_ALTAIR91024[[FK_CODE_PMSHEET]:[DESCRIPTION]],4,FALSE) -> #N/A | L47: =RIGHT(LEFT(Table_SSQL1022_altairprod_TBL_WORKORDER[[#This Row],[Location]],7),4) -> PRX5 | M47: 41449 | N47: PREV A 6 MOIS LUBRIFICATION ALIMENTATION W2 | Q47: GRAI | S47: SYS
B48: 44208.448 | C48: 1 | D48: 30-FERM | E48: 44201.4 | F48: LUB-VAL-02 | G48: 44214 | H48: =CONCATENATE(YEAR(Table_SSQL1022_altairprod_TBL_WORKORDER[[#This Row],[p_prevue]]),"_",VLOOKUP(Table_SSQL1022_altairprod_TBL_WORKORDER[[#This Row],[p_prevue]]-DATE(YEAR(Table_SSQL1022_altairprod_TBL_WORKORDER[[#This Row],[p_prevue]]),1,0),[1]Période!$D$6:$J$18,7,TRUE)) -> 2021_P01 | I48: RCAPRX2VAL | J48: =VLOOKUP(Table_SSQL1022_altairprod_TBL_WORKORDER[[#This Row],[FK_CODE_PMSHEET]],[1]!Tableau_Lancer_la_requête_à_partir_de_ALTAIR91024[[FK_CODE_PMSHEET]:[DESCRIPTION]],4,FALSE) -> VALORISATION | K48: PRX2VAL-0010 | L48: =RIGHT(LEFT(Table_SSQL1022_altairprod_TBL_WORKORDER[[#This Row],[Location]],7),4) -> PRX2 | M48: 41451 | N48: PREV A 6 MOIS LUBRIFICATION VALORISATION M2 | Q48: GRAI | S48: SYS
C49: 1 | D49: 20-APPR | E49: 44201.4 | F49: LUB-VAL-04 | G49: 44214 | H49: =CONCATENATE(YEAR(Table_SSQL1022_altairprod_TBL_WORKORDER[[#This Row],[p_prevue]]),"_",VLOOKUP(Table_SSQL1022_altairprod_TBL_WORKORDER[[#This Row],[p_prevue]]-DATE(YEAR(Table_SSQL1022_altairprod_TBL_WORKORDER[[#This Row],[p_prevue]]),1,0),[1]Période!$D$6:$J$18,7,TRUE)) -> 2021_P01 | I49: RCAPRX4VAL | J49: =VLOOKUP(Table_SSQL1022_altairprod_TBL_WORKORDER[[#This Row],[FK_CODE_PMSHEET]],[1]!Tableau_Lancer_la_requête_à_partir_de_ALTAIR91024[[FK_CODE_PMSHEET]:[DESCRIPTION]],4,FALSE) -> VALORISATION | L49: =RIGHT(LEFT(Table_SSQL1022_altairprod_TBL_WORKORDER[[#This Row],[Location]],7),4) -> PRX4 | M49: 41453 | N49: PREV A 6 MOIS LUBRIFICATION VALORISATION M4 | Q49: GRAI | S49: SYS
B50: 44202.69 | C50: 1 | D50: 30-FERM | E50: 44202.301 | F50: PREV-REC | G50: 44202.301 | H50: =CONCATENATE(YEAR(Table_SSQL1022_altairprod_TBL_WORKORDER[[#This Row],[p_prevue]]),"_",VLOOKUP(Table_SSQL1022_altairprod_TBL_WORKORDER[[#This Row],[p_prevue]]-DATE(YEAR(Table_SSQL1022_altairprod_TBL_WORKORDER[[#This Row],[p_prevue]]),1,0),[1]Période!$D$6:$J$18,7,TRUE)) -> 2021_P01 | I50: RCAPRRECSPR | J50: =VLOOKUP(Table_SSQL1022_altairprod_TBL_WORKORDER[[#This Row],[FK_CODE_PMSHEET]],[1]!Tableau_Lancer_la_requête_à_partir_de_ALTAIR91024[[FK_CODE_PMSHEET]:[DESCRIPTION]],4,FALSE) -> #N/A | K50: PRRECSPR-0040 | L50: =RIGHT(LEFT(Table_SSQL1022_altairprod_TBL_WORKORDER[[#This Row],[Location]],7),4) -> PRRE | M50: 41475 | N50: Travaux correctif planifié station prélèvement | Q50: CHGT | S50: PLAN
B51: 44202.47 | C51: 3 | D51: 30-FERM | E51: 44202.461 | F51: QFSM1-01 | G51: 44197.461 | H51: =CONCATENATE(YEAR(Table_SSQL1022_altairprod_TBL_WORKORDER[[#This Row],[p_prevue]]),"_",VLOOKUP(Table_SSQL1022_altairprod_TBL_WORKORDER[[#This Row],[p_prevue]]-DATE(YEAR(Table_SSQL1022_altairprod_TBL_WORKORDER[[#This Row],[p_prevue]]),1,0),[1]Période!$D$6:$J$18,7,TRUE)) -> 2021_P01 | I51: RCAPRX1COA | J51: =VLOOKUP(Table_SSQL1022_altairprod_TBL_WORKORDER[[#This Row],[FK_CODE_PMSHEET]],[1]!Tableau_Lancer_la_requête_à_partir_de_ALTAIR91024[[FK_CODE_PMSHEET]:[DESCRIPTION]],4,FALSE) -> ENROBAGE | K51: PRX1COA-0030 | L51: =RIGHT(LEFT(Table_SSQL1022_altairprod_TBL_WORKORDER[[#This Row],[Location]],7),4) -> PRX1 | M51: 41478 | N51: PREV A 3 MOIS VANNE PAPILLON MEM01 M1 | Q51: ARRET_HUMIDE | R51: QFS | S51: QFS
C52: 2 | D52: 20-APPR | E52: 44203.4 | F52: FIL-ASR3 | G52: 44233.642 | H52: =CONCATENATE(YEAR(Table_SSQL1022_altairprod_TBL_WORKORDER[[#This Row],[p_prevue]]),"_",VLOOKUP(Table_SSQL1022_altairprod_TBL_WORKORDER[[#This Row],[p_prevue]]-DATE(YEAR(Table_SSQL1022_altairprod_TBL_WORKORDER[[#This Row],[p_prevue]]),1,0),[1]Période!$D$6:$J$18,7,TRUE)) -> 2021_P02 | I52: RCAPRRECSTK | J52: =VLOOKUP(Table_SSQL1022_altairprod_TBL_WORKORDER[[#This Row],[FK_CODE_PMSHEET]],[1]!Tableau_Lancer_la_requête_à_partir_de_ALTAIR91024[[FK_CODE_PMSHEET]:[DESCRIPTION]],4,FALSE) -> RECEPTION-STOCKAGE | K52: PRRECSTK-0030 | L52: =RIGHT(LEFT(Table_SSQL1022_altairprod_TBL_WORKORDER[[#This Row],[Location]],7),4) -> PRRE | M52: 41521 | N52: PREV A 1 AN FILTRE ASR3 SILO RECEPTION | Q52: WEEK | S52: SYS
C53: 2 | D53: 20-APPR | E53: 44203.4 | F53: FIL-ASR6 | G53: 44233.642 | H53: =CONCATENATE(YEAR(Table_SSQL1022_altairprod_TBL_WORKORDER[[#This Row],[p_prevue]]),"_",VLOOKUP(Table_SSQL1022_altairprod_TBL_WORKORDER[[#This Row],[p_prevue]]-DATE(YEAR(Table_SSQL1022_altairprod_TBL_WORKORDER[[#This Row],[p_prevue]]),1,0),[1]Période!$D$6:$J$18,7,TRUE)) -> 2021_P02 | I53: RCAPRRECSTK | J53: =VLOOKUP(Table_SSQL1022_altairprod_TBL_WORKORDER[[#This Row],[FK_CODE_PMSHEET]],[1]!Tableau_Lancer_la_requête_à_partir_de_ALTAIR91024[[FK_CODE_PMSHEET]:[DESCRIPTION]],4,FALSE) -> RECEPTION-STOCKAGE | K53: PRRECSTK-0060 | L53: =RIGHT(LEFT(Table_SSQL1022_altairprod_TBL_WORKORDER[[#This Row],[Location]],7),4) -> PRRE | M53: 41523 | N53: PREV A 1 AN FILTRE ASR6 SILO RECEPTION | Q53: WEEK | S53: SYS
C54: 1.5 | D54: 20-APPR | E54: 44203.4 | F54: M4-DRY-006 | G54: 44233.642 | H54: =CONCATENATE(YEAR(Table_SSQL1022_altairprod_TBL_WORKORDER[[#This Row],[p_prevue]]),"_",VLOOKUP(Table_SSQL1022_altairprod_TBL_WORKORDER[[#This Row],[p_prevue]]-DATE(YEAR(Table_SSQL1022_altairprod_TBL_WORKORDER[[#This Row],[p_prevue]]),1,0),[1]Période!$D$6:$J$18,7,TRUE)) -> 2021_P02 | I54: RCAPRX4DRY | J54: =VLOOKUP(Table_SSQL1022_altairprod_TBL_WORKORDER[[#This Row],[FK_CODE_PMSHEET]],[1]!Tableau_Lancer_la_requête_à_partir_de_ALTAIR91024[[FK_CODE_PMSHEET]:[DESCRIPTION]],4,FALSE) -> #N/A | K54: PRX4DRY-M04 | L54: =RIGHT(LEFT(Table_SSQL1022_altairprod_TBL_WORKORDER[[#This Row],[Location]],7),4) -> PRX4 | M54: 41527 | N54: PREV A 1 AN GROUPE HYDRAULIQUE SECHEUR M4 | Q54: ARRET | S54: SYS
C55: 1.5 | D55: 20-APPR | E55: 44203.4 | F55: SLG-005 | G55: 44233.642 | H55: =CONCATENATE(YEAR(Table_SSQL1022_altairprod_TBL_WORKORDER[[#This Row],[p_prevue]]),"_",VLOOKUP(Table_SSQL1022_altairprod_TBL_WORKORDER[[#This Row],[p_prevue]]-DATE(YEAR(Table_SSQL1022_altairprod_TBL_WORKORDER[[#This Row],[p_prevue]]),1,0),[1]Période!$D$6:$J$18,7,TRUE)) -> 2021_P02 | I55: RCAPRGGGDR | J55: =VLOOKUP(Table_SSQL1022_altairprod_TBL_WORKORDER[[#This Row],[FK_CODE_PMSHEET]],[1]!Tableau_Lancer_la_requête_à_partir_de_ALTAIR91024[[FK_CODE_PMSHEET]:[DESCRIPTION]],4,FALSE) -> #N/A | L55: =RIGHT(LEFT(Table_SSQL1022_altairprod_TBL_WORKORDER[[#This Row],[Location]],7),4) -> PRGG | M55: 41534 | N55: PRV A 1 AN PORTE / TRAPPE TOUR BROYAGE | Q55: ARRET | S55: SYS
C56: 4 | D56: 20-APPR | E56: 44203.4 | F56: X185-024 | G56: 44233.642 | H56: =CONCATENATE(YEAR(Table_SSQL1022_altairprod_TBL_WORKORDER[[#This Row],[p_prevue]]),"_",VLOOKUP(Table_SSQL1022_altairprod_TBL_WORKORDER[[#This Row],[p_prevue]]-DATE(YEAR(Table_SSQL1022_altairprod_TBL_WORKORDER[[#This Row],[p_prevue]]),1,0),[1]Période!$D$6:$J$18,7,TRUE)) -> 2021_P02 | I56: RCAPRX5X185 | J56: =VLOOKUP(Table_SSQL1022_altairprod_TBL_WORKORDER[[#This Row],[FK_CODE_PMSHEET]],[1]!Tableau_Lancer_la_requête_à_partir_de_ALTAIR91024[[FK_CODE_PMSHEET]:[DESCRIPTION]],4,FALSE) -> EXTRUDEUR | K56: PRX5X185-0070 | L56: =RIGHT(LEFT(Table_SSQL1022_altairprod_TBL_WORKORDER[[#This Row],[Location]],7),4) -> PRX5 | M56: 41535 | N56: PREVENTIF GRAISSAGE A 1 AN EXTRUDEUR W2 | Q56: ARRET | S56: SYS
B57: 44204.512 | C57: 1 | D57: 30-FERM | E57: 44203.489 | F57: PREV-BR | G57: 44203.488 | H57: =CONCATENATE(YEAR(Table_SSQL1022_altairprod_TBL_WORKORDER[[#This Row],[p_prevue]]),"_",VLOOKUP(Table_SSQL1022_altairprod_TBL_WORKORDER[[#This Row],[p_prevue]]-DATE(YEAR(Table_SSQL1022_altairprod_TBL_WORKORDER[[#This Row],[p_prevue]]),1,0),[1]Période!$D$6:$J$18,7,TRUE)) -> 2021_P01 | I57: RCAPRGGTFL | J57: =VLOOKUP(Table_SSQL1022_altairprod_TBL_WORKORDER[[#This Row],[FK_CODE_PMSHEET]],[1]!Tableau_Lancer_la_requête_à_partir_de_ALTAIR91024[[FK_CODE_PMSHEET]:[DESCRIPTION]],4,FALSE) -> #N/A | K57: PRGGTFL-0190 | L57: =RIGHT(LEFT(Table_SSQL1022_altairprod_TBL_WORKORDER[[#This Row],[Location]],7),4) -> PRGG | M57: 41537 | N57: Travaux fuites TP | Q57: ARRET | S57: PLAN
B58: 44196.576 | C58: 2.5 | D58: 30-FERM | E58: 44172.419 | F58: BEE-013 | G58: 44197 | H58: =CONCATENATE(YEAR(Table_SSQL1022_altairprod_TBL_WORKORDER[[#This Row],[p_prevue]]),"_",VLOOKUP(Table_SSQL1022_altairprod_TBL_WORKORDER[[#This Row],[p_prevue]]-DATE(YEAR(Table_SSQL1022_altairprod_TBL_WORKORDER[[#This Row],[p_prevue]]),1,0),[1]Période!$D$6:$J$18,7,TRUE)) -> 2021_P01 | I58: RCAPRX2CLR | J58: =VLOOKUP(Table_SSQL1022_altairprod_TBL_WORKORDER[[#This Row],[FK_CODE_PMSHEET]],[1]!Tableau_Lancer_la_requête_à_partir_de_ALTAIR91024[[FK_CODE_PMSHEET]:[DESCRIPTION]],4,FALSE) -> REFROIDISSEUR | K58: PRX2CLR-0020 | L58: =RIGHT(LEFT(Table_SSQL1022_altairprod_TBL_WORKORDER[[#This Row],[Location]],7),4) -> PRX2 | M58: 40738 | N58: PREV A 1 MOIS ELEVATEUR ELN02 M2 | Q58: ARRET | S58: SYS
B59: 44204.582 | C59: 1 | D59: 30-FERM | E59: 44172.419 | F59: BUE-022 | G59: 44197.592 | H59: =CONCATENATE(YEAR(Table_SSQL1022_altairprod_TBL_WORKORDER[[#This Row],[p_prevue]]),"_",VLOOKUP(Table_SSQL1022_altairprod_TBL_WORKORDER[[#This Row],[p_prevue]]-DATE(YEAR(Table_SSQL1022_altairprod_TBL_WORKORDER[[#This Row],[p_prevue]]),1,0),[1]Période!$D$6:$J$18,7,TRUE)) -> 2021_P01 | I59: RCAPRX4CLR | J59: =VLOOKUP(Table_SSQL1022_altairprod_TBL_WORKORDER[[#This Row],[FK_CODE_PMSHEET]],[1]!Tableau_Lancer_la_requête_à_partir_de_ALTAIR91024[[FK_CODE_PMSHEET]:[DESCRIPTION]],4,FALSE) -> REFROIDISSEUR | K59: PRX4CLR-TGL03 | L59: =RIGHT(LEFT(Table_SSQL1022_altairprod_TBL_WORKORDER[[#This Row],[Location]],7),4) -> PRX4 | M59: 40740 | N59: PREVENTIF A 12 MOIS POUR TGL03 M4 | Q59: ARRET | S59: SYS
B60: 44204.583 | C60: 1 | D60: 30-FERM | E60: 44172.419 | F60: M4-DRY-001 | G60: 44197.583 | H60: =CONCATENATE(YEAR(Table_SSQL1022_altairprod_TBL_WORKORDER[[#This Row],[p_prevue]]),"_",VLOOKUP(Table_SSQL1022_altairprod_TBL_WORKORDER[[#This Row],[p_prevue]]-DATE(YEAR(Table_SSQL1022_altairprod_TBL_WORKORDER[[#This Row],[p_prevue]]),1,0),[1]Période!$D$6:$J$18,7,TRUE)) -> 2021_P01 | I60: RCAPRX4DRY | J60: =VLOOKUP(Table_SSQL1022_altairprod_TBL_WORKORDER[[#This Row],[FK_CODE_PMSHEET]],[1]!Tableau_Lancer_la_requête_à_partir_de_ALTAIR91024[[FK_CODE_PMSHEET]:[DESCRIPTION]],4,FALSE) -> SECHEUR | K60: PRX4DRY-M06 | L60: =RIGHT(LEFT(Table_SSQL1022_altairprod_TBL_WORKORDER[[#This Row],[Location]],7),4) -> PRX4 | M60: 40742 | N60: PREV A 4 MOIS VENTILATEUR L-M06 SECHEUR M4 | Q60: ARRET | S60: SYS
B61: 44207.403 | C61: 4 | D61: 30-FERM | E61: 44172.419 | F61: NIBLEUR-01 | G61: 44197 | H61: =CONCATENATE(YEAR(Table_SSQL1022_altairprod_TBL_WORKORDER[[#This Row],[p_prevue]]),"_",VLOOKUP(Table_SSQL1022_altairprod_TBL_WORKORDER[[#This Row],[p_prevue]]-DATE(YEAR(Table_SSQL1022_altairprod_TBL_WORKORDER[[#This Row],[p_prevue]]),1,0),[1]Période!$D$6:$J$18,7,TRUE)) -> 2021_P01 | I61: RCAPRX2VAL | J61: =VLOOKUP(Table_SSQL1022_altairprod_TBL_WORKORDER[[#This Row],[FK_CODE_PMSHEET]],[1]!Tableau_Lancer_la_requête_à_partir_de_ALTAIR91024[[FK_CODE_PMSHEET]:[DESCRIPTION]],4,FALSE) -> VALORISATION | K61: PRX2VAL-0245 | L61: =RIGHT(LEFT(Table_SSQL1022_altairprod_TBL_WORKORDER[[#This Row],[Location]],7),4) -> PRX2 | M61: 40744 | N61: PREV A 1 MOIS NIBLEUR M2 | Q61: ARRET | S61: SYS
B62: 44208.559 | C62: 1 | D62: 30-FERM | E62: 44172.421 | F62: M4-DRY-004 | G62: 44197.585 | H62: =CONCATENATE(YEAR(Table_SSQL1022_altairprod_TBL_WORKORDER[[#This Row],[p_prevue]]),"_",VLOOKUP(Table_SSQL1022_altairprod_TBL_WORKORDER[[#This Row],[p_prevue]]-DATE(YEAR(Table_SSQL1022_altairprod_TBL_WORKORDER[[#This Row],[p_prevue]]),1,0),[1]Période!$D$6:$J$18,7,TRUE)) -> 2021_P01 | I62: RCAPRX4DRY | J62: =VLOOKUP(Table_SSQL1022_altairprod_TBL_WORKORDER[[#This Row],[FK_CODE_PMSHEET]],[1]!Tableau_Lancer_la_requête_à_partir_de_ALTAIR91024[[FK_CODE_PMSHEET]:[DESCRIPTION]],4,FALSE) -> SECHEUR | K62: PRX4DRY-M11 | L62: =RIGHT(LEFT(Table_SSQL1022_altairprod_TBL_WORKORDER[[#This Row],[Location]],7),4) -> PRX4 | M62: 40746 | N62: PREVENTIF A 4 MOIS L-M11 SECHEUR M4 | Q62: ARRET | S62: SYS
B63: 44208.558 | C63: 1 | D63: 30-FERM | E63: 44172.424 | F63: M4-DRY-003 | G63: 44197.585 | H63: =CONCATENATE(YEAR(Table_SSQL1022_altairprod_TBL_WORKORDER[[#This Row],[p_prevue]]),"_",VLOOKUP(Table_SSQL1022_altairprod_TBL_WORKORDER[[#This Row],[p_prevue]]-DATE(YEAR(Table_SSQL1022_altairprod_TBL_WORKORDER[[#This Row],[p_prevue]]),1,0),[1]Période!$D$6:$J$18,7,TRUE)) -> 2021_P01 | I63: RCAPRX4DRY | J63: =VLOOKUP(Table_SSQL1022_altairprod_TBL_WORKORDER[[#This Row],[FK_CODE_PMSHEET]],[1]!Tableau_Lancer_la_requête_à_partir_de_ALTAIR91024[[FK_CODE_PMSHEET]:[DESCRIPTION]],4,FALSE) -> SECHEUR | K63: PRX4DRY-M09 | L63: =RIGHT(LEFT(Table_SSQL1022_altairprod_TBL_WORKORDER[[#This Row],[Location]],7),4) -> PRX4 | M63: 40748 | N63: PREV A 4 MOIS VENTILATEUR L-M09 SECHEUR M4 | Q63: ARRET | S63: SYS
B64: 44218.6 | C64: 1 | D64: 30-FERM | E64: 44194.424 | F64: X185-004 | G64: 44224.626 | H64: =CONCATENATE(YEAR(Table_SSQL1022_altairprod_TBL_WORKORDER[[#This Row],[p_prevue]]),"_",VLOOKUP(Table_SSQL1022_altairprod_TBL_WORKORDER[[#This Row],[p_prevue]]-DATE(YEAR(Table_SSQL1022_altairprod_TBL_WORKORDER[[#This Row],[p_prevue]]),1,0),[1]Période!$D$6:$J$18,7,TRUE)) -> 2021_P01 | I64: RCAPRX3X185 | J64: =VLOOKUP(Table_SSQL1022_altairprod_TBL_WORKORDER[[#This Row],[FK_CODE_PMSHEET]],[1]!Tableau_Lancer_la_requête_à_partir_de_ALTAIR91024[[FK_CODE_PMSHEET]:[DESCRIPTION]],4,FALSE) -> EXTRUDEUR | K64: PRX3X185-0100 | L64: =RIGHT(LEFT(Table_SSQL1022_altairprod_TBL_WORKORDER[[#This Row],[Location]],7),4) -> PRX3 | M64: 41310 | N64: PREVENTIF A 6 MOIS EXP01 | Q64: ARRET | S64: SYS
B65: 44204.63 | C65: 3 | D65: 30-FERM | E65: 44195.4 | F65: SCA-FIB03 | G65: 44197 | H65: =CONCATENATE(YEAR(Table_SSQL1022_altairprod_TBL_WORKORDER[[#This Row],[p_prevue]]),"_",VLOOKUP(Table_SSQL1022_altairprod_TBL_WORKORDER[[#This Row],[p_prevue]]-DATE(YEAR(Table_SSQL1022_altairprod_TBL_WORKORDER[[#This Row],[p_prevue]]),1,0),[1]Période!$D$6:$J$18,7,TRUE)) -> 2021_P01 | I65: RCAPRGGSCA | J65: =VLOOKUP(Table_SSQL1022_altairprod_TBL_WORKORDER[[#This Row],[FK_CODE_PMSHEET]],[1]!Tableau_Lancer_la_requête_à_partir_de_ALTAIR91024[[FK_CODE_PMSHEET]:[DESCRIPTION]],4,FALSE) -> STATION BENNE PESEUSE | K65: PRGGSCA-0980 | L65: =RIGHT(LEFT(Table_SSQL1022_altairprod_TBL_WORKORDER[[#This Row],[Location]],7),4) -> PRGG | M65: 41337 | N65: PREVENTIF A 6 MOIS CENTRALE FILTRATION FIB03 | Q65: WEEK | S65: SYS
C66: 1 | D66: 20-APPR | E66: 44196.4 | F66: SCA-FIBP02 | G66: 44226 | H66: =CONCATENATE(YEAR(Table_SSQL1022_altairprod_TBL_WORKORDER[[#This Row],[p_prevue]]),"_",VLOOKUP(Table_SSQL1022_altairprod_TBL_WORKORDER[[#This Row],[p_prevue]]-DATE(YEAR(Table_SSQL1022_altairprod_TBL_WORKORDER[[#This Row],[p_prevue]]),1,0),[1]Période!$D$6:$J$18,7,TRUE)) -> 2021_P02 | I66: RCAPRGGSCA | J66: =VLOOKUP(Table_SSQL1022_altairprod_TBL_WORKORDER[[#This Row],[FK_CODE_PMSHEET]],[1]!Tableau_Lancer_la_requête_à_partir_de_ALTAIR91024[[FK_CODE_PMSHEET]:[DESCRIPTION]],4,FALSE) -> STATION BENNE PESEUSE | K66: PRGGSCA-0660 | L66: =RIGHT(LEFT(Table_SSQL1022_altairprod_TBL_WORKORDER[[#This Row],[Location]],7),4) -> PRGG | M66: 41357 | N66: PREVENTIF A 3 MOIS CENTRALE FILTRATION FIBP02 | Q66: WEEK | S66: SYS
C67: 1 | D67: 20-APPR | E67: 44197.4 | F67: BAC-021 | G67: 44228 | H67: =CONCATENATE(YEAR(Table_SSQL1022_altairprod_TBL_WORKORDER[[#This Row],[p_prevue]]),"_",VLOOKUP(Table_SSQL1022_altairprod_TBL_WORKORDER[[#This Row],[p_prevue]]-DATE(YEAR(Table_SSQL1022_altairprod_TBL_WORKORDER[[#This Row],[p_prevue]]),1,0),[1]Période!$D$6:$J$18,7,TRUE)) -> 2021_P02 | I67: RCAPRX5COA | J67: =VLOOKUP(Table_SSQL1022_altairprod_TBL_WORKORDER[[#This Row],[FK_CODE_PMSHEET]],[1]!Tableau_Lancer_la_requête_à_partir_de_ALTAIR91024[[FK_CODE_PMSHEET]:[DESCRIPTION]],4,FALSE) -> ENROBAGE | K67: PRX5COA-0030 | L67: =RIGHT(LEFT(Table_SSQL1022_altairprod_TBL_WORKORDER[[#This Row],[Location]],7),4) -> PRX5 | M67: 41365 | N67: PREVENTIF GRAISSAGE A 3 MOIS ENROBEUR W2 | Q67: ARRET_HUMIDE | S67: SYS
B68: 44228.453 | C68: 2.5 | D68: 30-FERM | E68: 44197.4 | F68: BUE-009 | G68: 44228 | H68: =CONCATENATE(YEAR(Table_SSQL1022_altairprod_TBL_WORKORDER[[#This Row],[p_prevue]]),"_",VLOOKUP(Table_SSQL1022_altairprod_TBL_WORKORDER[[#This Row],[p_prevue]]-DATE(YEAR(Table_SSQL1022_altairprod_TBL_WORKORDER[[#This Row],[p_prevue]]),1,0),[1]Période!$D$6:$J$18,7,TRUE)) -> 2021_P02 | I68: RCAPRX3DRY | J68: =VLOOKUP(Table_SSQL1022_altairprod_TBL_WORKORDER[[#This Row],[FK_CODE_PMSHEET]],[1]!Tableau_Lancer_la_requête_à_partir_de_ALTAIR91024[[FK_CODE_PMSHEET]:[DESCRIPTION]],4,FALSE) -> SECHEUR | K68: PRX3DRY-ELP01 | L68: =RIGHT(LEFT(Table_SSQL1022_altairprod_TBL_WORKORDER[[#This Row],[Location]],7),4) -> PRX3 | M68: 41367 | N68: PREVENTIF A 1 MOIS ELP01 ELEVATEUR M3 | Q68: ARRET | S68: SYS
B69: 44218.383 | C69: 0.5 | D69: 30-FERM | E69: 44197.4 | F69: COO-004 | G69: 44228 | H69: =CONCATENATE(YEAR(Table_SSQL1022_altairprod_TBL_WORKORDER[[#This Row],[p_prevue]]),"_",VLOOKUP(Table_SSQL1022_altairprod_TBL_WORKORDER[[#This Row],[p_prevue]]-DATE(YEAR(Table_SSQL1022_altairprod_TBL_WORKORDER[[#This Row],[p_prevue]]),1,0),[1]Période!$D$6:$J$18,7,TRUE)) -> 2021_P02 | I69: RCAPRX3CLR | J69: =VLOOKUP(Table_SSQL1022_altairprod_TBL_WORKORDER[[#This Row],[FK_CODE_PMSHEET]],[1]!Tableau_Lancer_la_requête_à_partir_de_ALTAIR91024[[FK_CODE_PMSHEET]:[DESCRIPTION]],4,FALSE) -> REFROIDISSEUR | K69: PRX3CLR-0090 | L69: =RIGHT(LEFT(Table_SSQL1022_altairprod_TBL_WORKORDER[[#This Row],[Location]],7),4) -> PRX3 | M69: 41370 | N69: PREVENTIF A 4 MOIS VEP13 REF.M3 | Q69: ARRET | S69: SYS
B70: 44230.655 | C70: 2 | D70: 30-FERM | E70: 44197.4 | F70: ELEC-002 | G70: 44228.56 | H70: =CONCATENATE(YEAR(Table_SSQL1022_altairprod_TBL_WORKORDER[[#This Row],[p_prevue]]),"_",VLOOKUP(Table_SSQL1022_altairprod_TBL_WORKORDER[[#This Row],[p_prevue]]-DATE(YEAR(Table_SSQL1022_altairprod_TBL_WORKORDER[[#This Row],[p_prevue]]),1,0),[1]Période!$D$6:$J$18,7,TRUE)) -> 2021_P02 | I70: RCAPRGGSCA | J70: =VLOOKUP(Table_SSQL1022_altairprod_TBL_WORKORDER[[#This Row],[FK_CODE_PMSHEET]],[1]!Tableau_Lancer_la_requête_à_partir_de_ALTAIR91024[[FK_CODE_PMSHEET]:[DESCRIPTION]],4,FALSE) -> #N/A | K70: PRGGSCA-0240 | L70: =RIGHT(LEFT(Table_SSQL1022_altairprod_TBL_WORKORDER[[#This Row],[Location]],7),4) -> PRGG | M70: 41372 | N70: PREVENTIF A 1 AN POUR EXTRACTEUR ELECTRIQUE SILO 22 | Q70: ARRET | S70: SYS
B71: 44218.598 | C71: 1 | D71: 30-FERM | E71: 44197.4 | F71: HIP-007 | G71: 44228 | H71: =CONCATENATE(YEAR(Table_SSQL1022_altairprod_TBL_WORKORDER[[#This Row],[p_prevue]]),"_",VLOOKUP(Table_SSQL1022_altairprod_TBL_WORKORDER[[#This Row],[p_prevue]]-DATE(YEAR(Table_SSQL1022_altairprod_TBL_WORKORDER[[#This Row],[p_prevue]]),1,0),[1]Période!$D$6:$J$18,7,TRUE)) -> 2021_P02 | I71: RCAPRX3X185 | J71: =VLOOKUP(Table_SSQL1022_altairprod_TBL_WORKORDER[[#This Row],[FK_CODE_PMSHEET]],[1]!Tableau_Lancer_la_requête_à_partir_de_ALTAIR91024[[FK_CODE_PMSHEET]:[DESCRIPTION]],4,FALSE) -> EXTRUDEUR | K71: PRX3X185-0060 | L71: =RIGHT(LEFT(Table_SSQL1022_altairprod_TBL_WORKORDER[[#This Row],[Location]],7),4) -> PRX3 | M71: 41374 | N71: PREVENTIF A 3 MOIS ACCOUPLEMENT HIP M3 | Q71: ARRET_HUMIDE | S71: SYS
C72: 1 | D72: 20-APPR | E72: 44197.4 | F72: SLG-011 | G72: 44228 | H72: =CONCATENATE(YEAR(Table_SSQL1022_altairprod_TBL_WORKORDER[[#This Row],[p_prevue]]),"_",VLOOKUP(Table_SSQL1022_altairprod_TBL_WORKORDER[[#This Row],[p_prevue]]-DATE(YEAR(Table_SSQL1022_altairprod_TBL_WORKORDER[[#This Row],[p_prevue]]),1,0),[1]Période!$D$6:$J$18,7,TRUE)) -> 2021_P02 | I72: RCAPRX5COA | J72: =VLOOKUP(Table_SSQL1022_altairprod_TBL_WORKORDER[[#This Row],[FK_CODE_PMSHEET]],[1]!Tableau_Lancer_la_requête_à_partir_de_ALTAIR91024[[FK_CODE_PMSHEET]:[DESCRIPTION]],4,FALSE) -> ENROBAGE | K72: PRX5COA-1050 | L72: =RIGHT(LEFT(Table_SSQL1022_altairprod_TBL_WORKORDER[[#This Row],[Location]],7),4) -> PRX5 | M72: 41379 | N72: PREVENTIF A 4 MOIS TTD03 W2 | Q72: ARRET | S72: SYS
B73: 44223.582 | C73: 1 | D73: 30-FERM | E73: 44197.4 | F73: X185-012 | G73: 44228 | H73: =CONCATENATE(YEAR(Table_SSQL1022_altairprod_TBL_WORKORDER[[#This Row],[p_prevue]]),"_",VLOOKUP(Table_SSQL1022_altairprod_TBL_WORKORDER[[#This Row],[p_prevue]]-DATE(YEAR(Table_SSQL1022_altairprod_TBL_WORKORDER[[#This Row],[p_prevue]]),1,0),[1]Période!$D$6:$J$18,7,TRUE)) -> 2021_P02 | I73: RCAPRX2X185 | J73: =VLOOKUP(Table_SSQL1022_altairprod_TBL_WORKORDER[[#This Row],[FK_CODE_PMSHEET]],[1]!Tableau_Lancer_la_requête_à_partir_de_ALTAIR91024[[FK_CODE_PMSHEET]:[DESCRIPTION]],4,FALSE) -> EXTRUDEUR | K73: PRX2X185-0030 | L73: =RIGHT(LEFT(Table_SSQL1022_altairprod_TBL_WORKORDER[[#This Row],[Location]],7),4) -> PRX2 | M73: 41382 | N73: PREVENTIF GRAISSAGE A 2 MOIS EXTRUSION M2 | Q73: ARRET | S73: SYS
B74: 44218.39 | C74: 0.5 | D74: 30-FERM | E74: 44199.4 | F74: AIR-023 | G74: 44228.642 | H74: =CONCATENATE(YEAR(Table_SSQL1022_altairprod_TBL_WORKORDER[[#This Row],[p_prevue]]),"_",VLOOKUP(Table_SSQL1022_altairprod_TBL_WORKORDER[[#This Row],[p_prevue]]-DATE(YEAR(Table_SSQL1022_altairprod_TBL_WORKORDER[[#This Row],[p_prevue]]),1,0),[1]Période!$D$6:$J$18,7,TRUE)) -> 2021_P02 | I74: RCAPRX3DRY | J74: =VLOOKUP(Table_SSQL1022_altairprod_TBL_WORKORDER[[#This Row],[FK_CODE_PMSHEET]],[1]!Tableau_Lancer_la_requête_à_partir_de_ALTAIR91024[[FK_CODE_PMSHEET]:[DESCRIPTION]],4,FALSE) -> SECHEUR | K74: PRX3DRY-0210 | L74: =RIGHT(LEFT(Table_SSQL1022_altairprod_TBL_WORKORDER[[#This Row],[Location]],7),4) -> PRX3 | M74: 41384 | N74: PREVENTIF A 3 ANS ECP06 M3 | Q74: ARRET | S74: SYS
B75: 44207.427 | C75: 2.5 | D75: 30-FERM | E75: 44199.4 | F75: BUE-017 | G75: 44197 | H75: =CONCATENATE(YEAR(Table_SSQL1022_altairprod_TBL_WORKORDER[[#This Row],[p_prevue]]),"_",VLOOKUP(Table_SSQL1022_altairprod_TBL_WORKORDER[[#This Row],[p_prevue]]-DATE(YEAR(Table_SSQL1022_altairprod_TBL_WORKORDER[[#This Row],[p_prevue]]),1,0),[1]Période!$D$6:$J$18,7,TRUE)) -> 2021_P01 | I75: RCAPRX1DRY | J75: =VLOOKUP(Table_SSQL1022_altairprod_TBL_WORKORDER[[#This Row],[FK_CODE_PMSHEET]],[1]!Tableau_Lancer_la_requête_à_partir_de_ALTAIR91024[[FK_CODE_PMSHEET]:[DESCRIPTION]],4,FALSE) -> SECHEUR | K75: PRX1DRY-0050 | L75: =RIGHT(LEFT(Table_SSQL1022_altairprod_TBL_WORKORDER[[#This Row],[Location]],7),4) -> PRX1 | M75: 41386 | N75: PRV A 1 MOIS ELM01 M1 | Q75: ARRET | S75: SYS
C76: 0.5 | D76: 20-APPR | E76: 44199.4 | F76: ELEC-014 | G76: 44228.588 | H76: =CONCATENATE(YEAR(Table_SSQL1022_altairprod_TBL_WORKORDER[[#This Row],[p_prevue]]),"_",VLOOKUP(Table_SSQL1022_altairprod_TBL_WORKORDER[[#This Row],[p_prevue]]-DATE(YEAR(Table_SSQL1022_altairprod_TBL_WORKORDER[[#This Row],[p_prevue]]),1,0),[1]Période!$D$6:$J$18,7,TRUE)) -> 2021_P02 | I76: RCAPRX2AUT | J76: =VLOOKUP(Table_SSQL1022_altairprod_TBL_WORKORDER[[#This Row],[FK_CODE_PMSHEET]],[1]!Tableau_Lancer_la_requête_à_partir_de_ALTAIR91024[[FK_CODE_PMSHEET]:[DESCRIPTION]],4,FALSE) -> M2-AUTOMATISME | K76: PRX2AUT-0020 | L76: =RIGHT(LEFT(Table_SSQL1022_altairprod_TBL_WORKORDER[[#This Row],[Location]],7),4) -> PRX2 | M76: 41389 | N76: PREVENTIF A 18 MOIS SUR AUTOMATE ALLEN BRADLEY M2 | Q76: ARRET | S76: SYS
B77: 44223.616 | C77: 0.5 | D77: 30-FERM | E77: 44199.4 | F77: FAN-006 | G77: 44228.539 | H77: =CONCATENATE(YEAR(Table_SSQL1022_altairprod_TBL_WORKORDER[[#This Row],[p_prevue]]),"_",VLOOKUP(Table_SSQL1022_altairprod_TBL_WORKORDER[[#This Row],[p_prevue]]-DATE(YEAR(Table_SSQL1022_altairprod_TBL_WORKORDER[[#This Row],[p_prevue]]),1,0),[1]Période!$D$6:$J$18,7,TRUE)) -> 2021_P02 | I77: RCAPRX2DRY | J77: =VLOOKUP(Table_SSQL1022_altairprod_TBL_WORKORDER[[#This Row],[FK_CODE_PMSHEET]],[1]!Tableau_Lancer_la_requête_à_partir_de_ALTAIR91024[[FK_CODE_PMSHEET]:[DESCRIPTION]],4,FALSE) -> SECHEUR | K77: PRX2DRY-0250 | L77: =RIGHT(LEFT(Table_SSQL1022_altairprod_TBL_WORKORDER[[#This Row],[Location]],7),4) -> PRX2 | M77: 41391 | N77: PREVENTIF A 4 MOIS VENT. CYCLONE N-M13 ( 5ÈME ) M2 | Q77: ARRET | S77: SYS
B78: 44223.614 | C78: 0.5 | D78: 30-FERM | E78: 44199.4 | F78: FAN-008 | G78: 44228.535 | H78: =CONCATENATE(YEAR(Table_SSQL1022_altairprod_TBL_WORKORDER[[#This Row],[p_prevue]]),"_",VLOOKUP(Table_SSQL1022_altairprod_TBL_WORKORDER[[#This Row],[p_prevue]]-DATE(YEAR(Table_SSQL1022_altairprod_TBL_WORKORDER[[#This Row],[p_prevue]]),1,0),[1]Période!$D$6:$J$18,7,TRUE)) -> 2021_P02 | I78: RCAPRX2DRY | J78: =VLOOKUP(Table_SSQL1022_altairprod_TBL_WORKORDER[[#This Row],[FK_CODE_PMSHEET]],[1]!Tableau_Lancer_la_requête_à_partir_de_ALTAIR91024[[FK_CODE_PMSHEET]:[DESCRIPTION]],4,FALSE) -> SECHEUR | K78: PRX2DRY-0210 | L78: =RIGHT(LEFT(Table_SSQL1022_altairprod_TBL_WORKORDER[[#This Row],[Location]],7),4) -> PRX2 | M78: 41393 | N78: PREVENTIF A 4 MOIS N-M09 SECHEUR 6È M2 | Q78: ARRET | S78: SYS
C79: 0.5 | D79: 20-APPR | E79: 44199.4 | F79: POC-008 | G79: 44228.687 | H79: =CONCATENATE(YEAR(Table_SSQL1022_altairprod_TBL_WORKORDER[[#This Row],[p_prevue]]),"_",VLOOKUP(Table_SSQL1022_altairprod_TBL_WORKORDER[[#This Row],[p_prevue]]-DATE(YEAR(Table_SSQL1022_altairprod_TBL_WORKORDER[[#This Row],[p_prevue]]),1,0),[1]Période!$D$6:$J$18,7,TRUE)) -> 2021_P02 | I79: RCAPRX5COA | J79: =VLOOKUP(Table_SSQL1022_altairprod_TBL_WORKORDER[[#This Row],[FK_CODE_PMSHEET]],[1]!Tableau_Lancer_la_requête_à_partir_de_ALTAIR91024[[FK_CODE_PMSHEET]:[DESCRIPTION]],4,FALSE) -> ENROBAGE | K79: PRX5COA-0020 | L79: =RIGHT(LEFT(Table_SSQL1022_altairprod_TBL_WORKORDER[[#This Row],[Location]],7),4) -> PRX5 | M79: 41396 | N79: PREVENTIF A 6 MOIS POUDRE W2 | Q79: ARRET | S79: SYS
B80: 44223.578 | C80: 0.5 | D80: 30-FERM | E80: 44199.4 | F80: SCR-005 | G80: 44228.556 | H80: =CONCATENATE(YEAR(Table_SSQL1022_altairprod_TBL_WORKORDER[[#This Row],[p_prevue]]),"_",VLOOKUP(Table_SSQL1022_altairprod_TBL_WORKORDER[[#This Row],[p_prevue]]-DATE(YEAR(Table_SSQL1022_altairprod_TBL_WORKORDER[[#This Row],[p_prevue]]),1,0),[1]Période!$D$6:$J$18,7,TRUE)) -> 2021_P02 | I80: RCAPRX2VAL | J80: =VLOOKUP(Table_SSQL1022_altairprod_TBL_WORKORDER[[#This Row],[FK_CODE_PMSHEET]],[1]!Tableau_Lancer_la_requête_à_partir_de_ALTAIR91024[[FK_CODE_PMSHEET]:[DESCRIPTION]],4,FALSE) -> VALORISATION | K80: PRX2VAL-0230 | L80: =RIGHT(LEFT(Table_SSQL1022_altairprod_TBL_WORKORDER[[#This Row],[Location]],7),4) -> PRX2 | M80: 41398 | N80: PREVENTIF A 6 MOIS VIS FINE VTN10 M2 | Q80: ARRET | S80: SYS
C81: 2 | D81: 20-APPR | E81: 44207.4 | F81: VAL-010 | G81: 44226.364 | H81: =CONCATENATE(YEAR(Table_SSQL1022_altairprod_TBL_WORKORDER[[#This Row],[p_prevue]]),"_",VLOOKUP(Table_SSQL1022_altairprod_TBL_WORKORDER[[#This Row],[p_prevue]]-DATE(YEAR(Table_SSQL1022_altairprod_TBL_WORKORDER[[#This Row],[p_prevue]]),1,0),[1]Période!$D$6:$J$18,7,TRUE)) -> 2021_P02 | I81: RCAPRX5VAL | J81: =VLOOKUP(Table_SSQL1022_altairprod_TBL_WORKORDER[[#This Row],[FK_CODE_PMSHEET]],[1]!Tableau_Lancer_la_requête_à_partir_de_ALTAIR91024[[FK_CODE_PMSHEET]:[DESCRIPTION]],4,FALSE) -> VALORISATION | K81: PRX5VAL-FID10 | L81: =RIGHT(LEFT(Table_SSQL1022_altairprod_TBL_WORKORDER[[#This Row],[Location]],7),4) -> PRX5 | M81: 41654 | N81: PREVENTIF A 4 MOIS POUR FILTRE FID10 W2 | Q81: ARRET | S81: SYS
B82: 44224.451 | C82: 1 | D82: 30-FERM | E82: 44209.4 | F82: SUR-015 | G82: 44239.635 | H82: =CONCATENATE(YEAR(Table_SSQL1022_altairprod_TBL_WORKORDER[[#This Row],[p_prevue]]),"_",VLOOKUP(Table_SSQL1022_altairprod_TBL_WORKORDER[[#This Row],[p_prevue]]-DATE(YEAR(Table_SSQL1022_altairprod_TBL_WORKORDER[[#This Row],[p_prevue]]),1,0),[1]Période!$D$6:$J$18,7,TRUE)) -> 2021_P02 | I82: RCAPRGGSCA | J82: =VLOOKUP(Table_SSQL1022_altairprod_TBL_WORKORDER[[#This Row],[FK_CODE_PMSHEET]],[1]!Tableau_Lancer_la_requête_à_partir_de_ALTAIR91024[[FK_CODE_PMSHEET]:[DESCRIPTION]],4,FALSE) -> #N/A | K82: PRGGSCA-3460 | L82: =RIGHT(LEFT(Table_SSQL1022_altairprod_TBL_WORKORDER[[#This Row],[Location]],7),4) -> PRGG | M82: 41732 | N82: PREVENTIF GRAISSAGE A 2 ANS SUB101 BROYAGE | Q82: ARRET | S82: SYS
C83: 1 | D83: 20-APPR | E83: 44210.4 | F83: LUB-SCA-01 | G83: 44226 | H83: =CONCATENATE(YEAR(Table_SSQL1022_altairprod_TBL_WORKORDER[[#This Row],[p_prevue]]),"_",VLOOKUP(Table_SSQL1022_altairprod_TBL_WORKORDER[[#This Row],[p_prevue]]-DATE(YEAR(Table_SSQL1022_altairprod_TBL_WORKORDER[[#This Row],[p_prevue]]),1,0),[1]Période!$D$6:$J$18,7,TRUE)) -> 2021_P02 | I83: RCAPRGGSCA | J83: =VLOOKUP(Table_SSQL1022_altairprod_TBL_WORKORDER[[#This Row],[FK_CODE_PMSHEET]],[1]!Tableau_Lancer_la_requête_à_partir_de_ALTAIR91024[[FK_CODE_PMSHEET]:[DESCRIPTION]],4,FALSE) -> STATION BENNE PESEUSE | K83: PRGGSCA-0070 | L83: =RIGHT(LEFT(Table_SSQL1022_altairprod_TBL_WORKORDER[[#This Row],[Location]],7),4) -> PRGG | M83: 41758 | N83: PREV A 2 MOIS LUBRIFICATION VIS BP8/BP9 SILO BR | Q83: ARRET | S83: SYS
C84: 5 | D84: 20-APPR | E84: 44216.4 | F84: FIL-ASR39 | G84: 44247.358 | H84: =CONCATENATE(YEAR(Table_SSQL1022_altairprod_TBL_WORKORDER[[#This Row],[p_prevue]]),"_",VLOOKUP(Table_SSQL1022_altairprod_TBL_WORKORDER[[#This Row],[p_prevue]]-DATE(YEAR(Table_SSQL1022_altairprod_TBL_WORKORDER[[#This Row],[p_prevue]]),1,0),[1]Période!$D$6:$J$18,7,TRUE)) -> 2021_P02 | I84: RCAPRRECPOW | J84: =VLOOKUP(Table_SSQL1022_altairprod_TBL_WORKORDER[[#This Row],[FK_CODE_PMSHEET]],[1]!Tableau_Lancer_la_requête_à_partir_de_ALTAIR91024[[FK_CODE_PMSHEET]:[DESCRIPTION]],4,FALSE) -> RECEPTION-PULVERULENT | K84: PRRECPOW-0180 | L84: =RIGHT(LEFT(Table_SSQL1022_altairprod_TBL_WORKORDER[[#This Row],[Location]],7),4) -> PRRE | M84: 41961 | N84: PREV A 1 AN FILTRE ASR39 RECEPTION BP07 | Q84: WEEK | S84: SYS
C85: 5 | D85: 20-APPR | E85: 44216.4 | F85: FIL-ASR41 | G85: 44247.36 | H85: =CONCATENATE(YEAR(Table_SSQL1022_altairprod_TBL_WORKORDER[[#This Row],[p_prevue]]),"_",VLOOKUP(Table_SSQL1022_altairprod_TBL_WORKORDER[[#This Row],[p_prevue]]-DATE(YEAR(Table_SSQL1022_altairprod_TBL_WORKORDER[[#This Row],[p_prevue]]),1,0),[1]Période!$D$6:$J$18,7,TRUE)) -> 2021_P02 | I85: RCAPRRECPOW | J85: =VLOOKUP(Table_SSQL1022_altairprod_TBL_WORKORDER[[#This Row],[FK_CODE_PMSHEET]],[1]!Tableau_Lancer_la_requête_à_partir_de_ALTAIR91024[[FK_CODE_PMSHEET]:[DESCRIPTION]],4,FALSE) -> RECEPTION-PULVERULENT | K85: PRRECPOW-0200 | L85: =RIGHT(LEFT(Table_SSQL1022_altairprod_TBL_WORKORDER[[#This Row],[Location]],7),4) -> PRRE | M85: 41963 | N85: PREV A 1AN FILTRE ASR40 RECPTION BP07 | Q85: WEEK | S85: SYS
C86: 5 | D86: 20-APPR | E86: 44217.4 | F86: FIL-ASR42 | G86: 44247.401 | H86: =CONCATENATE(YEAR(Table_SSQL1022_altairprod_TBL_WORKORDER[[#This Row],[p_prevue]]),"_",VLOOKUP(Table_SSQL1022_altairprod_TBL_WORKORDER[[#This Row],[p_prevue]]-DATE(YEAR(Table_SSQL1022_altairprod_TBL_WORKORDER[[#This Row],[p_prevue]]),1,0),[1]Période!$D$6:$J$18,7,TRUE)) -> 2021_P02 | I86: RCAPRRECPOW | J86: =VLOOKUP(Table_SSQL1022_altairprod_TBL_WORKORDER[[#This Row],[FK_CODE_PMSHEET]],[1]!Tableau_Lancer_la_requête_à_partir_de_ALTAIR91024[[FK_CODE_PMSHEET]:[DESCRIPTION]],4,FALSE) -> RECEPTION-PULVERULENT | K86: PRRECPOW-0210 | L86: =RIGHT(LEFT(Table_SSQL1022_altairprod_TBL_WORKORDER[[#This Row],[Location]],7),4) -> PRRE | M86: 41992 | N86: PREV A 1 AN FILTRE ASR42 RECEPTION BP07 | Q86: WEEK | S86: SYS
C87: 0.5 | D87: 20-APPR | E87: 44204.4 | F87: ELEC-011 | G87: 44234.583 | H87: =CONCATENATE(YEAR(Table_SSQL1022_altairprod_TBL_WORKORDER[[#This Row],[p_prevue]]),"_",VLOOKUP(Table_SSQL1022_altairprod_TBL_WORKORDER[[#This Row],[p_prevue]]-DATE(YEAR(Table_SSQL1022_altairprod_TBL_WORKORDER[[#This Row],[p_prevue]]),1,0),[1]Période!$D$6:$J$18,7,TRUE)) -> 2021_P02 | I87: RCAPRX1AUT | J87: =VLOOKUP(Table_SSQL1022_altairprod_TBL_WORKORDER[[#This Row],[FK_CODE_PMSHEET]],[1]!Tableau_Lancer_la_requête_à_partir_de_ALTAIR91024[[FK_CODE_PMSHEET]:[DESCRIPTION]],4,FALSE) -> M1-AUTOMATISME | K87: PRX1AUT-0020 | L87: =RIGHT(LEFT(Table_SSQL1022_altairprod_TBL_WORKORDER[[#This Row],[Location]],7),4) -> PRX1 | M87: 41569 | N87: PREVENTIF A 18 MOIS AUTOMATE PREMIUM | Q87: ARRET | S87: SYS
C88: 1 | D88: 20-APPR | E88: 44204.4 | F88: IUB-101 | G88: 44234.654 | H88: =CONCATENATE(YEAR(Table_SSQL1022_altairprod_TBL_WORKORDER[[#This Row],[p_prevue]]),"_",VLOOKUP(Table_SSQL1022_altairprod_TBL_WORKORDER[[#This Row],[p_prevue]]-DATE(YEAR(Table_SSQL1022_altairprod_TBL_WORKORDER[[#This Row],[p_prevue]]),1,0),[1]Période!$D$6:$J$18,7,TRUE)) -> 2021_P02 | I88: RCAPRCOM | J88: =VLOOKUP(Table_SSQL1022_altairprod_TBL_WORKORDER[[#This Row],[FK_CODE_PMSHEET]],[1]!Tableau_Lancer_la_requête_à_partir_de_ALTAIR91024[[FK_CODE_PMSHEET]:[DESCRIPTION]],4,FALSE) -> #N/A | K88: PRCOM-0040 | L88: =RIGHT(LEFT(Table_SSQL1022_altairprod_TBL_WORKORDER[[#This Row],[Location]],7),4) -> PRCO | M88: 41571 | N88: PREVENTIF GRAISSAGE A 1 AN POUR COMMUN-REPASSE | Q88: ARRET | S88: SYS
C89: 1 | D89: 20-APPR | E89: 44204.4 | F89: SCR-026 | G89: 44234.567 | H89: =CONCATENATE(YEAR(Table_SSQL1022_altairprod_TBL_WORKORDER[[#This Row],[p_prevue]]),"_",VLOOKUP(Table_SSQL1022_altairprod_TBL_WORKORDER[[#This Row],[p_prevue]]-DATE(YEAR(Table_SSQL1022_altairprod_TBL_WORKORDER[[#This Row],[p_prevue]]),1,0),[1]Période!$D$6:$J$18,7,TRUE)) -> 2021_P02 | I89: RCAPRGGSCA | J89: =VLOOKUP(Table_SSQL1022_altairprod_TBL_WORKORDER[[#This Row],[FK_CODE_PMSHEET]],[1]!Tableau_Lancer_la_requête_à_partir_de_ALTAIR91024[[FK_CODE_PMSHEET]:[DESCRIPTION]],4,FALSE) -> #N/A | K89: PRGGSCA-0780 | L89: =RIGHT(LEFT(Table_SSQL1022_altairprod_TBL_WORKORDER[[#This Row],[Location]],7),4) -> PRGG | M89: 41574 | N89: PREVENTIF A 6 MOIS POUR VD19 VIS DOS.BROYAGE | Q89: ARRET | S89: SYS
C90: 1 | D90: 20-APPR | E90: 44206.4 | F90: ELEC-003 | G90: 44236.449 | H90: =CONCATENATE(YEAR(Table_SSQL1022_altairprod_TBL_WORKORDER[[#This Row],[p_prevue]]),"_",VLOOKUP(Table_SSQL1022_altairprod_TBL_WORKORDER[[#This Row],[p_prevue]]-DATE(YEAR(Table_SSQL1022_altairprod_TBL_WORKORDER[[#This Row],[p_prevue]]),1,0),[1]Période!$D$6:$J$18,7,TRUE)) -> 2021_P02 | I90: RCAPRRECAUT | J90: =VLOOKUP(Table_SSQL1022_altairprod_TBL_WORKORDER[[#This Row],[FK_CODE_PMSHEET]],[1]!Tableau_Lancer_la_requête_à_partir_de_ALTAIR91024[[FK_CODE_PMSHEET]:[DESCRIPTION]],4,FALSE) -> #N/A | K90: PRRECAUT-0010 | L90: =RIGHT(LEFT(Table_SSQL1022_altairprod_TBL_WORKORDER[[#This Row],[Location]],7),4) -> PRRE | M90: 41598 | N90: PREVENTIF A18 MOIS POUR AUTOMATE PREMIUM | Q90: ARRET | S90: SYS
C91: 1 | D91: 20-APPR | E91: 44206.4 | F91: LUB-X165-04 | G91: 44221 | H91: =CONCATENATE(YEAR(Table_SSQL1022_altairprod_TBL_WORKORDER[[#This Row],[p_prevue]]),"_",VLOOKUP(Table_SSQL1022_altairprod_TBL_WORKORDER[[#This Row],[p_prevue]]-DATE(YEAR(Table_SSQL1022_altairprod_TBL_WORKORDER[[#This Row],[p_prevue]]),1,0),[1]Période!$D$6:$J$18,7,TRUE)) -> 2021_P01 | I91: RCAPRX4X165 | J91: =VLOOKUP(Table_SSQL1022_altairprod_TBL_WORKORDER[[#This Row],[FK_CODE_PMSHEET]],[1]!Tableau_Lancer_la_requête_à_partir_de_ALTAIR91024[[FK_CODE_PMSHEET]:[DESCRIPTION]],4,FALSE) -> #N/A | L91: =RIGHT(LEFT(Table_SSQL1022_altairprod_TBL_WORKORDER[[#This Row],[Location]],7),4) -> PRX4 | M91: 41601 | N91: PREV A 3 MOIS LUBRIFICATION EXTRUDEUR M4 | Q91: WEEK | S91: SYS
C92: 1 | D92: 20-APPR | E92: 44206.4 | F92: LUB-X185-03 | G92: 44221 | H92: =CONCATENATE(YEAR(Table_SSQL1022_altairprod_TBL_WORKORDER[[#This Row],[p_prevue]]),"_",VLOOKUP(Table_SSQL1022_altairprod_TBL_WORKORDER[[#This Row],[p_prevue]]-DATE(YEAR(Table_SSQL1022_altairprod_TBL_WORKORDER[[#This Row],[p_prevue]]),1,0),[1]Période!$D$6:$J$18,7,TRUE)) -> 2021_P01 | I92: RCAPRX3X185 | J92: =VLOOKUP(Table_SSQL1022_altairprod_TBL_WORKORDER[[#This Row],[FK_CODE_PMSHEET]],[1]!Tableau_Lancer_la_requête_à_partir_de_ALTAIR91024[[FK_CODE_PMSHEET]:[DESCRIPTION]],4,FALSE) -> #N/A | L92: =RIGHT(LEFT(Table_SSQL1022_altairprod_TBL_WORKORDER[[#This Row],[Location]],7),4) -> PRX3 | M92: 41603 | N92: PREV A 3 MOIS LUBRIFICATION EXTRUDEUR M3 | Q92: WEEK | S92: SYS
C93: 2 | D93: 20-APPR | E93: 44206.4 | F93: MIX-006 | G93: 44236.595 | H93: =CONCATENATE(YEAR(Table_SSQL1022_altairprod_TBL_WORKORDER[[#This Row],[p_prevue]]),"_",VLOOKUP(Table_SSQL1022_altairprod_TBL_WORKORDER[[#This Row],[p_prevue]]-DATE(YEAR(Table_SSQL1022_altairprod_TBL_WORKORDER[[#This Row],[p_prevue]]),1,0),[1]Période!$D$6:$J$18,7,TRUE)) -> 2021_P02 | I93: RCAPRGGMIX | J93: =VLOOKUP(Table_SSQL1022_altairprod_TBL_WORKORDER[[#This Row],[FK_CODE_PMSHEET]],[1]!Tableau_Lancer_la_requête_à_partir_de_ALTAIR91024[[FK_CODE_PMSHEET]:[DESCRIPTION]],4,FALSE) -> #N/A | K93: PRGGMIX-0010 | L93: =RIGHT(LEFT(Table_SSQL1022_altairprod_TBL_WORKORDER[[#This Row],[Location]],7),4) -> PRGG | M93: 41605 | N93: PREVENTIF A 4 MOIS POUR MEB02 1ER ETAGE BROYAGE | Q93: ARRET | S93: SYS
C94: 3 | D94: 20-APPR | E94: 44207.4 | F94: ELEC-001 | G94: 44237.407 | H94: =CONCATENATE(YEAR(Table_SSQL1022_altairprod_TBL_WORKORDER[[#This Row],[p_prevue]]),"_",VLOOKUP(Table_SSQL1022_altairprod_TBL_WORKORDER[[#This Row],[p_prevue]]-DATE(YEAR(Table_SSQL1022_altairprod_TBL_WORKORDER[[#This Row],[p_prevue]]),1,0),[1]Période!$D$6:$J$18,7,TRUE)) -> 2021_P02 | I94: RCAPRRECAUT | J94: =VLOOKUP(Table_SSQL1022_altairprod_TBL_WORKORDER[[#This Row],[FK_CODE_PMSHEET]],[1]!Tableau_Lancer_la_requête_à_partir_de_ALTAIR91024[[FK_CODE_PMSHEET]:[DESCRIPTION]],4,FALSE) -> RECEPTION-ELEC/AUTO | K94: PRRECAUT-0040 | L94: =RIGHT(LEFT(Table_SSQL1022_altairprod_TBL_WORKORDER[[#This Row],[Location]],7),4) -> PRRE | M94: 41651 | N94: PREVENTIF A 6 MOIS SILOS PULVERULANTS | Q94: WEEK | S94: SYS
B95: 44211.613 | C95: 0.25 | D95: 30-FERM | E95: 44211.612 | F95: STK-002 | G95: 44199 | H95: =CONCATENATE(YEAR(Table_SSQL1022_altairprod_TBL_WORKORDER[[#This Row],[p_prevue]]),"_",VLOOKUP(Table_SSQL1022_altairprod_TBL_WORKORDER[[#This Row],[p_prevue]]-DATE(YEAR(Table_SSQL1022_altairprod_TBL_WORKORDER[[#This Row],[p_prevue]]),1,0),[1]Période!$D$6:$J$18,7,TRUE)) -> 2021_P01 | I95: RCAPR | J95: =VLOOKUP(Table_SSQL1022_altairprod_TBL_WORKORDER[[#This Row],[FK_CODE_PMSHEET]],[1]!Tableau_Lancer_la_requête_à_partir_de_ALTAIR91024[[FK_CODE_PMSHEET]:[DESCRIPTION]],4,FALSE) -> #N/A | L95: =RIGHT(LEFT(Table_SSQL1022_altairprod_TBL_WORKORDER[[#This Row],[Location]],7),4) -> CAPR | M95: 41794 | N95: SUIVIS REAPPROVISIONNEMENT ARMOIR AM BR | Q95: WEEK | S95: SYS
B96: 44211.635 | C96: 1 | D96: 30-FERM | E96: 44211.631 | F96: PREV-REC | G96: 44211.631 | H96: =CONCATENATE(YEAR(Table_SSQL1022_altairprod_TBL_WORKORDER[[#This Row],[p_prevue]]),"_",VLOOKUP(Table_SSQL1022_altairprod_TBL_WORKORDER[[#This Row],[p_prevue]]-DATE(YEAR(Table_SSQL1022_altairprod_TBL_WORKORDER[[#This Row],[p_prevue]]),1,0),[1]Période!$D$6:$J$18,7,TRUE)) -> 2021_P01 | I96: RCAPRRECSTK | J96: =VLOOKUP(Table_SSQL1022_altairprod_TBL_WORKORDER[[#This Row],[FK_CODE_PMSHEET]],[1]!Tableau_Lancer_la_requête_à_partir_de_ALTAIR91024[[FK_CODE_PMSHEET]:[DESCRIPTION]],4,FALSE) -> #N/A | K96: PRRECSTK-0260 | L96: =RIGHT(LEFT(Table_SSQL1022_altairprod_TBL_WORKORDER[[#This Row],[Location]],7),4) -> PRRE | M96: 41801 | N96: PREV Travaux Préventifs RECEPTION Bouche dépotage S26 | Q96: CHGT | S96: PLAN
C97: 1 | D97: 20-APPR | E97: 44213.4 | F97: LUB-CLR-01 | G97: 44228 | H97: =CONCATENATE(YEAR(Table_SSQL1022_altairprod_TBL_WORKORDER[[#This Row],[p_prevue]]),"_",VLOOKUP(Table_SSQL1022_altairprod_TBL_WORKORDER[[#This Row],[p_prevue]]-DATE(YEAR(Table_SSQL1022_altairprod_TBL_WORKORDER[[#This Row],[p_prevue]]),1,0),[1]Période!$D$6:$J$18,7,TRUE)) -> 2021_P02 | I97: RCAPRX1CLR | J97: =VLOOKUP(Table_SSQL1022_altairprod_TBL_WORKORDER[[#This Row],[FK_CODE_PMSHEET]],[1]!Tableau_Lancer_la_requête_à_partir_de_ALTAIR91024[[FK_CODE_PMSHEET]:[DESCRIPTION]],4,FALSE) -> #N/A | L97: =RIGHT(LEFT(Table_SSQL1022_altairprod_TBL_WORKORDER[[#This Row],[Location]],7),4) -> PRX1 | M97: 41851 | N97: PREV A 1 MOIS LUBRIFICATION REFROIDISSEUR M1 | Q97: WEEK | S97: SYS
C98: 1 | D98: 20-APPR | E98: 44213.4 | F98: LUB-CLR-03 | G98: 44228 | H98: =CONCATENATE(YEAR(Table_SSQL1022_altairprod_TBL_WORKORDER[[#This Row],[p_prevue]]),"_",VLOOKUP(Table_SSQL1022_altairprod_TBL_WORKORDER[[#This Row],[p_prevue]]-DATE(YEAR(Table_SSQL1022_altairprod_TBL_WORKORDER[[#This Row],[p_prevue]]),1,0),[1]Période!$D$6:$J$18,7,TRUE)) -> 2021_P02 | I98: RCAPRX3CLR | J98: =VLOOKUP(Table_SSQL1022_altairprod_TBL_WORKORDER[[#This Row],[FK_CODE_PMSHEET]],[1]!Tableau_Lancer_la_requête_à_partir_de_ALTAIR91024[[FK_CODE_PMSHEET]:[DESCRIPTION]],4,FALSE) -> #N/A | L98: =RIGHT(LEFT(Table_SSQL1022_altairprod_TBL_WORKORDER[[#This Row],[Location]],7),4) -> PRX3 | M98: 41853 | N98: PREV A 1 MOIS LUBRIFICATION REFROIDISSEUR M3 | Q98: WEEK | S98: SYS
C99: 1 | D99: 20-APPR | E99: 44213.4 | F99: LUB-CLR-05 | G99: 44228 | H99: =CONCATENATE(YEAR(Table_SSQL1022_altairprod_TBL_WORKORDER[[#This Row],[p_prevue]]),"_",VLOOKUP(Table_SSQL1022_altairprod_TBL_WORKORDER[[#This Row],[p_prevue]]-DATE(YEAR(Table_SSQL1022_altairprod_TBL_WORKORDER[[#This Row],[p_prevue]]),1,0),[1]Période!$D$6:$J$18,7,TRUE)) -> 2021_P02 | I99: RCAPRX5CLR | J99: =VLOOKUP(Table_SSQL1022_altairprod_TBL_WORKORDER[[#This Row],[FK_CODE_PMSHEET]],[1]!Tableau_Lancer_la_requête_à_partir_de_ALTAIR91024[[FK_CODE_PMSHEET]:[DESCRIPTION]],4,FALSE) -> #N/A | L99: =RIGHT(LEFT(Table_SSQL1022_altairprod_TBL_WORKORDER[[#This Row],[Location]],7),4) -> PRX5 | M99: 41855 | N99: PREV A 1 MOIS LUBRIFICATION REFROIDISSEUR W2 | Q99: WEEK | S99: SYS
B100: 44231.653 | C100: 1.5 | D100: 30-FERM | E100: 44213.4 | F100: TRA-02 | G100: 44243 | H100: =CONCATENATE(YEAR(Table_SSQL1022_altairprod_TBL_WORKORDER[[#This Row],[p_prevue]]),"_",VLOOKUP(Table_SSQL1022_altairprod_TBL_WORKORDER[[#This Row],[p_prevue]]-DATE(YEAR(Table_SSQL1022_altairprod_TBL_WORKORDER[[#This Row],[p_prevue]]),1,0),[1]Période!$D$6:$J$18,7,TRUE)) -> 2021_P02 | I100: RCAPRRECTRA | J100: =VLOOKUP(Table_SSQL1022_altairprod_TBL_WORKORDER[[#This Row],[FK_CODE_PMSHEET]],[1]!Tableau_Lancer_la_requête_à_partir_de_ALTAIR91024[[FK_CODE_PMSHEET]:[DESCRIPTION]],4,FALSE) -> #N/A | K100: PRRECTRA-0020 | L100: =RIGHT(LEFT(Table_SSQL1022_altairprod_TBL_WORKORDER[[#This Row],[Location]],7),4) -> PRRE | M100: 41862 | N100: PREVENTIF A 2 MOIS POUR TCR02 RECEPTION | Q100: ARRET | S100: SYS
...

Sheet Feuil1
