Workbook
Name Périod.: #REF!

Sheet OT_Générés
B1: REALENDDATE | C1: ESTDURATION | D1: STATUS | E1: CREATIONDATE | F1: FK_CODE_PMSHEET | G1: p_prevue | H1: Prévue_en | I1: Location | J1: Desc. Location | K1: Equipement | L1: Ligne | M1: OT | N1: Description_OT | O1: Week | P1: Planifié | Q1: typeot | R1: law | S1: Type_Maint
B2: 44201.677 | C2: 2.5 | D2: 30-FERM | E2: 44168.958 | F2: BUE-017 | G2: 44198 | H2: =CONCATENATE(YEAR(Table_SSQL1022_altairprod_TBL_WORKORDER[[#This Row],[p_prevue]]),"_",VLOOKUP(Table_SSQL1022_altairprod_TBL_WORKORDER[[#This Row],[p_prevue]]-DATE(YEAR(Table_SSQL1022_altairprod_TBL_WORKORDER[[#This Row],[p_prevue]]),1,0),[1]Période!$D$6:$J$18,7,TRUE)) -> 2021_P01 | I2: RCAPRX1DRY | J2: =VLOOKUP(Table_SSQL1022_altairprod_TBL_WORKORDER[[#This Row],[FK_CODE_PMSHEET]],[1]!Tableau_Lancer_la_requête_à_partir_de_ALTAIR91024[[FK_CODE_PMSHEET]:[DESCRIPTION]],4,FALSE) -> SECHEUR | K2: PRX1DRY-0050 | L2: =RIGHT(LEFT(Table_SSQL1022_altairprod_TBL_WORKORDER[[#This Row],[Location]],7),4) -> PRX1 | M2: 40607 | N2: PRV A 1 MOIS ELM01 M1 | Q2: ARRET | S2: SYS
B3: 44204.536 | C3: 3 | D3: 30-FERM | E3: 44168.958 | F3: DRY-015 | G3: 44197.589 | H3: =CONCATENATE(YEAR(Table_SSQL1022_altairprod_TBL_WORKORDER[[#This Row],[p_prevue]]),"_",VLOOKUP(Table_SSQL1022_altairprod_TBL_WORKORDER[[#This Row],[p_prevue]]-DATE(YEAR(Table_SSQL1022_altairprod_TBL_WORKORDER[[#This Row],[p_prevue]]),1,0),[1]Période!$D$6:$J$18,7,TRUE)) -> 2021_P01 | I3: RCAPRX3DRY | J3: =VLOOKUP(Table_SSQL1022_altairprod_TBL_WORKORDER[[#This Row],[FK_CODE_PMSHEET]],[1]!Tableau_Lancer_la_requête_à_partir_de_ALTAIR91024[[FK_CODE_PMSHEET]:[DESCRIPTION]],4,FALSE) -> SECHEUR | K3: PRX3DRY-0220 | L3: =RIGHT(LEFT(Table_SSQL1022_altairprod_TBL_WORKORDER[[#This Row],[Location]],7),4) -> PRX3 | M3: 40610 | N3: PREVENTIF A 6 MOIS TAPIS ALIMENTATION SECHEUR RPP01 M3 | Q3: ARRET | S3: SYS
B4: 44218.531 | C4: 0.5 | D4: 30-FERM | E4: 44168.958 | F4: FIL-005 | G4: 44197.447 | H4: =CONCATENATE(YEAR(Table_SSQL1022_altairprod_TBL_WORKORDER[[#This Row],[p_prevue]]),"_",VLOOKUP(Table_SSQL1022_altairprod_TBL_WORKORDER[[#This Row],[p_prevue]]-DATE(YEAR(Table_SSQL1022_altairprod_TBL_WORKORDER[[#This Row],[p_prevue]]),1,0),[1]Période!$D$6:$J$18,7,TRUE)) -> 2021_P01 | I4: RCAPRGGTFL | J4: =VLOOKUP(Table_SSQL1022_altairprod_TBL_WORKORDER[[#This Row],[FK_CODE_PMSHEET]],[1]!Tableau_Lancer_la_requête_à_partir_de_ALTAIR91024[[FK_CODE_PMSHEET]:[DESCRIPTION]],4,FALSE) -> TRANSFERT MATIÈRE BROYÉE | K4: PRGGTFL-0040 | L4: =RIGHT(LEFT(Table_SSQL1022_altairprod_TBL_WORKORDER[[#This Row],[Location]],7),4) -> PRGG | M4: 40612 | N4: PREVENTIF A 6 MOIS POUR FIB17 (6É) BROYAGE | Q4: ARRET | S4: SYS
B5: 44224.45 | C5: 1.5 | D5: 30-FERM | E5: 44168.958 | F5: SUR-011 | G5: 44197 | H5: =CONCATENATE(YEAR(Table_SSQL1022_altairprod_TBL_WORKORDER[[#This Row],[p_prevue]]),"_",VLOOKUP(Table_SSQL1022_altairprod_TBL_WORKORDER[[#This Row],[p_prevue]]-DATE(YEAR(Table_SSQL1022_altairprod_TBL_WORKORDER[[#This Row],[p_prevue]]),1,0),[1]Période!$D$6:$J$18,7,TRUE)) -> 2021_P01 | I5: RCAPRGGTFL | J5: =VLOOKUP(Table_SSQL1022_altairprod_TBL_WORKORDER[[#This Row],[FK_CODE_PMSHEET]],[1]!Tableau_Lancer_la_requête_à_partir_de_ALTAIR91024[[FK_CODE_PMSHEET]:[DESCRIPTION]],4,FALSE) -> #N/A | K5: PRGGTFL-0180 | L5: =RIGHT(LEFT(Table_SSQL1022_altairprod_TBL_WORKORDER[[#This Row],[Location]],7),4) -> PRGG | M5: 40638 | N5: PREVENTIF A 3 MOIS POUR SUB07 (RDC) BROYAGE | Q5: ARRET | S5: SYS
B6: 44218.404 | C6: 4 | D6: 30-FERM | E6: 44169.958 | F6: FIL-010 | G6: 44197 | H6: =CONCATENATE(YEAR(Table_SSQL1022_altairprod_TBL_WORKORDER[[#This Row],[p_prevue]]),"_",VLOOKUP(Table_SSQL1022_altairprod_TBL_WORKORDER[[#This Row],[p_prevue]]-DATE(YEAR(Table_SSQL1022_altairprod_TBL_WORKORDER[[#This Row],[p_prevue]]),1,0),[1]Période!$D$6:$J$18,7,TRUE)) -> 2021_P01 | I6: RCAPRGGGDR | J6: =VLOOKUP(Table_SSQL1022_altairprod_TBL_WORKORDER[[#This Row],[FK_CODE_PMSHEET]],[1]!Tableau_Lancer_la_requête_à_partir_de_ALTAIR91024[[FK_CODE_PMSHEET]:[DESCRIPTION]],4,FALSE) -> BROYAGE | K6: PRGGGDR-0260 | L6: =RIGHT(LEFT(Table_SSQL1022_altairprod_TBL_WORKORDER[[#This Row],[Location]],7),4) -> PRGG | M6: 40670 | N6: PREVENTIF A 3 MOIS POUR FIB12(4E) MVRT 39/24 | Q6: WEEK | S6: SYS
B7: 44218.529 | C7: 1 | D7: 30-FERM | E7: 44169.958 | F7: SUR-SUB06-02 | G7: 44197.55 | H7: =CONCATENATE(YEAR(Table_SSQL1022_altairprod_TBL_WORKORDER[[#This Row],[p_prevue]]),"_",VLOOKUP(Table_SSQL1022_altairprod_TBL_WORKORDER[[#This Row],[p_prevue]]-DATE(YEAR(Table_SSQL1022_altairprod_TBL_WORKORDER[[#This Row],[p_prevue]]),1,0),[1]Période!$D$6:$J$18,7,TRUE)) -> 2021_P01 | I7: RCAPRGGTFL | J7: =VLOOKUP(Table_SSQL1022_altairprod_TBL_WORKORDER[[#This Row],[FK_CODE_PMSHEET]],[1]!Tableau_Lancer_la_requête_à_partir_de_ALTAIR91024[[FK_CODE_PMSHEET]:[DESCRIPTION]],4,FALSE) -> TRANSFERT MATIÈRE BROYÉE | K7: PRGGTFL-0110 | L7: =RIGHT(LEFT(Table_SSQL1022_altairprod_TBL_WORKORDER[[#This Row],[Location]],7),4) -> PRGG | M7: 40673 | N7: PREV A 12 MOIS SUB06 BROYAGE | Q7: ARRET | S7: SYS
B8: 44215.462 | C8: 1 | D8: 30-FERM | E8: 44175.424 | F8: GRI-009 | G8: 44205.594 | H8: =CONCATENATE(YEAR(Table_SSQL1022_altairprod_TBL_WORKORDER[[#This Row],[p_prevue]]),"_",VLOOKUP(Table_SSQL1022_altairprod_TBL_WORKORDER[[#This Row],[p_prevue]]-DATE(YEAR(Table_SSQL1022_altairprod_TBL_WORKORDER[[#This Row],[p_prevue]]),1,0),[1]Période!$D$6:$J$18,7,TRUE)) -> 2021_P01 | I8: RCAPRGGGDR | J8: =VLOOKUP(Table_SSQL1022_altairprod_TBL_WORKORDER[[#This Row],[FK_CODE_PMSHEET]],[1]!Tableau_Lancer_la_requête_à_partir_de_ALTAIR91024[[FK_CODE_PMSHEET]:[DESCRIPTION]],4,FALSE) -> #N/A | K8: PRGGGDR-0010 | L8: =RIGHT(LEFT(Table_SSQL1022_altairprod_TBL_WORKORDER[[#This Row],[Location]],7),4) -> PRGG | M8: 40846 | N8: PREVENTIF A 3 MOIS POUR BROYEURS | Q8: ARRET | S8: SYS
B9: 44204.51 | C9: 1.5 | D9: 30-FERM | E9: 44175.424 | F9: SUR-016 | G9: 44205.601 | H9: =CONCATENATE(YEAR(Table_SSQL1022_altairprod_TBL_WORKORDER[[#This Row],[p_prevue]]),"_",VLOOKUP(Table_SSQL1022_altairprod_TBL_WORKORDER[[#This Row],[p_prevue]]-DATE(YEAR(Table_SSQL1022_altairprod_TBL_WORKORDER[[#This Row],[p_prevue]]),1,0),[1]Période!$D$6:$J$18,7,TRUE)) -> 2021_P01 | I9: RCAPRGGSCA | J9: =VLOOKUP(Table_SSQL1022_altairprod_TBL_WORKORDER[[#This Row],[FK_CODE_PMSHEET]],[1]!Tableau_Lancer_la_requête_à_partir_de_ALTAIR91024[[FK_CODE_PMSHEET]:[DESCRIPTION]],4,FALSE) -> #N/A | K9: PRGGSCA-3460 | L9: =RIGHT(LEFT(Table_SSQL1022_altairprod_TBL_WORKORDER[[#This Row],[Location]],7),4) -> PRGG | M9: 40849 | N9: PREVENTIF A 3 MOIS POUR SUB101 BROYAGE | Q9: ARRET | S9: SYS
B10: 44204.511 | C10: 1.5 | D10: 30-FERM | E10: 44178.424 | F10: SUR-003 | G10: 44209 | H10: =CONCATENATE(YEAR(Table_SSQL1022_altairprod_TBL_WORKORDER[[#This Row],[p_prevue]]),"_",VLOOKUP(Table_SSQL1022_altairprod_TBL_WORKORDER[[#This Row],[p_prevue]]-DATE(YEAR(Table_SSQL1022_altairprod_TBL_WORKORDER[[#This Row],[p_prevue]]),1,0),[1]Période!$D$6:$J$18,7,TRUE)) -> 2021_P01 | I10: RCAPRGGFFL | J10: =VLOOKUP(Table_SSQL1022_altairprod_TBL_WORKORDER[[#This Row],[FK_CODE_PMSHEET]],[1]!Tableau_Lancer_la_requête_à_partir_de_ALTAIR91024[[FK_CODE_PMSHEET]:[DESCRIPTION]],4,FALSE) -> #N/A | K10: PRGGFFL-0010 | L10: =RIGHT(LEFT(Table_SSQL1022_altairprod_TBL_WORKORDER[[#This Row],[Location]],7),4) -> PRGG | M10: 40946 | N10: PREVENTIF A 1 MOIS SUB26 (RDC) BROYAGE | Q10: ARRET | S10: SYS
B11: 44215.463 | C11: 0.5 | D11: 30-FERM | E11: 44181.424 | F11: LUB-DR-BLB02 | G11: 44197 | H11: =CONCATENATE(YEAR(Table_SSQL1022_altairprod_TBL_WORKORDER[[#This Row],[p_prevue]]),"_",VLOOKUP(Table_SSQL1022_altairprod_TBL_WORKORDER[[#This Row],[p_prevue]]-DATE(YEAR(Table_SSQL1022_altairprod_TBL_WORKORDER[[#This Row],[p_prevue]]),1,0),[1]Période!$D$6:$J$18,7,TRUE)) -> 2021_P01 | I11: RCAPRGGGDR | J11: =VLOOKUP(Table_SSQL1022_altairprod_TBL_WORKORDER[[#This Row],[FK_CODE_PMSHEET]],[1]!Tableau_Lancer_la_requête_à_partir_de_ALTAIR91024[[FK_CODE_PMSHEET]:[DESCRIPTION]],4,FALSE) -> BROYAGE | K11: PRGGGDR-0210 | L11: =RIGHT(LEFT(Table_SSQL1022_altairprod_TBL_WORKORDER[[#This Row],[Location]],7),4) -> PRGG | M11: 41029 | N11: PREV A 3 MOIS LUBRIFICATION BLUTTERIE | Q11: WEEK | S11: SYS
B12: 44214.453 | C12: 0.5 | D12: 30-FERM | E12: 44181.424 | F12: LUB-DR-BR01 | G12: 44197 | H12: =CONCATENATE(YEAR(Table_SSQL1022_altairprod_TBL_WORKORDER[[#This Row],[p_prevue]]),"_",VLOOKUP(Table_SSQL1022_altairprod_TBL_WORKORDER[[#This Row],[p_prevue]]-DATE(YEAR(Table_SSQL1022_altairprod_TBL_WORKORDER[[#This Row],[p_prevue]]),1,0),[1]Période!$D$6:$J$18,7,TRUE)) -> 2021_P01 | I12: RCAPRGGGDR | J12: =VLOOKUP(Table_SSQL1022_altairprod_TBL_WORKORDER[[#This Row],[FK_CODE_PMSHEET]],[1]!Tableau_Lancer_la_requête_à_partir_de_ALTAIR91024[[FK_CODE_PMSHEET]:[DESCRIPTION]],4,FALSE) -> BROYAGE | K12: PRGGGDR-0010 | L12: =RIGHT(LEFT(Table_SSQL1022_altairprod_TBL_WORKORDER[[#This Row],[Location]],7),4) -> PRGG | M12: 41031 | N12: PREV A 2 MOIS LUBRIFICATION BROYEUR | Q12: WEEK | S12: SYS
B13: 44214.457 | C13: 0.5 | D13: 30-FERM | E13: 44181.424 | F13: LUB-DR-BR03 | G13: 44197 | H13: =CONCATENATE(YEAR(Table_SSQL1022_altairprod_TBL_WORKORDER[[#This Row],[p_prevue]]),"_",VLOOKUP(Table_SSQL1022_altairprod_TBL_WORKORDER[[#This Row],[p_prevue]]-DATE(YEAR(Table_SSQL1022_altairprod_TBL_WORKORDER[[#This Row],[p_prevue]]),1,0),[1]Période!$D$6:$J$18,7,TRUE)) -> 2021_P01 | I13: RCAPRGGGDR | J13: =VLOOKUP(Table_SSQL1022_altairprod_TBL_WORKORDER[[#This Row],[FK_CODE_PMSHEET]],[1]!Tableau_Lancer_la_requête_à_partir_de_ALTAIR91024[[FK_CODE_PMSHEET]:[DESCRIPTION]],4,FALSE) -> BROYAGE | K13: PRGGGDR-0030 | L13: =RIGHT(LEFT(Table_SSQL1022_altairprod_TBL_WORKORDER[[#This Row],[Location]],7),4) -> PRGG | M13: 41033 | N13: PREV A 2 MOIS LUBIFICATION BROYEUR | Q13: WEEK | S13: SYS
C14: 1 | D14: 20-APPR | E14: 44190.424 | F14: IUB-108 | G14: 44220.699 | H14: =CONCATENATE(YEAR(Table_SSQL1022_altairprod_TBL_WORKORDER[[#This Row],[p_prevue]]),"_",VLOOKUP(Table_SSQL1022_altairprod_TBL_WORKORDER[[#This Row],[p_prevue]]-DATE(YEAR(Table_SSQL1022_altairprod_TBL_WORKORDER[[#This Row],[p_prevue]]),1,0),[1]Période!$D$6:$J$18,7,TRUE)) -> 2021_P01 | I14: RCAPRCOM | J14: =VLOOKUP(Table_SSQL1022_altairprod_TBL_WORKORDER[[#This Row],[FK_CODE_PMSHEET]],[1]!Tableau_Lancer_la_requête_à_partir_de_ALTAIR91024[[FK_CODE_PMSHEET]:[DESCRIPTION]],4,FALSE) -> #N/A | K14: PRCOM-0030 | L14: =RIGHT(LEFT(Table_SSQL1022_altairprod_TBL_WORKORDER[[#This Row],[Location]],7),4) -> PRCO | M14: 41247 | N14: PREVENTIF DE GRAISSAGE A 6 MOIS POUR COMMUN-POUDRE | P14: Yes | Q14: ARRET | S14: SYS
C15: 0.5 | D15: 20-APPR | E15: 44192.424 | F15: ELEC-012 | G15: 44222.374 | H15: =CONCATENATE(YEAR(Table_SSQL1022_altairprod_TBL_WORKORDER[[#This Row],[p_prevue]]),"_",VLOOKUP(Table_SSQL1022_altairprod_TBL_WORKORDER[[#This Row],[p_prevue]]-DATE(YEAR(Table_SSQL1022_altairprod_TBL_WORKORDER[[#This Row],[p_prevue]]),1,0),[1]Période!$D$6:$J$18,7,TRUE)) -> 2021_P01 | I15: RCAPRGGAUT | J15: =VLOOKUP(Table_SSQL1022_altairprod_TBL_WORKORDER[[#This Row],[FK_CODE_PMSHEET]],[1]!Tableau_Lancer_la_requête_à_partir_de_ALTAIR91024[[FK_CODE_PMSHEET]:[DESCRIPTION]],4,FALSE) -> #N/A | K15: PRGGAUT-0050 | L15: =RIGHT(LEFT(Table_SSQL1022_altairprod_TBL_WORKORDER[[#This Row],[Location]],7),4) -> PRGG | M15: 41265 | N15: PREVENTIF A 18 MOIS POUR AUTOMATE PREMIUM BROYAGE | Q15: ARRET | S15: SYS
B16: 44218.603 | C16: 1 | D16: 30-FERM | E16: 44199.4 | F16: SCR-016 | G16: 44228.686 | H16: =CONCATENATE(YEAR(Table_SSQL1022_altairprod_TBL_WORKORDER[[#This Row],[p_prevue]]),"_",VLOOKUP(Table_SSQL1022_altairprod_TBL_WORKORDER[[#This Row],[p_prevue]]-DATE(YEAR(Table_SSQL1022_altairprod_TBL_WORKORDER[[#This Row],[p_prevue]]),1,0),[1]Période!$D$6:$J$18,7,TRUE)) -> 2021_P02 | I16: RCAPRX3VAL | J16: =VLOOKUP(Table_SSQL1022_altairprod_TBL_WORKORDER[[#This Row],[FK_CODE_PMSHEET]],[1]!Tableau_Lancer_la_requête_à_partir_de_ALTAIR91024[[FK_CODE_PMSHEET]:[DESCRIPTION]],4,FALSE) -> VALORISATION | K16: PRX3VAL-0020 | L16: =RIGHT(LEFT(Table_SSQL1022_altairprod_TBL_WORKORDER[[#This Row],[Location]],7),4) -> PRX3 | M16: 41400 | N16: PREVENTIF A 6 MOIS M3 FINES | Q16: ARRET | S16: SYS
C17: 1 | D17: 20-APPR | E17: 44199.4 | F17: SPR-002 | G17: 44229.578 | H17: =CONCATENATE(YEAR(Table_SSQL1022_altairprod_TBL_WORKORDER[[#This Row],[p_prevue]]),"_",VLOOKUP(Table_SSQL1022_altairprod_TBL_WORKORDER[[#This Row],[p_prevue]]-DATE(YEAR(Table_SSQL1022_altairprod_TBL_WORKORDER[[#This Row],[p_prevue]]),1,0),[1]Période!$D$6:$J$18,7,TRUE)) -> 2021_P02 | I17: RCAPRRECSPR | J17: =VLOOKUP(Table_SSQL1022_altairprod_TBL_WORKORDER[[#This Row],[FK_CODE_PMSHEET]],[1]!Tableau_Lancer_la_requête_à_partir_de_ALTAIR91024[[FK_CODE_PMSHEET]:[DESCRIPTION]],4,FALSE) -> RECEPTION-SONDE/PRL | K17: PRRECSPR-0040 | L17: =RIGHT(LEFT(Table_SSQL1022_altairprod_TBL_WORKORDER[[#This Row],[Location]],7),4) -> PRRE | M17: 41402 | N17: PREVENTIF A 2 MOIS STATION DE PRELEVEMENT | Q17: ARRET | S17: SYS
B18: 44224.501 | C18: 2 | D18: 30-FERM | E18: 44200.4 | F18: DRY-045 | G18: 44230.439 | H18: =CONCATENATE(YEAR(Table_SSQL1022_altairprod_TBL_WORKORDER[[#This Row],[p_prevue]]),"_",VLOOKUP(Table_SSQL1022_altairprod_TBL_WORKORDER[[#This Row],[p_prevue]]-DATE(YEAR(Table_SSQL1022_altairprod_TBL_WORKORDER[[#This Row],[p_prevue]]),1,0),[1]Période!$D$6:$J$18,7,TRUE)) -> 2021_P02 | I18: RCAPRX1DRY | J18: =VLOOKUP(Table_SSQL1022_altairprod_TBL_WORKORDER[[#This Row],[FK_CODE_PMSHEET]],[1]!Tableau_Lancer_la_requête_à_partir_de_ALTAIR91024[[FK_CODE_PMSHEET]:[DESCRIPTION]],4,FALSE) -> SECHEUR | K18: PRX1DRY-0010 | L18: =RIGHT(LEFT(Table_SSQL1022_altairprod_TBL_WORKORDER[[#This Row],[Location]],7),4) -> PRX1 | M18: 41427 | N18: PREVENTIF A 2 MOIS ENTRETIEN BRULEUR M1 | Q18: ARRET | S18: SYS
B19: 44207.43 | C19: 1 | D19: 30-FERM | E19: 44201.4 | F19: LUB-FLS-02 | G19: 44207 | H19: =CONCATENATE(YEAR(Table_SSQL1022_altairprod_TBL_WORKORDER[[#This Row],[p_prevue]]),"_",VLOOKUP(Table_SSQL1022_altairprod_TBL_WORKORDER[[#This Row],[p_prevue]]-DATE(YEAR(Table_SSQL1022_altairprod_TBL_WORKORDER[[#This Row],[p_prevue]]),1,0),[1]Période!$D$6:$J$18,7,TRUE)) -> 2021_P01 | I19: RCAPRX2FLS | J19: =VLOOKUP(Table_SSQL1022_altairprod_TBL_WORKORDER[[#This Row],[FK_CODE_PMSHEET]],[1]!Tableau_Lancer_la_requête_à_partir_de_ALTAIR91024[[FK_CODE_PMSHEET]:[DESCRIPTION]],4,FALSE) -> M2-ALIMENTATION | K19: PRX2FLS-0040 | L19: =RIGHT(LEFT(Table_SSQL1022_altairprod_TBL_WORKORDER[[#This Row],[Location]],7),4) -> PRX2 | M19: 41446 | N19: PREV A 6 MOIS LUBRIFICATION ALIMENTATION M2 | Q19: GRAI | S19: SYS
C20: 1 | D20: 20-APPR | E20: 44201.4 | F20: LUB-FLS-04 | G20: 44207 | H20: =CONCATENATE(YEAR(Table_SSQL1022_altairprod_TBL_WORKORDER[[#This Row],[p_prevue]]),"_",VLOOKUP(Table_SSQL1022_altairprod_TBL_WORKORDER[[#This Row],[p_prevue]]-DATE(YEAR(Table_SSQL1022_altairprod_TBL_WORKORDER[[#This Row],[p_prevue]]),1,0),[1]Période!$D$6:$J$18,7,TRUE)) -> 2021_P01 | I20: RCAPRX4FLS | J20: =VLOOKUP(Table_SSQL1022_altairprod_TBL_WORKORDER[[#This Row],[FK_CODE_PMSHEET]],[1]!Tableau_Lancer_la_requête_à_partir_de_ALTAIR91024[[FK_CODE_PMSHEET]:[DESCRIPTION]],4,FALSE) -> #N/A | L20: =RIGHT(LEFT(Table_SSQL1022_altairprod_TBL_WORKORDER[[#This Row],[Location]],7),4) -> PRX4 | M20: 41448 | N20: PREV A 6 MOIS LUBRIFIANT ALIMENTATION M4 | Q20: GRAI | S20: SYS
B21: 44208.447 | C21: 1 | D21: 30-FERM | E21: 44201.4 | F21: LUB-VAL-01 | G21: 44214 | H21: =CONCATENATE(YEAR(Table_SSQL1022_altairprod_TBL_WORKORDER[[#This Row],[p_prevue]]),"_",VLOOKUP(Table_SSQL1022_altairprod_TBL_WORKORDER[[#This Row],[p_prevue]]-DATE(YEAR(Table_SSQL1022_altairprod_TBL_WORKORDER[[#This Row],[p_prevue]]),1,0),[1]Période!$D$6:$J$18,7,TRUE)) -> 2021_P01 | I21: RCAPRX1VAL | J21: =VLOOKUP(Table_SSQL1022_altairprod_TBL_WORKORDER[[#This Row],[FK_CODE_PMSHEET]],[1]!Tableau_Lancer_la_requête_à_partir_de_ALTAIR91024[[FK_CODE_PMSHEET]:[DESCRIPTION]],4,FALSE) -> VALORISATION | K21: PRX1VAL-0010 | L21: =RIGHT(LEFT(Table_SSQL1022_altairprod_TBL_WORKORDER[[#This Row],[Location]],7),4) -> PRX1 | M21: 41450 | N21: PREV A 6 MOIS LUBRIFICATION VALORISATION M1 | Q21: GRAI | S21: SYS
C22: 1 | D22: 20-APPR | E22: 44201.4 | F22: LUB-VAL-03 | G22: 44214 | H22: =CONCATENATE(YEAR(Table_SSQL1022_altairprod_TBL_WORKORDER[[#This Row],[p_prevue]]),"_",VLOOKUP(Table_SSQL1022_altairprod_TBL_WORKORDER[[#This Row],[p_prevue]]-DATE(YEAR(Table_SSQL1022_altairprod_TBL_WORKORDER[[#This Row],[p_prevue]]),1,0),[1]Période!$D$6:$J$18,7,TRUE)) -> 2021_P01 | I22: RCAPRX3VAL | J22: =VLOOKUP(Table_SSQL1022_altairprod_TBL_WORKORDER[[#This Row],[FK_CODE_PMSHEET]],[1]!Tableau_Lancer_la_requête_à_partir_de_ALTAIR91024[[FK_CODE_PMSHEET]:[DESCRIPTION]],4,FALSE) -> VALORISATION | L22: =RIGHT(LEFT(Table_SSQL1022_altairprod_TBL_WORKORDER[[#This Row],[Location]],7),4) -> PRX3 | M22: 41452 | N22: PREV A 6 MOIS LUBRIFICATION VALORISATION M3 | Q22: GRAI | S22: SYS
C23: 1 | D23: 20-APPR | E23: 44201.4 | F23: LUB-VAL-05 | G23: 44214 | H23: =CONCATENATE(YEAR(Table_SSQL1022_altairprod_TBL_WORKORDER[[#This Row],[p_prevue]]),"_",VLOOKUP(Table_SSQL1022_altairprod_TBL_WORKORDER[[#This Row],[p_prevue]]-DATE(YEAR(Table_SSQL1022_altairprod_TBL_WORKORDER[[#This Row],[p_prevue]]),1,0),[1]Période!$D$6:$J$18,7,TRUE)) -> 2021_P01 | I23: RCAPRX5VAL | J23: =VLOOKUP(Table_SSQL1022_altairprod_TBL_WORKORDER[[#This Row],[FK_CODE_PMSHEET]],[1]!Tableau_Lancer_la_requête_à_partir_de_ALTAIR91024[[FK_CODE_PMSHEET]:[DESCRIPTION]],4,FALSE) -> VALORISATION | L23: =RIGHT(LEFT(Table_SSQL1022_altairprod_TBL_WORKORDER[[#This Row],[Location]],7),4) -> PRX5 | M23: 41454 | N23: PREV A 6 MOIS LUBRIFICATION VALORISATION W2 | Q23: GRAI | S23: SYS
B24: 44202.688 | C24: 1 | D24: 30-FERM | E24: 44202.31 | F24: PREV-REC | G24: 44202.31 | H24: =CONCATENATE(YEAR(Table_SSQL1022_altairprod_TBL_WORKORDER[[#This Row],[p_prevue]]),"_",VLOOKUP(Table_SSQL1022_altairprod_TBL_WORKORDER[[#This Row],[p_prevue]]-DATE(YEAR(Table_SSQL1022_altairprod_TBL_WORKORDER[[#This Row],[p_prevue]]),1,0),[1]Période!$D$6:$J$18,7,TRUE)) -> 2021_P01 | I24: RCAPRRECSTK | J24: =VLOOKUP(Table_SSQL1022_altairprod_TBL_WORKORDER[[#This Row],[FK_CODE_PMSHEET]],[1]!Tableau_Lancer_la_requête_à_partir_de_ALTAIR91024[[FK_CODE_PMSHEET]:[DESCRIPTION]],4,FALSE) -> #N/A | K24: PRRECSTK-0120 | L24: =RIGHT(LEFT(Table_SSQL1022_altairprod_TBL_WORKORDER[[#This Row],[Location]],7),4) -> PRRE | M24: 41476 | N24: Travaux correctif planifié accostage S12 | Q24: CHGT | S24: PLAN
B25: 44204.629 | C25: 1 | D25: 30-FERM | E25: 44202.486 | F25: PREV-BR | G25: 44202.486 | H25: =CONCATENATE(YEAR(Table_SSQL1022_altairprod_TBL_WORKORDER[[#This Row],[p_prevue]]),"_",VLOOKUP(Table_SSQL1022_altairprod_TBL_WORKORDER[[#This Row],[p_prevue]]-DATE(YEAR(Table_SSQL1022_altairprod_TBL_WORKORDER[[#This Row],[p_prevue]]),1,0),[1]Période!$D$6:$J$18,7,TRUE)) -> 2021_P01 | I25: RCAPRGG | J25: =VLOOKUP(Table_SSQL1022_altairprod_TBL_WORKORDER[[#This Row],[FK_CODE_PMSHEET]],[1]!Tableau_Lancer_la_requête_à_partir_de_ALTAIR91024[[FK_CODE_PMSHEET]:[DESCRIPTION]],4,FALSE) -> #N/A | L25: =RIGHT(LEFT(Table_SSQL1022_altairprod_TBL_WORKORDER[[#This Row],[Location]],7),4) -> PRGG | M25: 41479 | N25: Suivis travaux zones Broyage / Réception | Q25: CTRL/GRAI | S25: PLAN
C26: 2 | D26: 20-APPR | E26: 44203.4 | F26: FIL-ASR32 | G26: 44233.642 | H26: =CONCATENATE(YEAR(Table_SSQL1022_altairprod_TBL_WORKORDER[[#This Row],[p_prevue]]),"_",VLOOKUP(Table_SSQL1022_altairprod_TBL_WORKORDER[[#This Row],[p_prevue]]-DATE(YEAR(Table_SSQL1022_altairprod_TBL_WORKORDER[[#This Row],[p_prevue]]),1,0),[1]Période!$D$6:$J$18,7,TRUE)) -> 2021_P02 | I26: RCAPRRECSTK | J26: =VLOOKUP(Table_SSQL1022_altairprod_TBL_WORKORDER[[#This Row],[FK_CODE_PMSHEET]],[1]!Tableau_Lancer_la_requête_à_partir_de_ALTAIR91024[[FK_CODE_PMSHEET]:[DESCRIPTION]],4,FALSE) -> RECEPTION-STOCKAGE | K26: PRRECSTK-0320 | L26: =RIGHT(LEFT(Table_SSQL1022_altairprod_TBL_WORKORDER[[#This Row],[Location]],7),4) -> PRRE | M26: 41522 | N26: PREV A 1 AN FILTRE ASR32 SILO RECEPTION | Q26: WEEK | S26: SYS
C27: 2.5 | D27: 20-APPR | E27: 44203.4 | F27: HYG-009 | G27: 44233.642 | H27: =CONCATENATE(YEAR(Table_SSQL1022_altairprod_TBL_WORKORDER[[#This Row],[p_prevue]]),"_",VLOOKUP(Table_SSQL1022_altairprod_TBL_WORKORDER[[#This Row],[p_prevue]]-DATE(YEAR(Table_SSQL1022_altairprod_TBL_WORKORDER[[#This Row],[p_prevue]]),1,0),[1]Période!$D$6:$J$18,7,TRUE)) -> 2021_P02 | I27: RCAPRGGSCA | J27: =VLOOKUP(Table_SSQL1022_altairprod_TBL_WORKORDER[[#This Row],[FK_CODE_PMSHEET]],[1]!Tableau_Lancer_la_requête_à_partir_de_ALTAIR91024[[FK_CODE_PMSHEET]:[DESCRIPTION]],4,FALSE) -> #N/A | K27: PRGGSCA-0270 | L27: =RIGHT(LEFT(Table_SSQL1022_altairprod_TBL_WORKORDER[[#This Row],[Location]],7),4) -> PRGG | M27: 41525 | N27: PREVENTIF A 1 AN POUR EX. HYDRAULIQUE S30 | Q27: ARRET | S27: SYS
B28: 44224.67 | C28: 3 | D28: 30-FERM | E28: 44203.4 | F28: SCR-022 | G28: 44233.642 | H28: =CONCATENATE(YEAR(Table_SSQL1022_altairprod_TBL_WORKORDER[[#This Row],[p_prevue]]),"_",VLOOKUP(Table_SSQL1022_altairprod_TBL_WORKORDER[[#This Row],[p_prevue]]-DATE(YEAR(Table_SSQL1022_altairprod_TBL_WORKORDER[[#This Row],[p_prevue]]),1,0),[1]Période!$D$6:$J$18,7,TRUE)) -> 2021_P02 | I28: RCAPRGGSCA | J28: =VLOOKUP(Table_SSQL1022_altairprod_TBL_WORKORDER[[#This Row],[FK_CODE_PMSHEET]],[1]!Tableau_Lancer_la_requête_à_partir_de_ALTAIR91024[[FK_CODE_PMSHEET]:[DESCRIPTION]],4,FALSE) -> #N/A | K28: PRGGSCA-0080 | L28: =RIGHT(LEFT(Table_SSQL1022_altairprod_TBL_WORKORDER[[#This Row],[Location]],7),4) -> PRGG | M28: 41533 | N28: PREVENTIF DE GRAISSAGE A 1 AN POUR VIS-DOS BP01 BROYAGE | Q28: ARRET | S28: SYS
B29: 44204.551 | C29: 2 | D29: 30-FERM | E29: 44168.958 | F29: COO-011 | G29: 44197.583 | H29: =CONCATENATE(YEAR(Table_SSQL1022_altairprod_TBL_WORKORDER[[#This Row],[p_prevue]]),"_",VLOOKUP(Table_SSQL1022_altairprod_TBL_WORKORDER[[#This Row],[p_prevue]]-DATE(YEAR(Table_SSQL1022_altairprod_TBL_WORKORDER[[#This Row],[p_prevue]]),1,0),[1]Période!$D$6:$J$18,7,TRUE)) -> 2021_P01 | I29: RCAPRX5CLR | J29: =VLOOKUP(Table_SSQL1022_altairprod_TBL_WORKORDER[[#This Row],[FK_CODE_PMSHEET]],[1]!Tableau_Lancer_la_requête_à_partir_de_ALTAIR91024[[FK_CODE_PMSHEET]:[DESCRIPTION]],4,FALSE) -> REFROIDISSEUR | K29: PRX5CLR-0270 | L29: =RIGHT(LEFT(Table_SSQL1022_altairprod_TBL_WORKORDER[[#This Row],[Location]],7),4) -> PRX5 | M29: 40609 | N29: PREVENTIF GRAISSAGE A 1 AN REFROIDISSEUR | Q29: ARRET | S29: SYS
B30: 44196.564 | C30: 0.5 | D30: 30-FERM | E30: 44168.958 | F30: DRY-041 | G30: 44198.394 | H30: =CONCATENATE(YEAR(Table_SSQL1022_altairprod_TBL_WORKORDER[[#This Row],[p_prevue]]),"_",VLOOKUP(Table_SSQL1022_altairprod_TBL_WORKORDER[[#This Row],[p_prevue]]-DATE(YEAR(Table_SSQL1022_altairprod_TBL_WORKORDER[[#This Row],[p_prevue]]),1,0),[1]Période!$D$6:$J$18,7,TRUE)) -> 2021_P01 | I30: RCAPRX1DRY | J30: =VLOOKUP(Table_SSQL1022_altairprod_TBL_WORKORDER[[#This Row],[FK_CODE_PMSHEET]],[1]!Tableau_Lancer_la_requête_à_partir_de_ALTAIR91024[[FK_CODE_PMSHEET]:[DESCRIPTION]],4,FALSE) -> SECHEUR | K30: PRX1DRY-0320 | L30: =RIGHT(LEFT(Table_SSQL1022_altairprod_TBL_WORKORDER[[#This Row],[Location]],7),4) -> PRX1 | M30: 40611 | N30: PREVENTIF A 1 AN VLM03 SECHEUR M1 | Q30: ARRET | S30: SYS
B31: 44204.549 | C31: 1 | D31: 30-FERM | E31: 44168.958 | F31: SLG-011 | G31: 44197 | H31: =CONCATENATE(YEAR(Table_SSQL1022_altairprod_TBL_WORKORDER[[#This Row],[p_prevue]]),"_",VLOOKUP(Table_SSQL1022_altairprod_TBL_WORKORDER[[#This Row],[p_prevue]]-DATE(YEAR(Table_SSQL1022_altairprod_TBL_WORKORDER[[#This Row],[p_prevue]]),1,0),[1]Période!$D$6:$J$18,7,TRUE)) -> 2021_P01 | I31: RCAPRX5COA | J31: =VLOOKUP(Table_SSQL1022_altairprod_TBL_WORKORDER[[#This Row],[FK_CODE_PMSHEET]],[1]!Tableau_Lancer_la_requête_à_partir_de_ALTAIR91024[[FK_CODE_PMSHEET]:[DESCRIPTION]],4,FALSE) -> ENROBAGE | K31: PRX5COA-1050 | L31: =RIGHT(LEFT(Table_SSQL1022_altairprod_TBL_WORKORDER[[#This Row],[Location]],7),4) -> PRX5 | M31: 40637 | N31: PREVENTIF A 4 MOIS TTD03 W2 | Q31: ARRET | S31: SYS
B32: 44218.527 | C32: 1.5 | D32: 30-FERM | E32: 44168.958 | F32: SUR-SUB06-01 | G32: 44198.62 | H32: =CONCATENATE(YEAR(Table_SSQL1022_altairprod_TBL_WORKORDER[[#This Row],[p_prevue]]),"_",VLOOKUP(Table_SSQL1022_altairprod_TBL_WORKORDER[[#This Row],[p_prevue]]-DATE(YEAR(Table_SSQL1022_altairprod_TBL_WORKORDER[[#This Row],[p_prevue]]),1,0),[1]Période!$D$6:$J$18,7,TRUE)) -> 2021_P01 | I32: RCAPRGGTFL | J32: =VLOOKUP(Table_SSQL1022_altairprod_TBL_WORKORDER[[#This Row],[FK_CODE_PMSHEET]],[1]!Tableau_Lancer_la_requête_à_partir_de_ALTAIR91024[[FK_CODE_PMSHEET]:[DESCRIPTION]],4,FALSE) -> TRANSFERT MATIÈRE BROYÉE | K32: PRGGTFL-0110 | L32: =RIGHT(LEFT(Table_SSQL1022_altairprod_TBL_WORKORDER[[#This Row],[Location]],7),4) -> PRGG | M32: 40639 | N32: PREV A 3 MOIS SUB06 BROYAGE | Q32: ARRET | S32: SYS
B33: 44214.437 | C33: 1 | D33: 30-FERM | E33: 44169.958 | F33: LUB-SCA-13 | G33: 44197.958 | H33: =CONCATENATE(YEAR(Table_SSQL1022_altairprod_TBL_WORKORDER[[#This Row],[p_prevue]]),"_",VLOOKUP(Table_SSQL1022_altairprod_TBL_WORKORDER[[#This Row],[p_prevue]]-DATE(YEAR(Table_SSQL1022_altairprod_TBL_WORKORDER[[#This Row],[p_prevue]]),1,0),[1]Période!$D$6:$J$18,7,TRUE)) -> 2021_P01 | I33: RCAPRGGSCA | J33: =VLOOKUP(Table_SSQL1022_altairprod_TBL_WORKORDER[[#This Row],[FK_CODE_PMSHEET]],[1]!Tableau_Lancer_la_requête_à_partir_de_ALTAIR91024[[FK_CODE_PMSHEET]:[DESCRIPTION]],4,FALSE) -> STATION BENNE PESEUSE | K33: PRGGSCA-0200 | L33: =RIGHT(LEFT(Table_SSQL1022_altairprod_TBL_WORKORDER[[#This Row],[Location]],7),4) -> PRGG | M33: 40672 | N33: PREV A 2 MOIS LUBRIFICATION ECLUSES BP08/BP09 | Q33: WEEK | S33: SYS
B34: 44196.561 | C34: 3 | D34: 30-FERM | E34: 44169.958 | F34: X185-007 | G34: 44200.486 | H34: =CONCATENATE(YEAR(Table_SSQL1022_altairprod_TBL_WORKORDER[[#This Row],[p_prevue]]),"_",VLOOKUP(Table_SSQL1022_altairprod_TBL_WORKORDER[[#This Row],[p_prevue]]-DATE(YEAR(Table_SSQL1022_altairprod_TBL_WORKORDER[[#This Row],[p_prevue]]),1,0),[1]Période!$D$6:$J$18,7,TRUE)) -> 2021_P01 | I34: RCAPRX2X185 | J34: =VLOOKUP(Table_SSQL1022_altairprod_TBL_WORKORDER[[#This Row],[FK_CODE_PMSHEET]],[1]!Tableau_Lancer_la_requête_à_partir_de_ALTAIR91024[[FK_CODE_PMSHEET]:[DESCRIPTION]],4,FALSE) -> EXTRUDEUR | K34: PRX2X185-0090 | L34: =RIGHT(LEFT(Table_SSQL1022_altairprod_TBL_WORKORDER[[#This Row],[Location]],7),4) -> PRX2 | M34: 40674 | N34: PREVENTIF A 4 MOIS EXN01 EXTRUDEUR M2 | Q34: ARRET | S34: SYS
B35: 44204.508 | C35: 1.5 | D35: 30-FERM | E35: 44175.424 | F35: SUR-013 | G35: 44205.6 | H35: =CONCATENATE(YEAR(Table_SSQL1022_altairprod_TBL_WORKORDER[[#This Row],[p_prevue]]),"_",VLOOKUP(Table_SSQL1022_altairprod_TBL_WORKORDER[[#This Row],[p_prevue]]-DATE(YEAR(Table_SSQL1022_altairprod_TBL_WORKORDER[[#This Row],[p_prevue]]),1,0),[1]Période!$D$6:$J$18,7,TRUE)) -> 2021_P01 | I35: RCAPRGGSCA | J35: =VLOOKUP(Table_SSQL1022_altairprod_TBL_WORKORDER[[#This Row],[FK_CODE_PMSHEET]],[1]!Tableau_Lancer_la_requête_à_partir_de_ALTAIR91024[[FK_CODE_PMSHEET]:[DESCRIPTION]],4,FALSE) -> #N/A | K35: PRGGSCA-3240 | L35: =RIGHT(LEFT(Table_SSQL1022_altairprod_TBL_WORKORDER[[#This Row],[Location]],7),4) -> PRGG | M35: 40848 | N35: PREVENTIF A 3 MOIS POUR SUB100 BROYAGE | Q35: ARRET | S35: SYS
B36: 44218.403 | C36: 1 | D36: 30-FERM | E36: 44178.424 | F36: SUR-002 | G36: 44209 | H36: =CONCATENATE(YEAR(Table_SSQL1022_altairprod_TBL_WORKORDER[[#This Row],[p_prevue]]),"_",VLOOKUP(Table_SSQL1022_altairprod_TBL_WORKORDER[[#This Row],[p_prevue]]-DATE(YEAR(Table_SSQL1022_altairprod_TBL_WORKORDER[[#This Row],[p_prevue]]),1,0),[1]Période!$D$6:$J$18,7,TRUE)) -> 2021_P01 | I36: RCAPRGGSCA | J36: =VLOOKUP(Table_SSQL1022_altairprod_TBL_WORKORDER[[#This Row],[FK_CODE_PMSHEET]],[1]!Tableau_Lancer_la_requête_à_partir_de_ALTAIR91024[[FK_CODE_PMSHEET]:[DESCRIPTION]],4,FALSE) -> #N/A | K36: PRGGSCA-0990 | L36: =RIGHT(LEFT(Table_SSQL1022_altairprod_TBL_WORKORDER[[#This Row],[Location]],7),4) -> PRGG | M36: 40945 | N36: PREVENTIF A 3 MOIS POUR SUB02 BP3 BROYAGE | Q36: ARRET | S36: SYS
B37: 44215.464 | C37: 0.5 | D37: 30-FERM | E37: 44181.424 | F37: LUB-DR-BLB01 | G37: 44197 | H37: =CONCATENATE(YEAR(Table_SSQL1022_altairprod_TBL_WORKORDER[[#This Row],[p_prevue]]),"_",VLOOKUP(Table_SSQL1022_altairprod_TBL_WORKORDER[[#This Row],[p_prevue]]-DATE(YEAR(Table_SSQL1022_altairprod_TBL_WORKORDER[[#This Row],[p_prevue]]),1,0),[1]Période!$D$6:$J$18,7,TRUE)) -> 2021_P01 | I37: RCAPRGGGDR | J37: =VLOOKUP(Table_SSQL1022_altairprod_TBL_WORKORDER[[#This Row],[FK_CODE_PMSHEET]],[1]!Tableau_Lancer_la_requête_à_partir_de_ALTAIR91024[[FK_CODE_PMSHEET]:[DESCRIPTION]],4,FALSE) -> BROYAGE | K37: PRGGGDR-0090 | L37: =RIGHT(LEFT(Table_SSQL1022_altairprod_TBL_WORKORDER[[#This Row],[Location]],7),4) -> PRGG | M37: 41028 | N37: PREV A 3 MOIS LUBRIFICATION BLUTTERIE | Q37: WEEK | S37: SYS
B38: 44214.454 | C38: 0.5 | D38: 30-FERM | E38: 44181.424 | F38: LUB-DR-BLB03 | G38: 44197 | H38: =CONCATENATE(YEAR(Table_SSQL1022_altairprod_TBL_WORKORDER[[#This Row],[p_prevue]]),"_",VLOOKUP(Table_SSQL1022_altairprod_TBL_WORKORDER[[#This Row],[p_prevue]]-DATE(YEAR(Table_SSQL1022_altairprod_TBL_WORKORDER[[#This Row],[p_prevue]]),1,0),[1]Période!$D$6:$J$18,7,TRUE)) -> 2021_P01 | I38: RCAPRGGGDR | J38: =VLOOKUP(Table_SSQL1022_altairprod_TBL_WORKORDER[[#This Row],[FK_CODE_PMSHEET]],[1]!Tableau_Lancer_la_requête_à_partir_de_ALTAIR91024[[FK_CODE_PMSHEET]:[DESCRIPTION]],4,FALSE) -> BROYAGE | K38: PRGGGDR-0330 | L38: =RIGHT(LEFT(Table_SSQL1022_altairprod_TBL_WORKORDER[[#This Row],[Location]],7),4) -> PRGG | M38: 41030 | N38: PREV A 3 MOIS LUBRIFICATION BLUTTERIE | Q38: WEEK | S38: SYS
B39: 44214.454 | C39: 0.5 | D39: 30-FERM | E39: 44181.424 | F39: LUB-DR-BR02 | G39: 44197 | H39: =CONCATENATE(YEAR(Table_SSQL1022_altairprod_TBL_WORKORDER[[#This Row],[p_prevue]]),"_",VLOOKUP(Table_SSQL1022_altairprod_TBL_WORKORDER[[#This Row],[p_prevue]]-DATE(YEAR(Table_SSQL1022_altairprod_TBL_WORKORDER[[#This Row],[p_prevue]]),1,0),[1]Période!$D$6:$J$18,7,TRUE)) -> 2021_P01 | I39: RCAPRGGGDR | J39: =VLOOKUP(Table_SSQL1022_altairprod_TBL_WORKORDER[[#This Row],[FK_CODE_PMSHEET]],[1]!Tableau_Lancer_la_requête_à_partir_de_ALTAIR91024[[FK_CODE_PMSHEET]:[DESCRIPTION]],4,FALSE) -> BROYAGE | K39: PRGGGDR-0020 | L39: =RIGHT(LEFT(Table_SSQL1022_altairprod_TBL_WORKORDER[[#This Row],[Location]],7),4) -> PRGG | M39: 41032 | N39: PREV A 2 MOIS LUBRIFICATION BROYEUR | Q39: WEEK | S39: SYS
B40: 44189.514 | C40: 1 | D40: 30-FERM | E40: 44189.37 | F40: FIL-014 | G40: 44226.538 | H40: =CONCATENATE(YEAR(Table_SSQL1022_altairprod_TBL_WORKORDER[[#This Row],[p_prevue]]),"_",VLOOKUP(Table_SSQL1022_altairprod_TBL_WORKORDER[[#This Row],[p_prevue]]-DATE(YEAR(Table_SSQL1022_altairprod_TBL_WORKORDER[[#This Row],[p_prevue]]),1,0),[1]Période!$D$6:$J$18,7,TRUE)) -> 2021_P02 | I40: RCAPRGGBFL | J40: =VLOOKUP(Table_SSQL1022_altairprod_TBL_WORKORDER[[#This Row],[FK_CODE_PMSHEET]],[1]!Tableau_Lancer_la_requête_à_partir_de_ALTAIR91024[[FK_CODE_PMSHEET]:[DESCRIPTION]],4,FALSE) -> TRANSFERT MATIÈRE A BROYER | K40: PRGGBFL-0160 | L40: =RIGHT(LEFT(Table_SSQL1022_altairprod_TBL_WORKORDER[[#This Row],[Location]],7),4) -> PRGG | M40: 41228 | N40: GAMME PREVENTIVE A 5 MOIS POUR FIB01 (MVRN4/8) (RDC) | Q40: ARRET | S40: SYS
...

Sheet Feuil1
