Workbook

Sheet Matériaux
B7: Coût a répartir sur l’année/ nombre mini d’ateliers
B9: Coût materiel | C9: Coût amenagement
B10: =Tableau5[[#Totals],[Prix TTC/Birr ]] -> 4167.5428 | C10: =Tableau10[[#Totals],[Prix TTC/birr]] -> 0
B11: Total | C11: {=Tableau12[Coût materiel]+Tableau12[Coût amenagement]} -> 4167.5428
B12: Total
B17: Matériaux | C17: Type de materiaux | D17: Quantité unitaire/g | E17: Provenance | F17: Transport | G17: Prix transport/g2 | H17: Prix HT/birr unitaire | I17: Prix TTC/Birr unitaire | J17: Prix HT/g - Birr | K17: Prix HT/kg- Birr | L17: Prix TTC/kg - Birr | M17: Prix TTC/g - Birr | N17: Prix TTC/g
B18: Acide citrique | C18: Produits chimiques | D18: =25*1000 -> 25000 | E18: Jigra | F18: 222 | G18: =Tableau1[[#This Row],[Transport ]]/Tableau1[[#This Row],[Quantité unitaire/g ]] -> 0.00888 | H18: 1500 | I18: =Tableau1[[#This Row],[Prix HT/birr unitaire]]+((Tableau1[[#This Row],[Prix HT/birr unitaire]])*(15/100)) -> 1725 | J18: =Tableau1[[#This Row],[Prix HT/kg- Birr]]/1000 -> 0.06 | K18: =(Tableau1[[#This Row],[Prix HT/birr unitaire]]/Tableau1[[#This Row],[Quantité unitaire/g ]])*1000 -> 60 | L18: =(Tableau1[[#This Row],[Prix TTC/Birr unitaire ]]/Tableau1[[#This Row],[Quantité unitaire/g ]])*1000 -> 69 | M18: =Tableau1[[#This Row],[Prix TTC/kg - Birr]]/1000 -> 0.069 | N18: =Tableau1[[#This Row],[Prix TTC/g - Birr]]+Tableau1[[#This Row],[Prix transport/g2]] -> 0.07788
B19: Bicarbonate de soude | C19: Produits chimiques | D19: =25*1000 -> 25000 | E19: Jigra | F19: 222 | G19: =Tableau1[[#This Row],[Transport ]]/Tableau1[[#This Row],[Quantité unitaire/g ]] -> 0.00888 | H19: 750 | I19: =Tableau1[[#This Row],[Prix HT/birr unitaire]]+((Tableau1[[#This Row],[Prix HT/birr unitaire]])*(15/100)) -> 862.5 | J19: =Tableau1[[#This Row],[Prix HT/kg- Birr]]/1000 -> 0.03 | K19: =(Tableau1[[#This Row],[Prix HT/birr unitaire]]/Tableau1[[#This Row],[Quantité unitaire/g ]])*1000 -> 30 | L19: =(Tableau1[[#This Row],[Prix TTC/Birr unitaire ]]/Tableau1[[#This Row],[Quantité unitaire/g ]])*1000 -> 34.5 | M19: =Tableau1[[#This Row],[Prix TTC/kg - Birr]]/1000 -> 0.0345 | N19: =Tableau1[[#This Row],[Prix TTC/g - Birr]]+Tableau1[[#This Row],[Prix transport/g2]] -> 0.04338
B20: Cristaux de soude | C20: Produits chimiques | D20: =40*1000 -> 40000 | E20: Jigra | F20: 222 | G20: =Tableau1[[#This Row],[Transport ]]/Tableau1[[#This Row],[Quantité unitaire/g ]] -> 0.00555 | H20: 1200 | I20: =Tableau1[[#This Row],[Prix HT/birr unitaire]]+((Tableau1[[#This Row],[Prix HT/birr unitaire]])*(15/100)) -> 1380 | J20: =Tableau1[[#This Row],[Prix HT/kg- Birr]]/1000 -> 0.03 | K20: =(Tableau1[[#This Row],[Prix HT/birr unitaire]]/Tableau1[[#This Row],[Quantité unitaire/g ]])*1000 -> 30 | L20: =(Tableau1[[#This Row],[Prix TTC/Birr unitaire ]]/Tableau1[[#This Row],[Quantité unitaire/g ]])*1000 -> 34.5 | M20: =Tableau1[[#This Row],[Prix TTC/kg - Birr]]/1000 -> 0.0345 | N20: =Tableau1[[#This Row],[Prix TTC/g - Birr]]+Tableau1[[#This Row],[Prix transport/g2]] -> 0.04005
B21: Hydroxyde de sodium | C21: Produits chimiques | D21: 0 | F21: 0 | G21: 0 | H21: 0 | I21: =Tableau1[[#This Row],[Prix HT/birr unitaire]]+((Tableau1[[#This Row],[Prix HT/birr unitaire]])*(15/100)) -> 0 | J21: =Tableau1[[#This Row],[Prix HT/kg- Birr]]/1000 -> #DIV/0! | K21: =(Tableau1[[#This Row],[Prix HT/birr unitaire]]/Tableau1[[#This Row],[Quantité unitaire/g ]])*1000 -> #DIV/0! | L21: =(Tableau1[[#This Row],[Prix TTC/Birr unitaire ]]/Tableau1[[#This Row],[Quantité unitaire/g ]])*1000 -> #DIV/0! | M21: =Tableau1[[#This Row],[Prix TTC/kg - Birr]]/1000 -> #DIV/0! | N21: =Tableau1[[#This Row],[Prix TTC/g - Birr]]+Tableau1[[#This Row],[Prix transport/g2]] -> #DIV/0!
B22: Soude caustique | C22: Produits chimiques | D22: 25000 | E22: Jigra | F22: 222 | G22: =Tableau1[[#This Row],[Transport ]]/Tableau1[[#This Row],[Quantité unitaire/g ]] -> 0.00888 | H22: 1200 | I22: =Tableau1[[#This Row],[Prix HT/birr unitaire]]+((Tableau1[[#This Row],[Prix HT/birr unitaire]])*(15/100)) -> 1380 | J22: =Tableau1[[#This Row],[Prix HT/kg- Birr]]/1000 -> 0.048 | K22: =(Tableau1[[#This Row],[Prix HT/birr unitaire]]/Tableau1[[#This Row],[Quantité unitaire/g ]])*1000 -> 48 | L22: =(Tableau1[[#This Row],[Prix TTC/Birr unitaire ]]/Tableau1[[#This Row],[Quantité unitaire/g ]])*1000 -> 55.2 | M22: =Tableau1[[#This Row],[Prix TTC/kg - Birr]]/1000 -> 0.0552 | N22: =Tableau1[[#This Row],[Prix TTC/g - Birr]]+Tableau1[[#This Row],[Prix transport/g2]] -> 0.06408
B23: Percarbonate de soude | C23: Produits chimiques | D23: =25*1000 -> 25000 | E23: Jigra | F23: 222 | G23: =Tableau1[[#This Row],[Transport ]]/Tableau1[[#This Row],[Quantité unitaire/g ]] -> 0.00888 | H23: 850 | I23: =Tableau1[[#This Row],[Prix HT/birr unitaire]]+((Tableau1[[#This Row],[Prix HT/birr unitaire]])*(15/100)) -> 977.5 | J23: =Tableau1[[#This Row],[Prix HT/kg- Birr]]/1000 -> 0.034 | K23: =(Tableau1[[#This Row],[Prix HT/birr unitaire]]/Tableau1[[#This Row],[Quantité unitaire/g ]])*1000 -> 34 | L23: =(Tableau1[[#This Row],[Prix TTC/Birr unitaire ]]/Tableau1[[#This Row],[Quantité unitaire/g ]])*1000 -> 39.1 | M23: =Tableau1[[#This Row],[Prix TTC/kg - Birr]]/1000 -> 0.0391 | N23: =Tableau1[[#This Row],[Prix TTC/g - Birr]]+Tableau1[[#This Row],[Prix transport/g2]] -> 0.04798
B24: Vinaigre blanc | C24: Alcool | D24: 500 | E24: Bambis | F24: 241 | G24: =Tableau1[[#This Row],[Transport ]]/Tableau1[[#This Row],[Quantité unitaire/g ]] -> 0.482 | H24: 10.3 | I24: 10.3 | J24: =Tableau1[[#This Row],[Prix HT/kg- Birr]]/1000 -> 0.0206 | K24: =(Tableau1[[#This Row],[Prix HT/birr unitaire]]/Tableau1[[#This Row],[Quantité unitaire/g ]])*1000 -> 20.6 | L24: =(Tableau1[[#This Row],[Prix TTC/Birr unitaire ]]/Tableau1[[#This Row],[Quantité unitaire/g ]])*1000 -> 20.6 | M24: =Tableau1[[#This Row],[Prix TTC/kg - Birr]]/1000 -> 0.0206 | N24: =Tableau1[[#This Row],[Prix TTC/g - Birr]]+Tableau1[[#This Row],[Prix transport/g2]] -> 0.5026
B25: Alcool denaturé | C25: Alcool | D25: 1000 | E25: Bambis | F25: 241 | G25: =Tableau1[[#This Row],[Transport ]]/Tableau1[[#This Row],[Quantité unitaire/g ]] -> 0.241 | H25: 175 | I25: 175 | J25: =Tableau1[[#This Row],[Prix HT/kg- Birr]]/1000 -> 0.175 | K25: =(Tableau1[[#This Row],[Prix HT/birr unitaire]]/Tableau1[[#This Row],[Quantité unitaire/g ]])*1000 -> 175 | L25: =(Tableau1[[#This Row],[Prix TTC/Birr unitaire ]]/Tableau1[[#This Row],[Quantité unitaire/g ]])*1000 -> 175 | M25: =Tableau1[[#This Row],[Prix TTC/kg - Birr]]/1000 -> 0.175 | N25: =Tableau1[[#This Row],[Prix TTC/g - Birr]]+Tableau1[[#This Row],[Prix transport/g2]] -> 0.416
B26: Alcool modifié/vodka | C26: Alcool | D26: 0 | F26: 0 | G26: 0 | H26: =Tableau1[[#This Row],[Prix HT/kg- Birr]]*Tableau1[[#This Row],[Quantité unitaire/g ]] -> 0 | I26: =Tableau1[[#This Row],[Prix HT/birr unitaire]]+((Tableau1[[#This Row],[Prix HT/birr unitaire]])*(15/100)) -> 0 | J26: =Tableau1[[#This Row],[Prix HT/kg- Birr]]/1000 -> 0.065 | K26: =(Tableau1[[#This Row],[Prix HT/birr unitaire]]/Tableau1[[#This Row],[Quantité unitaire/g ]])*1000 -> 65 | L26: =(Tableau1[[#This Row],[Prix TTC/Birr unitaire ]]/Tableau1[[#This Row],[Quantité unitaire/g ]])*1000 -> 74.75 | M26: =Tableau1[[#This Row],[Prix TTC/kg - Birr]]/1000 -> 0 | N26: =Tableau1[[#This Row],[Prix TTC/g - Birr]]+Tableau1[[#This Row],[Prix transport/g2]] -> 0
B27: Alcool a 70 °C | C27: Alcool | D27: 0 | F27: 0 | G27: 0 | H27: 0 | I27: 0 | J27: =Tableau1[[#This Row],[Prix HT/kg- Birr]]/1000 -> #DIV/0! | K27: =(Tableau1[[#This Row],[Prix HT/birr unitaire]]/Tableau1[[#This Row],[Quantité unitaire/g ]])*1000 -> #DIV/0! | L27: =(Tableau1[[#This Row],[Prix TTC/Birr unitaire ]]/Tableau1[[#This Row],[Quantité unitaire/g ]])*1000 -> #DIV/0! | M27: =Tableau1[[#This Row],[Prix TTC/kg - Birr]]/1000 -> #DIV/0! | N27: =Tableau1[[#This Row],[Prix TTC/g - Birr]]+Tableau1[[#This Row],[Prix transport/g2]] -> #DIV/0!
B28: Terebentine | C28: Huiles essentielles | D28: 0 | F28: 0 | G28: =Tableau1[[#This Row],[Transport ]]/Tableau1[[#This Row],[Quantité unitaire/g ]] -> #DIV/0! | H28: =Tableau1[[#This Row],[Prix HT/kg- Birr]]*Tableau1[[#This Row],[Quantité unitaire/g ]] -> 0 | I28: =Tableau1[[#This Row],[Prix HT/birr unitaire]]+((Tableau1[[#This Row],[Prix HT/birr unitaire]])*(15/100)) -> 0 | J28: =Tableau1[[#This Row],[Prix HT/kg- Birr]]/1000 -> 0.065 | K28: =(Tableau1[[#This Row],[Prix HT/birr unitaire]]/Tableau1[[#This Row],[Quantité unitaire/g ]])*1000 -> 65 | L28: =(Tableau1[[#This Row],[Prix TTC/Birr unitaire ]]/Tableau1[[#This Row],[Quantité unitaire/g ]])*1000 -> 74.75 | M28: =Tableau1[[#This Row],[Prix TTC/kg - Birr]]/1000 -> 0 | N28: =Tableau1[[#This Row],[Prix TTC/g - Birr]]+Tableau1[[#This Row],[Prix transport/g2]] -> 0
B29: HÉ Thym | C29: Huiles essentielles | D29: 0 | E29: Ariti herbal | F29: 200 | G29: =Tableau1[[#This Row],[Transport ]]/Tableau1[[#This Row],[Quantité unitaire/g ]] -> #DIV/0! | H29: =Tableau1[[#This Row],[Prix HT/kg- Birr]]*Tableau1[[#This Row],[Quantité unitaire/g ]] -> 0 | I29: =Tableau1[[#This Row],[Prix HT/birr unitaire]]+((Tableau1[[#This Row],[Prix HT/birr unitaire]])*(15/100)) -> 0 | J29: =Tableau1[[#This Row],[Prix HT/kg- Birr]]/1000 -> 0.065 | K29: =(Tableau1[[#This Row],[Prix HT/birr unitaire]]/Tableau1[[#This Row],[Quantité unitaire/g ]])*1000 -> 65 | L29: =(Tableau1[[#This Row],[Prix TTC/Birr unitaire ]]/Tableau1[[#This Row],[Quantité unitaire/g ]])*1000 -> 74.75 | N29: =Tableau1[[#This Row],[Prix TTC/g - Birr]]+Tableau1[[#This Row],[Prix transport/g2]] -> #DIV/0!
B30: HÉ citron | C30: Huiles essentielles | D30: 1000 | E30: Damascène essential oil | F30: 0 | G30: =Tableau1[[#This Row],[Transport ]]/Tableau1[[#This Row],[Quantité unitaire/g ]] -> 0 | H30: 1800 | I30: 1800 | J30: =Tableau1[[#This Row],[Prix HT/kg- Birr]]/1000 -> 1.8 | K30: =(Tableau1[[#This Row],[Prix HT/birr unitaire]]/Tableau1[[#This Row],[Quantité unitaire/g ]])*1000 -> 1800 | L30: =(Tableau1[[#This Row],[Prix TTC/Birr unitaire ]]/Tableau1[[#This Row],[Quantité unitaire/g ]])*1000 -> 1800 | M30: =Tableau1[[#This Row],[Prix TTC/kg - Birr]]/1000 -> 1.8 | N30: =Tableau1[[#This Row],[Prix TTC/g - Birr]]+Tableau1[[#This Row],[Prix transport/g2]] -> 1.8
B31: HÉ orange | C31: Huiles essentielles | D31: 1000 | E31: Damascène essential oil | F31: 0 | G31: =Tableau1[[#This Row],[Transport ]]/Tableau1[[#This Row],[Quantité unitaire/g ]] -> 0 | H31: 1800 | I31: 1800 | J31: =Tableau1[[#This Row],[Prix HT/kg- Birr]]/1000 -> 1.8 | K31: =(Tableau1[[#This Row],[Prix HT/birr unitaire]]/Tableau1[[#This Row],[Quantité unitaire/g ]])*1000 -> 1800 | L31: =(Tableau1[[#This Row],[Prix TTC/Birr unitaire ]]/Tableau1[[#This Row],[Quantité unitaire/g ]])*1000 -> 1800 | M31: =Tableau1[[#This Row],[Prix TTC/kg - Birr]]/1000 -> 1.8 | N31: =Tableau1[[#This Row],[Prix TTC/g - Birr]]+Tableau1[[#This Row],[Prix transport/g2]] -> 1.8
B32: HÉ Romarin | C32: Huiles essentielles | D32: 1000 | E32: Damascène essential oil | F32: 0 | G32: =Tableau1[[#This Row],[Transport ]]/Tableau1[[#This Row],[Quantité unitaire/g ]] -> 0 | H32: 1800 | I32: 1800 | J32: =Tableau1[[#This Row],[Prix HT/kg- Birr]]/1000 -> 1.8 | K32: =(Tableau1[[#This Row],[Prix HT/birr unitaire]]/Tableau1[[#This Row],[Quantité unitaire/g ]])*1000 -> 1800 | L32: =(Tableau1[[#This Row],[Prix TTC/Birr unitaire ]]/Tableau1[[#This Row],[Quantité unitaire/g ]])*1000 -> 1800 | M32: =Tableau1[[#This Row],[Prix TTC/kg - Birr]]/1000 -> 1.8 | N32: =Tableau1[[#This Row],[Prix TTC/g - Birr]]+Tableau1[[#This Row],[Prix transport/g2]] -> 1.8
B33: HÉ lemongrass | C33: Huiles essentielles | D33: 1000 | E33: Damascène essential oil | F33: 0 | G33: =Tableau1[[#This Row],[Transport ]]/Tableau1[[#This Row],[Quantité unitaire/g ]] -> 0 | H33: 1800 | I33: 1800 | J33: =Tableau1[[#This Row],[Prix HT/kg- Birr]]/1000 -> 1.8 | K33: =(Tableau1[[#This Row],[Prix HT/birr unitaire]]/Tableau1[[#This Row],[Quantité unitaire/g ]])*1000 -> 1800 | L33: =(Tableau1[[#This Row],[Prix TTC/Birr unitaire ]]/Tableau1[[#This Row],[Quantité unitaire/g ]])*1000 -> 1800 | M33: =Tableau1[[#This Row],[Prix TTC/kg - Birr]]/1000 -> 1.8 | N33: =Tableau1[[#This Row],[Prix TTC/g - Birr]]+Tableau1[[#This Row],[Prix transport/g2]] -> 1.8
B34: HÉ eucalyptus | C34: Huiles essentielles | D34: 1000 | E34: Damascène essential oil | F34: 0 | G34: =Tableau1[[#This Row],[Transport ]]/Tableau1[[#This Row],[Quantité unitaire/g ]] -> 0 | H34: 1800 | I34: 1800 | J34: =Tableau1[[#This Row],[Prix HT/kg- Birr]]/1000 -> 1.8 | K34: =(Tableau1[[#This Row],[Prix HT/birr unitaire]]/Tableau1[[#This Row],[Quantité unitaire/g ]])*1000 -> 1800 | L34: =(Tableau1[[#This Row],[Prix TTC/Birr unitaire ]]/Tableau1[[#This Row],[Quantité unitaire/g ]])*1000 -> 1800 | M34: =Tableau1[[#This Row],[Prix TTC/kg - Birr]]/1000 -> 1.8 | N34: =Tableau1[[#This Row],[Prix TTC/g - Birr]]+Tableau1[[#This Row],[Prix transport/g2]] -> 1.8
B35: HÉ orange | C35: Huiles essentielles | D35: 1000 | E35: Damascène essential oil | F35: 0 | G35: =Tableau1[[#This Row],[Transport ]]/Tableau1[[#This Row],[Quantité unitaire/g ]] -> 0 | H35: 1800 | I35: 1800 | J35: =Tableau1[[#This Row],[Prix HT/kg- Birr]]/1000 -> 1.8 | K35: =(Tableau1[[#This Row],[Prix HT/birr unitaire]]/Tableau1[[#This Row],[Quantité unitaire/g ]])*1000 -> 1800 | L35: =(Tableau1[[#This Row],[Prix TTC/Birr unitaire ]]/Tableau1[[#This Row],[Quantité unitaire/g ]])*1000 -> 1800 | M35: =Tableau1[[#This Row],[Prix TTC/kg - Birr]]/1000 -> 1.8 | N35: =Tableau1[[#This Row],[Prix TTC/g - Birr]]+Tableau1[[#This Row],[Prix transport/g2]] -> 1.8
B36: HÉ eucalyptus | C36: Huiles essentielles | D36: 250 | E36: Ariti herbal | F36: 200 | G36: =Tableau1[[#This Row],[Transport ]]/Tableau1[[#This Row],[Quantité unitaire/g ]] -> 0.8 | H36: 575 | I36: 575 | J36: =Tableau1[[#This Row],[Prix HT/kg- Birr]]/1000 -> 2.3 | K36: =(Tableau1[[#This Row],[Prix HT/birr unitaire]]/Tableau1[[#This Row],[Quantité unitaire/g ]])*1000 -> 2300 | L36: =(Tableau1[[#This Row],[Prix TTC/Birr unitaire ]]/Tableau1[[#This Row],[Quantité unitaire/g ]])*1000 -> 2300 | M36: =Tableau1[[#This Row],[Prix TTC/kg - Birr]]/1000 -> 2.3 | N36: =Tableau1[[#This Row],[Prix TTC/g - Birr]]+Tableau1[[#This Row],[Prix transport/g2]] -> 3.1
B37: HÉ eucalyptus | C37: Huiles essentielles | D37: 30 | E37: Aberra cosmetique | F37: 274 | G37: =Tableau1[[#This Row],[Transport ]]/Tableau1[[#This Row],[Quantité unitaire/g ]] -> 9.1333333 | H37: 200 | I37: 200 | J37: =Tableau1[[#This Row],[Prix HT/kg- Birr]]/1000 -> 6.6666667 | K37: =(Tableau1[[#This Row],[Prix HT/birr unitaire]]/Tableau1[[#This Row],[Quantité unitaire/g ]])*1000 -> 6666.6667 | L37: =(Tableau1[[#This Row],[Prix TTC/Birr unitaire ]]/Tableau1[[#This Row],[Quantité unitaire/g ]])*1000 -> 6666.6667 | M37: =Tableau1[[#This Row],[Prix TTC/kg - Birr]]/1000 -> 6.6666667 | N37: =Tableau1[[#This Row],[Prix TTC/g - Birr]]+Tableau1[[#This Row],[Prix transport/g2]] -> 15.8
B38: HÉ orange | C38: Huiles essentielles | D38: 30 | E38: Aberra cosmetique | F38: 274 | G38: =Tableau1[[#This Row],[Transport ]]/Tableau1[[#This Row],[Quantité unitaire/g ]] -> 9.1333333 | H38: 300 | I38: 300 | J38: =Tableau1[[#This Row],[Prix HT/kg- Birr]]/1000 -> 10 | K38: =(Tableau1[[#This Row],[Prix HT/birr unitaire]]/Tableau1[[#This Row],[Quantité unitaire/g ]])*1000 -> 10000 | L38: =(Tableau1[[#This Row],[Prix TTC/Birr unitaire ]]/Tableau1[[#This Row],[Quantité unitaire/g ]])*1000 -> 10000 | M38: =Tableau1[[#This Row],[Prix TTC/kg - Birr]]/1000 -> 10 | N38: =Tableau1[[#This Row],[Prix TTC/g - Birr]]+Tableau1[[#This Row],[Prix transport/g2]] -> 19.133333
B39: HÉ lemongrass | C39: Huiles essentielles | D39: 30 | E39: Aberra cosmetique | F39: 274 | G39: =Tableau1[[#This Row],[Transport ]]/Tableau1[[#This Row],[Quantité unitaire/g ]] -> 9.1333333 | H39: 350 | I39: 350 | J39: =Tableau1[[#This Row],[Prix HT/kg- Birr]]/1000 -> 11.666667 | K39: =(Tableau1[[#This Row],[Prix HT/birr unitaire]]/Tableau1[[#This Row],[Quantité unitaire/g ]])*1000 -> 11666.667 | L39: =(Tableau1[[#This Row],[Prix TTC/Birr unitaire ]]/Tableau1[[#This Row],[Quantité unitaire/g ]])*1000 -> 11666.667 | M39: =Tableau1[[#This Row],[Prix TTC/kg - Birr]]/1000 -> 11.666667 | N39: =Tableau1[[#This Row],[Prix TTC/g - Birr]]+Tableau1[[#This Row],[Prix transport/g2]] -> 20.8
B40: HÉ franckincense | C40: Huiles essentielles | D40: 30 | E40: Aberra cosmetique | F40: 274 | G40: =Tableau1[[#This Row],[Transport ]]/Tableau1[[#This Row],[Quantité unitaire/g ]] -> 9.1333333 | H40: 400 | I40: 400 | J40: =Tableau1[[#This Row],[Prix HT/kg- Birr]]/1000 -> 13.333333 | K40: =(Tableau1[[#This Row],[Prix HT/birr unitaire]]/Tableau1[[#This Row],[Quantité unitaire/g ]])*1000 -> 13333.333 | L40: =(Tableau1[[#This Row],[Prix TTC/Birr unitaire ]]/Tableau1[[#This Row],[Quantité unitaire/g ]])*1000 -> 13333.333 | M40: =Tableau1[[#This Row],[Prix TTC/kg - Birr]]/1000 -> 13.333333 | N40: =Tableau1[[#This Row],[Prix TTC/g - Birr]]+Tableau1[[#This Row],[Prix transport/g2]] -> 22.466667
B41: HÉ Romarin | C41: Huiles essentielles | D41: 30 | E41: Aberra cosmetique | F41: 274 | G41: =Tableau1[[#This Row],[Transport ]]/Tableau1[[#This Row],[Quantité unitaire/g ]] -> 9.1333333 | H41: 550 | I41: 550 | J41: =Tableau1[[#This Row],[Prix HT/kg- Birr]]/1000 -> 18.333333 | K41: =(Tableau1[[#This Row],[Prix HT/birr unitaire]]/Tableau1[[#This Row],[Quantité unitaire/g ]])*1000 -> 18333.333 | L41: =(Tableau1[[#This Row],[Prix TTC/Birr unitaire ]]/Tableau1[[#This Row],[Quantité unitaire/g ]])*1000 -> 18333.333 | M41: =Tableau1[[#This Row],[Prix TTC/kg - Birr]]/1000 -> 18.333333 | N41: =Tableau1[[#This Row],[Prix TTC/g - Birr]]+Tableau1[[#This Row],[Prix transport/g2]] -> 27.466667
B42: HÉ franckincense | C42: Huiles essentielles | D42: 10 | E42: Ariti herbal | F42: 200 | G42: =Tableau1[[#This Row],[Transport ]]/Tableau1[[#This Row],[Quantité unitaire/g ]] -> 20 | J42: =Tableau1[[#This Row],[Prix HT/kg- Birr]]/1000 -> 0 | K42: =(Tableau1[[#This Row],[Prix HT/birr unitaire]]/Tableau1[[#This Row],[Quantité unitaire/g ]])*1000 -> 0 | L42: =(Tableau1[[#This Row],[Prix TTC/Birr unitaire ]]/Tableau1[[#This Row],[Quantité unitaire/g ]])*1000 -> 0 | M42: =Tableau1[[#This Row],[Prix TTC/kg - Birr]]/1000 -> 0 | N42: =Tableau1[[#This Row],[Prix TTC/g - Birr]]+Tableau1[[#This Row],[Prix transport/g2]] -> 20
B43: HÉ Palmarosa | C43: Huiles essentielles | D43: 10 | E43: Ariti herbal | F43: 200 | G43: =Tableau1[[#This Row],[Transport ]]/Tableau1[[#This Row],[Quantité unitaire/g ]] -> 20 | H43: 25 | I43: 25 | J43: =Tableau1[[#This Row],[Prix HT/kg- Birr]]/1000 -> 2.5 | K43: =(Tableau1[[#This Row],[Prix HT/birr unitaire]]/Tableau1[[#This Row],[Quantité unitaire/g ]])*1000 -> 2500 | L43: =(Tableau1[[#This Row],[Prix TTC/Birr unitaire ]]/Tableau1[[#This Row],[Quantité unitaire/g ]])*1000 -> 2500 | M43: =Tableau1[[#This Row],[Prix TTC/kg - Birr]]/1000 -> 2.5 | N43: =Tableau1[[#This Row],[Prix TTC/g - Birr]]+Tableau1[[#This Row],[Prix transport/g2]] -> 22.5
B44: HE tea tree | C44: Huiles essentielles | D44: 0 | E44: Aberra cosmetique | F44: 274 | G44: 0 | H44: 0 | I44: 0 | J44: =Tableau1[[#This Row],[Prix HT/kg- Birr]]/1000 -> #DIV/0! | K44: =(Tableau1[[#This Row],[Prix HT/birr unitaire]]/Tableau1[[#This Row],[Quantité unitaire/g ]])*1000 -> #DIV/0! | L44: =(Tableau1[[#This Row],[Prix TTC/Birr unitaire ]]/Tableau1[[#This Row],[Quantité unitaire/g ]])*1000 -> #DIV/0! | M44: =Tableau1[[#This Row],[Prix TTC/kg - Birr]]/1000 -> #DIV/0! | N44: =Tableau1[[#This Row],[Prix TTC/g - Birr]]+Tableau1[[#This Row],[Prix transport/g2]] -> #DIV/0!
B45: Cire d’abeille | C45: Huiles | D45: 1000 | E45: Ellelan | F45: 0 | G45: =Tableau1[[#This Row],[Transport ]]/Tableau1[[#This Row],[Quantité unitaire/g ]] -> 0 | H45: 275 | I45: 275 | J45: =Tableau1[[#This Row],[Prix HT/kg- Birr]]/1000 -> 0.275 | K45: =(Tableau1[[#This Row],[Prix HT/birr unitaire]]/Tableau1[[#This Row],[Quantité unitaire/g ]])*1000 -> 275 | L45: =(Tableau1[[#This Row],[Prix TTC/Birr unitaire ]]/Tableau1[[#This Row],[Quantité unitaire/g ]])*1000 -> 275 | M45: =Tableau1[[#This Row],[Prix TTC/kg - Birr]]/1000 -> 0.275 | N45: =Tableau1[[#This Row],[Prix TTC/g - Birr]]+Tableau1[[#This Row],[Prix transport/g2]] -> 0.275
B46: Huile de ricin | C46: Huiles | D46: 60 | E46: Aberra cosmetique | F46: 274 | G46: 0 | H46: 150 | I46: 150 | J46: =Tableau1[[#This Row],[Prix HT/kg- Birr]]/1000 -> 2.5 | K46: =(Tableau1[[#This Row],[Prix HT/birr unitaire]]/Tableau1[[#This Row],[Quantité unitaire/g ]])*1000 -> 2500 | L46: =(Tableau1[[#This Row],[Prix TTC/Birr unitaire ]]/Tableau1[[#This Row],[Quantité unitaire/g ]])*1000 -> 2500 | M46: =Tableau1[[#This Row],[Prix TTC/kg - Birr]]/1000 -> 2.5 | N46: =Tableau1[[#This Row],[Prix TTC/g - Birr]]+Tableau1[[#This Row],[Prix transport/g2]] -> 2.5
B47: Huile ricin | C47: Huiles | D47: 100 | E47: ESB products | F47: 200 | G47: =Tableau1[[#This Row],[Transport ]]/Tableau1[[#This Row],[Quantité unitaire/g ]] -> 2 | H47: 217 | I47: 251 | J47: =Tableau1[[#This Row],[Prix HT/kg- Birr]]/1000 -> 2.17 | K47: =(Tableau1[[#This Row],[Prix HT/birr unitaire]]/Tableau1[[#This Row],[Quantité unitaire/g ]])*1000 -> 2170 | L47: =(Tableau1[[#This Row],[Prix TTC/Birr unitaire ]]/Tableau1[[#This Row],[Quantité unitaire/g ]])*1000 -> 2510 | M47: =Tableau1[[#This Row],[Prix TTC/kg - Birr]]/1000 -> 2.51 | N47: =Tableau1[[#This Row],[Prix TTC/g - Birr]]+Tableau1[[#This Row],[Prix transport/g2]] -> 4.51
B48: Huile de coco | C48: Huiles | D48: 230 | E48: ESB products | F48: 200 | G48: =Tableau1[[#This Row],[Transport ]]/Tableau1[[#This Row],[Quantité unitaire/g ]] -> 0.86956522 | H48: 217 | I48: 251 | J48: =Tableau1[[#This Row],[Prix HT/kg- Birr]]/1000 -> 0.94347826 | K48: =(Tableau1[[#This Row],[Prix HT/birr unitaire]]/Tableau1[[#This Row],[Quantité unitaire/g ]])*1000 -> 943.47826 | L48: =(Tableau1[[#This Row],[Prix TTC/Birr unitaire ]]/Tableau1[[#This Row],[Quantité unitaire/g ]])*1000 -> 1091.3043 | M48: =Tableau1[[#This Row],[Prix TTC/kg - Birr]]/1000 -> 1.0913043 | N48: =Tableau1[[#This Row],[Prix TTC/g - Birr]]+Tableau1[[#This Row],[Prix transport/g2]] -> 1.9608696
B49: Huile de coco | C49: Huiles | D49: 0 | F49: 0 | G49: 0 | H49: 0 | I49: 0 | J49: =Tableau1[[#This Row],[Prix HT/kg- Birr]]/1000 -> #DIV/0! | K49: =(Tableau1[[#This Row],[Prix HT/birr unitaire]]/Tableau1[[#This Row],[Quantité unitaire/g ]])*1000 -> #DIV/0! | L49: =(Tableau1[[#This Row],[Prix TTC/Birr unitaire ]]/Tableau1[[#This Row],[Quantité unitaire/g ]])*1000 -> #DIV/0! | M49: =Tableau1[[#This Row],[Prix TTC/kg - Birr]]/1000 -> #DIV/0! | N49: =Tableau1[[#This Row],[Prix TTC/g - Birr]]+Tableau1[[#This Row],[Prix transport/g2]] -> #DIV/0!
B50: Hui de lin | C50: Huiles | D50: 200 | E50: Ariti herbal | F50: 200 | G50: =Tableau1[[#This Row],[Transport ]]/Tableau1[[#This Row],[Quantité unitaire/g ]] -> 1 | H50: 70 | I50: 70 | J50: =Tableau1[[#This Row],[Prix HT/kg- Birr]]/1000 -> 0.35 | K50: =(Tableau1[[#This Row],[Prix HT/birr unitaire]]/Tableau1[[#This Row],[Quantité unitaire/g ]])*1000 -> 350 | L50: =(Tableau1[[#This Row],[Prix TTC/Birr unitaire ]]/Tableau1[[#This Row],[Quantité unitaire/g ]])*1000 -> 350 | M50: =Tableau1[[#This Row],[Prix TTC/kg - Birr]]/1000 -> 0.35 | N50: =Tableau1[[#This Row],[Prix TTC/g - Birr]]+Tableau1[[#This Row],[Prix transport/g2]] -> 1.35
B51: Huile Moringa | C51: Huiles | D51: 50 | E51: Ariti herbal | F51: 200 | G51: =Tableau1[[#This Row],[Transport ]]/Tableau1[[#This Row],[Quantité unitaire/g ]] -> 4 | H51: 35 | I51: 35 | J51: =Tableau1[[#This Row],[Prix HT/kg- Birr]]/1000 -> 0.7 | K51: =(Tableau1[[#This Row],[Prix HT/birr unitaire]]/Tableau1[[#This Row],[Quantité unitaire/g ]])*1000 -> 700 | L51: =(Tableau1[[#This Row],[Prix TTC/Birr unitaire ]]/Tableau1[[#This Row],[Quantité unitaire/g ]])*1000 -> 700 | M51: =Tableau1[[#This Row],[Prix TTC/kg - Birr]]/1000 -> 0.7 | N51: =Tableau1[[#This Row],[Prix TTC/g - Birr]]+Tableau1[[#This Row],[Prix transport/g2]] -> 4.7
...

Sheet Atelier linge
B2: Atelier Linge
C4: Coûts des materiaux | D4: Salaire | E4: Charge
C5: =SUM(#REF!,Tableau426[[#Totals],[Total]],Tableau4727[[#Totals],[Total]],Tableau928[[#Totals],[Total]]) -> #REF! | D5: =Tableau1730[[#Totals],[Total]] -> 0 | E5: =Tableau1329[[#Totals],[Total]] -> 0
C6: Total | E6: =SUM(Tableau2331[Coûts des materiaux],Tableau2331[Salaire],Tableau2331[Charge]) -> #REF!
C17: Lessives- 1L | H17: Adoucissant - 1L | N17: Parfum de linge- 25 ml
B20: Matériaux | C20: Provenance | D20: Quantité/g ou ml | E20: Prix TTC/g ou ml | F20: Total | H20: Materiaux | I20: Quantité/g ou ml | J20: Prix TTC/ g et ml | K20: Total | N20: Materiaux | O20: Quantité/g ou ml | P20: Prix TTC/ g et ml | Q20: Total
B21: Acide citrique | C21: Jigra | E21: =Matériaux!N18 -> 0.07788 | F21: =Tableau7[[#This Row],[Quantité/g ou ml]]*Tableau7[[#This Row],[Prix TTC/g ou ml]] -> 0 | H21: Acide citrique | I21: 0 | J21: =Matériaux!M18 -> 0.069 | K21: =Tableau426[[#This Row],[Prix TTC/ g et ml]]*Tableau426[[#This Row],[Quantité/g ou ml]] -> 0 | N21: Acide citrique | O21: 0 | P21: =Matériaux!M18 -> 0.069 | Q21: =Tableau4727[[#This Row],[Prix TTC/ g et ml]]*Tableau4727[[#This Row],[Quantité/g ou ml]] -> 0
B22: Bicarbonate de soude | C22: Jigra | E22: =Matériaux!N19 -> 0.04338 | F22: =Tableau7[[#This Row],[Quantité/g ou ml]]*Tableau7[[#This Row],[Prix TTC/g ou ml]] -> 0 | H22: Bicarbonate de soude | I22: 0 | J22: =Matériaux!M19 -> 0.0345 | K22: =Tableau426[[#This Row],[Prix TTC/ g et ml]]*Tableau426[[#This Row],[Quantité/g ou ml]] -> 0 | N22: Bicarbonate de soude | O22: 0 | P22: =Matériaux!M19 -> 0.0345 | Q22: =Tableau4727[[#This Row],[Prix TTC/ g et ml]]*Tableau4727[[#This Row],[Quantité/g ou ml]] -> 0
B23: Cristaux de soude | C23: Jigra | E23: =Matériaux!N20 -> 0.04005 | F23: =Tableau7[[#This Row],[Quantité/g ou ml]]*Tableau7[[#This Row],[Prix TTC/g ou ml]] -> 0 | H23: Cristaux de soude | I23: 0 | J23: =Matériaux!M20 -> 0.0345 | K23: =Tableau426[[#This Row],[Prix TTC/ g et ml]]*Tableau426[[#This Row],[Quantité/g ou ml]] -> 0 | N23: Cristaux de soude | O23: 0 | P23: =Matériaux!M20 -> 0.0345 | Q23: =Tableau4727[[#This Row],[Prix TTC/ g et ml]]*Tableau4727[[#This Row],[Quantité/g ou ml]] -> 0
B24: Hydroxyde de sodium | E24: 0 | F24: 0 | H24: Percarbonate de soude | I24: 0 | J24: =Matériaux!M23 -> 0.0391 | K24: =Tableau426[[#This Row],[Prix TTC/ g et ml]]*Tableau426[[#This Row],[Quantité/g ou ml]] -> 0 | N24: Percarbonate de soude | O24: 0 | P24: =Matériaux!M23 -> 0.0391 | Q24: =Tableau4727[[#This Row],[Prix TTC/ g et ml]]*Tableau4727[[#This Row],[Quantité/g ou ml]] -> 0
B25: Soude caustique | C25: Jigra | E25: =Matériaux!N22 -> 0.06408 | F25: =Tableau7[[#This Row],[Quantité/g ou ml]]*Tableau7[[#This Row],[Prix TTC/g ou ml]] -> 0 | H25: Vinaigre blanc | I25: 300 | J25: =Matériaux!M24 -> 0.0206 | K25: =Tableau426[[#This Row],[Prix TTC/ g et ml]]*Tableau426[[#This Row],[Quantité/g ou ml]] -> 6.18 | N25: Vinaigre blanc | O25: 0 | P25: =Matériaux!M24 -> 0.0206 | Q25: =Tableau4727[[#This Row],[Prix TTC/ g et ml]]*Tableau4727[[#This Row],[Quantité/g ou ml]] -> 0
B26: Percarbonate de soude | C26: Jigra | E26: =Matériaux!N23 -> 0.04798 | F26: =Tableau7[[#This Row],[Quantité/g ou ml]]*Tableau7[[#This Row],[Prix TTC/g ou ml]] -> 0 | H26: Alcool denaturé | I26: 0 | J26: =Matériaux!M25 -> 0.175 | K26: =Tableau426[[#This Row],[Prix TTC/ g et ml]]*Tableau426[[#This Row],[Quantité/g ou ml]] -> 0 | N26: Alcool denaturé | O26: 0 | P26: =Matériaux!M25 -> 0.175 | Q26: =Tableau4727[[#This Row],[Prix TTC/ g et ml]]*Tableau4727[[#This Row],[Quantité/g ou ml]] -> 0
B27: Vinaigre blanc | C27: Bambis | E27: =Matériaux!N24 -> 0.5026 | F27: =Tableau7[[#This Row],[Quantité/g ou ml]]*Tableau7[[#This Row],[Prix TTC/g ou ml]] -> 0 | H27: Huile de lin | I27: 0 | J27: =Matériaux!#REF! -> #REF! | K27: =Tableau426[[#This Row],[Prix TTC/ g et ml]]*Tableau426[[#This Row],[Quantité/g ou ml]] -> #REF! | N27: Huile de lin | O27: 0 | P27: =Matériaux!#REF! -> #REF! | Q27: =Tableau4727[[#This Row],[Prix TTC/ g et ml]]*Tableau4727[[#This Row],[Quantité/g ou ml]] -> #REF!
B28: Alcool denaturé | C28: Bambis | E28: =Matériaux!N25 -> 0.416 | F28: =Tableau7[[#This Row],[Quantité/g ou ml]]*Tableau7[[#This Row],[Prix TTC/g ou ml]] -> 0 | H28: Terebentine | I28: 0 | J28: =Matériaux!M28 -> 0 | K28: =Tableau426[[#This Row],[Prix TTC/ g et ml]]*Tableau426[[#This Row],[Quantité/g ou ml]] -> 0 | N28: Terebentine | O28: 0 | P28: =Matériaux!M28 -> 0 | Q28: =Tableau4727[[#This Row],[Prix TTC/ g et ml]]*Tableau4727[[#This Row],[Quantité/g ou ml]] -> 0
B29: Alcool modifié/vodka | E29: =Matériaux!N26 -> 0 | F29: =Tableau7[[#This Row],[Quantité/g ou ml]]*Tableau7[[#This Row],[Prix TTC/g ou ml]] -> 0 | H29: Cire d’abeille | I29: 0 | J29: =Matériaux!M45 -> 0.275 | K29: =Tableau426[[#This Row],[Prix TTC/ g et ml]]*Tableau426[[#This Row],[Quantité/g ou ml]] -> 0 | N29: Cire d’abeille | O29: 0 | P29: =Matériaux!M45 -> 0.275 | Q29: =Tableau4727[[#This Row],[Prix TTC/ g et ml]]*Tableau4727[[#This Row],[Quantité/g ou ml]] -> 0
B30: Alcool a 70 °C | E30: 0 | F30: 0 | H30: Alcool modifié/vodka | I30: 0 | J30: =Matériaux!M26 -> 0 | K30: =Tableau426[[#This Row],[Prix TTC/ g et ml]]*Tableau426[[#This Row],[Quantité/g ou ml]] -> 0 | N30: Alcool modifié/vodka | O30: 50 | P30: =Matériaux!M26 -> 0 | Q30: =Tableau4727[[#This Row],[Prix TTC/ g et ml]]*Tableau4727[[#This Row],[Quantité/g ou ml]] -> 0
B31: Terebentine | E31: =Matériaux!N28 -> 0 | F31: =Tableau7[[#This Row],[Quantité/g ou ml]]*Tableau7[[#This Row],[Prix TTC/g ou ml]] -> 0 | H31: HE tea tree | I31: 0 | J31: =Matériaux!M29 -> 0 | K31: =Tableau426[[#This Row],[Prix TTC/ g et ml]]*Tableau426[[#This Row],[Quantité/g ou ml]] -> 0 | N31: HE tea tree | O31: 0.2 | P31: =Matériaux!M29 -> 0 | Q31: =Tableau4727[[#This Row],[Prix TTC/ g et ml]]*Tableau4727[[#This Row],[Quantité/g ou ml]] -> 0
B32: HÉ Thym | C32: Ariti herbal | E32: 0 | F32: 0 | H32: HÉ Palmarosa | I32: 0 | J32: =Matériaux!M30 -> 1.8 | K32: =Tableau426[[#This Row],[Prix TTC/ g et ml]]*Tableau426[[#This Row],[Quantité/g ou ml]] -> 0 | N32: HÉ Palmarosa | O32: 0 | P32: =Matériaux!M30 -> 1.8 | Q32: =Tableau4727[[#This Row],[Prix TTC/ g et ml]]*Tableau4727[[#This Row],[Quantité/g ou ml]] -> 0
B33: HÉ citron | C33: Damascène essential oil | E33: =Matériaux!N30 -> 1.8 | F33: =Tableau7[[#This Row],[Quantité/g ou ml]]*Tableau7[[#This Row],[Prix TTC/g ou ml]] -> 0 | H33: HÉ Thym | I33: 0 | J33: =Matériaux!M31 -> 1.8 | K33: =Tableau426[[#This Row],[Prix TTC/ g et ml]]*Tableau426[[#This Row],[Quantité/g ou ml]] -> 0 | N33: HÉ Thym | O33: 0 | P33: =Matériaux!M31 -> 1.8 | Q33: =Tableau4727[[#This Row],[Prix TTC/ g et ml]]*Tableau4727[[#This Row],[Quantité/g ou ml]] -> 0
B34: HÉ orange | C34: Damascène essential oil | E34: =Matériaux!N31 -> 1.8 | F34: =Tableau7[[#This Row],[Quantité/g ou ml]]*Tableau7[[#This Row],[Prix TTC/g ou ml]] -> 0 | H34: HÉ eucalyptus | I34: 0 | J34: =Matériaux!M32 -> 1.8 | K34: =Tableau426[[#This Row],[Prix TTC/ g et ml]]*Tableau426[[#This Row],[Quantité/g ou ml]] -> 0 | N34: HÉ eucalyptus | O34: 0 | P34: =Matériaux!M32 -> 1.8 | Q34: =Tableau4727[[#This Row],[Prix TTC/ g et ml]]*Tableau4727[[#This Row],[Quantité/g ou ml]] -> 0
B35: HÉ Romarin | C35: Damascène essential oil | E35: =Matériaux!N32 -> 1.8 | F35: =Tableau7[[#This Row],[Quantité/g ou ml]]*Tableau7[[#This Row],[Prix TTC/g ou ml]] -> 0 | H35: HÉ citron | I35: 0 | J35: =Matériaux!M34 -> 1.8 | K35: =Tableau426[[#This Row],[Prix TTC/ g et ml]]*Tableau426[[#This Row],[Quantité/g ou ml]] -> 0 | N35: HÉ citron | O35: 0 | P35: =Matériaux!M34 -> 1.8 | Q35: =Tableau4727[[#This Row],[Prix TTC/ g et ml]]*Tableau4727[[#This Row],[Quantité/g ou ml]] -> 0
B36: HÉ lemongrass | C36: Damascène essential oil | E36: =Matériaux!N33 -> 1.8 | F36: =Tableau7[[#This Row],[Quantité/g ou ml]]*Tableau7[[#This Row],[Prix TTC/g ou ml]] -> 0 | H36: HÉ orange | I36: 0 | J36: =Matériaux!M35 -> 1.8 | K36: =Tableau426[[#This Row],[Prix TTC/ g et ml]]*Tableau426[[#This Row],[Quantité/g ou ml]] -> 0 | N36: HÉ orange | O36: 3 | P36: =Matériaux!M35 -> 1.8 | Q36: =Tableau4727[[#This Row],[Prix TTC/ g et ml]]*Tableau4727[[#This Row],[Quantité/g ou ml]] -> 5.4
B37: HÉ eucalyptus | C37: Damascène essential oil | E37: =Matériaux!N34 -> 1.8 | F37: =Tableau7[[#This Row],[Quantité/g ou ml]]*Tableau7[[#This Row],[Prix TTC/g ou ml]] -> 0 | H37: Gomme de guar | I37: 0 | J37: =Matériaux!#REF! -> #REF! | K37: =Tableau426[[#This Row],[Prix TTC/ g et ml]]*Tableau426[[#This Row],[Quantité/g ou ml]] -> #REF! | N37: Gomme de guar | O37: 0 | P37: =Matériaux!#REF! -> #REF! | Q37: =Tableau4727[[#This Row],[Prix TTC/ g et ml]]*Tableau4727[[#This Row],[Quantité/g ou ml]] -> #REF!
B38: HÉ orange | C38: Damascène essential oil | E38: =Matériaux!N35 -> 1.8 | F38: =Tableau7[[#This Row],[Quantité/g ou ml]]*Tableau7[[#This Row],[Prix TTC/g ou ml]] -> 0 | H38: Eau minérale | I38: 600 | J38: =Matériaux!M66 -> 0.009 | K38: =Tableau426[[#This Row],[Prix TTC/ g et ml]]*Tableau426[[#This Row],[Quantité/g ou ml]] -> 5.4 | N38: Eau minérale | O38: 25 | P38: =Matériaux!M66 -> 0.009 | Q38: =Tableau4727[[#This Row],[Prix TTC/ g et ml]]*Tableau4727[[#This Row],[Quantité/g ou ml]] -> 0.225
B39: HÉ eucalyptus | C39: Ariti herbal | E39: =Matériaux!N36 -> 3.1 | F39: =Tableau7[[#This Row],[Quantité/g ou ml]]*Tableau7[[#This Row],[Prix TTC/g ou ml]] -> 0 | H39: Fécule de pomme de terre/corn stach | I39: 0 | J39: =Matériaux!M67 -> 0 | K39: =Tableau426[[#This Row],[Prix TTC/ g et ml]]*Tableau426[[#This Row],[Quantité/g ou ml]] -> 0 | N39: Fécule de pomme de terre/corn stach | O39: 0 | P39: =Matériaux!M67 -> 0 | Q39: =Tableau4727[[#This Row],[Prix TTC/ g et ml]]*Tableau4727[[#This Row],[Quantité/g ou ml]] -> 0
B40: HÉ eucalyptus | C40: Aberra cosmetique | E40: =Matériaux!N37 -> 15.8 | F40: =Tableau7[[#This Row],[Quantité/g ou ml]]*Tableau7[[#This Row],[Prix TTC/g ou ml]] -> 0 | H40: Alcool a 70°C | J40: =Matériaux!M27 -> #DIV/0! | K40: =Tableau426[[#This Row],[Prix TTC/ g et ml]]*Tableau426[[#This Row],[Quantité/g ou ml]] -> #DIV/0! | N40: Alcool a 70°C | P40: =Matériaux!M27 -> #DIV/0! | Q40: =Tableau4727[[#This Row],[Prix TTC/ g et ml]]*Tableau4727[[#This Row],[Quantité/g ou ml]] -> #DIV/0!
B41: HÉ orange | C41: Aberra cosmetique | E41: =Matériaux!N38 -> 19.133333 | F41: =Tableau7[[#This Row],[Quantité/g ou ml]]*Tableau7[[#This Row],[Prix TTC/g ou ml]] -> 0 | H41: Cendré de bois | J41: =Matériaux!P57 -> 0 | K41: =Tableau426[[#This Row],[Prix TTC/ g et ml]]*Tableau426[[#This Row],[Quantité/g ou ml]] -> 0 | N41: Cendré de bois | P41: =Matériaux!M68 -> #DIV/0! | Q41: =Tableau4727[[#This Row],[Prix TTC/ g et ml]]*Tableau4727[[#This Row],[Quantité/g ou ml]] -> #DIV/0!
B42: HÉ lemongrass | C42: Aberra cosmetique | E42: =Matériaux!N39 -> 20.8 | F42: =Tableau7[[#This Row],[Quantité/g ou ml]]*Tableau7[[#This Row],[Prix TTC/g ou ml]] -> 0 | H42: Zestes d’agrumes | J42: =Matériaux!P57 -> 0 | K42: =Tableau426[[#This Row],[Prix TTC/ g et ml]]*Tableau426[[#This Row],[Quantité/g ou ml]] -> 0 | N42: Zestes d’agrumes | P42: =Matériaux!M69 -> #DIV/0! | Q42: =Tableau4727[[#This Row],[Prix TTC/ g et ml]]*Tableau4727[[#This Row],[Quantité/g ou ml]] -> #DIV/0!
B43: HÉ franckincense | C43: Aberra cosmetique | E43: =Matériaux!N40 -> 22.466667 | F43: =Tableau7[[#This Row],[Quantité/g ou ml]]*Tableau7[[#This Row],[Prix TTC/g ou ml]] -> 0 | H43: Total | K43: =SUBTOTAL(109,Tableau426[Total]) -> #REF! | N43: Total | Q43: =SUBTOTAL(109,Tableau4727[Total]) -> #REF!
B44: HÉ Romarin | C44: Aberra cosmetique | E44: =Matériaux!N41 -> 27.466667 | F44: =Tableau7[[#This Row],[Quantité/g ou ml]]*Tableau7[[#This Row],[Prix TTC/g ou ml]] -> 0
B45: HÉ franckincense | C45: Ariti herbal | E45: =Matériaux!N42 -> 20 | F45: =Tableau7[[#This Row],[Quantité/g ou ml]]*Tableau7[[#This Row],[Prix TTC/g ou ml]] -> 0
B46: HÉ Palmarosa | C46: Ariti herbal | E46: =Matériaux!N43 -> 22.5 | F46: =Tableau7[[#This Row],[Quantité/g ou ml]]*Tableau7[[#This Row],[Prix TTC/g ou ml]] -> 0
B47: HE tea tree | C47: Aberra cosmetique | E47: 0 | F47: 0
B48: Cire d’abeille | C48: Ellelan | E48: =Matériaux!N45 -> 0.275 | F48: =Tableau7[[#This Row],[Quantité/g ou ml]]*Tableau7[[#This Row],[Prix TTC/g ou ml]] -> 0
B49: Huile de ricin | C49: Aberra cosmetique | E49: =Matériaux!N46 -> 2.5 | F49: =Tableau7[[#This Row],[Quantité/g ou ml]]*Tableau7[[#This Row],[Prix TTC/g ou ml]] -> 0
B50: Huile ricin | C50: ESB products | E50: =Matériaux!N47 -> 4.51 | F50: =Tableau7[[#This Row],[Quantité/g ou ml]]*Tableau7[[#This Row],[Prix TTC/g ou ml]] -> 0
B51: Huile de coco | C51: ESB products | E51: =Matériaux!N48 -> 1.9608696 | F51: =Tableau7[[#This Row],[Quantité/g ou ml]]*Tableau7[[#This Row],[Prix TTC/g ou ml]] -> 0
B52: Huile de coco | E52: 0 | F52: 0
B53: Hui de lin | C53: Ariti herbal | E53: =Matériaux!N50 -> 1.35 | F53: =Tableau7[[#This Row],[Quantité/g ou ml]]*Tableau7[[#This Row],[Prix TTC/g ou ml]] -> 0
B54: Huile Moringa | C54: Ariti herbal | E54: =Matériaux!N51 -> 4.7 | F54: =Tableau7[[#This Row],[Quantité/g ou ml]]*Tableau7[[#This Row],[Prix TTC/g ou ml]] -> 0
...

Sheet Atelier cuisine 
B2: Atelier cuisine
C4: Colonne1 | D4: Coûts des materiaux | E4: Salaire | F4: Charge
D5: =SUM(Tableau332[[#Totals],[Total]],Tableau433[[#Totals],[Total]],Tableau4734[[#Totals],[Total]],Tableau935[[#Totals],[Total]]) -> #REF! | E5: =Tableau1737[[#Totals],[Total]] -> 0 | F5: =Tableau1336[[#Totals],[Total]] -> 0
D6: Total | F6: =SUM(Tableau2338[Coûts des materiaux],Tableau2338[Salaire],Tableau2338[Charge]) -> #REF!
C17: Crème vaisselle sans sulfates | F17: Ou | H17: Cake vaisselle sans sulfates - 100ml | N17: Pastilles lave vaisselle | R17: Ou | T17: Nettoyant multisurface- 1L
B20: Materiaux | C20: Quantité/g ou ml | D20: Prix TTC/g et ml | E20: Total | G20: Materiaux | H20: Quantité/g ou ml | I20: Prix TTC/ g et ml | J20: Total | M20: Materiaux | N20: Quantité/g ou ml | O20: Prix TTC/ g et ml | P20: Total | S20: Je suis
B21: Acide citrique | C21: 0 | D21: =Matériaux!M18 -> 0.069 | E21: =Tableau332[[#This Row],[Quantité/g ou ml]]*Tableau332[[#This Row],[Prix TTC/g et ml]] -> 0 | G21: Acide citrique | H21: 0 | I21: =Matériaux!M18 -> 0.069 | J21: =Tableau433[[#This Row],[Prix TTC/ g et ml]]*Tableau433[[#This Row],[Quantité/g ou ml]] -> 0 | M21: Acide citrique | N21: 110 | O21: =Matériaux!Q18 -> 0 | P21: =Matériaux!M18 -> 0.069
B22: Bicarbonate de soude | C22: 0 | D22: =Matériaux!M19 -> 0.0345 | E22: =Tableau332[[#This Row],[Quantité/g ou ml]]*Tableau332[[#This Row],[Prix TTC/g et ml]] -> 0 | G22: Bicarbonate de soude | H22: 6 | I22: =Matériaux!M19 -> 0.0345 | J22: =Tableau433[[#This Row],[Prix TTC/ g et ml]]*Tableau433[[#This Row],[Quantité/g ou ml]] -> 0.207 | M22: Bicarbonate de soude | N22: 170 | O22: =Matériaux!Q19 -> 0 | P22: =Matériaux!M19 -> 0.0345
B23: Cristaux de soude | C23: 0 | D23: =Matériaux!M20 -> 0.0345 | E23: =Tableau332[[#This Row],[Quantité/g ou ml]]*Tableau332[[#This Row],[Prix TTC/g et ml]] -> 0 | G23: Cristaux de soude | H23: 4 | I23: =Matériaux!M20 -> 0.0345 | J23: =Tableau433[[#This Row],[Prix TTC/ g et ml]]*Tableau433[[#This Row],[Quantité/g ou ml]] -> 0.138 | M23: Cristaux de soude | N23: 110 | O23: =Matériaux!Q20 -> 0 | P23: =Matériaux!M20 -> 0.0345
B24: Percarbonate de soude | C24: 0 | D24: =Matériaux!M23 -> 0.0391 | E24: =Tableau332[[#This Row],[Quantité/g ou ml]]*Tableau332[[#This Row],[Prix TTC/g et ml]] -> 0 | G24: Percarbonate de soude | H24: 0 | I24: =Matériaux!M23 -> 0.0391 | J24: =Tableau433[[#This Row],[Prix TTC/ g et ml]]*Tableau433[[#This Row],[Quantité/g ou ml]] -> 0 | M24: Percarbonate de soude | N24: 0 | O24: =Matériaux!Q23 -> 0 | P24: =Matériaux!M23 -> 0.0391
B25: Vinaigre blanc | C25: 0 | D25: =Matériaux!M24 -> 0.0206 | E25: =Tableau332[[#This Row],[Quantité/g ou ml]]*Tableau332[[#This Row],[Prix TTC/g et ml]] -> 0 | G25: Vinaigre blanc | H25: 0 | I25: =Matériaux!M24 -> 0.0206 | J25: =Tableau433[[#This Row],[Prix TTC/ g et ml]]*Tableau433[[#This Row],[Quantité/g ou ml]] -> 0 | M25: Vinaigre blanc | N25: 0 | O25: =Matériaux!Q24 -> 0 | P25: =Matériaux!M24 -> 0.0206
B26: Alcool denaturé | C26: 0 | D26: =Matériaux!M25 -> 0.175 | E26: =Tableau332[[#This Row],[Quantité/g ou ml]]*Tableau332[[#This Row],[Prix TTC/g et ml]] -> 0 | G26: Alcool denaturé | H26: 0 | I26: =Matériaux!M25 -> 0.175 | J26: =Tableau433[[#This Row],[Prix TTC/ g et ml]]*Tableau433[[#This Row],[Quantité/g ou ml]] -> 0 | M26: Alcool denaturé | N26: 0 | O26: =Matériaux!Q25 -> 0 | P26: =Matériaux!M25 -> 0.175
B27: Huile de lin | C27: 0 | D27: =Matériaux!#REF! -> #REF! | E27: =Tableau332[[#This Row],[Quantité/g ou ml]]*Tableau332[[#This Row],[Prix TTC/g et ml]] -> #REF! | G27: Huile de lin | H27: 0 | I27: =Matériaux!#REF! -> #REF! | J27: =Tableau433[[#This Row],[Prix TTC/ g et ml]]*Tableau433[[#This Row],[Quantité/g ou ml]] -> #REF! | M27: Huile de lin | N27: 0 | O27: =Matériaux!#REF! -> #REF! | P27: =Matériaux!#REF! -> #REF!
B28: Terebentine | C28: 0 | D28: =Matériaux!M28 -> 0 | E28: =Tableau332[[#This Row],[Quantité/g ou ml]]*Tableau332[[#This Row],[Prix TTC/g et ml]] -> 0 | G28: Terebentine | H28: 0 | I28: =Matériaux!M28 -> 0 | J28: =Tableau433[[#This Row],[Prix TTC/ g et ml]]*Tableau433[[#This Row],[Quantité/g ou ml]] -> 0 | M28: Terebentine | N28: 0 | O28: =Matériaux!Q28 -> 0 | P28: =Matériaux!M28 -> 0
B29: Cire d’abeille | C29: 0 | D29: =Matériaux!M45 -> 0.275 | E29: =Tableau332[[#This Row],[Quantité/g ou ml]]*Tableau332[[#This Row],[Prix TTC/g et ml]] -> 0 | G29: Cire d’abeille | H29: 0 | I29: =Matériaux!M45 -> 0.275 | J29: =Tableau433[[#This Row],[Prix TTC/ g et ml]]*Tableau433[[#This Row],[Quantité/g ou ml]] -> 0 | M29: Cire d’abeille | N29: 0 | O29: =Matériaux!Q40 -> 0 | P29: =Matériaux!M45 -> 0.275
B30: Alcool modifié/vodka | C30: 0 | D30: =Matériaux!M26 -> 0 | E30: =Tableau332[[#This Row],[Quantité/g ou ml]]*Tableau332[[#This Row],[Prix TTC/g et ml]] -> 0 | G30: Alcool modifié/vodka | H30: 0 | I30: =Matériaux!M26 -> 0 | J30: =Tableau433[[#This Row],[Prix TTC/ g et ml]]*Tableau433[[#This Row],[Quantité/g ou ml]] -> 0 | M30: Alcool modifié/vodka | N30: 0 | O30: =Matériaux!Q26 -> 0 | P30: =Matériaux!M26 -> 0
B31: HE tea tree | C31: 0 | D31: =Matériaux!M29 -> 0 | E31: =Tableau332[[#This Row],[Quantité/g ou ml]]*Tableau332[[#This Row],[Prix TTC/g et ml]] -> 0 | G31: HE tea tree | H31: 20 | I31: =Matériaux!M29 -> 0 | J31: =Tableau433[[#This Row],[Prix TTC/ g et ml]]*Tableau433[[#This Row],[Quantité/g ou ml]] -> 0 | M31: HE tea tree | N31: 0 | O31: =Matériaux!Q29 -> 0 | P31: =Matériaux!M29 -> 0
B32: HÉ Palmarosa | C32: 0 | D32: =Matériaux!M30 -> 1.8 | E32: =Tableau332[[#This Row],[Quantité/g ou ml]]*Tableau332[[#This Row],[Prix TTC/g et ml]] -> 0 | G32: HÉ Palmarosa | H32: 0 | I32: =Matériaux!M30 -> 1.8 | J32: =Tableau433[[#This Row],[Prix TTC/ g et ml]]*Tableau433[[#This Row],[Quantité/g ou ml]] -> 0 | M32: HÉ Palmarosa | N32: 0 | O32: =Matériaux!Q30 -> 0 | P32: =Matériaux!M30 -> 1.8
B33: HÉ Thym | C33: 0 | D33: =Matériaux!M31 -> 1.8 | E33: =Tableau332[[#This Row],[Quantité/g ou ml]]*Tableau332[[#This Row],[Prix TTC/g et ml]] -> 0 | G33: HÉ Thym | H33: 0 | I33: =Matériaux!M31 -> 1.8 | J33: =Tableau433[[#This Row],[Prix TTC/ g et ml]]*Tableau433[[#This Row],[Quantité/g ou ml]] -> 0 | M33: HÉ Thym | N33: 0 | O33: =Matériaux!Q31 -> 0 | P33: =Matériaux!M31 -> 1.8
B34: HÉ eucalyptus | C34: 0 | D34: =Matériaux!M32 -> 1.8 | E34: =Tableau332[[#This Row],[Quantité/g ou ml]]*Tableau332[[#This Row],[Prix TTC/g et ml]] -> 0 | G34: HÉ eucalyptus | H34: 0 | I34: =Matériaux!M32 -> 1.8 | J34: =Tableau433[[#This Row],[Prix TTC/ g et ml]]*Tableau433[[#This Row],[Quantité/g ou ml]] -> 0 | M34: HÉ eucalyptus | O34: =Matériaux!Q32 -> 0 | P34: =Matériaux!M32 -> 1.8
B35: HÉ citron | C35: 0 | D35: =Matériaux!M34 -> 1.8 | E35: =Tableau332[[#This Row],[Quantité/g ou ml]]*Tableau332[[#This Row],[Prix TTC/g et ml]] -> 0 | G35: HÉ citron | H35: 0 | I35: =Matériaux!M34 -> 1.8 | J35: =Tableau433[[#This Row],[Prix TTC/ g et ml]]*Tableau433[[#This Row],[Quantité/g ou ml]] -> 0 | M35: HÉ citron | N35: 0 | O35: =Matériaux!Q33 -> 0 | P35: =Matériaux!M34 -> 1.8
B36: HÉ orange | C36: 0 | D36: =Matériaux!M35 -> 1.8 | E36: =Tableau332[[#This Row],[Quantité/g ou ml]]*Tableau332[[#This Row],[Prix TTC/g et ml]] -> 0 | G36: HÉ orange | H36: 0 | I36: =Matériaux!M35 -> 1.8 | J36: =Tableau433[[#This Row],[Prix TTC/ g et ml]]*Tableau433[[#This Row],[Quantité/g ou ml]] -> 0 | M36: HÉ orange | N36: 0 | O36: =Matériaux!Q34 -> 0 | P36: =Matériaux!M35 -> 1.8
B37: Gomme de guar | C37: 0 | D37: =Matériaux!#REF! -> #REF! | E37: =Tableau332[[#This Row],[Quantité/g ou ml]]*Tableau332[[#This Row],[Prix TTC/g et ml]] -> #REF! | G37: Gomme de guar | H37: 0 | I37: =Matériaux!#REF! -> #REF! | J37: =Tableau433[[#This Row],[Prix TTC/ g et ml]]*Tableau433[[#This Row],[Quantité/g ou ml]] -> #REF! | M37: Gomme de guar | N37: 0 | O37: =Matériaux!Q52 -> 0 | P37: =Matériaux!#REF! -> #REF!
B38: Eau minérale | C38: 45 | D38: =Matériaux!M66 -> 0.009 | E38: =Tableau332[[#This Row],[Quantité/g ou ml]]*Tableau332[[#This Row],[Prix TTC/g et ml]] -> 0.405 | G38: Eau minérale | H38: 80 | I38: =Matériaux!M66 -> 0.009 | J38: =Tableau433[[#This Row],[Prix TTC/ g et ml]]*Tableau433[[#This Row],[Quantité/g ou ml]] -> 0.72 | M38: Eau minérale | N38: 0 | O38: =Matériaux!Q55 -> 0 | P38: =Matériaux!M66 -> 0.009
B39: Fécule de pomme de terre/corn stach | C39: 0 | D39: =Matériaux!M67 -> 0 | E39: =Tableau332[[#This Row],[Quantité/g ou ml]]*Tableau332[[#This Row],[Prix TTC/g et ml]] -> 0 | G39: Fécule de pomme de terre/corn stach | H39: 0 | I39: =Matériaux!M67 -> 0 | J39: =Tableau433[[#This Row],[Prix TTC/ g et ml]]*Tableau433[[#This Row],[Quantité/g ou ml]] -> 0 | M39: Fécule de pomme de terre/corn stach | N39: 0 | O39: =Matériaux!Q56 -> 0 | P39: =Matériaux!M67 -> 0
B40: Alcool a 70°C | C40: 0 | D40: =Matériaux!M27 -> #DIV/0! | E40: =Tableau332[[#This Row],[Quantité/g ou ml]]*Tableau332[[#This Row],[Prix TTC/g et ml]] -> #DIV/0! | G40: Alcool a 70°C | H40: 0 | I40: =Matériaux!M27 -> #DIV/0! | J40: =Tableau433[[#This Row],[Prix TTC/ g et ml]]*Tableau433[[#This Row],[Quantité/g ou ml]] -> #DIV/0! | M40: Alcool a 70°C | N40: 0 | O40: =Matériaux!Q27 -> 0 | P40: =Matériaux!M27 -> #DIV/0!
B41: Cendre de bois | C41: 0 | D41: =Matériaux!M68 -> #DIV/0! | E41: =Tableau332[[#This Row],[Quantité/g ou ml]]*Tableau332[[#This Row],[Prix TTC/g et ml]] -> #DIV/0! | G41: Cendre de bois | H41: 0 | I41: =Matériaux!M68 -> #DIV/0! | J41: =Tableau433[[#This Row],[Prix TTC/ g et ml]]*Tableau433[[#This Row],[Quantité/g ou ml]] -> #DIV/0! | M41: Cendre de bois | N41: 0 | O41: =Matériaux!Q57 -> 0 | P41: =Matériaux!M68 -> #DIV/0!
B42: Zestes agrumes | C42: 0 | D42: =Matériaux!M69 -> #DIV/0! | E42: =Tableau332[[#This Row],[Quantité/g ou ml]]*Tableau332[[#This Row],[Prix TTC/g et ml]] -> #DIV/0! | G42: Zestes agrumes | H42: 0 | I42: =Matériaux!M69 -> #DIV/0! | J42: =Tableau433[[#This Row],[Prix TTC/ g et ml]]*Tableau433[[#This Row],[Quantité/g ou ml]] -> #DIV/0! | M42: Zestes agrumes | N42: 0 | O42: =Matériaux!#REF! -> #REF! | P42: =Matériaux!M69 -> #DIV/0!
B43: Gros sel | C43: 0 | D43: =Matériaux!M70 -> 0.03478 | E43: =Tableau332[[#This Row],[Quantité/g ou ml]]*Tableau332[[#This Row],[Prix TTC/g et ml]] -> 0 | G43: Gros sel | H43: 0 | I43: =Matériaux!M70 -> 0.03478 | J43: =Tableau433[[#This Row],[Prix TTC/ g et ml]]*Tableau433[[#This Row],[Quantité/g ou ml]] -> 0 | M43: Gros sel | N43: 180 | O43: =Matériaux!Q58 -> 0 | P43: =Matériaux!M70 -> 0.03478
B44: Savon végétal | C44: 30 | D44: =Matériaux!M21 -> #DIV/0! | E44: =Tableau332[[#This Row],[Quantité/g ou ml]]*Tableau332[[#This Row],[Prix TTC/g et ml]] -> #DIV/0! | G44: Savon végétal | H44: 60 | I44: =Matériaux!M21 -> #DIV/0! | J44: =Tableau433[[#This Row],[Prix TTC/ g et ml]]*Tableau433[[#This Row],[Quantité/g ou ml]] -> #DIV/0! | M44: Savon végétal | N44: 0 | O44: =Matériaux!Q21 -> 0 | P44: =Matériaux!M21 -> #DIV/0!
B45: Total | E45: =SUBTOTAL(109,Tableau332[Total]) -> #REF! | G45: Total | J45: =SUBTOTAL(109,Tableau433[Total]) -> #REF! | M45: Total | P45: =SUBTOTAL(109,Tableau4734[Total]) -> #REF!
B48: Materiel | C48: Quantité | D48: Prix à l’unité | E48: Total
B49: Fiches recette - impression
B50: Étiquettes
B52: Total | E52: =SUBTOTAL(109,Tableau935[Total]) -> 0
B54: Salaire | C54: Coût horaire | D54: Nombre d’heure | E54: Total
B55: Heure préparation
B56: Heure d’ateliers
B57: Total | E57: =SUBTOTAL(109,Tableau1737[Total]) -> 0
B60: Charges | C60: Coût | D60: Nombre de participant | E60: Total
...

Sheet Atelier surface
B2: Atelier Surfaces
C4: Coûts des materiaux | D4: Salaire | E4: Charge
C5: =SUM(Tableau340[[#Totals],[Total]],Tableau441[[#Totals],[Total]],Tableau33239[[#Totals],[Total]]) -> #REF! | D5: =Tableau1745[[#Totals],[Total]] -> 0 | E5: =Tableau1344[[#Totals],[Total]] -> 0
C6: Total | E6: =SUM(Tableau2346[Coûts des materiaux],Tableau2346[Salaire],Tableau2346[Charge]) -> #REF!
C17: Produit à vitre - 1L | H17: Cire pour les meubles | O17: Nettoyant multi surface
B20: Materiaux | C20: Quantité/g ou ml | D20: Prix TTC/g et ml | E20: Total | G20: Materiaux | H20: Quantité/g ou ml | I20: Prix TTC/ g et ml | J20: Total | N20: Materiaux | O20: Quantité/g ou ml | P20: Prix TTC/g et ml | Q20: Total
B21: Acide citrique | C21: 0 | D21: =Matériaux!M18 -> 0.069 | E21: =Tableau340[[#This Row],[Quantité/g ou ml]]*Tableau340[[#This Row],[Prix TTC/g et ml]] -> 0 | G21: Acide citrique | H21: 0 | I21: =Matériaux!M18 -> 0.069 | J21: =Tableau441[[#This Row],[Prix TTC/ g et ml]]*Tableau441[[#This Row],[Quantité/g ou ml]] -> 0 | N21: Acide citrique | O21: 0 | P21: =Matériaux!AB18 -> 0 | Q21: =Matériaux!M18 -> 0.069
B22: Bicarbonate de soude | C22: 0 | D22: =Matériaux!M19 -> 0.0345 | E22: =Tableau340[[#This Row],[Quantité/g ou ml]]*Tableau340[[#This Row],[Prix TTC/g et ml]] -> 0 | G22: Bicarbonate de soude | H22: 0 | I22: =Matériaux!M19 -> 0.0345 | J22: =Tableau441[[#This Row],[Prix TTC/ g et ml]]*Tableau441[[#This Row],[Quantité/g ou ml]] -> 0 | N22: Bicarbonate de soude | O22: 20 | P22: =Matériaux!AB19 -> 0 | Q22: =Matériaux!M19 -> 0.0345
B23: Cristaux de soude | C23: 0 | D23: =Matériaux!M20 -> 0.0345 | E23: =Tableau340[[#This Row],[Quantité/g ou ml]]*Tableau340[[#This Row],[Prix TTC/g et ml]] -> 0 | G23: Cristaux de soude | H23: 0 | I23: =Matériaux!M20 -> 0.0345 | J23: =Tableau441[[#This Row],[Prix TTC/ g et ml]]*Tableau441[[#This Row],[Quantité/g ou ml]] -> 0 | N23: Cristaux de soude | O23: 0 | P23: =Matériaux!AB20 -> 0 | Q23: =Matériaux!M20 -> 0.0345
B24: Percarbonate de soude | C24: 0 | D24: =Matériaux!M23 -> 0.0391 | E24: =Tableau340[[#This Row],[Quantité/g ou ml]]*Tableau340[[#This Row],[Prix TTC/g et ml]] -> 0 | G24: Percarbonate de soude | H24: 0 | I24: =Matériaux!M23 -> 0.0391 | J24: =Tableau441[[#This Row],[Prix TTC/ g et ml]]*Tableau441[[#This Row],[Quantité/g ou ml]] -> 0 | N24: Percarbonate de soude | O24: 0 | P24: =Matériaux!AB23 -> 0 | Q24: =Matériaux!M23 -> 0.0391
B25: Vinaigre blanc | C25: 0 | D25: =Matériaux!M24 -> 0.0206 | E25: =Tableau340[[#This Row],[Quantité/g ou ml]]*Tableau340[[#This Row],[Prix TTC/g et ml]] -> 0 | G25: Vinaigre blanc | H25: 0 | I25: =Matériaux!M24 -> 0.0206 | J25: =Tableau441[[#This Row],[Prix TTC/ g et ml]]*Tableau441[[#This Row],[Quantité/g ou ml]] -> 0 | N25: Vinaigre blanc | O25: 500 | P25: =Matériaux!AB24 -> 0 | Q25: =Matériaux!M24 -> 0.0206
B26: Alcool denaturé | C26: 250 | D26: =Matériaux!M25 -> 0.175 | E26: =Tableau340[[#This Row],[Quantité/g ou ml]]*Tableau340[[#This Row],[Prix TTC/g et ml]] -> 43.75 | G26: Alcool denaturé | H26: 0 | I26: =Matériaux!M25 -> 0.175 | J26: =Tableau441[[#This Row],[Prix TTC/ g et ml]]*Tableau441[[#This Row],[Quantité/g ou ml]] -> 0 | N26: Alcool denaturé | P26: =Matériaux!AB25 -> 0 | Q26: =Matériaux!M25 -> 0.175
B27: Huile de lin | C27: 0 | D27: =Matériaux!#REF! -> #REF! | E27: =Tableau340[[#This Row],[Quantité/g ou ml]]*Tableau340[[#This Row],[Prix TTC/g et ml]] -> #REF! | G27: Huile de lin | H27: 200 | I27: =Matériaux!#REF! -> #REF! | J27: =Tableau441[[#This Row],[Prix TTC/ g et ml]]*Tableau441[[#This Row],[Quantité/g ou ml]] -> #REF! | N27: Huile de lin | O27: 0 | P27: =Matériaux!#REF! -> #REF! | Q27: =Matériaux!#REF! -> #REF!
B28: Terebentine | C28: 0 | D28: =Matériaux!M28 -> 0 | E28: =Tableau340[[#This Row],[Quantité/g ou ml]]*Tableau340[[#This Row],[Prix TTC/g et ml]] -> 0 | G28: Terebentine | H28: 200 | I28: =Matériaux!M28 -> 0 | J28: =Tableau441[[#This Row],[Prix TTC/ g et ml]]*Tableau441[[#This Row],[Quantité/g ou ml]] -> 0 | N28: Terebentine | O28: 0 | P28: =Matériaux!AB28 -> 0 | Q28: =Matériaux!M28 -> 0
B29: Cire d’abeille | C29: 0 | D29: =Matériaux!M45 -> 0.275 | E29: =Tableau340[[#This Row],[Quantité/g ou ml]]*Tableau340[[#This Row],[Prix TTC/g et ml]] -> 0 | G29: Cire d’abeille | H29: 100 | I29: =Matériaux!M45 -> 0.275 | J29: =Tableau441[[#This Row],[Prix TTC/ g et ml]]*Tableau441[[#This Row],[Quantité/g ou ml]] -> 27.5 | N29: Cire d’abeille | O29: 0 | P29: =Matériaux!AB40 -> 0 | Q29: =Matériaux!M45 -> 0.275
B30: Alcool modifié/vodka | C30: 0 | D30: =Matériaux!M26 -> 0 | E30: =Tableau340[[#This Row],[Quantité/g ou ml]]*Tableau340[[#This Row],[Prix TTC/g et ml]] -> 0 | G30: Alcool modifié/vodka | H30: 0 | I30: =Matériaux!M26 -> 0 | J30: =Tableau441[[#This Row],[Prix TTC/ g et ml]]*Tableau441[[#This Row],[Quantité/g ou ml]] -> 0 | N30: Alcool modifié/vodka | O30: 0 | P30: =Matériaux!AB26 -> 0 | Q30: =Matériaux!M26 -> 0
B31: HE tea tree | C31: 0 | D31: =Matériaux!M29 -> 0 | E31: =Tableau340[[#This Row],[Quantité/g ou ml]]*Tableau340[[#This Row],[Prix TTC/g et ml]] -> 0 | G31: HE tea tree | H31: 0 | I31: =Matériaux!M29 -> 0 | J31: =Tableau441[[#This Row],[Prix TTC/ g et ml]]*Tableau441[[#This Row],[Quantité/g ou ml]] -> 0 | N31: HE tea tree | O31: 0 | P31: =Matériaux!AB29 -> 0 | Q31: =Matériaux!M29 -> 0
B32: HÉ Palmarosa | C32: 0 | D32: =Matériaux!M30 -> 1.8 | E32: =Tableau340[[#This Row],[Quantité/g ou ml]]*Tableau340[[#This Row],[Prix TTC/g et ml]] -> 0 | G32: HÉ Palmarosa | H32: 1 | I32: =Matériaux!M30 -> 1.8 | J32: =Tableau441[[#This Row],[Prix TTC/ g et ml]]*Tableau441[[#This Row],[Quantité/g ou ml]] -> 1.8 | N32: HÉ Palmarosa | O32: 0 | P32: =Matériaux!AB30 -> 0 | Q32: =Matériaux!M30 -> 1.8
B33: HÉ Thym | C33: 0 | D33: =Matériaux!M31 -> 1.8 | E33: =Tableau340[[#This Row],[Quantité/g ou ml]]*Tableau340[[#This Row],[Prix TTC/g et ml]] -> 0 | G33: HÉ Thym | H33: 0 | I33: =Matériaux!M31 -> 1.8 | J33: =Tableau441[[#This Row],[Prix TTC/ g et ml]]*Tableau441[[#This Row],[Quantité/g ou ml]] -> 0 | N33: HÉ Thym | O33: 0 | P33: =Matériaux!AB31 -> 0 | Q33: =Matériaux!M31 -> 1.8
B34: HÉ eucalyptus | C34: 0 | D34: =Matériaux!M32 -> 1.8 | E34: =Tableau340[[#This Row],[Quantité/g ou ml]]*Tableau340[[#This Row],[Prix TTC/g et ml]] -> 0 | G34: HÉ eucalyptus | H34: 0 | I34: =Matériaux!M32 -> 1.8 | J34: =Tableau441[[#This Row],[Prix TTC/ g et ml]]*Tableau441[[#This Row],[Quantité/g ou ml]] -> 0 | N34: HÉ eucalyptus | O34: 0.5 | P34: =Matériaux!AB32 -> 0 | Q34: =Matériaux!M32 -> 1.8
B35: HÉ citron | C35: 0 | D35: =Matériaux!M34 -> 1.8 | E35: =Tableau340[[#This Row],[Quantité/g ou ml]]*Tableau340[[#This Row],[Prix TTC/g et ml]] -> 0 | G35: HÉ citron | H35: 0 | I35: =Matériaux!M34 -> 1.8 | J35: =Tableau441[[#This Row],[Prix TTC/ g et ml]]*Tableau441[[#This Row],[Quantité/g ou ml]] -> 0 | N35: HÉ citron | O35: 0 | P35: =Matériaux!AB33 -> 0 | Q35: =Matériaux!M34 -> 1.8
B36: HÉ orange | C36: 0 | D36: =Matériaux!M35 -> 1.8 | E36: =Tableau340[[#This Row],[Quantité/g ou ml]]*Tableau340[[#This Row],[Prix TTC/g et ml]] -> 0 | G36: HÉ orange | H36: 0 | I36: =Matériaux!M35 -> 1.8 | J36: =Tableau441[[#This Row],[Prix TTC/ g et ml]]*Tableau441[[#This Row],[Quantité/g ou ml]] -> 0 | N36: HÉ orange | O36: 0 | P36: =Matériaux!AB34 -> 0 | Q36: =Matériaux!M35 -> 1.8
B37: Gomme de guar | C37: 0 | D37: =Matériaux!#REF! -> #REF! | E37: =Tableau340[[#This Row],[Quantité/g ou ml]]*Tableau340[[#This Row],[Prix TTC/g et ml]] -> #REF! | G37: Gomme de guar | H37: 0 | I37: =Matériaux!#REF! -> #REF! | J37: =Tableau441[[#This Row],[Prix TTC/ g et ml]]*Tableau441[[#This Row],[Quantité/g ou ml]] -> #REF! | N37: Gomme de guar | O37: 0 | P37: =Matériaux!AB52 -> 0 | Q37: =Matériaux!#REF! -> #REF!
B38: Eau minérale | C38: 750 | D38: =Matériaux!M66 -> 0.009 | E38: =Tableau340[[#This Row],[Quantité/g ou ml]]*Tableau340[[#This Row],[Prix TTC/g et ml]] -> 6.75 | G38: Eau minérale | H38: 0 | I38: =Matériaux!M66 -> 0.009 | J38: =Tableau441[[#This Row],[Prix TTC/ g et ml]]*Tableau441[[#This Row],[Quantité/g ou ml]] -> 0 | N38: Eau minérale | O38: 425 | P38: =Matériaux!AB55 -> 0 | Q38: =Matériaux!M66 -> 0.009
B39: Fécule de pomme de terre/corn stach | C39: 0 | D39: =Matériaux!M67 -> 0 | E39: =Tableau340[[#This Row],[Quantité/g ou ml]]*Tableau340[[#This Row],[Prix TTC/g et ml]] -> 0 | G39: Fécule de pomme de terre/corn stach | H39: 0 | I39: =Matériaux!M67 -> 0 | J39: =Tableau441[[#This Row],[Prix TTC/ g et ml]]*Tableau441[[#This Row],[Quantité/g ou ml]] -> 0 | N39: Fécule de pomme de terre/corn stach | O39: 0 | P39: =Matériaux!AB56 -> 0 | Q39: =Matériaux!M67 -> 0
B40: Alcool a 70°C | C40: 0 | D40: =Matériaux!M27 -> #DIV/0! | E40: =Tableau340[[#This Row],[Quantité/g ou ml]]*Tableau340[[#This Row],[Prix TTC/g et ml]] -> #DIV/0! | G40: Alcool a 70°C | H40: 0 | I40: =Matériaux!M27 -> #DIV/0! | J40: =Tableau441[[#This Row],[Prix TTC/ g et ml]]*Tableau441[[#This Row],[Quantité/g ou ml]] -> #DIV/0! | N40: Alcool a 70°C | O40: 0 | P40: =Matériaux!AB27 -> 0 | Q40: =Matériaux!M27 -> #DIV/0!
B41: Total | E41: =SUBTOTAL(109,Tableau340[Total]) -> #REF! | G41: Total | J41: =SUBTOTAL(109,Tableau441[Total]) -> #REF! | N41: Cendre de bois | O41: 0 | P41: =Matériaux!AB57 -> 0 | Q41: =Matériaux!M68 -> #DIV/0!
N42: Zestes agrumes | O42: 0 | P42: =Matériaux!#REF! -> #REF! | Q42: =Matériaux!M69 -> #DIV/0!
N43: Gros sel | O43: 0 | P43: =Matériaux!AB58 -> 0 | Q43: =Matériaux!M70 -> 0.03478
B44: Materiel | C44: Quantité | D44: Prix à l’unité | E44: Total | N44: Savon végétal | O44: 30 | P44: =Matériaux!AB21 -> 0 | Q44: =Matériaux!M21 -> #DIV/0!
B45: Fiches recette - impression | N45: Total | Q45: =SUBTOTAL(109,Tableau33239[Total]) -> #REF!
B46: Étiquettes
B47: Total | E47: =SUBTOTAL(109,Tableau943[Total]) -> 0
B49: Salaire | C49: Coût horaire | D49: Nombre d’heure | E49: Total
B50: Heure préparation
B51: Heure d’ateliers
B52: Total | E52: =SUBTOTAL(109,Tableau1745[Total]) -> 0
B55: Charges | C55: Coût | D55: Nombre de participant | E55: Total
B56: Location salle
B57: Electricité
...

Sheet Atelier Abeille
B3: Bee wraps
B4: Cire meuble
B5: Bougies citronelle

Sheet Atelier WC
B2: Atelier WC
C4: Coûts des materiaux | D4: Salaire | E4: Charge
C5: =SUM(Tableau3[[#Totals],[Total]],Tableau4[[#Totals],[Total]],Tableau47[[#Totals],[Total]],Tableau9[[#Totals],[Total]]) -> #REF! | D5: =Tableau17[[#Totals],[Total]] -> 0 | E5: =Tableau13[[#Totals],[Total]] -> 0
C6: Total | E6: =SUM(Tableau23[Coûts des materiaux],Tableau23[Salaire],Tableau23[Charge]) -> #REF!
C17: Pastilles effervescente 1 unité | H17: Gel WC | N17: Désodorisant WC - 10 ml | T17: Bloc WC
B20: Materiaux | C20: Quantité/g ou ml | D20: Prix TTC/g et ml | E20: Total | G20: Materiaux | H20: Quantité/g ou ml | I20: Prix TTC/ g et ml | J20: Total | M20: Materiaux | N20: Quantité/g ou ml | O20: Prix TTC/ g et ml | P20: Total
B21: Acide citrique | C21: 95 | D21: =Matériaux!M18 -> 0.069 | E21: =Tableau3[[#This Row],[Quantité/g ou ml]]*Tableau3[[#This Row],[Prix TTC/g et ml]] -> 6.555 | G21: Acide citrique | H21: 0 | I21: =Matériaux!M18 -> 0.069 | J21: =Tableau4[[#This Row],[Prix TTC/ g et ml]]*Tableau4[[#This Row],[Quantité/g ou ml]] -> 0 | M21: Acide citrique | N21: 0 | O21: =Matériaux!Q18 -> 0 | P21: =Tableau47[[#This Row],[Prix TTC/ g et ml]]*Tableau47[[#This Row],[Quantité/g ou ml]] -> 0
B22: Bicarbonate de soude | C22: 280 | D22: =Matériaux!M19 -> 0.0345 | E22: =Tableau3[[#This Row],[Quantité/g ou ml]]*Tableau3[[#This Row],[Prix TTC/g et ml]] -> 9.66 | G22: Bicarbonate de soude | H22: 0 | I22: =Matériaux!M19 -> 0.0345 | J22: =Tableau4[[#This Row],[Prix TTC/ g et ml]]*Tableau4[[#This Row],[Quantité/g ou ml]] -> 0 | M22: Bicarbonate de soude | N22: 0 | O22: =Matériaux!Q19 -> 0 | P22: =Tableau47[[#This Row],[Prix TTC/ g et ml]]*Tableau47[[#This Row],[Quantité/g ou ml]] -> 0
