Workbook

Sheet JANVIER 2021
A1: START TIME | B1: Angle vent | C1: Direction vent
A2: 44208.333 | B2: 225 | C2: =IF(B2=360,"S",IF(B2=22.5,"SOS",IF(B2=45,"SO",IF(B2=67.5,"SOO",IF(B2=90,"O",IF(B2=112.5,"ONO",IF(B2=135,"NO",IF(B2=157.5,"NON",IF(B2=180,"N",IF(B2=202.5,"NNE",IF(B2=225,"NE",IF(B2=247.5,"NEE",IF(B2=270,"E",IF(B2=292.5,"SEE",IF(B2=315,"SE",IF(B2=337.5,"ESS",IF(B2,"",""))))))))))))))))) -> NE
A3: 44208.667 | B3: 225 | C3: =IF(B3=360,"S",IF(B3=22.5,"SOS",IF(B3=45,"SO",IF(B3=67.5,"SOO",IF(B3=90,"O",IF(B3=112.5,"ONO",IF(B3=135,"NO",IF(B3=157.5,"NON",IF(B3=180,"N",IF(B3=202.5,"NNE",IF(B3=225,"NE",IF(B3=247.5,"NEE",IF(B3=270,"E",IF(B3=292.5,"SEE",IF(B3=315,"SE",IF(B3=337.5,"ESS",IF(B3,"",""))))))))))))))))) -> NE
A4: 44216.583 | B4: 67.5 | C4: =IF(B4=360,"S",IF(B4=22.5,"SOS",IF(B4=45,"SO",IF(B4=67.5,"SOO",IF(B4=90,"O",IF(B4=112.5,"ONO",IF(B4=135,"NO",IF(B4=157.5,"NON",IF(B4=180,"N",IF(B4=202.5,"NNE",IF(B4=225,"NE",IF(B4=247.5,"NEE",IF(B4=270,"E",IF(B4=292.5,"SEE",IF(B4=315,"SE",IF(B4=337.5,"ESS",IF(B4,"",""))))))))))))))))) -> SOO
A5: 44217.333 | B5: =VLOOKUP(A5,'météo janvier 2021'!C:F,1) -> 247.5 | C5: =IF(B5=360,"S",IF(B5=22.5,"SOS",IF(B5=45,"SO",IF(B5=67.5,"SOO",IF(B5=90,"O",IF(B5=112.5,"ONO",IF(B5=135,"NO",IF(B5=157.5,"NON",IF(B5=180,"N",IF(B5=202.5,"NNE",IF(B5=225,"NE",IF(B5=247.5,"NEE",IF(B5=270,"E",IF(B5=292.5,"SEE",IF(B5=315,"SE",IF(B5=337.5,"ESS",IF(B5,"",""))))))))))))))))) -> NEE
A6: 44217.375 | B6: =RechercheV(A5'météo janvier 2021'!C:F,1) -> #ERROR! | C6: =IF(B6=360,"S",IF(B6=22.5,"SOS",IF(B6=45,"SO",IF(B6=67.5,"SOO",IF(B6=90,"O",IF(B6=112.5,"ONO",IF(B6=135,"NO",IF(B6=157.5,"NON",IF(B6=180,"N",IF(B6=202.5,"NNE",IF(B6=225,"NE",IF(B6=247.5,"NEE",IF(B6=270,"E",IF(B6=292.5,"SEE",IF(B6=315,"SE",IF(B6=337.5,"ESS",IF(B6,"",""))))))))))))))))) -> #ERROR!
A7: 44218.312 | B7: =RechercheV(A5'météo janvier 2021'!C:F,1) -> #ERROR! | C7: =IF(B7=360,"S",IF(B7=22.5,"SOS",IF(B7=45,"SO",IF(B7=67.5,"SOO",IF(B7=90,"O",IF(B7=112.5,"ONO",IF(B7=135,"NO",IF(B7=157.5,"NON",IF(B7=180,"N",IF(B7=202.5,"NNE",IF(B7=225,"NE",IF(B7=247.5,"NEE",IF(B7=270,"E",IF(B7=292.5,"SEE",IF(B7=315,"SE",IF(B7=337.5,"ESS",IF(B7,"",""))))))))))))))))) -> #ERROR!
A8: 44218.417 | B8: =RechercheV(A5'météo janvier 2021'!C:F,1) -> #ERROR! | C8: =IF(B8=360,"S",IF(B8=22.5,"SOS",IF(B8=45,"SO",IF(B8=67.5,"SOO",IF(B8=90,"O",IF(B8=112.5,"ONO",IF(B8=135,"NO",IF(B8=157.5,"NON",IF(B8=180,"N",IF(B8=202.5,"NNE",IF(B8=225,"NE",IF(B8=247.5,"NEE",IF(B8=270,"E",IF(B8=292.5,"SEE",IF(B8=315,"SE",IF(B8=337.5,"ESS",IF(B8,"",""))))))))))))))))) -> #ERROR!
A9: 44218.417 | B9: =RechercheV(A5'météo janvier 2021'!C:F,1) -> #ERROR! | C9: =IF(B9=360,"S",IF(B9=22.5,"SOS",IF(B9=45,"SO",IF(B9=67.5,"SOO",IF(B9=90,"O",IF(B9=112.5,"ONO",IF(B9=135,"NO",IF(B9=157.5,"NON",IF(B9=180,"N",IF(B9=202.5,"NNE",IF(B9=225,"NE",IF(B9=247.5,"NEE",IF(B9=270,"E",IF(B9=292.5,"SEE",IF(B9=315,"SE",IF(B9=337.5,"ESS",IF(B9,"",""))))))))))))))))) -> #ERROR!
A10: 44218.417 | B10: =RechercheV(A5'météo janvier 2021'!C:F,1) -> #ERROR! | C10: =IF(B10=360,"S",IF(B10=22.5,"SOS",IF(B10=45,"SO",IF(B10=67.5,"SOO",IF(B10=90,"O",IF(B10=112.5,"ONO",IF(B10=135,"NO",IF(B10=157.5,"NON",IF(B10=180,"N",IF(B10=202.5,"NNE",IF(B10=225,"NE",IF(B10=247.5,"NEE",IF(B10=270,"E",IF(B10=292.5,"SEE",IF(B10=315,"SE",IF(B10=337.5,"ESS",IF(B10,"",""))))))))))))))))) -> #ERROR!
A11: 44219.312 | B11: =RechercheV(A5'météo janvier 2021'!C:F,1) -> #ERROR! | C11: =IF(B11=360,"S",IF(B11=22.5,"SOS",IF(B11=45,"SO",IF(B11=67.5,"SOO",IF(B11=90,"O",IF(B11=112.5,"ONO",IF(B11=135,"NO",IF(B11=157.5,"NON",IF(B11=180,"N",IF(B11=202.5,"NNE",IF(B11=225,"NE",IF(B11=247.5,"NEE",IF(B11=270,"E",IF(B11=292.5,"SEE",IF(B11=315,"SE",IF(B11=337.5,"ESS",IF(B11,"",""))))))))))))))))) -> #ERROR!
A12: 44220.583 | B12: =RechercheV(A5'météo janvier 2021'!C:F,1) -> #ERROR! | C12: =IF(B12=360,"S",IF(B12=22.5,"SOS",IF(B12=45,"SO",IF(B12=67.5,"SOO",IF(B12=90,"O",IF(B12=112.5,"ONO",IF(B12=135,"NO",IF(B12=157.5,"NON",IF(B12=180,"N",IF(B12=202.5,"NNE",IF(B12=225,"NE",IF(B12=247.5,"NEE",IF(B12=270,"E",IF(B12=292.5,"SEE",IF(B12=315,"SE",IF(B12=337.5,"ESS",IF(B12,"",""))))))))))))))))) -> #ERROR!
A13: 44221 | B13: =RechercheV(A5'météo janvier 2021'!C:F,1) -> #ERROR! | C13: =IF(B13=360,"S",IF(B13=22.5,"SOS",IF(B13=45,"SO",IF(B13=67.5,"SOO",IF(B13=90,"O",IF(B13=112.5,"ONO",IF(B13=135,"NO",IF(B13=157.5,"NON",IF(B13=180,"N",IF(B13=202.5,"NNE",IF(B13=225,"NE",IF(B13=247.5,"NEE",IF(B13=270,"E",IF(B13=292.5,"SEE",IF(B13=315,"SE",IF(B13=337.5,"ESS",IF(B13,"",""))))))))))))))))) -> #ERROR!

Sheet météo janvier 2021
A1: id | B1: Vitesse Vent | C1: Direction Vent | D1: Temperature moy | E1: Couverture Nuageuse | F1: timest
A2: 64370 | B2: 44230 | C2: 22.5 | D2: -3.2 | F2: 44201.292
A3: 64371 | B3: 44230 | C3: 45 | D3: -3.1 | F3: 44201.333
A4: 64372 | B4: 44348 | C4: 45 | D4: -3.1 | F4: 44201.375
A5: 64373 | B5: 0 | C5: 45 | D5: -2.8 | F5: 44201.417
A6: 64374 | B6: 44292 | C6: 45 | D6: -2.7 | F6: 44201.458
A7: 64375 | B7: 44230 | C7: 45 | D7: -2.7 | F7: 44201.5
A8: 64376 | B8: 44230 | C8: 22.5 | D8: -2.4 | F8: 44201.542
A9: 64377 | B9: 0 | C9: 22.5 | D9: -2.4 | F9: 44201.583
A10: 64378 | B10: 44292 | C10: 337.5 | D10: -2.5 | F10: 44201.625
A11: 64379 | B11: 0 | C11: 337.5 | D11: -2.5 | F11: 44201.667
A12: 64380 | B12: 44348 | C12: 337.5 | D12: -2.6 | F12: 44201.708
A13: 64381 | B13: 0 | C13: 337.5 | D13: -2.8 | F13: 44201.75
... A62: 64430 | B62: 0 | C62: 292.5 | D62: -1.9 | F62: 44204.125
A63: 64431 | B63: 0 | C63: 292.5 | D63: -2 | F63: 44204.167
A64: 64432 | B64: 44230 | C64: 360 | D64: -2.1 | F64: 44204.208
A65: 64433 | B65: 0 | C65: 337.5 | D65: -2.2 | F65: 44204.25
A66: 64434 | B66: 44348 | C66: 360 | D66: -2.7 | F66: 44204.292
A67: 64435 | B67: 0 | C67: 360 | D67: -2.9 | F67: 44204.333
A68: 64436 | B68: 0 | C68: 360 | D68: -2.7 | F68: 44204.375
A69: 64437 | B69: 0 | C69: 315 | D69: -2.3 | F69: 44204.417
A70: 64438 | B70: 44292 | C70: 360 | D70: -2.3 | F70: 44204.458
A71: 64439 | B71: 0 | C71: 337.5 | D71: -2.3 | F71: 44204.5
A72: 64440 | B72: 0 | C72: 360 | D72: -2 | F72: 44204.542
A73: 64441 | B73: 44348 | C73: 22.5 | D73: -1.7 | F73: 44204.583
A74: 64442 | B74: 44412 | C74: 45 | D74: -2.5 | F74: 44204.625
A75: 64443 | B75: 8 | C75: 360 | D75: -1.9 | F75: 44204.667
A76: 64444 | B76: 44412 | C76: 67.5 | D76: -2.2 | F76: 44204.708
A77: 64445 | B77: 44292 | C77: 45 | D77: -2.8 | F77: 44204.75
A78: 64446 | B78: 44412 | C78: 22.5 | D78: -2.9 | F78: 44204.792
A79: 64447 | B79: 44412 | C79: 45 | D79: -2.8 | F79: 44204.833
A80: 64448 | B80: 44386 | C80: 22.5 | D80: -3 | F80: 44204.875
A81: 64449 | B81: 8 | C81: 45 | D81: -3.2 | F81: 44204.917
A82: 64450 | B82: 8 | C82: 67.5 | D82: -3.1 | F82: 44204.958
A83: 64451 | B83: 44292 | C83: 90 | D83: -3.7 | F83: 44205
A84: 64452 | B84: 44412 | C84: 67.5 | D84: -4.1 | F84: 44205.042
A85: 64453 | B85: 44451 | C85: 67.5 | D85: -4.1 | F85: 44205.083
A86: 64454 | B86: 44412 | C86: 45 | D86: -4.6 | F86: 44205.125
A87: 64455 | B87: 8 | C87: 67.5 | D87: -4.4 | F87: 44205.167
A88: 64456 | B88: 44292 | C88: 22.5 | D88: -4.6 | F88: 44205.208
A89: 64457 | B89: 44230 | C89: 67.5 | D89: -4.6 | F89: 44205.25
A90: 64458 | B90: 44230 | C90: 22.5 | D90: -4.8 | F90: 44205.292
A91: 64459 | B91: 44348 | C91: 45 | D91: -5.3 | F91: 44205.333
A92: 64460 | B92: 44292 | C92: 45 | D92: -4.6 | F92: 44205.375
... A116: 64484 | B116: 44230 | C116: 22.5 | D116: -5.1 | F116: 44206.375
A117: 64485 | B117: 44330 | C117: 22.5 | D117: -5 | F117: 44206.417
A118: 64486 | B118: 44230 | C118: 22.5 | D118: -4.7 | F118: 44206.458
A119: 64487 | B119: 44292 | C119: 45 | D119: -4.1 | F119: 44206.5
A120: 64488 | B120: 44330 | C120: 67.5 | D120: -3.1 | F120: 44206.542
A121: 64489 | B121: 44412 | C121: 22.5 | D121: -2.6 | F121: 44206.583
A122: 64490 | B122: 8 | C122: 22.5 | D122: -3.2 | F122: 44206.625
A123: 64491 | B123: 44230 | C123: 22.5 | D123: -3.4 | F123: 44206.667
A124: 64492 | B124: 44412 | C124: 360 | D124: -3.2 | F124: 44206.708
A125: 64493 | B125: 44412 | C125: 22.5 | D125: -3.1 | F125: 44206.75
A126: 64494 | B126: 44292 | C126: 337.5 | D126: -3.1 | F126: 44206.792
A127: 64495 | B127: 44412 | C127: 22.5 | D127: -3.2 | F127: 44206.833
A128: 64496 | B128: 44348 | C128: 360 | D128: -3.8 | F128: 44206.875
A129: 64497 | B129: 44348 | C129: 360 | D129: -4.2 | F129: 44206.917
... A144: 64512 | B144: 44348 | C144: 225 | D144: -4.7 | F144: 44207.542
A145: 64513 | B145: 0 | C145: 337.5 | D145: -4 | F145: 44207.583
A146: 64514 | B146: 44348 | C146: 337.5 | D146: -2.8 | F146: 44207.625
A147: 64515 | B147: 44412 | C147: 360 | D147: -1.7 | F147: 44207.667
A148: 64516 | B148: 0 | C148: 315 | D148: -2.4 | F148: 44207.708
A149: 64517 | B149: 0 | C149: 315 | D149: -4.2 | F149: 44207.75
A150: 64518 | B150: 0 | C150: 315 | D150: -5.3 | F150: 44207.792
A151: 64519 | B151: 0 | C151: 315 | D151: -4.7 | F151: 44207.833
A152: 64520 | B152: 0 | C152: 315 | D152: -3.8 | F152: 44207.875
A153: 64521 | B153: 0 | C153: 315 | D153: -3.6 | F153: 44207.917
A154: 64522 | B154: 0 | C154: 315 | D154: -2.9 | F154: 44207.958
A155: 64523 | B155: 0 | C155: 315 | D155: -2.6 | F155: 44208
A156: 64524 | B156: 44412 | C156: 247.5 | D156: -2 | F156: 44208.042
A157: 64525 | B157: 44292 | C157: 225 | D157: -1.6 | F157: 44208.083
A158: 64526 | B158: 44292 | C158: 247.5 | D158: -1.7 | F158: 44208.125
A159: 64527 | B159: 44292 | C159: 225 | D159: -1.7 | F159: 44208.167
A160: 64528 | B160: 44386 | C160: 202.5 | D160: -1.6 | F160: 44208.208
A161: 64529 | B161: 8 | C161: 225 | D161: -1.4 | F161: 44208.25
A162: 64530 | B162: 44266 | C162: 225 | D162: -1.5 | F162: 44208.292
A163: 64531 | B163: 44266 | C163: 225 | D163: -1.6 | F163: 44208.333
A164: 64532 | B164: 44330 | C164: 247.5 | D164: -1.3 | F164: 44208.375
A165: 64533 | B165: 44386 | C165: 225 | D165: -1.4 | F165: 44208.417
A166: 64534 | B166: 44330 | C166: 225 | D166: -1.1 | F166: 44208.458
A167: 64535 | B167: 44386 | C167: 225 | D167: -0.9 | F167: 44208.5
A168: 64536 | B168: 44394 | C168: 247.5 | D168: -0.8 | F168: 44208.542
... A176: 64544 | B176: 44451 | C176: 202.5 | D176: 0.9 | F176: 44208.875
A177: 64545 | B177: 44330 | C177: 247.5 | D177: 44228 | F177: 44208.917
A178: 64546 | B178: 44212 | C178: 225 | D178: 44348 | F178: 44208.958
A179: 64547 | B179: 44386 | C179: 225 | D179: 44440 | F179: 44209
A180: 64548 | B180: 44212 | C180: 247.5 | D180: 44288 | F180: 44209.042
A181: 64549 | B181: 44292 | C181: 225 | D181: 44379 | F181: 44209.083
A182: 64550 | B182: 8 | C182: 225 | D182: 44379 | F182: 44209.125
A183: 64551 | B183: 8 | C183: 225 | D183: 44410 | F183: 44209.167
A184: 64552 | B184: 44292 | C184: 225 | D184: 44199 | F184: 44209.208
A185: 64553 | B185: 44266 | C185: 225 | D185: 44258 | F185: 44209.25
A186: 64554 | B186: 44386 | C186: 225 | D186: 44350 | F186: 44209.292
A187: 64555 | B187: 8 | C187: 247.5 | D187: 44442 | F187: 44209.333
A188: 64556 | B188: 44386 | C188: 247.5 | D188: 44231 | F188: 44209.375
... A234: 64602 | B234: 44386 | C234: 225 | D234: 2 | F234: 44211.292
A235: 64603 | B235: 44386 | C235: 270 | D235: 0.9 | F235: 44211.333
A236: 64604 | B236: 44292 | C236: 247.5 | D236: 0.4 | F236: 44211.375
A237: 64605 | B237: 8 | C237: 180 | D237: 0.3 | F237: 44211.417
...
