Workbook

Sheet JANVIER 2021
A1: START TIME | B1: Angle vent | C1: Direction vent
A2: 44208.333 | B2: 225 | C2: =IF(B2=360,"S",IF(B2=22.5,"SOS",IF(B2=45,"SO",IF(B2=67.5,"SOO",IF(B2=90,"O",IF(B2=112.5,"ONO",IF(B2=135,"NO",IF(B2=157.5,"NON",IF(B2=180,"N",IF(B2=202.5,"NNE",IF(B2=225,"NE",IF(B2=247.5,"NEE",IF(B2=270,"E",IF(B2=292.5,"SEE",IF(B2=315,"SE",IF(B2=337.5,"ESS",IF(B2,"",""))))))))))))))))) -> NE
A3: 44208.667 | B3: 225 | C3: =IF(B3=360,"S",IF(B3=22.5,"SOS",IF(B3=45,"SO",IF(B3=67.5,"SOO",IF(B3=90,"O",IF(B3=112.5,"ONO",IF(B3=135,"NO",IF(B3=157.5,"NON",IF(B3=180,"N",IF(B3=202.5,"NNE",IF(B3=225,"NE",IF(B3=247.5,"NEE",IF(B3=270,"E",IF(B3=292.5,"SEE",IF(B3=315,"SE",IF(B3=337.5,"ESS",IF(B3,"",""))))))))))))))))) -> NE
A4: 44216.583 | B4: 67.5 | C4: =IF(B4=360,"S",IF(B4=22.5,"SOS",IF(B4=45,"SO",IF(B4=67.5,"SOO",IF(B4=90,"O",IF(B4=112.5,"ONO",IF(B4=135,"NO",IF(B4=157.5,"NON",IF(B4=180,"N",IF(B4=202.5,"NNE",IF(B4=225,"NE",IF(B4=247.5,"NEE",IF(B4=270,"E",IF(B4=292.5,"SEE",IF(B4=315,"SE",IF(B4=337.5,"ESS",IF(B4,"",""))))))))))))))))) -> SOO
A5: 44217.333 | B5: =VLOOKUP(A5,'météo janvier 2021'!C:F,1) -> 247.5 | C5: =IF(B5=360,"S",IF(B5=22.5,"SOS",IF(B5=45,"SO",IF(B5=67.5,"SOO",IF(B5=90,"O",IF(B5=112.5,"ONO",IF(B5=135,"NO",IF(B5=157.5,"NON",IF(B5=180,"N",IF(B5=202.5,"NNE",IF(B5=225,"NE",IF(B5=247.5,"NEE",IF(B5=270,"E",IF(B5=292.5,"SEE",IF(B5=315,"SE",IF(B5=337.5,"ESS",IF(B5,"",""))))))))))))))))) -> NEE
A6: 44217.375 | B6: =RechercheV(A5'météo janvier 2021'!C:F,1) -> #ERROR! | C6: =IF(B6=360,"S",IF(B6=22.5,"SOS",IF(B6=45,"SO",IF(B6=67.5,"SOO",IF(B6=90,"O",IF(B6=112.5,"ONO",IF(B6=135,"NO",IF(B6=157.5,"NON",IF(B6=180,"N",IF(B6=202.5,"NNE",IF(B6=225,"NE",IF(B6=247.5,"NEE",IF(B6=270,"E",IF(B6=292.5,"SEE",IF(B6=315,"SE",IF(B6=337.5,"ESS",IF(B6,"",""))))))))))))))))) -> #ERROR!
A7: 44218.312 | B7: =RechercheV(A5'météo janvier 2021'!C:F,1) -> #ERROR! | C7: =IF(B7=360,"S",IF(B7=22.5,"SOS",IF(B7=45,"SO",IF(B7=67.5,"SOO",IF(B7=90,"O",IF(B7=112.5,"ONO",IF(B7=135,"NO",IF(B7=157.5,"NON",IF(B7=180,"N",IF(B7=202.5,"NNE",IF(B7=225,"NE",IF(B7=247.5,"NEE",IF(B7=270,"E",IF(B7=292.5,"SEE",IF(B7=315,"SE",IF(B7=337.5,"ESS",IF(B7,"",""))))))))))))))))) -> #ERROR!
A8: 44218.417 | B8: =RechercheV(A5'météo janvier 2021'!C:F,1) -> #ERROR! | C8: =IF(B8=360,"S",IF(B8=22.5,"SOS",IF(B8=45,"SO",IF(B8=67.5,"SOO",IF(B8=90,"O",IF(B8=112.5,"ONO",IF(B8=135,"NO",IF(B8=157.5,"NON",IF(B8=180,"N",IF(B8=202.5,"NNE",IF(B8=225,"NE",IF(B8=247.5,"NEE",IF(B8=270,"E",IF(B8=292.5,"SEE",IF(B8=315,"SE",IF(B8=337.5,"ESS",IF(B8,"",""))))))))))))))))) -> #ERROR!
A9: 44218.417 | B9: =RechercheV(A5'météo janvier 2021'!C:F,1) -> #ERROR! | C9: =IF(B9=360,"S",IF(B9=22.5,"SOS",IF(B9=45,"SO",IF(B9=67.5,"SOO",IF(B9=90,"O",IF(B9=112.5,"ONO",IF(B9=135,"NO",IF(B9=157.5,"NON",IF(B9=180,"N",IF(B9=202.5,"NNE",IF(B9=225,"NE",IF(B9=247.5,"NEE",IF(B9=270,"E",IF(B9=292.5,"SEE",IF(B9=315,"SE",IF(B9=337.5,"ESS",IF(B9,"",""))))))))))))))))) -> #ERROR!
A10: 44218.417 | B10: =RechercheV(A5'météo janvier 2021'!C:F,1) -> #ERROR! | C10: =IF(B10=360,"S",IF(B10=22.5,"SOS",IF(B10=45,"SO",IF(B10=67.5,"SOO",IF(B10=90,"O",IF(B10=112.5,"ONO",IF(B10=135,"NO",IF(B10=157.5,"NON",IF(B10=180,"N",IF(B10=202.5,"NNE",IF(B10=225,"NE",IF(B10=247.5,"NEE",IF(B10=270,"E",IF(B10=292.5,"SEE",IF(B10=315,"SE",IF(B10=337.5,"ESS",IF(B10,"",""))))))))))))))))) -> #ERROR!
A11: 44219.312 | B11: =RechercheV(A5'météo janvier 2021'!C:F,1) -> #ERROR! | C11: =IF(B11=360,"S",IF(B11=22.5,"SOS",IF(B11=45,"SO",IF(B11=67.5,"SOO",IF(B11=90,"O",IF(B11=112.5,"ONO",IF(B11=135,"NO",IF(B11=157.5,"NON",IF(B11=180,"N",IF(B11=202.5,"NNE",IF(B11=225,"NE",IF(B11=247.5,"NEE",IF(B11=270,"E",IF(B11=292.5,"SEE",IF(B11=315,"SE",IF(B11=337.5,"ESS",IF(B11,"",""))))))))))))))))) -> #ERROR!
A12: 44220.583 | B12: =RechercheV(A5'météo janvier 2021'!C:F,1) -> #ERROR! | C12: =IF(B12=360,"S",IF(B12=22.5,"SOS",IF(B12=45,"SO",IF(B12=67.5,"SOO",IF(B12=90,"O",IF(B12=112.5,"ONO",IF(B12=135,"NO",IF(B12=157.5,"NON",IF(B12=180,"N",IF(B12=202.5,"NNE",IF(B12=225,"NE",IF(B12=247.5,"NEE",IF(B12=270,"E",IF(B12=292.5,"SEE",IF(B12=315,"SE",IF(B12=337.5,"ESS",IF(B12,"",""))))))))))))))))) -> #ERROR!
A13: 44221 | B13: =RechercheV(A5'météo janvier 2021'!C:F,1) -> #ERROR! | C13: =IF(B13=360,"S",IF(B13=22.5,"SOS",IF(B13=45,"SO",IF(B13=67.5,"SOO",IF(B13=90,"O",IF(B13=112.5,"ONO",IF(B13=135,"NO",IF(B13=157.5,"NON",IF(B13=180,"N",IF(B13=202.5,"NNE",IF(B13=225,"NE",IF(B13=247.5,"NEE",IF(B13=270,"E",IF(B13=292.5,"SEE",IF(B13=315,"SE",IF(B13=337.5,"ESS",IF(B13,"",""))))))))))))))))) -> #ERROR!

Sheet météo janvier 2021
A1: id | B1: Vitesse Vent | C1: Direction Vent | D1: Temperature moy | E1: Couverture Nuageuse | F1: timest
A2: 64370 | B2: 44230 | C2: 22.5 | D2: -3.2 | F2: 44201.292
A3: 64371 | B3: 44230 | C3: 45 | D3: -3.1 | F3: 44201.333
A4: 64372 | B4: 44348 | C4: 45 | D4: -3.1 | F4: 44201.375
A5: 64373 | B5: 0 | C5: 45 | D5: -2.8 | F5: 44201.417
A6: 64374 | B6: 44292 | C6: 45 | D6: -2.7 | F6: 44201.458
A7: 64375 | B7: 44230 | C7: 45 | D7: -2.7 | F7: 44201.5
A8: 64376 | B8: 44230 | C8: 22.5 | D8: -2.4 | F8: 44201.542
A9: 64377 | B9: 0 | C9: 22.5 | D9: -2.4 | F9: 44201.583
A10: 64378 | B10: 44292 | C10: 337.5 | D10: -2.5 | F10: 44201.625
A11: 64379 | B11: 0 | C11: 337.5 | D11: -2.5 | F11: 44201.667
A12: 64380 | B12: 44348 | C12: 337.5 | D12: -2.6 | F12: 44201.708
A13: 64381 | B13: 0 | C13: 337.5 | D13: -2.8 | F13: 44201.75
... A62: 64430 | B62: 0 | C62: 292.5 | D62: -1.9 | F62: 44204.125
A63: 64431 | B63: 0 | C63: 292.5 | D63: -2 | F63: 44204.167
A64: 64432 | B64: 44230 | C64: 360 | D64: -2.1 | F64: 44204.208
A65: 64433 | B65: 0 | C65: 337.5 | D65: -2.2 | F65: 44204.25
A66: 64434 | B66: 44348 | C66: 360 | D66: -2.7 | F66: 44204.292
A67: 64435 | B67: 0 | C67: 360 | D67: -2.9 | F67: 44204.333
A68: 64436 | B68: 0 | C68: 360 | D68: -2.7 | F68: 44204.375
A69: 64437 | B69: 0 | C69: 315 | D69: -2.3 | F69: 44204.417
A70: 64438 | B70: 44292 | C70: 360 | D70: -2.3 | F70: 44204.458
A71: 64439 | B71: 0 | C71: 337.5 | D71: -2.3 | F71: 44204.5
A72: 64440 | B72: 0 | C72: 360 | D72: -2 | F72: 44204.542
A73: 64441 | B73: 44348 | C73: 22.5 | D73: -1.7 | F73: 44204.583
A74: 64442 | B74: 44412 | C74: 45 | D74: -2.5 | F74: 44204.625
A75: 64443 | B75: 8 | C75: 360 | D75: -1.9 | F75: 44204.667
A76: 64444 | B76: 44412 | C76: 67.5 | D76: -2.2 | F76: 44204.708
A77: 64445 | B77: 44292 | C77: 45 | D77: -2.8 | F77: 44204.75
A78: 64446 | B78: 44412 | C78: 22.5 | D78: -2.9 | F78: 44204.792
A79: 64447 | B79: 44412 | C79: 45 | D79: -2.8 | F79: 44204.833
A80: 64448 | B80: 44386 | C80: 22.5 | D80: -3 | F80: 44204.875
A81: 64449 | B81: 8 | C81: 45 | D81: -3.2 | F81: 44204.917
A82: 64450 | B82: 8 | C82: 67.5 | D82: -3.1 | F82: 44204.958
A83: 64451 | B83: 44292 | C83: 90 | D83: -3.7 | F83: 44205
A84: 64452 | B84: 44412 | C84: 67.5 | D84: -4.1 | F84: 44205.042
A85: 64453 | B85: 44451 | C85: 67.5 | D85: -4.1 | F85: 44205.083
A86: 64454 | B86: 44412 | C86: 45 | D86: -4.6 | F86: 44205.125
A87: 64455 | B87: 8 | C87: 67.5 | D87: -4.4 | F87: 44205.167
A88: 64456 | B88: 44292 | C88: 22.5 | D88: -4.6 | F88: 44205.208
...
