Workbook
Name _Toc374101062: DPGF!#REF!
Name AVENANT1: FACT!$B$25
Name AVENANT2: FACT!$B$26
Name AVENANT3: FACT!$B$27
Name AVN1HT: FACT!$AVN$1
Name BASEHT: FACT!$B$24
Name CHANTIER: FACT!$B$19
Name CUMULHT: FACT!$D$36
Name CUMULRG: FACT!$D$41
Name DATE: FACT!$E$11
Name FACTUREHT: FACT!$F$36
Name LOT: FACT!$B$20
Name MARCHEHT: FACT!$B$28
Name MARCHEN°: FACT!$B$21
Name N_MARCHE: FACT!$B$21
Name N°°MARCHE: FACT!$B$21
Name N°FACTURE: FACT!$B$11
Name N°MARCHE: FACT!$B$21
Name RG: FACT!$F$41
Name RGCUMUL: FACT!$D$41
Name TOTALAV1: FACT!$F$31
Name TOTALAV2: FACT!$F$32
Name TOTALAV3: FACT!$F$33
Name TOTALBASE: FACT!$F$30
Name TOTALHTFACTURE: FACT!$F$36

Sheet FACT
A11: FACTURE N° | B11: 12633/FP/20 | D11: Marseille, le | E11: 44205
D14: AREA
A15: SITUATION N°2 | D15: 29, Bd Charles Nédélec
D16: 13003 MARSEILLE
A19: Chantier : | B19: CONSTRUCTION D'UN GYMNASE AU LYCEE REMPART - MARSEILLE
A20: LOT N° : | B20: 5 - Cloisons, faux plafonds, sol, carrelage, menuiserie, peinture
A21: MARCHE N° : | B21: 95FB/06/P
A22: DESIGNATION | D22: TOTAL CUMULES | E22: SITUATIONS PRECEDENTES | F22: TOTAL HT DU MOIS
A23: DETAIL MARCHE HT :
A24: MONTANT HT BASE : | B24: 145667.5
A25: AVENANT N°1 | B25: =DPGF!F164 -> 32890
A26: AVENANT N°2 | B26: =DPGF!F169 -> 4550
A27: AVENANT N°3 | B27: =DPGF!F174 -> 16800
A28: TOTAL MARCHE HT | B28: =SUM(B24:B27) -> 199907.5
A30: AVANCEMENT DES TRAVAUX HT | D30: =DPGF!H154 -> 18212.5 | E30: 10212.5 | F30: =D30-E30 -> 8000
A31: AVANCEMENT DES TRAVAUX AVENANT N°1 HT | D31: =DPGF!H164 -> 32890 | E31: 28550 | F31: =D31-E31 -> 4340
A32: AVANCEMENT DES TRAVAUX AVENANT N°2 HT | D32: =DPGF!H169 -> 1365 | E32: 900 | F32: =D32-E32 -> 465
A33: AVANCEMENT DES TRAVAUX AVENANT N°3 HT | D33: =DPGF!H174 -> 3360 | E33: 2400 | F33: =D33-E33 -> 960
A36: TOTAL HT | D36: =SUM(D30:D35) -> 55827.5 | E36: =SUM(E30:E35) -> 42062.5 | F36: =SUM(F30:F35) -> 13765
A38: TOTAL HT | D38: =D36 -> 55827.5 | E38: =E36 -> 42062.5 | F38: =F36 -> 13765
A39: TVA 20% | D39: =D38*20/100 -> 11165.5 | E39: =E38*20/100 -> 8412.5 | F39: =F38*20/100 -> 2753
A40: TOTAL DES TRAVAUX TTC 20% | D40: =SUM(D38:D39) -> 66993 | E40: =SUM(E38:E39) -> 50475 | F40: =SUM(F38:F39) -> 16518
A41: Retenue de garantie 5 % TTC | D41: =(D30*1.2)*0.05 -> 1092.75 | E41: =(E30*1.2)*0.05 -> 612.75 | F41: =D41-E41 -> 480
A44: NET A PAYER T.T.C | F44: =F40-F41 -> 16038
A45: Arrêter ma présente facture à la somme de :
A46: Soixante-cinq mille neuf cents euros vingt-cinq cents

Sheet DPGF
A1: N° Art | B1: Désignation des articles | C1: U | D1: Quantités M. Œuvre | E1: PRIX UNITAIRE HT | F1: PRIX TOTAL HT | G1: % | H1: AVANC HT
A3: 1 | B3: GENERALITES ET CONTENU DES PRIX UNITAIRES
A5: 2 | B5: CLOISON
A7: 2.1 | B7: CLOISONS PLAQUES DE GYPSE SUR OSSATURE METALLIQUE
A9: 2.1.1 | B9: TYPE 98/48 | C9: m² | D9: 106 | E9: 90 | F9: =+D9*E9 -> 9540 | G9: 50 | H9: =F9*G9/100 -> 4770
A11: 2.1.2 | B11: PLUS-VALUE PAREMENT HYDROFUGE | C11: m² | D11: 151 | E11: 15 | F11: =+D11*E11 -> 2265 | G11: 50 | H11: =F11*G11/100 -> 1132.5
A13: 2.2 | B13: CLOISONS ET PORTES PREFABRIQUEES EN PANNEAUX COMPACT
B14: Cloisons | C14: ml | D14: 10.5 | E14: 620 | F14: =+D14*E14 -> 6510 | G14: 0 | H14: =F14*G14/100 -> 0
B15: Portes | C15: u | D15: 10 | E15: compris
A17: 3 | B17: GAINES TECHNIQUES | C17: m² | D17: 40 | E17: 65 | F17: =+D17*E17 -> 2600 | G17: 0 | H17: =F17*G17/100 -> 0
A19: 4 | B19: DOUBLAGES
A21: 4.1 | B21: PLAQUES STANDARD | C21: m² | D21: 352 | E21: 65 | F21: =+D21*E21 -> 22880 | G21: 50 | H21: =F21*G21/100 -> 11440
A23: 4.2 | B23: PLUS-VALUE POUR PAREMENT HYDROFUGE | C23: m² | D23: 116 | E23: 15 | F23: =+D23*E23 -> 1740 | G23: 50 | H23: =F23*G23/100 -> 870
A25: 4.3 | B25: PLAQUES PERFOREES | C25: m² | D25: 32 | E25: 80 | F25: =+D25*E25 -> 2560 | G25: 0 | H25: =F25*G25/100 -> 0
A27: 5 | B27: FAUX-PLAFOND
A29: 5.1 | B29: DALLES MINERALES ACOUSTIQUES STANDARD | C29: m² | D29: 25 | E29: 32 | F29: =+D29*E29 -> 800 | G29: 0 | H29: =F29*G29/100 -> 0
A31: 5.2 | B31: DALLES MINERALES RESISTANTES HUMIDITE | C31: m² | D31: 23 | E31: 38 | F31: =+D31*E31 -> 874 | G31: 0 | H31: =F31*G31/100 -> 0
A33: 5.3 | B33: DALLES METALLIQUES NON DEMONTABLE | C33: m² | D33: 43 | E33: 51 | F33: =+D33*E33 -> 2193 | G33: 0 | H33: =F33*G33/100 -> 0
A35: 5.4 | B35: PANNEAUX AVEC LATTIS BOIS | C35: m² | D35: 30 | E35: 64 | F35: =+D35*E35 -> 1920 | G35: 0 | H35: =F35*G35/100 -> 0
A39: 5.5 | B39: PANNEAUX COMPLEXE LAINE DE BOIS ET LAINE DE ROCHE | C39: m² | D39: 90 | E39: 28 | F39: =+D39*E39 -> 2520 | G39: 0 | H39: =F39*G39/100 -> 0
A41: 6 | B41: REVETEMENT DE SOL SPORTIF
A43: 6.1 | B43: CHAPES AUTO-LISSANTES | C43: m² | D43: 278 | E43: 25 | F43: =+D43*E43 -> 6950 | G43: 0 | H43: =F43*G43/100 -> 0
A45: 6.2 | B45: REVETEMENT CAOUTCHOUC | C45: m² | D45: 265 | E45: 70 | F45: =+D45*E45 -> 18550 | G45: 0 | H45: =F45*G45/100 -> 0
A47: 6.3 | B47: PLINTHES PVC | C47: m² | D47: 71 | E47: 8 | F47: =+D47*E47 -> 568 | G47: 0 | H47: =F47*G47/100 -> 0
A49: 6.4 | B49: JOINTS DE RUPTURE ET COUVRE-JOINTS ENTRE MATERIAUX | C49: ml | D49: 2.5 | E49: 35 | F49: =+D49*E49 -> 87.5 | G49: 0 | H49: =F49*G49/100 -> 0
A51: 7 | B51: CARRELAGE DE SOL
A53: 7.1 | B53: CARRELAGE COLLÉ SUR CHAPE FLOTTANTE ACOUSTIQUE
A55: 7.1.1 | B55: GRES CERAME PLEINE MASSE STANDARD COLLÉ
B56: Carrelage de sol 30x30 | C56: m² | D56: 5 | E56: 42 | F56: =+D56*E56 -> 210 | G56: 0 | H56: =F56*G56/100 -> 0
B57: Carrelage de sol 30x60 | C57: m² | D57: 50 | E57: 55 | F57: =+D57*E57 -> 2750 | G57: 0 | H57: =F57*G57/100 -> 0
B58: Plinthes | C58: ml | D58: 43 | E58: 14 | F58: =+D58*E58 -> 602 | G58: 0 | H58: =F58*G58/100 -> 0
A60: 7.1.2 | B60: GRES CERAME PLEINE MASSE ANTI-DERAPANT COLLÉ
B61: Carrelage de sol 30x30 | C61: m² | D61: 72 | E61: 45 | F61: =+D61*E61 -> 3240 | G61: 0 | H61: =F61*G61/100 -> 0
B62: Plinthes | C62: ml | D62: 9 | E62: 12 | F62: =+D62*E62 -> 108 | G62: 0 | H62: =F62*G62/100 -> 0
B63: Siphon de sol (pose seule) | C63: u | D63: 6 | E63: 80 | F63: =+D63*E63 -> 480 | G63: 0 | H63: =F63*G63/100 -> 0
A65: 8 | B65: REVETEMENTS DURS MURAUX
A67: 8.1 | B67: SPEC | C67: m² | D67: 223 | E67: 11 | F67: =+D67*E67 -> 2453 | G67: 0 | H67: =F67*G67/100 -> 0
A69: 8.2 | B69: GRES MURAL
B70: Dimensions : 20cm x 20cm | C70: m² | D70: 124 | E70: 40 | F70: =+D70*E70 -> 4960 | G70: 0 | H70: =F70*G70/100 -> 0
B71: Dimensions : 30cm x 30cm | C71: m² | D71: 99 | E71: 42 | F71: =+D71*E71 -> 4158 | G71: 0 | H71: =F71*G71/100 -> 0
...
