Workbook
Name TRANSPORTEUR: 'Liste déroulante'!$A$1:$A$17

Sheet Suivi coût
A1: Liste départs 2021
A3: Date | B3: Code clt | C3: Destinataire | D3: Dpt | E3: Ville | F3: Transporteur | G3: Roll Tag 5 | H3: Roll CC | I3: Coût TAG 5 | J3: Coût CC | K3: Retour | L3: Cumul | M3: Groupage | N3: Dpt + Transporteur | O3: Avoir | P3: Représentant
A4: =Tableau1[[#This Row],[Date]] -> 44207 | B4: =Tableau1[[#This Row],[Code clt]] -> 1 | C4: =Tableau1[[#This Row],[Destinataire]] -> ENTS PIERRE | D4: =Tableau1[[#This Row],[Dpt]] -> 27 | E4: =Tableau1[[#This Row],[Ville]] -> AUBEVOYE | F4: =Tableau1[[#This Row],[Transporteur]] -> GEODIS | G4: =Tableau1[[#This Row],[Roll Tag 5]] -> 1 | H4: =Tableau1[[#This Row],[Roll CC]] -> 0 | I4: =INDEX('Tarif 2021'!$B$2:$W$163,MATCH(Tableau3[[#This Row],[Roll Tag 5]],'Tarif 2021'!$B$1:$W$1,0),MATCH(Tableau3[[#This Row],[Dpt + Transporteur]],'Tarif 2021'!$A$2:$A$163,0)) -> #REF! | J4: =IF(Tableau3[[#This Row],[Roll CC]]<>0,INDEX('Tarif 2021'!$B$2:$W$163,MATCH(Tableau3[[#This Row],[Roll CC]],'Tarif 2021'!$B$1:$W$1,0),MATCH(Tableau3[[#This Row],[Dpt + Transporteur]],'Tarif 2021'!$A$2:$A$163,0))," ") | N4: =Tableau3[[#This Row],[Dpt]]&Tableau3[[#This Row],[Transporteur]] -> 27GEODIS
A5: =Tableau1[[#This Row],[Date]] -> 44207 | B5: =Tableau1[[#This Row],[Code clt]] -> 4 | C5: =Tableau1[[#This Row],[Destinataire]] -> ENTS 123 | D5: =Tableau1[[#This Row],[Dpt]] -> 44 | E5: =Tableau1[[#This Row],[Ville]] -> ST CYR EN RETZ | F5: =Tableau1[[#This Row],[Transporteur]] -> DHL | G5: =Tableau1[[#This Row],[Roll Tag 5]] -> 1 | H5: =Tableau1[[#This Row],[Roll CC]] -> 0 | I5: =INDEX('Tarif 2021'!$B$2:$W$163,MATCH(Tableau3[[#This Row],[Roll Tag 5]],'Tarif 2021'!$B$1:$W$1,0),MATCH(Tableau3[[#This Row],[Dpt + Transporteur]],'Tarif 2021'!$A$2:$A$163,0)) -> #REF! | J5: =IF(Tableau3[[#This Row],[Roll CC]]<>0,INDEX('Tarif 2021'!$B$2:$W$163,MATCH(Tableau3[[#This Row],[Roll CC]],'Tarif 2021'!$B$1:$W$1,0),MATCH(Tableau3[[#This Row],[Dpt + Transporteur]],'Tarif 2021'!$A$2:$A$163,0))," ") | N5: =Tableau3[[#This Row],[Dpt]]&Tableau3[[#This Row],[Transporteur]] -> 44DHL
A6: =Tableau1[[#This Row],[Date]] -> 44207 | B6: =Tableau1[[#This Row],[Code clt]] -> 9 | C6: =Tableau1[[#This Row],[Destinataire]] -> SA CAILLOU | D6: =Tableau1[[#This Row],[Dpt]] -> 35 | E6: =Tableau1[[#This Row],[Ville]] -> LANDUJAN | F6: =Tableau1[[#This Row],[Transporteur]] -> TNT | G6: =Tableau1[[#This Row],[Roll Tag 5]] -> 2 | H6: =Tableau1[[#This Row],[Roll CC]] -> 0 | I6: =INDEX('Tarif 2021'!$B$2:$W$163,MATCH(Tableau3[[#This Row],[Roll Tag 5]],'Tarif 2021'!$B$1:$W$1,0),MATCH(Tableau3[[#This Row],[Dpt + Transporteur]],'Tarif 2021'!$A$2:$A$163,0)) -> #REF! | J6: =IF(Tableau3[[#This Row],[Roll CC]]<>0,INDEX('Tarif 2021'!$B$2:$W$163,MATCH(Tableau3[[#This Row],[Roll CC]],'Tarif 2021'!$B$1:$W$1,0),MATCH(Tableau3[[#This Row],[Dpt + Transporteur]],'Tarif 2021'!$A$2:$A$163,0))," ") | N6: =Tableau3[[#This Row],[Dpt]]&Tableau3[[#This Row],[Transporteur]] -> 35TNT
A7: =Tableau1[[#This Row],[Date]] -> 44215 | B7: =Tableau1[[#This Row],[Code clt]] -> 12 | C7: =Tableau1[[#This Row],[Destinataire]] -> EURL ORNICAR | D7: =Tableau1[[#This Row],[Dpt]] -> 27 | E7: =Tableau1[[#This Row],[Ville]] -> GISORS | F7: =Tableau1[[#This Row],[Transporteur]] -> GEODIS | G7: =Tableau1[[#This Row],[Roll Tag 5]] -> 3 | H7: =Tableau1[[#This Row],[Roll CC]] -> 0 | I7: =INDEX('Tarif 2021'!$B$2:$W$163,MATCH(Tableau3[[#This Row],[Roll Tag 5]],'Tarif 2021'!$B$1:$W$1,0),MATCH(Tableau3[[#This Row],[Dpt + Transporteur]],'Tarif 2021'!$A$2:$A$163,0)) -> #REF! | J7: =IF(Tableau3[[#This Row],[Roll CC]]<>0,INDEX('Tarif 2021'!$B$2:$W$163,MATCH(Tableau3[[#This Row],[Roll CC]],'Tarif 2021'!$B$1:$W$1,0),MATCH(Tableau3[[#This Row],[Dpt + Transporteur]],'Tarif 2021'!$A$2:$A$163,0))," ") | N7: =Tableau3[[#This Row],[Dpt]]&Tableau3[[#This Row],[Transporteur]] -> 27GEODIS
A8: =Tableau1[[#This Row],[Date]] -> 44215 | B8: =Tableau1[[#This Row],[Code clt]] -> 3 | C8: =Tableau1[[#This Row],[Destinataire]] -> ENTS JACQUES | D8: =Tableau1[[#This Row],[Dpt]] -> 37 | E8: =Tableau1[[#This Row],[Ville]] -> LOCHES | F8: =Tableau1[[#This Row],[Transporteur]] -> DHL | G8: =Tableau1[[#This Row],[Roll Tag 5]] -> 1 | H8: =Tableau1[[#This Row],[Roll CC]] -> 0 | I8: =INDEX('Tarif 2021'!$B$2:$W$163,MATCH(Tableau3[[#This Row],[Roll Tag 5]],'Tarif 2021'!$B$1:$W$1,0),MATCH(Tableau3[[#This Row],[Dpt + Transporteur]],'Tarif 2021'!$A$2:$A$163,0)) -> #REF! | J8: =IF(Tableau3[[#This Row],[Roll CC]]<>0,INDEX('Tarif 2021'!$B$2:$W$163,MATCH(Tableau3[[#This Row],[Roll CC]],'Tarif 2021'!$B$1:$W$1,0),MATCH(Tableau3[[#This Row],[Dpt + Transporteur]],'Tarif 2021'!$A$2:$A$163,0))," ") | N8: =Tableau3[[#This Row],[Dpt]]&Tableau3[[#This Row],[Transporteur]] -> 37DHL
A9: =Tableau1[[#This Row],[Date]] -> 44215 | B9: =Tableau1[[#This Row],[Code clt]] -> 5 | C9: =Tableau1[[#This Row],[Destinataire]] -> SARL BIJOU | D9: =Tableau1[[#This Row],[Dpt]] -> 62 | E9: =Tableau1[[#This Row],[Ville]] -> CARVIN CEDEX | F9: =Tableau1[[#This Row],[Transporteur]] -> TNT | G9: =Tableau1[[#This Row],[Roll Tag 5]] -> 2 | H9: =Tableau1[[#This Row],[Roll CC]] -> 0 | I9: =INDEX('Tarif 2021'!$B$2:$W$163,MATCH(Tableau3[[#This Row],[Roll Tag 5]],'Tarif 2021'!$B$1:$W$1,0),MATCH(Tableau3[[#This Row],[Dpt + Transporteur]],'Tarif 2021'!$A$2:$A$163,0)) -> #REF! | J9: =IF(Tableau3[[#This Row],[Roll CC]]<>0,INDEX('Tarif 2021'!$B$2:$W$163,MATCH(Tableau3[[#This Row],[Roll CC]],'Tarif 2021'!$B$1:$W$1,0),MATCH(Tableau3[[#This Row],[Dpt + Transporteur]],'Tarif 2021'!$A$2:$A$163,0))," ") | N9: =Tableau3[[#This Row],[Dpt]]&Tableau3[[#This Row],[Transporteur]] -> 62TNT
A10: =Tableau1[[#This Row],[Date]] -> 44215 | B10: =Tableau1[[#This Row],[Code clt]] -> 2 | C10: =Tableau1[[#This Row],[Destinataire]] -> ENTS PAUL | D10: =Tableau1[[#This Row],[Dpt]] -> 77 | E10: =Tableau1[[#This Row],[Ville]] -> RUFFEC | F10: =Tableau1[[#This Row],[Transporteur]] -> GEODIS | G10: =Tableau1[[#This Row],[Roll Tag 5]] -> 1 | H10: =Tableau1[[#This Row],[Roll CC]] -> 0 | I10: =INDEX('Tarif 2021'!$B$2:$W$163,MATCH(Tableau3[[#This Row],[Roll Tag 5]],'Tarif 2021'!$B$1:$W$1,0),MATCH(Tableau3[[#This Row],[Dpt + Transporteur]],'Tarif 2021'!$A$2:$A$163,0)) -> #REF! | J10: =IF(Tableau3[[#This Row],[Roll CC]]<>0,INDEX('Tarif 2021'!$B$2:$W$163,MATCH(Tableau3[[#This Row],[Roll CC]],'Tarif 2021'!$B$1:$W$1,0),MATCH(Tableau3[[#This Row],[Dpt + Transporteur]],'Tarif 2021'!$A$2:$A$163,0))," ") | N10: =Tableau3[[#This Row],[Dpt]]&Tableau3[[#This Row],[Transporteur]] -> 77GEODIS
A11: =Tableau1[[#This Row],[Date]] -> 44217 | B11: =Tableau1[[#This Row],[Code clt]] -> 6 | C11: =Tableau1[[#This Row],[Destinataire]] -> EURL CHOU | D11: =Tableau1[[#This Row],[Dpt]] -> 60 | E11: =Tableau1[[#This Row],[Ville]] -> LA CHAPELLE EN SERVAL | F11: =Tableau1[[#This Row],[Transporteur]] -> TNT | G11: =Tableau1[[#This Row],[Roll Tag 5]] -> 3 | H11: =Tableau1[[#This Row],[Roll CC]] -> 0 | I11: =INDEX('Tarif 2021'!$B$2:$W$163,MATCH(Tableau3[[#This Row],[Roll Tag 5]],'Tarif 2021'!$B$1:$W$1,0),MATCH(Tableau3[[#This Row],[Dpt + Transporteur]],'Tarif 2021'!$A$2:$A$163,0)) -> #REF! | J11: =IF(Tableau3[[#This Row],[Roll CC]]<>0,INDEX('Tarif 2021'!$B$2:$W$163,MATCH(Tableau3[[#This Row],[Roll CC]],'Tarif 2021'!$B$1:$W$1,0),MATCH(Tableau3[[#This Row],[Dpt + Transporteur]],'Tarif 2021'!$A$2:$A$163,0))," ") | N11: =Tableau3[[#This Row],[Dpt]]&Tableau3[[#This Row],[Transporteur]] -> 60TNT
A12: =Tableau1[[#This Row],[Date]] -> 44222 | B12: =Tableau1[[#This Row],[Code clt]] -> 10 | C12: =Tableau1[[#This Row],[Destinataire]] -> EARL POU | D12: =Tableau1[[#This Row],[Dpt]] -> 72 | E12: =Tableau1[[#This Row],[Ville]] -> VOUVRAY/ LOIR | F12: =Tableau1[[#This Row],[Transporteur]] -> DHL | G12: =Tableau1[[#This Row],[Roll Tag 5]] -> 4 | H12: =Tableau1[[#This Row],[Roll CC]] -> 0 | I12: =INDEX('Tarif 2021'!$B$2:$W$163,MATCH(Tableau3[[#This Row],[Roll Tag 5]],'Tarif 2021'!$B$1:$W$1,0),MATCH(Tableau3[[#This Row],[Dpt + Transporteur]],'Tarif 2021'!$A$2:$A$163,0)) -> #REF! | J12: =IF(Tableau3[[#This Row],[Roll CC]]<>0,INDEX('Tarif 2021'!$B$2:$W$163,MATCH(Tableau3[[#This Row],[Roll CC]],'Tarif 2021'!$B$1:$W$1,0),MATCH(Tableau3[[#This Row],[Dpt + Transporteur]],'Tarif 2021'!$A$2:$A$163,0))," ") | N12: =Tableau3[[#This Row],[Dpt]]&Tableau3[[#This Row],[Transporteur]] -> 72DHL

Sheet Rolls 2021
A1: Suivi des départs et retours de rolls
A3: Date | B3: Code clt | C3: Destinataire | D3: Dpt | E3: Ville | F3: Transporteur | G3: Roll Tag 5 | H3: Roll CC | I3: Etage | J3: Réhausse | K3: Commentaire
A4: 44207 | B4: 1 | C4: =IF(Tableau1[[#This Row],[Code clt]]<>0,VLOOKUP(Tableau1[[#This Row],[Code clt]],Tableau13[],3,FALSE)," ") -> ENTS PIERRE | D4: =IF(Tableau1[[#This Row],[Code clt]]<>0,VLOOKUP(Tableau1[[#This Row],[Code clt]],Tableau13[],5,FALSE)," ") -> 27 | E4: =IF(Tableau1[[#This Row],[Code clt]]<>0,VLOOKUP(Tableau1[[#This Row],[Code clt]],Tableau13[],6,FALSE)," ") -> AUBEVOYE | F4: GEODIS | G4: 1
A5: 44207 | B5: 4 | C5: =IF(Tableau1[[#This Row],[Code clt]]<>0,VLOOKUP(Tableau1[[#This Row],[Code clt]],Tableau13[],3,FALSE)," ") -> ENTS 123 | D5: =IF(Tableau1[[#This Row],[Code clt]]<>0,VLOOKUP(Tableau1[[#This Row],[Code clt]],Tableau13[],5,FALSE)," ") -> 44 | E5: =IF(Tableau1[[#This Row],[Code clt]]<>0,VLOOKUP(Tableau1[[#This Row],[Code clt]],Tableau13[],6,FALSE)," ") -> ST CYR EN RETZ | F5: DHL | G5: 1
A6: 44207 | B6: 9 | C6: =IF(Tableau1[[#This Row],[Code clt]]<>0,VLOOKUP(Tableau1[[#This Row],[Code clt]],Tableau13[],3,FALSE)," ") -> SA CAILLOU | D6: =IF(Tableau1[[#This Row],[Code clt]]<>0,VLOOKUP(Tableau1[[#This Row],[Code clt]],Tableau13[],5,FALSE)," ") -> 35 | E6: =IF(Tableau1[[#This Row],[Code clt]]<>0,VLOOKUP(Tableau1[[#This Row],[Code clt]],Tableau13[],6,FALSE)," ") -> LANDUJAN | F6: TNT | G6: 2
A7: 44215 | B7: 12 | C7: =IF(Tableau1[[#This Row],[Code clt]]<>0,VLOOKUP(Tableau1[[#This Row],[Code clt]],Tableau13[],3,FALSE)," ") -> EURL ORNICAR | D7: =IF(Tableau1[[#This Row],[Code clt]]<>0,VLOOKUP(Tableau1[[#This Row],[Code clt]],Tableau13[],5,FALSE)," ") -> 27 | E7: =IF(Tableau1[[#This Row],[Code clt]]<>0,VLOOKUP(Tableau1[[#This Row],[Code clt]],Tableau13[],6,FALSE)," ") -> GISORS | F7: GEODIS | G7: 3
A8: 44215 | B8: 3 | C8: =IF(Tableau1[[#This Row],[Code clt]]<>0,VLOOKUP(Tableau1[[#This Row],[Code clt]],Tableau13[],3,FALSE)," ") -> ENTS JACQUES | D8: =IF(Tableau1[[#This Row],[Code clt]]<>0,VLOOKUP(Tableau1[[#This Row],[Code clt]],Tableau13[],5,FALSE)," ") -> 37 | E8: =IF(Tableau1[[#This Row],[Code clt]]<>0,VLOOKUP(Tableau1[[#This Row],[Code clt]],Tableau13[],6,FALSE)," ") -> LOCHES | F8: DHL | G8: 1
A9: 44215 | B9: 5 | C9: =IF(Tableau1[[#This Row],[Code clt]]<>0,VLOOKUP(Tableau1[[#This Row],[Code clt]],Tableau13[],3,FALSE)," ") -> SARL BIJOU | D9: =IF(Tableau1[[#This Row],[Code clt]]<>0,VLOOKUP(Tableau1[[#This Row],[Code clt]],Tableau13[],5,FALSE)," ") -> 62 | E9: =IF(Tableau1[[#This Row],[Code clt]]<>0,VLOOKUP(Tableau1[[#This Row],[Code clt]],Tableau13[],6,FALSE)," ") -> CARVIN CEDEX | F9: TNT | G9: 2
A10: 44215 | B10: 2 | C10: =IF(Tableau1[[#This Row],[Code clt]]<>0,VLOOKUP(Tableau1[[#This Row],[Code clt]],Tableau13[],3,FALSE)," ") -> ENTS PAUL | D10: =IF(Tableau1[[#This Row],[Code clt]]<>0,VLOOKUP(Tableau1[[#This Row],[Code clt]],Tableau13[],5,FALSE)," ") -> 77 | E10: =IF(Tableau1[[#This Row],[Code clt]]<>0,VLOOKUP(Tableau1[[#This Row],[Code clt]],Tableau13[],6,FALSE)," ") -> RUFFEC | F10: GEODIS | G10: 1
A11: 44217 | B11: 6 | C11: =IF(Tableau1[[#This Row],[Code clt]]<>0,VLOOKUP(Tableau1[[#This Row],[Code clt]],Tableau13[],3,FALSE)," ") -> EURL CHOU | D11: =IF(Tableau1[[#This Row],[Code clt]]<>0,VLOOKUP(Tableau1[[#This Row],[Code clt]],Tableau13[],5,FALSE)," ") -> 60 | E11: =IF(Tableau1[[#This Row],[Code clt]]<>0,VLOOKUP(Tableau1[[#This Row],[Code clt]],Tableau13[],6,FALSE)," ") -> LA CHAPELLE EN SERVAL | F11: TNT | G11: 3
A12: 44222 | B12: 10 | C12: =IF(Tableau1[[#This Row],[Code clt]]<>0,VLOOKUP(Tableau1[[#This Row],[Code clt]],Tableau13[],3,FALSE)," ") -> EARL POU | D12: =IF(Tableau1[[#This Row],[Code clt]]<>0,VLOOKUP(Tableau1[[#This Row],[Code clt]],Tableau13[],5,FALSE)," ") -> 72 | E12: =IF(Tableau1[[#This Row],[Code clt]]<>0,VLOOKUP(Tableau1[[#This Row],[Code clt]],Tableau13[],6,FALSE)," ") -> VOUVRAY/ LOIR | F12: DHL | G12: 4

Sheet Tarif 2021
D1: 1 | E1: 2 | F1: 3 | G1: 4 | H1: 5 | I1: 6 | J1: 7 | K1: 8 | L1: 9 | M1: 10 | N1: 11 | O1: 12 | P1: 13 | Q1: 14 | R1: 15 | S1: 16 | T1: 17 | U1: 18 | V1: 19 | W1: 20
A2: 10TNT | B2: 10 | C2: TNT | D2: 114.5 | E2: 92.5 | F2: 86 | G2: 77 | H2: 74 | I2: 72 | J2: 69.5 | K2: 67.5 | L2: 66.5 | M2: 65.5 | N2: 65 | O2: 64.5 | P2: 64 | Q2: 63.5 | R2: 63.5 | S2: 63 | T2: 62.5 | U2: 62 | V2: 62 | W2: 61.5
A3: 11SCHENKER JOYAU | B3: 11 | C3: SCHENKER JOYAU | D3: 124.5 | E3: 70.5 | F3: 65 | G3: 65 | H3: 65 | I3: 65 | J3: 65 | K3: 55.5 | L3: 55.5 | M3: 55.5 | N3: 55.5 | O3: 55.5 | P3: 55.5 | Q3: 55.5 | R3: 51 | S3: 51 | T3: 51 | U3: 51 | V3: 51 | W3: 51
A4: 11TNT | B4: 11 | C4: TNT | D4: 149.5 | E4: 118 | F4: 105 | G4: 97 | H4: 93.5 | I4: 89 | J4: 95.5 | K4: 93 | L4: 91 | M4: 89.5 | N4: 87.5 | O4: 86.5 | P4: 85.5 | Q4: 85 | R4: 84 | S4: 83.5 | T4: 82 | U4: 81.5 | V4: 80.5 | W4: 80
A5: 12SCHENKER JOYAU | B5: 12 | C5: SCHENKER JOYAU | D5: 119 | E5: 66 | F5: 62 | G5: 62 | H5: 62 | I5: 52 | J5: 62 | K5: 55.5 | L5: 55.5 | M5: 55.5 | N5: 55.5 | O5: 55.5 | P5: 55.5 | Q5: 55.5 | R5: 49 | S5: 49 | T5: 49 | U5: 49 | V5: 49 | W5: 49
A6: 12TNT | B6: 12 | C6: TNT | D6: 132.5 | E6: 110 | F6: 103.5 | G6: 96.5 | H6: 92.5 | I6: 92 | J6: 91 | K6: 90 | L6: 89 | M6: 88 | N6: 87 | O6: 86 | P6: 85.5 | Q6: 85 | R6: 84.5 | S6: 83.5 | T6: 82.5 | U6: 81.5 | V6: 80.5 | W6: 80
A7: 13SCHENKER JOYAU | B7: 13 | C7: SCHENKER JOYAU | D7: 113.5 | E7: 70.5 | F7: 68.5 | G7: 68.5 | H7: 68.5 | I7: 68.5 | J7: 68.5 | K7: 58.5 | L7: 58.5 | M7: 58.5 | N7: 58.5 | O7: 58.5 | P7: 58.5 | Q7: 58.5 | R7: 55.5 | S7: 55.5 | T7: 55.5 | U7: 55.5 | V7: 55.5 | W7: 55.5
A8: 13TNT | B8: 13 | C8: TNT | D8: 169 | E8: 133.5 | F8: 114 | G8: 108.5 | H8: 104.5 | I8: 99.5 | J8: 91.5 | K8: 86.5 | L8: 82 | M8: 80.5 | N8: 79.5 | O8: 78.5 | P8: 77.5 | Q8: 77 | R8: 76 | S8: 75.5 | T8: 75 | U8: 74.5 | V8: 73.5 | W8: 73
A9: 14DHL | B9: 14 | C9: DHL | D9: 69 | E9: 63 | F9: 61 | G9: 59 | H9: 59 | I9: 59 | J9: 59 | K9: 59 | L9: 59 | M9: 59
A10: 14DAVID | B10: 14 | C10: DAVID | D10: 69 | E10: 63.5 | F10: 59 | G10: 58 | H10: 57 | I10: 53 | J10: 49 | K10: 47 | L10: 46 | M10: 45 | N10: 43 | O10: 41 | P10: 39 | Q10: 39 | R10: 39 | S10: 39 | T10: 39 | U10: 39 | V10: 39 | W10: 39
A11: 14TNT | B11: 14 | C11: TNT | D11: 109.5 | E11: 93.5 | F11: 90 | G11: 87.5 | H11: 85.5 | I11: 80.5 | J11: 79.5 | K11: 79.5 | L11: 73.5 | M11: 73.5 | N11: 73.5 | O11: 71 | P11: 71 | Q11: 71 | R11: 69 | S11: 69 | T11: 69 | U11: 67.5 | V11: 67.5 | W11: 67.5
A12: 15TNT | B12: 15 | C12: TNT | D12: 120.5 | E12: 101 | F12: 95 | G12: 91 | H12: 88.5 | I12: 87 | J12: 86 | K12: 85 | L12: 84.5 | M12: 83.5 | N12: 82.5 | O12: 82 | P12: 81.5 | Q12: 81.5 | R12: 81 | S12: 80.5 | T12: 79.5 | U12: 78.5 | V12: 77.5 | W12: 77
A13: 16DHL | B13: 16 | C13: DHL | D13: 78 | E13: 65 | F13: 60 | G13: 57 | H13: 57 | I13: 57 | J13: 57 | K13: 57 | L13: 57 | M13: 57
A14: 16TNT | B14: 16 | C14: TNT | D14: 93 | E14: 75 | F14: 70.5 | G14: 65 | H14: 62 | I14: 61.5 | J14: 60 | K14: 59 | L14: 58 | M14: 57.5 | N14: 56.5 | O14: 56 | P14: 55.5 | Q14: 55.5 | R14: 55 | S14: 55 | T14: 54 | U14: 54 | V14: 53.5 | W14: 53
A15: 17DHL | B15: 17 | C15: DHL | D15: 73 | E15: 65 | F15: 60 | G15: 57 | H15: 57 | I15: 57 | J15: 57 | K15: 57 | L15: 57 | M15: 57
A16: 17TNT | B16: 17 | C16: TNT | D16: 81 | E16: 68.5 | F16: 63 | G16: 59.5 | H16: 57.5 | I16: 56 | J16: 55 | K16: 55 | L16: 54.5 | M16: 54 | N16: 53 | O16: 53 | P16: 52.5 | Q16: 52.5 | R16: 52 | S16: 52 | T16: 51.5 | U16: 51.5 | V16: 51 | W16: 51
A17: 18DHL | B17: 18 | C17: DHL | D17: 88 | E17: 78 | F17: 68 | G17: 63 | H17: 63 | I17: 63 | J17: 63 | K17: 63 | L17: 63 | M17: 63
A18: 18SCHENKER JOYAU | B18: 18 | C18: SCHENKER JOYAU | D18: 76 | E18: 66 | F18: 54.5 | G18: 54.5 | H18: 52.5 | I18: 50 | J18: 43.5 | K18: 40.5 | L18: 40.5 | M18: 40.5 | N18: 40.5 | O18: 40.5 | P18: 40.5 | Q18: 40.5 | R18: 39.5 | S18: 39.5 | T18: 39.5 | U18: 39.5 | V18: 39.5 | W18: 39.5
A19: 18TNT | B19: 18 | C19: TNT | D19: 116.5 | E19: 102.5 | F19: 93.5 | G19: 88.5 | H19: 85 | I19: 82 | J19: 80 | K19: 78 | L19: 76.5 | M19: 75.5 | N19: 74 | O19: 73 | P19: 72.5 | Q19: 71.5 | R19: 71 | S19: 70.5 | T19: 70 | U19: 70 | V19: 69.5 | W19: 69.5
A20: 19SCHENKER JOYAU | B20: 19 | C20: SCHENKER JOYAU | D20: 113.5 | E20: 66 | F20: 61 | G20: 61 | H20: 61 | I20: 61 | J20: 61 | K20: 54.5 | L20: 54.5 | M20: 54.5 | N20: 54.5 | O20: 54.5 | P20: 54.5 | Q20: 54.5 | R20: 48 | S20: 48 | T20: 48 | U20: 48 | V20: 48 | W20: 48
A21: 19TNT | B21: 19 | C21: TNT | D21: 116.5 | E21: 103.5 | F21: 95 | G21: 90 | H21: 87 | I21: 84.5 | J21: 82.5 | K21: 80.5 | L21: 79 | M21: 78 | N21: 77 | O21: 76.5 | P21: 75.5 | Q21: 75 | R21: 74.5 | S21: 74 | T21: 73.5 | U21: 73 | V21: 73 | W21: 72.5
A22: 1TNT | B22: 1 | C22: TNT | D22: 141 | E22: 110.5 | F22: 107.5 | G22: 103 | H22: 98.5 | I22: 96.5 | J22: 94.5 | K22: 92 | L22: 90 | M22: 90 | N22: 88.5 | O22: 87.5 | P22: 86.5 | Q22: 85 | R22: 84 | S22: 83.5 | T22: 83 | U22: 82.5 | V22: 82 | W22: 81.5
A23: 20TNT | B23: 20 | C23: TNT | D23: 281.5 | E23: 246.5 | F23: 226.5 | G23: 215 | H23: 211 | I23: 193.5 | J23: 186.5 | K23: 181 | L23: 177 | M23: 169.5 | N23: 166.5 | O23: 165.5 | P23: 158.5 | Q23: 157.5 | R23: 156.5 | S23: 156 | T23: 155.5 | U23: 149.5 | V23: 149 | W23: 148.5
A24: 21TNT | B24: 21 | C24: TNT | D24: 116 | E24: 98 | F24: 91.5 | G24: 85.5 | H24: 83 | I24: 81.5 | J24: 80 | K24: 78.5 | L24: 78 | M24: 77 | N24: 76.5 | O24: 76.5 | P24: 76 | Q24: 75.5 | R24: 75.5 | S24: 75.5 | T24: 75 | U24: 74.5 | V24: 74.5 | W24: 74.5
A25: 22DHL | B25: 22 | C25: DHL | D25: 83 | E25: 69 | F25: 63 | G25: 58 | H25: 58 | I25: 58 | J25: 58 | K25: 58 | L25: 58 | M25: 58
A26: 22TNT | B26: 22 | C26: TNT | D26: 99.5 | E26: 76.5 | F26: 69.5 | G26: 63.5 | H26: 59.5 | I26: 57.5 | J26: 55 | K26: 53.5 | L26: 52 | M26: 51 | N26: 50.5 | O26: 49 | P26: 48.5 | Q26: 47.5 | R26: 47 | S26: 46 | T26: 45.5 | U26: 44.5 | V26: 44.5 | W26: 44.5
A27: 23TNT | B27: 23 | C27: TNT | D27: 116 | E27: 102.5 | F27: 94 | G27: 89 | H27: 86 | I27: 83.5 | J27: 81.5 | K27: 79.5 | L27: 78 | M27: 77.5 | N27: 76 | O27: 75.5 | P27: 74.5 | Q27: 74 | R27: 73.5 | S27: 73 | T27: 72.5 | U27: 72 | V27: 71.5 | W27: 71.5
A28: 24TNT | B28: 24 | C28: TNT | D28: 112.5 | E28: 90.5 | F28: 84 | G28: 77.5 | H28: 73.5 | I28: 72.5 | J28: 70 | K28: 69 | L28: 67.5 | M28: 67 | N28: 66 | O28: 65 | P28: 64.5 | Q28: 64 | R28: 63.5 | S28: 63 | T28: 62.5 | U28: 62.5 | V28: 62 | W28: 61.5
A29: 25TNT | B29: 25 | C29: TNT | D29: 122.5 | E29: 103.5 | F29: 95.5 | G29: 88.5 | H29: 86 | I29: 84 | J29: 82 | K29: 80.5 | L29: 80 | M29: 78.5 | N29: 78.5 | O29: 78 | P29: 77.5 | Q29: 77.5 | R29: 77.5 | S29: 77 | T29: 76.5 | U29: 76.5 | V29: 76.5 | W29: 75.5
A30: 26SCHENKER JOYAU | B30: 26 | C30: SCHENKER JOYAU | D30: 108 | E30: 66 | F30: 64 | G30: 64 | H30: 64 | I30: 64 | J30: 64 | K30: 53.5 | L30: 53.5 | M30: 53.5 | N30: 53.5 | O30: 53.5 | P30: 53.5 | Q30: 53.5 | R30: 50 | S30: 50 | T30: 50 | U30: 50 | V30: 50 | W30: 50
A31: 26TNT | B31: 26 | C31: TNT | D31: 147 | E31: 113.5 | F31: 110.5 | G31: 105.5 | H31: 101 | I31: 98.5 | J31: 96 | K31: 93.5 | L31: 91.5 | M31: 91 | N31: 89.5 | O31: 88.5 | P31: 87.5 | Q31: 86 | R31: 85 | S31: 84.5 | T31: 84 | U31: 83.5 | V31: 82.5 | W31: 82
A32: 27GEODIS | B32: 27 | C32: GEODIS | D32: 92 | E32: 86 | F32: 73.5 | G32: 73.5 | H32: 68 | I32: 68 | J32: 56.5 | K32: 49.995 | L32: 49.995 | M32: 45.5 | N32: 40.5 | O32: 40.5 | P32: 40.5 | Q32: 40.5 | R32: 40.5 | S32: 40.5 | T32: 40.5 | U32: 40.5 | V32: 40.5 | W32: 40.5
A33: 27DAVID | B33: 27 | C33: DAVID | D33: 69 | E33: 63.5 | F33: 59 | G33: 58 | H33: 57 | I33: 53 | J33: 49 | K33: 47 | L33: 46 | M33: 45 | N33: 43 | O33: 41 | P33: 39 | Q33: 39 | R33: 39 | S33: 39 | T33: 39 | U33: 39 | V33: 39 | W33: 39
A34: 27TNT | B34: 27 | C34: TNT | D34: 113.5 | E34: 93.5 | F34: 90 | G34: 87.5 | H34: 85.5 | I34: 80.5 | J34: 79.5 | K34: 79.5 | L34: 73.5 | M34: 73.5 | N34: 73.5 | O34: 71.5 | P34: 71.5 | Q34: 71.5 | R34: 69 | S34: 69 | T34: 69 | U34: 68 | V34: 68 | W34: 68
A35: 28DHL | B35: 28 | C35: DHL | D35: 78 | E35: 68 | F35: 63 | G35: 58 | H35: 58 | I35: 58 | J35: 58 | K35: 58 | L35: 58 | M35: 58
A36: 28TNT | B36: 28 | C36: TNT | D36: 87 | E36: 81 | F36: 68 | G36: 64 | H36: 57.5 | I36: 57 | J36: 56 | K36: 54 | L36: 52 | M36: 50 | N36: 48.5 | O36: 47 | P36: 46 | Q36: 45 | R36: 44 | S36: 43.5 | T36: 43 | U36: 42.5 | V36: 42 | W36: 41.5
A37: 29DHL | B37: 29 | C37: DHL | D37: 95 | E37: 75 | F37: 69 | G37: 63 | H37: 63 | I37: 63 | J37: 63 | K37: 63 | L37: 63 | M37: 63
A38: 29TNT | B38: 29 | C38: TNT | D38: 107 | E38: 80 | F38: 72.5 | G38: 66 | H38: 62 | I38: 60 | J38: 58 | K38: 55 | L38: 54.5 | M38: 53 | N38: 51.5 | O38: 50.5 | P38: 49.5 | Q38: 49 | R38: 48 | S38: 47.5 | T38: 47 | U38: 46.5 | V38: 45.5 | W38: 45.5
A39: 2GEODIS | B39: 2 | C39: GEODIS | D39: 108 | E39: 86 | F39: 79.5 | G39: 76 | H39: 73 | I39: 70 | J39: 58.5 | K39: 52.5 | L39: 52.5 | M39: 49 | N39: 45 | O39: 45 | P39: 45 | Q39: 45 | R39: 45 | S39: 45 | T39: 45 | U39: 45 | V39: 45 | W39: 45
A40: 2TNT | B40: 2 | C40: TNT | D40: 120 | E40: 93.5 | F40: 85 | G40: 79 | H40: 75.5 | I40: 73.5 | J40: 70.5 | K40: 68.5 | L40: 67.5 | M40: 66.5 | N40: 65 | O40: 64.5 | P40: 64 | Q40: 64 | R40: 63.5 | S40: 63.5 | T40: 63 | U40: 63 | V40: 62.5 | W40: 62.5
A41: 30SCHENKER JOYAU | B41: 30 | C41: SCHENKER JOYAU | D41: 113.5 | E41: 70.5 | F41: 68.5 | G41: 68.5 | H41: 68.5 | I41: 68.5 | J41: 68.5 | K41: 58.5 | L41: 58.5 | M41: 58.5 | N41: 58.5 | O41: 58.5 | P41: 58.5 | Q41: 58.5 | R41: 55.5 | S41: 55.5 | T41: 55.5 | U41: 55.5 | V41: 55.5 | W41: 55.5
A42: 30TNT | B42: 30 | C42: TNT | D42: 168 | E42: 133 | F42: 113 | G42: 107.5 | H42: 103 | I42: 98 | J42: 90 | K42: 85 | L42: 80.5 | M42: 76 | N42: 73.5 | O42: 70.5 | P42: 69.5 | Q42: 68.5 | R42: 68.5 | S42: 67.5 | T42: 67.5 | U42: 67.5 | V42: 67.5 | W42: 67.5
A43: 31SCHENKER JOYAU | B43: 31 | C43: SCHENKER JOYAU | D43: 124.5 | E43: 70.5 | F43: 63 | G43: 63 | H43: 63 | I43: 63 | J43: 63 | K43: 55.5 | L43: 55.5 | M43: 55.5 | N43: 55.5 | O43: 55.5 | P43: 55.5 | Q43: 55.5 | R43: 49 | S43: 49 | T43: 49 | U43: 49 | V43: 49 | W43: 49
A44: 31TNT | B44: 31 | C44: TNT | D44: 126.5 | E44: 99.5 | F44: 89.5 | G44: 82.5 | H44: 79 | I44: 76 | J44: 77.5 | K44: 78 | L44: 78 | M44: 78 | N44: 77.5 | O44: 77.5 | P44: 77.5 | Q44: 77 | R44: 77 | S44: 76.5 | T44: 75.5 | U44: 75 | V44: 74 | W44: 73.5
A45: 32TNT | B45: 32 | C45: TNT | D45: 122 | E45: 96 | F45: 86 | G45: 80 | H45: 77 | I45: 74 | J45: 75 | K45: 74 | L45: 73 | M45: 72 | N45: 71 | O45: 70 | P45: 70 | Q45: 69.5 | R45: 69 | S45: 68.5 | T45: 67.5 | U45: 67.5 | V45: 66.5 | W45: 66.5
A46: 33DHL | B46: 33 | C46: DHL | D46: 73 | E46: 69 | F46: 65 | G46: 61 | H46: 61 | I46: 61 | J46: 61 | K46: 61 | L46: 61 | M46: 61
A47: 33TNT | B47: 33 | C47: TNT | D47: 79.5 | E47: 76.5 | F47: 68 | G47: 67 | H47: 66 | I47: 65 | J47: 64 | K47: 63.5 | L47: 63.5 | M47: 63 | N47: 62.5 | O47: 62 | P47: 62 | Q47: 61.5 | R47: 60.5 | S47: 60 | T47: 59.5 | U47: 59 | V47: 58.5 | W47: 58
A48: 34SCHENKER JOYAU | B48: 34 | C48: SCHENKER JOYAU | D48: 113.5 | E48: 70.5 | F48: 68.5 | G48: 68.5 | H48: 68.5 | I48: 68.5 | J48: 68.5 | K48: 58.5 | L48: 58.5 | M48: 58.5 | N48: 58.5 | O48: 58.5 | P48: 58.5 | Q48: 58.5 | R48: 55.5 | S48: 55.5 | T48: 55.5 | U48: 55.5 | V48: 55.5 | W48: 55.5
A49: 34TNT | B49: 34 | C49: TNT | D49: 168 | E49: 133 | F49: 113 | G49: 107.5 | H49: 103 | I49: 98 | J49: 90 | K49: 84.5 | L49: 80.5 | M49: 76 | N49: 73.5 | O49: 70.5 | P49: 69 | Q49: 68.5 | R49: 67.5 | S49: 67.5 | T49: 67.5 | U49: 67.5 | V49: 67.5 | W49: 67.5
A50: 35DHL | B50: 35 | C50: DHL | D50: 67 | E50: 59 | F50: 53 | G50: 48 | H50: 48 | I50: 48 | J50: 48 | K50: 48 | L50: 48 | M50: 48
A51: 35TNT | B51: 35 | C51: TNT | D51: 77.5 | E51: 71.5 | F51: 61.5 | G51: 57.5 | H51: 52.5 | I51: 51.5 | J51: 50.5 | K51: 49 | L51: 47.5 | M51: 46 | N51: 44.5 | O51: 43.5 | P51: 42.5 | Q51: 42 | R51: 41.5 | S51: 41 | T51: 40.5 | U51: 40 | V51: 39.5 | W51: 39.5
A52: 36DHL | B52: 36 | C52: DHL | D52: 88 | E52: 78 | F52: 67 | G52: 61 | H52: 61 | I52: 61 | J52: 61 | K52: 61 | L52: 61 | M52: 61
A53: 36SCHENKER JOYAU | B53: 36 | C53: SCHENKER JOYAU | D53: 81.5 | E53: 65 | F53: 60 | G53: 57.5 | H53: 54.5 | I53: 51 | J53: 46 | K53: 42.5 | L53: 42.5 | M53: 42.5 | N53: 42.5 | O53: 42.5 | P53: 42.5 | Q53: 42.5 | R53: 40.5 | S53: 40.5 | T53: 40.5 | U53: 40.5 | V53: 40.5 | W53: 40.5
A54: 36TNT | B54: 36 | C54: TNT | D54: 106 | E54: 93 | F54: 85.5 | G54: 80.5 | H54: 77.5 | I54: 75 | J54: 73 | K54: 71.5 | L54: 70 | M54: 69 | N54: 68 | O54: 67.5 | P54: 67 | Q54: 66 | R54: 65.5 | S54: 65 | T54: 65 | U54: 64.5 | V54: 64 | W54: 63.5
A55: 37DHL | B55: 37 | C55: DHL | D55: 67 | E55: 58 | F55: 51 | G55: 48 | H55: 48 | I55: 48 | J55: 48 | K55: 48 | L55: 48 | M55: 48
A56: 37TNT | B56: 37 | C56: TNT | D56: 73.5 | E56: 69 | F56: 58.5 | G56: 55 | H56: 50 | I56: 49 | J56: 48.5 | K56: 47 | L56: 45.5 | M56: 44 | N56: 43 | O56: 42 | P56: 41 | Q56: 41 | R56: 39.5 | S56: 39 | T56: 39 | U56: 38.5 | V56: 38 | W56: 38
A57: 38TNT | B57: 38 | C57: TNT | D57: 139.5 | E57: 109.5 | F57: 107 | G57: 105.5 | H57: 98.5 | I57: 96.5 | J57: 94.5 | K57: 91.5 | L57: 89.5 | M57: 89.5 | N57: 88 | O57: 87 | P57: 86 | Q57: 85 | R57: 84 | S57: 83.5 | T57: 83 | U57: 82.5 | V57: 82 | W57: 81.5
A58: 39TNT | B58: 39 | C58: TNT | D58: 127.5 | E58: 106 | F58: 100 | G58: 91 | H58: 88 | I58: 86 | J58: 84 | K58: 82 | L58: 81 | M58: 80 | N58: 79.5 | O58: 79 | P58: 78.5 | Q58: 78.5 | R58: 78 | S58: 78 | T58: 77.5 | U58: 77 | V58: 76.5 | W58: 76.5
A59: 3DHL | B59: 3 | C59: DHL | D59: 95 | E59: 83 | F59: 79 | G59: 75 | H59: 75 | I59: 75 | J59: 75 | K59: 75 | L59: 75 | M59: 75
A60: 3SCHENKER JOYAU | B60: 3 | C60: SCHENKER JOYAU | D60: 103 | E60: 65 | F60: 63 | G60: 63 | H60: 63 | I60: 63 | J60: 63 | K60: 51 | L60: 51 | M60: 51 | N60: 51 | O60: 51 | P60: 51 | Q60: 51 | R60: 48 | S60: 48 | T60: 48 | U60: 48 | V60: 48 | W60: 48
A61: 3TNT | B61: 3 | C61: TNT | D61: 106.5 | E61: 90.5 | F61: 84.5 | G61: 81 | H61: 78.5 | I61: 77 | J61: 75.5 | K61: 74 | L61: 73.5 | M61: 72.5 | N61: 71.5 | O61: 71 | P61: 70.5 | Q61: 70 | R61: 69.5 | S61: 69 | T61: 69 | U61: 68.5 | V61: 68.5 | W61: 68.5
A62: 40TNT | B62: 40 | C62: TNT | D62: 110.5 | E62: 87 | F62: 81 | G62: 74 | H62: 70.5 | I62: 70 | J62: 67.5 | K62: 66.5 | L62: 65.5 | M62: 64.5 | N62: 63.5 | O62: 63 | P62: 62.5 | Q62: 62 | R62: 61.5 | S62: 61 | T62: 60.5 | U62: 60.5 | V62: 60 | W62: 59.5
A63: 41DHL | B63: 41 | C63: DHL | D63: 76 | E63: 68 | F63: 61 | G63: 58 | H63: 58 | I63: 58 | J63: 58 | K63: 58 | L63: 58 | M63: 58
A64: 41TNT | B64: 41 | C64: TNT | D64: 83.5 | E64: 78 | F64: 66 | G64: 61.5 | H64: 56 | I64: 54 | J64: 54 | K64: 52 | L64: 50 | M64: 48 | N64: 47 | O64: 45.5 | P64: 45 | Q64: 44.5 | R64: 43 | S64: 42.5 | T64: 41.5 | U64: 41.5 | V64: 41 | W64: 40.5
A65: 42SCHENKER JOYAU | B65: 42 | C65: SCHENKER JOYAU | D65: 103 | E65: 65 | F65: 63 | G65: 63 | H65: 63 | I65: 63 | J65: 63 | K65: 51 | L65: 51 | M65: 51 | N65: 51 | O65: 51 | P65: 51 | Q65: 51 | R65: 48 | S65: 48 | T65: 48 | U65: 48 | V65: 48 | W65: 48
A66: 42TNT | B66: 42 | C66: TNT | D66: 131 | E66: 101.5 | F66: 91.5 | G66: 87.5 | H66: 84.5 | I66: 83.5 | J66: 82.5 | K66: 81.5 | L66: 81 | M66: 81.5 | N66: 81 | O66: 80.5 | P66: 80 | Q66: 79.5 | R66: 78.5 | S66: 78.5 | T66: 78.5 | U66: 78 | V66: 78 | W66: 77.5
A67: 43TNT | B67: 43 | C67: TNT | D67: 114 | E67: 95.5 | F67: 88.5 | G67: 84.5 | H67: 81.5 | I67: 79.5 | J67: 77.5 | K67: 76 | L67: 75 | M67: 74 | N67: 73 | O67: 72.5 | P67: 72 | Q67: 71.5 | R67: 71 | S67: 70.5 | T67: 70 | U67: 70 | V67: 69.5 | W67: 69.5
A68: 44DHL | B68: 44 | C68: DHL | D68: 55 | E68: 45 | F68: 40 | G68: 38 | H68: 38 | I68: 38 | J68: 38 | K68: 38 | L68: 38 | M68: 38
A69: 44TNT | B69: 44 | C69: TNT | D69: 67 | E69: 62.5 | F69: 54.5 | G69: 51.5 | H69: 46.5 | I69: 46.5 | J69: 46 | K69: 44 | L69: 42.5 | M69: 42 | N69: 40.5 | O69: 39.5 | P69: 39.5 | Q69: 38 | R69: 37.5 | S69: 37 | T69: 36.5 | U69: 36.5 | V69: 36 | W69: 36
A70: 45DHL | B70: 45 | C70: DHL | D70: 77 | E70: 68 | F70: 59 | G70: 55 | H70: 55 | I70: 55 | J70: 55 | K70: 55 | L70: 55 | M70: 55
A71: 45TNT | B71: 45 | C71: TNT | D71: 93.5 | E71: 82.5 | F71: 69.5 | G71: 65 | H71: 59 | I71: 57.5 | J71: 57.5 | K71: 55.5 | L71: 53 | M71: 51.5 | N71: 49.5 | O71: 48 | P71: 47 | Q71: 46 | R71: 45.5 | S71: 44.5 | T71: 44 | U71: 43.5 | V71: 43 | W71: 42.5
A72: 46SCHENKER JOYAU | B72: 46 | C72: SCHENKER JOYAU | D72: 119 | E72: 66 | F72: 62 | G72: 62 | H72: 62 | I72: 52 | J72: 62 | K72: 55.5 | L72: 55.5 | M72: 55.5 | N72: 55.5 | O72: 55.5 | P72: 55.5 | Q72: 55.5 | R72: 49 | S72: 49 | T72: 49 | U72: 49 | V72: 49 | W72: 49
A73: 46TNT | B73: 46 | C73: TNT | D73: 131.5 | E73: 109 | F73: 102.5 | G73: 95.5 | H73: 91.5 | I73: 91 | J73: 90 | K73: 89 | L73: 88 | M73: 87 | N73: 86 | O73: 85 | P73: 84.5 | Q73: 84 | R73: 83.5 | S73: 82.5 | T73: 81.5 | U73: 81 | V73: 79.5 | W73: 79
A74: 47TNT | B74: 47 | C74: TNT | D74: 99.5 | E74: 98 | F74: 92 | G74: 86.5 | H74: 83 | I74: 82 | J74: 81.5 | K74: 80.5 | L74: 80 | M74: 79.5 | N74: 79.5 | O74: 78.5 | P74: 77.5 | Q74: 77 | R74: 76.5 | S74: 75.5 | T74: 75.5 | U74: 69 | V74: 69 | W74: 68.5
A75: 48TNT | B75: 48 | C75: TNT | D75: 136.5 | E75: 111.5 | F75: 105.5 | G75: 100.5 | H75: 98 | I75: 96 | J75: 94.5 | K75: 93 | L75: 92.5 | M75: 91 | N75: 89.5 | O75: 89 | P75: 88 | Q75: 87.5 | R75: 86.5 | S75: 85.5 | T75: 84.5 | U75: 83.5 | V75: 82.5 | W75: 82
A76: 49DHL | B76: 49 | C76: DHL | D76: 60 | E76: 58 | F76: 53 | G76: 51 | H76: 51 | I76: 51 | J76: 51 | K76: 51 | L76: 51 | M76: 51
A77: 49TNT | B77: 49 | C77: TNT | D77: 65.5 | E77: 64.5 | F77: 55.5 | G77: 53 | H77: 48.5 | I77: 48 | J77: 47.5 | K77: 46.5 | L77: 45 | M77: 43.5 | N77: 43 | O77: 41.5 | P77: 41 | Q77: 40.5 | R77: 40 | S77: 39.5 | T77: 39 | U77: 38.5 | V77: 38 | W77: 38
A78: 4TNT | B78: 4 | C78: TNT | D78: 233.5 | E78: 155 | F78: 131.5 | G78: 117.5 | H78: 108.5 | I78: 105 | J78: 102.5 | K78: 101 | L78: 99 | M78: 98.5 | N78: 97 | O78: 94.5 | P78: 93 | Q78: 92 | R78: 91.5 | S78: 90.5 | T78: 90.5 | U78: 90 | V78: 90.5 | W78: 89.5
A79: 50DHL | B79: 50 | C79: DHL | D79: 95 | E79: 83 | F79: 81 | G79: 78 | H79: 78 | I79: 78 | J79: 78 | K79: 78 | L79: 78 | M79: 78
A80: 50DAVID | B80: 50 | C80: DAVID | D80: 82 | E80: 68.5 | F80: 63 | G80: 60.5 | H80: 58.5 | I80: 55 | J80: 51.5 | K80: 50 | L80: 48 | M80: 47 | N80: 45 | O80: 44 | P80: 41 | Q80: 41 | R80: 41 | S80: 41 | T80: 41 | U80: 41 | V80: 41 | W80: 41
A81: 50TNT | B81: 50 | C81: TNT | D81: 113.5 | E81: 93.5 | F81: 90 | G81: 87.5 | H81: 85.5 | I81: 80.5 | J81: 79.5 | K81: 79.5 | L81: 73.5 | M81: 73.5 | N81: 73.5 | O81: 71.5 | P81: 71.5 | Q81: 71.5 | R81: 69 | S81: 69 | T81: 69 | U81: 68 | V81: 68 | W81: 61.5
A82: 51TNT | B82: 51 | C82: TNT | D82: 120 | E82: 94.5 | F82: 87.5 | G82: 81.5 | H82: 78 | I82: 75.5 | J82: 73 | K82: 71 | L82: 70 | M82: 68.5 | N82: 68 | O82: 67.5 | P82: 67 | Q82: 66.5 | R82: 66.5 | S82: 66 | T82: 65.5 | U82: 65 | V82: 65 | W82: 64.5
A83: 52TNT | B83: 52 | C83: TNT | D83: 109.5 | E83: 94.5 | F83: 88.5 | G83: 83.5 | H83: 81.5 | I83: 80.5 | J83: 78.5 | K83: 77.5 | L83: 76.5 | M83: 76 | N83: 75.5 | O83: 75 | P83: 75 | Q83: 74.5 | R83: 74.5 | S83: 74.5 | T83: 74 | U83: 73.5 | V83: 73.5 | W83: 73.5
A84: 53DHL | B84: 53 | C84: DHL | D84: 68 | E84: 63 | F84: 53 | G84: 51 | H84: 51 | I84: 51 | J84: 51 | K84: 51 | L84: 51 | M84: 51
A85: 53TNT | B85: 53 | C85: TNT | D85: 74 | E85: 67 | F85: 57 | G85: 54 | H85: 49 | I85: 48 | J85: 48 | K85: 46 | L85: 45 | M85: 43 | N85: 42.5 | O85: 41.5 | P85: 40.5 | Q85: 40 | R85: 39.5 | S85: 39 | T85: 38.5 | U85: 38 | V85: 38 | W85: 37.5
A86: 54TNT | B86: 54 | C86: TNT | D86: 132.5 | E86: 109.5 | F86: 103.5 | G86: 96.5 | H86: 93.5 | I86: 91 | J86: 88.5 | K86: 86.5 | L86: 85.5 | M86: 84 | N86: 83.5 | O86: 83 | P86: 82.5 | Q86: 82.5 | R86: 82 | S86: 81.5 | T86: 81.5 | U86: 81 | V86: 80.5 | W86: 80.5
A87: 55TNT | B87: 55 | C87: TNT | D87: 128.5 | E87: 108 | F87: 101.5 | G87: 98.5 | H87: 95.5 | I87: 93 | J87: 90 | K87: 88 | L87: 87 | M87: 85.5 | N87: 84.5 | O87: 84.5 | P87: 84 | Q87: 83.5 | R87: 83.5 | S87: 83 | T87: 82.5 | U87: 82 | V87: 82 | W87: 81.5
A88: 56DHL | B88: 56 | C88: DHL | D88: 71 | E88: 61 | F88: 58 | G88: 53 | H88: 53 | I88: 53 | J88: 53 | K88: 53 | L88: 53 | M88: 53
A89: 56TNT | B89: 56 | C89: TNT | D89: 94 | E89: 73.5 | F89: 63.5 | G89: 58 | H89: 54.5 | I89: 53 | J89: 51 | K89: 49.5 | L89: 48.5 | M89: 47 | N89: 46.5 | O89: 45.5 | P89: 44.5 | Q89: 44 | R89: 43.5 | S89: 43 | T89: 45.5 | U89: 42 | V89: 42 | W89: 41.5
A90: 57TNT | B90: 57 | C90: TNT | D90: 136.5 | E90: 112.5 | F90: 105 | G90: 98.5 | H90: 94.5 | I90: 92.5 | J90: 89.5 | K90: 87.5 | L90: 86 | M90: 84.5 | N90: 84 | O90: 83.5 | P90: 83 | Q90: 82.5 | R90: 82.5 | S90: 82 | T90: 81.5 | U90: 81 | V90: 81 | W90: 80.5
A91: 58DHL | B91: 58 | C91: DHL | D91: 98 | E91: 95 | F91: 88 | G91: 83 | H91: 83 | I91: 83 | J91: 83 | K91: 83 | L91: 83 | M91: 83
A92: 58TNT | B92: 58 | C92: TNT | D92: 130.5 | E92: 106.5 | F92: 99.5 | G92: 93.5 | H92: 89.5 | I92: 87 | J92: 84.5 | K92: 82 | L92: 81.5 | M92: 79.5 | N92: 79 | O92: 78.5 | P92: 78 | Q92: 77.5 | R92: 77 | S92: 77 | T92: 76.5 | U92: 75.5 | V92: 75.5 | W92: 75.5
A93: 59GEODIS | B93: 59 | C93: GEODIS | D93: 108 | E93: 86 | F93: 79.5 | G93: 76 | H93: 73 | I93: 70 | J93: 58.5 | K93: 52.5 | L93: 52.5 | M93: 49 | N93: 45 | O93: 45 | P93: 45 | Q93: 45 | R93: 45 | S93: 45 | T93: 45 | U93: 45 | V93: 45 | W93: 45
A94: 59TNT | B94: 59 | C94: TNT | D94: 101 | E94: 97 | F94: 90.5 | G94: 89.5 | H94: 87 | I94: 86.5 | J94: 86 | K94: 85 | L94: 84.5 | M94: 84 | N94: 83.5 | O94: 82.5 | P94: 82 | Q94: 81.5 | R94: 81 | S94: 80 | T94: 79.5 | U94: 79 | V94: 78.5 | W94: 78
A95: 5TNT | B95: 5 | C95: TNT | D95: 233.5 | E95: 155 | F95: 131.5 | G95: 117.5 | H95: 108.5 | I95: 105 | J95: 102.5 | K95: 101 | L95: 99 | M95: 98.5 | N95: 97 | O95: 95 | P95: 93 | Q95: 92 | R95: 91.5 | S95: 90.5 | T95: 90.5 | U95: 90 | V95: 90.5 | W95: 89.5
A96: 60GEODIS | B96: 60 | C96: GEODIS | D96: 92 | E96: 86 | F96: 73.5 | G96: 73.5 | H96: 68 | I96: 68 | J96: 56.5 | K96: 49.995 | L96: 49.995 | M96: 45.5 | N96: 40.5 | O96: 40.5 | P96: 40.5 | Q96: 40.5 | R96: 40.5 | S96: 40.5 | T96: 40.5 | U96: 40.5 | V96: 40.5 | W96: 40.5
A97: 60TNT | B97: 60 | C97: TNT | D97: 104.5 | E97: 79.5 | F97: 72.5 | G97: 65.5 | H97: 62 | I97: 60.5 | J97: 59 | K97: 58 | L97: 57 | M97: 56.5 | N97: 56 | O97: 55.5 | P97: 55.5 | Q97: 55 | R97: 55 | S97: 54.5 | T97: 54.5 | U97: 54.5 | V97: 55 | W97: 54
A98: 61DHL | B98: 61 | C98: DHL | D98: 93 | E98: 83 | F98: 81 | G98: 78 | H98: 78 | I98: 78 | J98: 78 | K98: 78 | L98: 78 | M98: 78
A99: 61DAVID | B99: 61 | C99: DAVID | D99: 67.5 | E99: 55 | F99: 51 | G99: 50 | H99: 47 | I99: 43 | J99: 41 | K99: 40 | L99: 39 | M99: 38 | N99: 37 | O99: 35.5 | P99: 33.5 | Q99: 33.5 | R99: 33.5 | S99: 33.5 | T99: 33.5 | U99: 33.5 | V99: 33.5 | W99: 33.5
A100: 61TNT | B100: 61 | C100: TNT | D100: 108.5 | E100: 92.5 | F100: 89 | G100: 86.5 | H100: 84.5 | I100: 79.5 | J100: 78.5 | K100: 78.5 | L100: 72.5 | M100: 72.5 | N100: 72.5 | O100: 70 | P100: 70 | Q100: 70 | R100: 68.5 | S100: 68 | T100: 68 | U100: 66.5 | V100: 66.5 | W100: 66.5
...

Sheet Base clients
A1: CUSNOCUSTOMER | B1: ENSEIGNE | C1: CUSNAME | D1: CUSZIPCODE | E1: Colonne1 | F1: CUSCITY | G1: CUSADDRESS1 | H1: CUSPHONE | I1: CUSFAX | J1: CUSEMAIL
A2: 1 | C2: ENTS PIERRE | E2: 27 | F2: AUBEVOYE
A3: 2 | C3: ENTS PAUL | E3: 77 | F3: RUFFEC
A4: 3 | C4: ENTS JACQUES | E4: 37 | F4: LOCHES
A5: 4 | C5: ENTS 123 | E5: 44 | F5: ST CYR EN RETZ
A6: 5 | C6: SARL BIJOU | E6: 62 | F6: CARVIN CEDEX
A7: 6 | C7: EURL CHOU | E7: 60 | F7: LA CHAPELLE EN SERVAL
A8: 7 | C8: SAS JOUJOU | E8: 76 | F8: ROUEN CEDEX
A9: 8 | C9: EARL GENOU | E9: 49 | F9: ST MARTIN DU FOUILLOUX
A10: 9 | C10: SA CAILLOU | E10: 35 | F10: LANDUJAN
A11: 10 | C11: EARL POU | E11: 72 | F11: VOUVRAY/ LOIR
A12: 11 | C12: SARL HIBOU | E12: 3 | F12: CUSSET
A13: 12 | C13: EURL ORNICAR | E13: 27 | F13: GISORS

Sheet Liste déroulante
A1: DHL
A2: GEODIS
A3: SCHENKER JOYAU
A4: TNT
