Workbook
Name TRANSPORTEUR: 'Liste déroulante'!$A$1:$A$17

Sheet Suivi coût
A1: Liste départs 2021
A3: Date | B3: Code clt | C3: Destinataire | D3: Dpt | E3: Ville | F3: Transporteur | G3: Roll Tag 5 | H3: Roll CC | I3: Coût TAG 5 | J3: Coût CC | K3: Retour | L3: Cumul | M3: Groupage | N3: Dpt + Transporteur | O3: Avoir | P3: Représentant
A4: =Tableau1[[#This Row],[Date]] -> 44207 | B4: =Tableau1[[#This Row],[Code clt]] -> 1 | C4: =Tableau1[[#This Row],[Destinataire]] -> ENTS PIERRE | D4: =Tableau1[[#This Row],[Dpt]] -> 27 | E4: =Tableau1[[#This Row],[Ville]] -> AUBEVOYE | F4: =Tableau1[[#This Row],[Transporteur]] -> GEODIS | G4: =Tableau1[[#This Row],[Roll Tag 5]] -> 1 | H4: =Tableau1[[#This Row],[Roll CC]] -> 0 | I4: =INDEX('Tarif 2021'!$B$2:$W$163,MATCH(Tableau3[[#This Row],[Roll Tag 5]],'Tarif 2021'!$B$1:$W$1,0),MATCH(Tableau3[[#This Row],[Dpt + Transporteur]],'Tarif 2021'!$A$2:$A$163,0)) -> #REF! | J4: =IF(Tableau3[[#This Row],[Roll CC]]<>0,INDEX('Tarif 2021'!$B$2:$W$163,MATCH(Tableau3[[#This Row],[Roll CC]],'Tarif 2021'!$B$1:$W$1,0),MATCH(Tableau3[[#This Row],[Dpt + Transporteur]],'Tarif 2021'!$A$2:$A$163,0))," ") | N4: =Tableau3[[#This Row],[Dpt]]&Tableau3[[#This Row],[Transporteur]] -> 27GEODIS
A5: =Tableau1[[#This Row],[Date]] -> 44207 | B5: =Tableau1[[#This Row],[Code clt]] -> 4 | C5: =Tableau1[[#This Row],[Destinataire]] -> ENTS 123 | D5: =Tableau1[[#This Row],[Dpt]] -> 44 | E5: =Tableau1[[#This Row],[Ville]] -> ST CYR EN RETZ | F5: =Tableau1[[#This Row],[Transporteur]] -> DHL | G5: =Tableau1[[#This Row],[Roll Tag 5]] -> 1 | H5: =Tableau1[[#This Row],[Roll CC]] -> 0 | I5: =INDEX('Tarif 2021'!$B$2:$W$163,MATCH(Tableau3[[#This Row],[Roll Tag 5]],'Tarif 2021'!$B$1:$W$1,0),MATCH(Tableau3[[#This Row],[Dpt + Transporteur]],'Tarif 2021'!$A$2:$A$163,0)) -> #REF! | J5: =IF(Tableau3[[#This Row],[Roll CC]]<>0,INDEX('Tarif 2021'!$B$2:$W$163,MATCH(Tableau3[[#This Row],[Roll CC]],'Tarif 2021'!$B$1:$W$1,0),MATCH(Tableau3[[#This Row],[Dpt + Transporteur]],'Tarif 2021'!$A$2:$A$163,0))," ") | N5: =Tableau3[[#This Row],[Dpt]]&Tableau3[[#This Row],[Transporteur]] -> 44DHL
A6: =Tableau1[[#This Row],[Date]] -> 44207 | B6: =Tableau1[[#This Row],[Code clt]] -> 9 | C6: =Tableau1[[#This Row],[Destinataire]] -> SA CAILLOU | D6: =Tableau1[[#This Row],[Dpt]] -> 35 | E6: =Tableau1[[#This Row],[Ville]] -> LANDUJAN | F6: =Tableau1[[#This Row],[Transporteur]] -> TNT | G6: =Tableau1[[#This Row],[Roll Tag 5]] -> 2 | H6: =Tableau1[[#This Row],[Roll CC]] -> 0 | I6: =INDEX('Tarif 2021'!$B$2:$W$163,MATCH(Tableau3[[#This Row],[Roll Tag 5]],'Tarif 2021'!$B$1:$W$1,0),MATCH(Tableau3[[#This Row],[Dpt + Transporteur]],'Tarif 2021'!$A$2:$A$163,0)) -> #REF! | J6: =IF(Tableau3[[#This Row],[Roll CC]]<>0,INDEX('Tarif 2021'!$B$2:$W$163,MATCH(Tableau3[[#This Row],[Roll CC]],'Tarif 2021'!$B$1:$W$1,0),MATCH(Tableau3[[#This Row],[Dpt + Transporteur]],'Tarif 2021'!$A$2:$A$163,0))," ") | N6: =Tableau3[[#This Row],[Dpt]]&Tableau3[[#This Row],[Transporteur]] -> 35TNT
A7: =Tableau1[[#This Row],[Date]] -> 44215 | B7: =Tableau1[[#This Row],[Code clt]] -> 12 | C7: =Tableau1[[#This Row],[Destinataire]] -> EURL ORNICAR | D7: =Tableau1[[#This Row],[Dpt]] -> 27 | E7: =Tableau1[[#This Row],[Ville]] -> GISORS | F7: =Tableau1[[#This Row],[Transporteur]] -> GEODIS | G7: =Tableau1[[#This Row],[Roll Tag 5]] -> 3 | H7: =Tableau1[[#This Row],[Roll CC]] -> 0 | I7: =INDEX('Tarif 2021'!$B$2:$W$163,MATCH(Tableau3[[#This Row],[Roll Tag 5]],'Tarif 2021'!$B$1:$W$1,0),MATCH(Tableau3[[#This Row],[Dpt + Transporteur]],'Tarif 2021'!$A$2:$A$163,0)) -> #REF! | J7: =IF(Tableau3[[#This Row],[Roll CC]]<>0,INDEX('Tarif 2021'!$B$2:$W$163,MATCH(Tableau3[[#This Row],[Roll CC]],'Tarif 2021'!$B$1:$W$1,0),MATCH(Tableau3[[#This Row],[Dpt + Transporteur]],'Tarif 2021'!$A$2:$A$163,0))," ") | N7: =Tableau3[[#This Row],[Dpt]]&Tableau3[[#This Row],[Transporteur]] -> 27GEODIS
A8: =Tableau1[[#This Row],[Date]] -> 44215 | B8: =Tableau1[[#This Row],[Code clt]] -> 3 | C8: =Tableau1[[#This Row],[Destinataire]] -> ENTS JACQUES | D8: =Tableau1[[#This Row],[Dpt]] -> 37 | E8: =Tableau1[[#This Row],[Ville]] -> LOCHES | F8: =Tableau1[[#This Row],[Transporteur]] -> DHL | G8: =Tableau1[[#This Row],[Roll Tag 5]] -> 1 | H8: =Tableau1[[#This Row],[Roll CC]] -> 0 | I8: =INDEX('Tarif 2021'!$B$2:$W$163,MATCH(Tableau3[[#This Row],[Roll Tag 5]],'Tarif 2021'!$B$1:$W$1,0),MATCH(Tableau3[[#This Row],[Dpt + Transporteur]],'Tarif 2021'!$A$2:$A$163,0)) -> #REF! | J8: =IF(Tableau3[[#This Row],[Roll CC]]<>0,INDEX('Tarif 2021'!$B$2:$W$163,MATCH(Tableau3[[#This Row],[Roll CC]],'Tarif 2021'!$B$1:$W$1,0),MATCH(Tableau3[[#This Row],[Dpt + Transporteur]],'Tarif 2021'!$A$2:$A$163,0))," ") | N8: =Tableau3[[#This Row],[Dpt]]&Tableau3[[#This Row],[Transporteur]] -> 37DHL
A9: =Tableau1[[#This Row],[Date]] -> 44215 | B9: =Tableau1[[#This Row],[Code clt]] -> 5 | C9: =Tableau1[[#This Row],[Destinataire]] -> SARL BIJOU | D9: =Tableau1[[#This Row],[Dpt]] -> 62 | E9: =Tableau1[[#This Row],[Ville]] -> CARVIN CEDEX | F9: =Tableau1[[#This Row],[Transporteur]] -> TNT | G9: =Tableau1[[#This Row],[Roll Tag 5]] -> 2 | H9: =Tableau1[[#This Row],[Roll CC]] -> 0 | I9: =INDEX('Tarif 2021'!$B$2:$W$163,MATCH(Tableau3[[#This Row],[Roll Tag 5]],'Tarif 2021'!$B$1:$W$1,0),MATCH(Tableau3[[#This Row],[Dpt + Transporteur]],'Tarif 2021'!$A$2:$A$163,0)) -> #REF! | J9: =IF(Tableau3[[#This Row],[Roll CC]]<>0,INDEX('Tarif 2021'!$B$2:$W$163,MATCH(Tableau3[[#This Row],[Roll CC]],'Tarif 2021'!$B$1:$W$1,0),MATCH(Tableau3[[#This Row],[Dpt + Transporteur]],'Tarif 2021'!$A$2:$A$163,0))," ") | N9: =Tableau3[[#This Row],[Dpt]]&Tableau3[[#This Row],[Transporteur]] -> 62TNT
A10: =Tableau1[[#This Row],[Date]] -> 44215 | B10: =Tableau1[[#This Row],[Code clt]] -> 2 | C10: =Tableau1[[#This Row],[Destinataire]] -> ENTS PAUL | D10: =Tableau1[[#This Row],[Dpt]] -> 77 | E10: =Tableau1[[#This Row],[Ville]] -> RUFFEC | F10: =Tableau1[[#This Row],[Transporteur]] -> GEODIS | G10: =Tableau1[[#This Row],[Roll Tag 5]] -> 1 | H10: =Tableau1[[#This Row],[Roll CC]] -> 0 | I10: =INDEX('Tarif 2021'!$B$2:$W$163,MATCH(Tableau3[[#This Row],[Roll Tag 5]],'Tarif 2021'!$B$1:$W$1,0),MATCH(Tableau3[[#This Row],[Dpt + Transporteur]],'Tarif 2021'!$A$2:$A$163,0)) -> #REF! | J10: =IF(Tableau3[[#This Row],[Roll CC]]<>0,INDEX('Tarif 2021'!$B$2:$W$163,MATCH(Tableau3[[#This Row],[Roll CC]],'Tarif 2021'!$B$1:$W$1,0),MATCH(Tableau3[[#This Row],[Dpt + Transporteur]],'Tarif 2021'!$A$2:$A$163,0))," ") | N10: =Tableau3[[#This Row],[Dpt]]&Tableau3[[#This Row],[Transporteur]] -> 77GEODIS
A11: =Tableau1[[#This Row],[Date]] -> 44217 | B11: =Tableau1[[#This Row],[Code clt]] -> 6 | C11: =Tableau1[[#This Row],[Destinataire]] -> EURL CHOU | D11: =Tableau1[[#This Row],[Dpt]] -> 60 | E11: =Tableau1[[#This Row],[Ville]] -> LA CHAPELLE EN SERVAL | F11: =Tableau1[[#This Row],[Transporteur]] -> TNT | G11: =Tableau1[[#This Row],[Roll Tag 5]] -> 3 | H11: =Tableau1[[#This Row],[Roll CC]] -> 0 | I11: =INDEX('Tarif 2021'!$B$2:$W$163,MATCH(Tableau3[[#This Row],[Roll Tag 5]],'Tarif 2021'!$B$1:$W$1,0),MATCH(Tableau3[[#This Row],[Dpt + Transporteur]],'Tarif 2021'!$A$2:$A$163,0)) -> #REF! | J11: =IF(Tableau3[[#This Row],[Roll CC]]<>0,INDEX('Tarif 2021'!$B$2:$W$163,MATCH(Tableau3[[#This Row],[Roll CC]],'Tarif 2021'!$B$1:$W$1,0),MATCH(Tableau3[[#This Row],[Dpt + Transporteur]],'Tarif 2021'!$A$2:$A$163,0))," ") | N11: =Tableau3[[#This Row],[Dpt]]&Tableau3[[#This Row],[Transporteur]] -> 60TNT
A12: =Tableau1[[#This Row],[Date]] -> 44222 | B12: =Tableau1[[#This Row],[Code clt]] -> 10 | C12: =Tableau1[[#This Row],[Destinataire]] -> EARL POU | D12: =Tableau1[[#This Row],[Dpt]] -> 72 | E12: =Tableau1[[#This Row],[Ville]] -> VOUVRAY/ LOIR | F12: =Tableau1[[#This Row],[Transporteur]] -> DHL | G12: =Tableau1[[#This Row],[Roll Tag 5]] -> 4 | H12: =Tableau1[[#This Row],[Roll CC]] -> 0 | I12: =INDEX('Tarif 2021'!$B$2:$W$163,MATCH(Tableau3[[#This Row],[Roll Tag 5]],'Tarif 2021'!$B$1:$W$1,0),MATCH(Tableau3[[#This Row],[Dpt + Transporteur]],'Tarif 2021'!$A$2:$A$163,0)) -> #REF! | J12: =IF(Tableau3[[#This Row],[Roll CC]]<>0,INDEX('Tarif 2021'!$B$2:$W$163,MATCH(Tableau3[[#This Row],[Roll CC]],'Tarif 2021'!$B$1:$W$1,0),MATCH(Tableau3[[#This Row],[Dpt + Transporteur]],'Tarif 2021'!$A$2:$A$163,0))," ") | N12: =Tableau3[[#This Row],[Dpt]]&Tableau3[[#This Row],[Transporteur]] -> 72DHL

Sheet Rolls 2021
A1: Suivi des départs et retours de rolls
A3: Date | B3: Code clt | C3: Destinataire | D3: Dpt | E3: Ville | F3: Transporteur | G3: Roll Tag 5 | H3: Roll CC | I3: Etage | J3: Réhausse | K3: Commentaire
A4: 44207 | B4: 1 | C4: =IF(Tableau1[[#This Row],[Code clt]]<>0,VLOOKUP(Tableau1[[#This Row],[Code clt]],Tableau13[],3,FALSE)," ") -> ENTS PIERRE | D4: =IF(Tableau1[[#This Row],[Code clt]]<>0,VLOOKUP(Tableau1[[#This Row],[Code clt]],Tableau13[],5,FALSE)," ") -> 27 | E4: =IF(Tableau1[[#This Row],[Code clt]]<>0,VLOOKUP(Tableau1[[#This Row],[Code clt]],Tableau13[],6,FALSE)," ") -> AUBEVOYE | F4: GEODIS | G4: 1
A5: 44207 | B5: 4 | C5: =IF(Tableau1[[#This Row],[Code clt]]<>0,VLOOKUP(Tableau1[[#This Row],[Code clt]],Tableau13[],3,FALSE)," ") -> ENTS 123 | D5: =IF(Tableau1[[#This Row],[Code clt]]<>0,VLOOKUP(Tableau1[[#This Row],[Code clt]],Tableau13[],5,FALSE)," ") -> 44 | E5: =IF(Tableau1[[#This Row],[Code clt]]<>0,VLOOKUP(Tableau1[[#This Row],[Code clt]],Tableau13[],6,FALSE)," ") -> ST CYR EN RETZ | F5: DHL | G5: 1
A6: 44207 | B6: 9 | C6: =IF(Tableau1[[#This Row],[Code clt]]<>0,VLOOKUP(Tableau1[[#This Row],[Code clt]],Tableau13[],3,FALSE)," ") -> SA CAILLOU | D6: =IF(Tableau1[[#This Row],[Code clt]]<>0,VLOOKUP(Tableau1[[#This Row],[Code clt]],Tableau13[],5,FALSE)," ") -> 35 | E6: =IF(Tableau1[[#This Row],[Code clt]]<>0,VLOOKUP(Tableau1[[#This Row],[Code clt]],Tableau13[],6,FALSE)," ") -> LANDUJAN | F6: TNT | G6: 2
A7: 44215 | B7: 12 | C7: =IF(Tableau1[[#This Row],[Code clt]]<>0,VLOOKUP(Tableau1[[#This Row],[Code clt]],Tableau13[],3,FALSE)," ") -> EURL ORNICAR | D7: =IF(Tableau1[[#This Row],[Code clt]]<>0,VLOOKUP(Tableau1[[#This Row],[Code clt]],Tableau13[],5,FALSE)," ") -> 27 | E7: =IF(Tableau1[[#This Row],[Code clt]]<>0,VLOOKUP(Tableau1[[#This Row],[Code clt]],Tableau13[],6,FALSE)," ") -> GISORS | F7: GEODIS | G7: 3
A8: 44215 | B8: 3 | C8: =IF(Tableau1[[#This Row],[Code clt]]<>0,VLOOKUP(Tableau1[[#This Row],[Code clt]],Tableau13[],3,FALSE)," ") -> ENTS JACQUES | D8: =IF(Tableau1[[#This Row],[Code clt]]<>0,VLOOKUP(Tableau1[[#This Row],[Code clt]],Tableau13[],5,FALSE)," ") -> 37 | E8: =IF(Tableau1[[#This Row],[Code clt]]<>0,VLOOKUP(Tableau1[[#This Row],[Code clt]],Tableau13[],6,FALSE)," ") -> LOCHES | F8: DHL | G8: 1
A9: 44215 | B9: 5 | C9: =IF(Tableau1[[#This Row],[Code clt]]<>0,VLOOKUP(Tableau1[[#This Row],[Code clt]],Tableau13[],3,FALSE)," ") -> SARL BIJOU | D9: =IF(Tableau1[[#This Row],[Code clt]]<>0,VLOOKUP(Tableau1[[#This Row],[Code clt]],Tableau13[],5,FALSE)," ") -> 62 | E9: =IF(Tableau1[[#This Row],[Code clt]]<>0,VLOOKUP(Tableau1[[#This Row],[Code clt]],Tableau13[],6,FALSE)," ") -> CARVIN CEDEX | F9: TNT | G9: 2
A10: 44215 | B10: 2 | C10: =IF(Tableau1[[#This Row],[Code clt]]<>0,VLOOKUP(Tableau1[[#This Row],[Code clt]],Tableau13[],3,FALSE)," ") -> ENTS PAUL | D10: =IF(Tableau1[[#This Row],[Code clt]]<>0,VLOOKUP(Tableau1[[#This Row],[Code clt]],Tableau13[],5,FALSE)," ") -> 77 | E10: =IF(Tableau1[[#This Row],[Code clt]]<>0,VLOOKUP(Tableau1[[#This Row],[Code clt]],Tableau13[],6,FALSE)," ") -> RUFFEC | F10: GEODIS | G10: 1
A11: 44217 | B11: 6 | C11: =IF(Tableau1[[#This Row],[Code clt]]<>0,VLOOKUP(Tableau1[[#This Row],[Code clt]],Tableau13[],3,FALSE)," ") -> EURL CHOU | D11: =IF(Tableau1[[#This Row],[Code clt]]<>0,VLOOKUP(Tableau1[[#This Row],[Code clt]],Tableau13[],5,FALSE)," ") -> 60 | E11: =IF(Tableau1[[#This Row],[Code clt]]<>0,VLOOKUP(Tableau1[[#This Row],[Code clt]],Tableau13[],6,FALSE)," ") -> LA CHAPELLE EN SERVAL | F11: TNT | G11: 3
A12: 44222 | B12: 10 | C12: =IF(Tableau1[[#This Row],[Code clt]]<>0,VLOOKUP(Tableau1[[#This Row],[Code clt]],Tableau13[],3,FALSE)," ") -> EARL POU | D12: =IF(Tableau1[[#This Row],[Code clt]]<>0,VLOOKUP(Tableau1[[#This Row],[Code clt]],Tableau13[],5,FALSE)," ") -> 72 | E12: =IF(Tableau1[[#This Row],[Code clt]]<>0,VLOOKUP(Tableau1[[#This Row],[Code clt]],Tableau13[],6,FALSE)," ") -> VOUVRAY/ LOIR | F12: DHL | G12: 4

Sheet Tarif 2021
D1: 1 | E1: 2 | F1: 3 | G1: 4 | H1: 5 | I1: 6 | J1: 7 | K1: 8 | L1: 9 | M1: 10 | N1: 11 | O1: 12 | P1: 13 | Q1: 14 | R1: 15 | S1: 16 | T1: 17 | U1: 18 | V1: 19 | W1: 20
A2: 10TNT | B2: 10 | C2: TNT | D2: 114.5 | E2: 92.5 | F2: 86 | G2: 77 | H2: 74 | I2: 72 | J2: 69.5 | K2: 67.5 | L2: 66.5 | M2: 65.5 | N2: 65 | O2: 64.5 | P2: 64 | Q2: 63.5 | R2: 63.5 | S2: 63 | T2: 62.5 | U2: 62 | V2: 62 | W2: 61.5
A3: 11SCHENKER JOYAU | B3: 11 | C3: SCHENKER JOYAU | D3: 124.5 | E3: 70.5 | F3: 65 | G3: 65 | H3: 65 | I3: 65 | J3: 65 | K3: 55.5 | L3: 55.5 | M3: 55.5 | N3: 55.5 | O3: 55.5 | P3: 55.5 | Q3: 55.5 | R3: 51 | S3: 51 | T3: 51 | U3: 51 | V3: 51 | W3: 51
A4: 11TNT | B4: 11 | C4: TNT | D4: 149.5 | E4: 118 | F4: 105 | G4: 97 | H4: 93.5 | I4: 89 | J4: 95.5 | K4: 93 | L4: 91 | M4: 89.5 | N4: 87.5 | O4: 86.5 | P4: 85.5 | Q4: 85 | R4: 84 | S4: 83.5 | T4: 82 | U4: 81.5 | V4: 80.5 | W4: 80
A5: 12SCHENKER JOYAU | B5: 12 | C5: SCHENKER JOYAU | D5: 119 | E5: 66 | F5: 62 | G5: 62 | H5: 62 | I5: 52 | J5: 62 | K5: 55.5 | L5: 55.5 | M5: 55.5 | N5: 55.5 | O5: 55.5 | P5: 55.5 | Q5: 55.5 | R5: 49 | S5: 49 | T5: 49 | U5: 49 | V5: 49 | W5: 49
A6: 12TNT | B6: 12 | C6: TNT | D6: 132.5 | E6: 110 | F6: 103.5 | G6: 96.5 | H6: 92.5 | I6: 92 | J6: 91 | K6: 90 | L6: 89 | M6: 88 | N6: 87 | O6: 86 | P6: 85.5 | Q6: 85 | R6: 84.5 | S6: 83.5 | T6: 82.5 | U6: 81.5 | V6: 80.5 | W6: 80
A7: 13SCHENKER JOYAU | B7: 13 | C7: SCHENKER JOYAU | D7: 113.5 | E7: 70.5 | F7: 68.5 | G7: 68.5 | H7: 68.5 | I7: 68.5 | J7: 68.5 | K7: 58.5 | L7: 58.5 | M7: 58.5 | N7: 58.5 | O7: 58.5 | P7: 58.5 | Q7: 58.5 | R7: 55.5 | S7: 55.5 | T7: 55.5 | U7: 55.5 | V7: 55.5 | W7: 55.5
A8: 13TNT | B8: 13 | C8: TNT | D8: 169 | E8: 133.5 | F8: 114 | G8: 108.5 | H8: 104.5 | I8: 99.5 | J8: 91.5 | K8: 86.5 | L8: 82 | M8: 80.5 | N8: 79.5 | O8: 78.5 | P8: 77.5 | Q8: 77 | R8: 76 | S8: 75.5 | T8: 75 | U8: 74.5 | V8: 73.5 | W8: 73
A9: 14DHL | B9: 14 | C9: DHL | D9: 69 | E9: 63 | F9: 61 | G9: 59 | H9: 59 | I9: 59 | J9: 59 | K9: 59 | L9: 59 | M9: 59
A10: 14DAVID | B10: 14 | C10: DAVID | D10: 69 | E10: 63.5 | F10: 59 | G10: 58 | H10: 57 | I10: 53 | J10: 49 | K10: 47 | L10: 46 | M10: 45 | N10: 43 | O10: 41 | P10: 39 | Q10: 39 | R10: 39 | S10: 39 | T10: 39 | U10: 39 | V10: 39 | W10: 39
A11: 14TNT | B11: 14 | C11: TNT | D11: 109.5 | E11: 93.5 | F11: 90 | G11: 87.5 | H11: 85.5 | I11: 80.5 | J11: 79.5 | K11: 79.5 | L11: 73.5 | M11: 73.5 | N11: 73.5 | O11: 71 | P11: 71 | Q11: 71 | R11: 69 | S11: 69 | T11: 69 | U11: 67.5 | V11: 67.5 | W11: 67.5
A12: 15TNT | B12: 15 | C12: TNT | D12: 120.5 | E12: 101 | F12: 95 | G12: 91 | H12: 88.5 | I12: 87 | J12: 86 | K12: 85 | L12: 84.5 | M12: 83.5 | N12: 82.5 | O12: 82 | P12: 81.5 | Q12: 81.5 | R12: 81 | S12: 80.5 | T12: 79.5 | U12: 78.5 | V12: 77.5 | W12: 77
A13: 16DHL | B13: 16 | C13: DHL | D13: 78 | E13: 65 | F13: 60 | G13: 57 | H13: 57 | I13: 57 | J13: 57 | K13: 57 | L13: 57 | M13: 57
A14: 16TNT | B14: 16 | C14: TNT | D14: 93 | E14: 75 | F14: 70.5 | G14: 65 | H14: 62 | I14: 61.5 | J14: 60 | K14: 59 | L14: 58 | M14: 57.5 | N14: 56.5 | O14: 56 | P14: 55.5 | Q14: 55.5 | R14: 55 | S14: 55 | T14: 54 | U14: 54 | V14: 53.5 | W14: 53
A15: 17DHL | B15: 17 | C15: DHL | D15: 73 | E15: 65 | F15: 60 | G15: 57 | H15: 57 | I15: 57 | J15: 57 | K15: 57 | L15: 57 | M15: 57
A16: 17TNT | B16: 17 | C16: TNT | D16: 81 | E16: 68.5 | F16: 63 | G16: 59.5 | H16: 57.5 | I16: 56 | J16: 55 | K16: 55 | L16: 54.5 | M16: 54 | N16: 53 | O16: 53 | P16: 52.5 | Q16: 52.5 | R16: 52 | S16: 52 | T16: 51.5 | U16: 51.5 | V16: 51 | W16: 51
A17: 18DHL | B17: 18 | C17: DHL | D17: 88 | E17: 78 | F17: 68 | G17: 63 | H17: 63 | I17: 63 | J17: 63 | K17: 63 | L17: 63 | M17: 63
A18: 18SCHENKER JOYAU | B18: 18 | C18: SCHENKER JOYAU | D18: 76 | E18: 66 | F18: 54.5 | G18: 54.5 | H18: 52.5 | I18: 50 | J18: 43.5 | K18: 40.5 | L18: 40.5 | M18: 40.5 | N18: 40.5 | O18: 40.5 | P18: 40.5 | Q18: 40.5 | R18: 39.5 | S18: 39.5 | T18: 39.5 | U18: 39.5 | V18: 39.5 | W18: 39.5
A19: 18TNT | B19: 18 | C19: TNT | D19: 116.5 | E19: 102.5 | F19: 93.5 | G19: 88.5 | H19: 85 | I19: 82 | J19: 80 | K19: 78 | L19: 76.5 | M19: 75.5 | N19: 74 | O19: 73 | P19: 72.5 | Q19: 71.5 | R19: 71 | S19: 70.5 | T19: 70 | U19: 70 | V19: 69.5 | W19: 69.5
A20: 19SCHENKER JOYAU | B20: 19 | C20: SCHENKER JOYAU | D20: 113.5 | E20: 66 | F20: 61 | G20: 61 | H20: 61 | I20: 61 | J20: 61 | K20: 54.5 | L20: 54.5 | M20: 54.5 | N20: 54.5 | O20: 54.5 | P20: 54.5 | Q20: 54.5 | R20: 48 | S20: 48 | T20: 48 | U20: 48 | V20: 48 | W20: 48
A21: 19TNT | B21: 19 | C21: TNT | D21: 116.5 | E21: 103.5 | F21: 95 | G21: 90 | H21: 87 | I21: 84.5 | J21: 82.5 | K21: 80.5 | L21: 79 | M21: 78 | N21: 77 | O21: 76.5 | P21: 75.5 | Q21: 75 | R21: 74.5 | S21: 74 | T21: 73.5 | U21: 73 | V21: 73 | W21: 72.5
A22: 1TNT | B22: 1 | C22: TNT | D22: 141 | E22: 110.5 | F22: 107.5 | G22: 103 | H22: 98.5 | I22: 96.5 | J22: 94.5 | K22: 92 | L22: 90 | M22: 90 | N22: 88.5 | O22: 87.5 | P22: 86.5 | Q22: 85 | R22: 84 | S22: 83.5 | T22: 83 | U22: 82.5 | V22: 82 | W22: 81.5
A23: 20TNT | B23: 20 | C23: TNT | D23: 281.5 | E23: 246.5 | F23: 226.5 | G23: 215 | H23: 211 | I23: 193.5 | J23: 186.5 | K23: 181 | L23: 177 | M23: 169.5 | N23: 166.5 | O23: 165.5 | P23: 158.5 | Q23: 157.5 | R23: 156.5 | S23: 156 | T23: 155.5 | U23: 149.5 | V23: 149 | W23: 148.5
A24: 21TNT | B24: 21 | C24: TNT | D24: 116 | E24: 98 | F24: 91.5 | G24: 85.5 | H24: 83 | I24: 81.5 | J24: 80 | K24: 78.5 | L24: 78 | M24: 77 | N24: 76.5 | O24: 76.5 | P24: 76 | Q24: 75.5 | R24: 75.5 | S24: 75.5 | T24: 75 | U24: 74.5 | V24: 74.5 | W24: 74.5
A25: 22DHL | B25: 22 | C25: DHL | D25: 83 | E25: 69 | F25: 63 | G25: 58 | H25: 58 | I25: 58 | J25: 58 | K25: 58 | L25: 58 | M25: 58
A26: 22TNT | B26: 22 | C26: TNT | D26: 99.5 | E26: 76.5 | F26: 69.5 | G26: 63.5 | H26: 59.5 | I26: 57.5 | J26: 55 | K26: 53.5 | L26: 52 | M26: 51 | N26: 50.5 | O26: 49 | P26: 48.5 | Q26: 47.5 | R26: 47 | S26: 46 | T26: 45.5 | U26: 44.5 | V26: 44.5 | W26: 44.5
A27: 23TNT | B27: 23 | C27: TNT | D27: 116 | E27: 102.5 | F27: 94 | G27: 89 | H27: 86 | I27: 83.5 | J27: 81.5 | K27: 79.5 | L27: 78 | M27: 77.5 | N27: 76 | O27: 75.5 | P27: 74.5 | Q27: 74 | R27: 73.5 | S27: 73 | T27: 72.5 | U27: 72 | V27: 71.5 | W27: 71.5
A28: 24TNT | B28: 24 | C28: TNT | D28: 112.5 | E28: 90.5 | F28: 84 | G28: 77.5 | H28: 73.5 | I28: 72.5 | J28: 70 | K28: 69 | L28: 67.5 | M28: 67 | N28: 66 | O28: 65 | P28: 64.5 | Q28: 64 | R28: 63.5 | S28: 63 | T28: 62.5 | U28: 62.5 | V28: 62 | W28: 61.5
A29: 25TNT | B29: 25 | C29: TNT | D29: 122.5 | E29: 103.5 | F29: 95.5 | G29: 88.5 | H29: 86 | I29: 84 | J29: 82 | K29: 80.5 | L29: 80 | M29: 78.5 | N29: 78.5 | O29: 78 | P29: 77.5 | Q29: 77.5 | R29: 77.5 | S29: 77 | T29: 76.5 | U29: 76.5 | V29: 76.5 | W29: 75.5
A30: 26SCHENKER JOYAU | B30: 26 | C30: SCHENKER JOYAU | D30: 108 | E30: 66 | F30: 64 | G30: 64 | H30: 64 | I30: 64 | J30: 64 | K30: 53.5 | L30: 53.5 | M30: 53.5 | N30: 53.5 | O30: 53.5 | P30: 53.5 | Q30: 53.5 | R30: 50 | S30: 50 | T30: 50 | U30: 50 | V30: 50 | W30: 50
A31: 26TNT | B31: 26 | C31: TNT | D31: 147 | E31: 113.5 | F31: 110.5 | G31: 105.5 | H31: 101 | I31: 98.5 | J31: 96 | K31: 93.5 | L31: 91.5 | M31: 91 | N31: 89.5 | O31: 88.5 | P31: 87.5 | Q31: 86 | R31: 85 | S31: 84.5 | T31: 84 | U31: 83.5 | V31: 82.5 | W31: 82
A32: 27GEODIS | B32: 27 | C32: GEODIS | D32: 92 | E32: 86 | F32: 73.5 | G32: 73.5 | H32: 68 | I32: 68 | J32: 56.5 | K32: 49.995 | L32: 49.995 | M32: 45.5 | N32: 40.5 | O32: 40.5 | P32: 40.5 | Q32: 40.5 | R32: 40.5 | S32: 40.5 | T32: 40.5 | U32: 40.5 | V32: 40.5 | W32: 40.5
A33: 27DAVID | B33: 27 | C33: DAVID | D33: 69 | E33: 63.5 | F33: 59 | G33: 58 | H33: 57 | I33: 53 | J33: 49 | K33: 47 | L33: 46 | M33: 45 | N33: 43 | O33: 41 | P33: 39 | Q33: 39 | R33: 39 | S33: 39 | T33: 39 | U33: 39 | V33: 39 | W33: 39
A34: 27TNT | B34: 27 | C34: TNT | D34: 113.5 | E34: 93.5 | F34: 90 | G34: 87.5 | H34: 85.5 | I34: 80.5 | J34: 79.5 | K34: 79.5 | L34: 73.5 | M34: 73.5 | N34: 73.5 | O34: 71.5 | P34: 71.5 | Q34: 71.5 | R34: 69 | S34: 69 | T34: 69 | U34: 68 | V34: 68 | W34: 68
A35: 28DHL | B35: 28 | C35: DHL | D35: 78 | E35: 68 | F35: 63 | G35: 58 | H35: 58 | I35: 58 | J35: 58 | K35: 58 | L35: 58 | M35: 58
A36: 28TNT | B36: 28 | C36: TNT | D36: 87 | E36: 81 | F36: 68 | G36: 64 | H36: 57.5 | I36: 57 | J36: 56 | K36: 54 | L36: 52 | M36: 50 | N36: 48.5 | O36: 47 | P36: 46 | Q36: 45 | R36: 44 | S36: 43.5 | T36: 43 | U36: 42.5 | V36: 42 | W36: 41.5
A37: 29DHL | B37: 29 | C37: DHL | D37: 95 | E37: 75 | F37: 69 | G37: 63 | H37: 63 | I37: 63 | J37: 63 | K37: 63 | L37: 63 | M37: 63
A38: 29TNT | B38: 29 | C38: TNT | D38: 107 | E38: 80 | F38: 72.5 | G38: 66 | H38: 62 | I38: 60 | J38: 58 | K38: 55 | L38: 54.5 | M38: 53 | N38: 51.5 | O38: 50.5 | P38: 49.5 | Q38: 49 | R38: 48 | S38: 47.5 | T38: 47 | U38: 46.5 | V38: 45.5 | W38: 45.5
A39: 2GEODIS | B39: 2 | C39: GEODIS | D39: 108 | E39: 86 | F39: 79.5 | G39: 76 | H39: 73 | I39: 70 | J39: 58.5 | K39: 52.5 | L39: 52.5 | M39: 49 | N39: 45 | O39: 45 | P39: 45 | Q39: 45 | R39: 45 | S39: 45 | T39: 45 | U39: 45 | V39: 45 | W39: 45
A40: 2TNT | B40: 2 | C40: TNT | D40: 120 | E40: 93.5 | F40: 85 | G40: 79 | H40: 75.5 | I40: 73.5 | J40: 70.5 | K40: 68.5 | L40: 67.5 | M40: 66.5 | N40: 65 | O40: 64.5 | P40: 64 | Q40: 64 | R40: 63.5 | S40: 63.5 | T40: 63 | U40: 63 | V40: 62.5 | W40: 62.5
...

Sheet Base clients
A1: CUSNOCUSTOMER | B1: ENSEIGNE | C1: CUSNAME | D1: CUSZIPCODE | E1: Colonne1 | F1: CUSCITY | G1: CUSADDRESS1 | H1: CUSPHONE | I1: CUSFAX | J1: CUSEMAIL
A2: 1 | C2: ENTS PIERRE | E2: 27 | F2: AUBEVOYE
A3: 2 | C3: ENTS PAUL | E3: 77 | F3: RUFFEC
A4: 3 | C4: ENTS JACQUES | E4: 37 | F4: LOCHES
A5: 4 | C5: ENTS 123 | E5: 44 | F5: ST CYR EN RETZ
A6: 5 | C6: SARL BIJOU | E6: 62 | F6: CARVIN CEDEX
A7: 6 | C7: EURL CHOU | E7: 60 | F7: LA CHAPELLE EN SERVAL
A8: 7 | C8: SAS JOUJOU | E8: 76 | F8: ROUEN CEDEX
A9: 8 | C9: EARL GENOU | E9: 49 | F9: ST MARTIN DU FOUILLOUX
A10: 9 | C10: SA CAILLOU | E10: 35 | F10: LANDUJAN
A11: 10 | C11: EARL POU | E11: 72 | F11: VOUVRAY/ LOIR
A12: 11 | C12: SARL HIBOU | E12: 3 | F12: CUSSET
A13: 12 | C13: EURL ORNICAR | E13: 27 | F13: GISORS

Sheet Liste déroulante
A1: DHL
A2: GEODIS
A3: SCHENKER JOYAU
A4: TNT
