Workbook
Name Classification: PARAM!$A$5:$A$10
Name Classification1: PARAM!$F$5:$F$10
Name Classification2: PARAM!$F$5:$F$11
Name Classification3: PARAM!$A$5:$A$11
Name Classification5: PARAM!$A$2:$A$33
Name janvier: mensuel!$A$7:$A$8

Sheet jour
A1: DATE | B1: HEURE | C1: CLASSIFICATION | F1: Finalités | G1: Volume | H1: Taux de transformation | I1: Taux réel
A2: 44251 | B2: 11.31 | C2: EXEMPLE 1 | E2: 1 | F2: EXEMPLE 1 | G2: =COUNTIFS($A$2:$A$939,TODAY(),$C$2:$C$939,F2) -> 2 | H2: =(G2/$G$34) -> 0.33333333 | I2: =(G2*100)/SUM($G$2:$G$8) -> 50
A3: 44251 | C3: EXEMPLE 2 | F3: EXEMPLE 2 | G3: =COUNTIFS($A$2:$A$939,TODAY(),$C$2:$C$939,F3) -> 1 | H3: =(G3/$G$34) -> 0.16666667 | I3: =(G3*100)/SUM($G$2:$G$8) -> 25
A4: 44251 | C4: EXEMPLE 1 | F4: EXEMPLE 3 | G4: =COUNTIFS($A$2:$A$939,TODAY(),$C$2:$C$939,F4) -> 0 | H4: =(G4/$G$34) -> 0 | I4: =(G4*100)/SUM($G$2:$G$8) -> 0
A5: 44251 | C5: EXEMPLE 7 | F5: EXEMPLE 4 | G5: =COUNTIFS($A$2:$A$939,TODAY(),$C$2:$C$939,F5) -> 0 | H5: =(G5/$G$34) -> 0 | I5: =(G5*100)/SUM($G$2:$G$8) -> 0
A6: 44251 | C6: EXEMPLE 11 | F6: EXEMPLE 5 | G6: =COUNTIFS($A$2:$A$939,TODAY(),$C$2:$C$939,F6) -> 0 | H6: =(G6/$G$34) -> 0 | I6: =(G6*100)/SUM($G$2:$G$8) -> 0
A7: 44251 | C7: EXEMPLE 28 | F7: EXEMPLE 6 | G7: =COUNTIFS($A$2:$A$939,TODAY(),$C$2:$C$939,F7) -> 0 | H7: =(G7/$G$34) -> 0 | I7: =(G7*100)/SUM($G$2:$G$8) -> 0
A8: 44251 | C8: EXEMPLE 31 | E8: 2 | F8: EXEMPLE 7 | G8: =COUNTIFS($A$2:$A$939,TODAY(),$C$2:$C$939,F8) -> 1 | H8: =(G8/$G$34) -> 0.16666667 | I8: =(G8*100)/SUM($G$2:$G$8) -> 25
A9: 44251 | C9: EXEMPLE 32 | E9: 3 | F9: EXEMPLE 8 | G9: =COUNTIFS($A$2:$A$939,TODAY(),$C$2:$C$939,F9) -> 0 | H9: =(G9/$G$34) -> 0
F10: EXEMPLE 9 | G10: =COUNTIFS($A$2:$A$939,TODAY(),$C$2:$C$939,F10) -> 0 | H10: =(G10/$G$34) -> 0
F11: EXEMPLE 10 | G11: =COUNTIFS($A$2:$A$939,TODAY(),$C$2:$C$939,F11) -> 0 | H11: =(G11/$G$34) -> 0
F12: EXEMPLE 11 | G12: =COUNTIFS($A$2:$A$939,TODAY(),$C$2:$C$939,F12) -> 1 | H12: =(G12/$G$34) -> 0.16666667
F13: EXEMPLE 12 | G13: =COUNTIFS($A$2:$A$939,TODAY(),$C$2:$C$939,F13) -> 0 | H13: =(G13/$G$34) -> 0
F14: EXEMPLE 13 | G14: =COUNTIFS($A$2:$A$939,TODAY(),$C$2:$C$939,F14) -> 0 | H14: =(G14/$G$34) -> 0
F15: EXEMPLE 14 | G15: =COUNTIFS($A$2:$A$939,TODAY(),$C$2:$C$939,F15) -> 0 | H15: =(G15/$G$34) -> 0
F16: EXEMPLE 15 | G16: =COUNTIFS($A$2:$A$939,TODAY(),$C$2:$C$939,F16) -> 0 | H16: =(G16/$G$34) -> 0
F17: EXEMPLE 16 | G17: =COUNTIFS($A$2:$A$939,TODAY(),$C$2:$C$939,F17) -> 0 | H17: =(G17/$G$34) -> 0
F18: EXEMPLE 17 | G18: =COUNTIFS($A$2:$A$939,TODAY(),$C$2:$C$939,F18) -> 0 | H18: =(G18/$G$34) -> 0
F19: EXEMPLE 18 | G19: =COUNTIFS($A$2:$A$939,TODAY(),$C$2:$C$939,F19) -> 0 | H19: =(G19/$G$34) -> 0
F20: EXEMPLE 19 | G20: =COUNTIFS($A$2:$A$939,TODAY(),$C$2:$C$939,F20) -> 0 | H20: =(G20/$G$34) -> 0
F21: EXEMPLE 20 | G21: =COUNTIFS($A$2:$A$939,TODAY(),$C$2:$C$939,F21) -> 0 | H21: =(G21/$G$34) -> 0
... F25: EXEMPLE 24 | G25: =COUNTIFS($A$2:$A$939,TODAY(),$C$2:$C$939,F25) -> 0 | H25: =(G25/$G$34) -> 0
E26: 4 | F26: EXEMPLE 25 | G26: =COUNTIFS($A$2:$A$939,TODAY(),$C$2:$C$939,F26) -> 0 | H26: =(G26/$G$34) -> 0
F27: EXEMPLE 26 | G27: =COUNTIFS($A$2:$A$939,TODAY(),$C$2:$C$939,F27) -> 0 | H27: =(G27/$G$34) -> 0
F28: EXEMPLE 27 | G28: =COUNTIFS($A$2:$A$939,TODAY(),$C$2:$C$939,F28) -> 0 | H28: =(G28/$G$34) -> 0
F29: EXEMPLE 28 | G29: =COUNTIFS($A$2:$A$939,TODAY(),$C$2:$C$939,F29) -> 1 | H29: =(G29/$G$34) -> 0.16666667
E30: 5 | F30: EXEMPLE 29 | G30: =COUNTIFS($A$2:$A$939,TODAY(),$C$2:$C$939,F30) -> 0 | H30: =(G30/$G$34) -> 0
E31: 6 | F31: EXEMPLE 30 | G31: =COUNTIFS($A$2:$A$939,TODAY(),$C$2:$C$939,F31) -> 0 | H31: =(G31/$G$34) -> 0
E32: 7 | F32: EXEMPLE 31 | G32: =COUNTIFS($A$2:$A$939,TODAY(),$C$2:$C$939,F32) -> 1 | H32: =(G32/$G$35) -> 0.5
F33: EXEMPLE 32 | G33: =COUNTIFS($A$2:$A$939,TODAY(),$C$2:$C$939,F33) -> 1 | H33: =(G33/$G$35) -> 0.5
F34: TOTAL CATEGORIE REAPPEL | G34: =SUM(G2:G31) -> 6 | H34: =(G34/$G$34) -> 1
F35: TOTAL CATEGORIE TRANSFERT | G35: =SUM(G32:G33) -> 2 | H35: =(G35/$G$35) -> 1

Sheet mensuel
B5: 1 | H5: 2 | I5: 3 | Z5: 4 | AD5: 5 | AE5: 6 | AF5: 7
A6: DATE | B6: EXEMPLE 1 | C6: EXEMPLE 2 | D6: EXEMPLE 3 | E6: EXEMPLE 4 | F6: EXEMPLE 5 | G6: EXEMPLE 6 | H6: EXEMPLE 7 | I6: EXEMPLE 8 | J6: EXEMPLE 9 | K6: EXEMPLE 10 | L6: EXEMPLE 11 | M6: EXEMPLE 12 | N6: EXEMPLE 13 | O6: EXEMPLE 14 | P6: EXEMPLE 15 | Q6: EXEMPLE 16 | R6: EXEMPLE 17 | S6: EXEMPLE 18 | T6: EXEMPLE 19 | U6: EXEMPLE 20 | V6: EXEMPLE 21 | W6: EXEMPLE 22 | X6: EXEMPLE 23 | Y6: EXEMPLE 24 | Z6: EXEMPLE 25 | AA6: EXEMPLE 26 | AB6: EXEMPLE 27 | AC6: EXEMPLE 28 | AD6: EXEMPLE 29 | AE6: EXEMPLE 30 | AF6: EXEMPLE 31 | AG6: EXEMPLE 32
A7: 44228 | B7: =IFERROR(COUNTIFS(jour!$A$2:$A$939,$A7,jour!$C$2:$C$939,B$6)/COUNTIF(jour!$A$2:$A$939,$A7),0) -> 0 | C7: =IFERROR(COUNTIFS(jour!$A$2:$A$939,$A7,jour!$C$2:$C$939,C$6)/COUNTIF(jour!$A$2:$A$939,$A7),0) -> 0 | D7: =IFERROR(COUNTIFS(jour!$A$2:$A$939,$A7,jour!$C$2:$C$939,D$6)/COUNTIF(jour!$A$2:$A$939,$A7),0) -> 0 | E7: =IFERROR(COUNTIFS(jour!$A$2:$A$939,$A7,jour!$C$2:$C$939,E$6)/COUNTIF(jour!$A$2:$A$939,$A7),0) -> 0 | F7: =IFERROR(COUNTIFS(jour!$A$2:$A$939,$A7,jour!$C$2:$C$939,F$6)/COUNTIF(jour!$A$2:$A$939,$A7),0) -> 0 | G7: =IFERROR(COUNTIFS(jour!$A$2:$A$939,$A7,jour!$C$2:$C$939,G$6)/COUNTIF(jour!$A$2:$A$939,$A7),0) -> 0 | H7: =IFERROR(COUNTIFS(jour!$A$2:$A$939,$A7,jour!$C$2:$C$939,H$6)/COUNTIF(jour!$A$2:$A$939,$A7),0) -> 0 | I7: =IFERROR(COUNTIFS(jour!$A$2:$A$939,$A7,jour!$C$2:$C$939,I$6)/COUNTIF(jour!$A$2:$A$939,$A7),0) -> 0 | ... AE7: =IFERROR(COUNTIFS(jour!$A$2:$A$939,$A7,jour!$C$2:$C$939,AE$6)/COUNTIF(jour!$A$2:$A$939,$A7),0) -> 0
A8: =A7+1 -> 44229 | B8: =IFERROR(COUNTIFS(jour!$A$2:$A$939,$A8,jour!$C$2:$C$939,B$6)/COUNTIF(jour!$A$2:$A$939,$A8),0) -> 0 | C8: =IFERROR(COUNTIFS(jour!$A$2:$A$939,$A8,jour!$C$2:$C$939,C$6)/COUNTIF(jour!$A$2:$A$939,$A8),0) -> 0 | D8: =IFERROR(COUNTIFS(jour!$A$2:$A$939,$A8,jour!$C$2:$C$939,D$6)/COUNTIF(jour!$A$2:$A$939,$A8),0) -> 0 | E8: =IFERROR(COUNTIFS(jour!$A$2:$A$939,$A8,jour!$C$2:$C$939,E$6)/COUNTIF(jour!$A$2:$A$939,$A8),0) -> 0 | F8: =IFERROR(COUNTIFS(jour!$A$2:$A$939,$A8,jour!$C$2:$C$939,F$6)/COUNTIF(jour!$A$2:$A$939,$A8),0) -> 0 | G8: =IFERROR(COUNTIFS(jour!$A$2:$A$939,$A8,jour!$C$2:$C$939,G$6)/COUNTIF(jour!$A$2:$A$939,$A8),0) -> 0 | H8: =IFERROR(COUNTIFS(jour!$A$2:$A$939,$A8,jour!$C$2:$C$939,H$6)/COUNTIF(jour!$A$2:$A$939,$A8),0) -> 0 | I8: =IFERROR(COUNTIFS(jour!$A$2:$A$939,$A8,jour!$C$2:$C$939,I$6)/COUNTIF(jour!$A$2:$A$939,$A8),0) -> 0 | ... AE8: =IFERROR(COUNTIFS(jour!$A$2:$A$939,$A8,jour!$C$2:$C$939,AE$6)/COUNTIF(jour!$A$2:$A$939,$A8),0) -> 0
A9: =A8+1 -> 44230 | B9: =IFERROR(COUNTIFS(jour!$A$2:$A$939,$A9,jour!$C$2:$C$939,B$6)/COUNTIF(jour!$A$2:$A$939,$A9),0) -> 0 | C9: =IFERROR(COUNTIFS(jour!$A$2:$A$939,$A9,jour!$C$2:$C$939,C$6)/COUNTIF(jour!$A$2:$A$939,$A9),0) -> 0 | D9: =IFERROR(COUNTIFS(jour!$A$2:$A$939,$A9,jour!$C$2:$C$939,D$6)/COUNTIF(jour!$A$2:$A$939,$A9),0) -> 0 | E9: =IFERROR(COUNTIFS(jour!$A$2:$A$939,$A9,jour!$C$2:$C$939,E$6)/COUNTIF(jour!$A$2:$A$939,$A9),0) -> 0 | F9: =IFERROR(COUNTIFS(jour!$A$2:$A$939,$A9,jour!$C$2:$C$939,F$6)/COUNTIF(jour!$A$2:$A$939,$A9),0) -> 0 | G9: =IFERROR(COUNTIFS(jour!$A$2:$A$939,$A9,jour!$C$2:$C$939,G$6)/COUNTIF(jour!$A$2:$A$939,$A9),0) -> 0 | H9: =IFERROR(COUNTIFS(jour!$A$2:$A$939,$A9,jour!$C$2:$C$939,H$6)/COUNTIF(jour!$A$2:$A$939,$A9),0) -> 0 | I9: =IFERROR(COUNTIFS(jour!$A$2:$A$939,$A9,jour!$C$2:$C$939,I$6)/COUNTIF(jour!$A$2:$A$939,$A9),0) -> 0 | ... AE9: =IFERROR(COUNTIFS(jour!$A$2:$A$939,$A9,jour!$C$2:$C$939,AE$6)/COUNTIF(jour!$A$2:$A$939,$A9),0) -> 0
A10: =A9+1 -> 44231 | B10: =IFERROR(COUNTIFS(jour!$A$2:$A$939,$A10,jour!$C$2:$C$939,B$6)/COUNTIF(jour!$A$2:$A$939,$A10),0) -> 0 | C10: =IFERROR(COUNTIFS(jour!$A$2:$A$939,$A10,jour!$C$2:$C$939,C$6)/COUNTIF(jour!$A$2:$A$939,$A10),0) -> 0 | D10: =IFERROR(COUNTIFS(jour!$A$2:$A$939,$A10,jour!$C$2:$C$939,D$6)/COUNTIF(jour!$A$2:$A$939,$A10),0) -> 0 | E10: =IFERROR(COUNTIFS(jour!$A$2:$A$939,$A10,jour!$C$2:$C$939,E$6)/COUNTIF(jour!$A$2:$A$939,$A10),0) -> 0 | F10: =IFERROR(COUNTIFS(jour!$A$2:$A$939,$A10,jour!$C$2:$C$939,F$6)/COUNTIF(jour!$A$2:$A$939,$A10),0) -> 0 | G10: =IFERROR(COUNTIFS(jour!$A$2:$A$939,$A10,jour!$C$2:$C$939,G$6)/COUNTIF(jour!$A$2:$A$939,$A10),0) -> 0 | H10: =IFERROR(COUNTIFS(jour!$A$2:$A$939,$A10,jour!$C$2:$C$939,H$6)/COUNTIF(jour!$A$2:$A$939,$A10),0) -> 0 | I10: =IFERROR(COUNTIFS(jour!$A$2:$A$939,$A10,jour!$C$2:$C$939,I$6)/COUNTIF(jour!$A$2:$A$939,$A10),0) -> 0 | ... AE10: =IFERROR(COUNTIFS(jour!$A$2:$A$939,$A10,jour!$C$2:$C$939,AE$6)/COUNTIF(jour!$A$2:$A$939,$A10),0) -> 0
A11: =A10+1 -> 44232 | B11: =IFERROR(COUNTIFS(jour!$A$2:$A$939,$A11,jour!$C$2:$C$939,B$6)/COUNTIF(jour!$A$2:$A$939,$A11),0) -> 0 | C11: =IFERROR(COUNTIFS(jour!$A$2:$A$939,$A11,jour!$C$2:$C$939,C$6)/COUNTIF(jour!$A$2:$A$939,$A11),0) -> 0 | D11: =IFERROR(COUNTIFS(jour!$A$2:$A$939,$A11,jour!$C$2:$C$939,D$6)/COUNTIF(jour!$A$2:$A$939,$A11),0) -> 0 | E11: =IFERROR(COUNTIFS(jour!$A$2:$A$939,$A11,jour!$C$2:$C$939,E$6)/COUNTIF(jour!$A$2:$A$939,$A11),0) -> 0 | F11: =IFERROR(COUNTIFS(jour!$A$2:$A$939,$A11,jour!$C$2:$C$939,F$6)/COUNTIF(jour!$A$2:$A$939,$A11),0) -> 0 | G11: =IFERROR(COUNTIFS(jour!$A$2:$A$939,$A11,jour!$C$2:$C$939,G$6)/COUNTIF(jour!$A$2:$A$939,$A11),0) -> 0 | H11: =IFERROR(COUNTIFS(jour!$A$2:$A$939,$A11,jour!$C$2:$C$939,H$6)/COUNTIF(jour!$A$2:$A$939,$A11),0) -> 0 | I11: =IFERROR(COUNTIFS(jour!$A$2:$A$939,$A11,jour!$C$2:$C$939,I$6)/COUNTIF(jour!$A$2:$A$939,$A11),0) -> 0 | ... AE11: =IFERROR(COUNTIFS(jour!$A$2:$A$939,$A11,jour!$C$2:$C$939,AE$6)/COUNTIF(jour!$A$2:$A$939,$A11),0) -> 0
A12: =A11+1 -> 44233 | B12: =IFERROR(COUNTIFS(jour!$A$2:$A$939,$A12,jour!$C$2:$C$939,B$6)/COUNTIF(jour!$A$2:$A$939,$A12),0) -> 0 | C12: =IFERROR(COUNTIFS(jour!$A$2:$A$939,$A12,jour!$C$2:$C$939,C$6)/COUNTIF(jour!$A$2:$A$939,$A12),0) -> 0 | D12: =IFERROR(COUNTIFS(jour!$A$2:$A$939,$A12,jour!$C$2:$C$939,D$6)/COUNTIF(jour!$A$2:$A$939,$A12),0) -> 0 | E12: =IFERROR(COUNTIFS(jour!$A$2:$A$939,$A12,jour!$C$2:$C$939,E$6)/COUNTIF(jour!$A$2:$A$939,$A12),0) -> 0 | F12: =IFERROR(COUNTIFS(jour!$A$2:$A$939,$A12,jour!$C$2:$C$939,F$6)/COUNTIF(jour!$A$2:$A$939,$A12),0) -> 0 | G12: =IFERROR(COUNTIFS(jour!$A$2:$A$939,$A12,jour!$C$2:$C$939,G$6)/COUNTIF(jour!$A$2:$A$939,$A12),0) -> 0 | H12: =IFERROR(COUNTIFS(jour!$A$2:$A$939,$A12,jour!$C$2:$C$939,H$6)/COUNTIF(jour!$A$2:$A$939,$A12),0) -> 0 | I12: =IFERROR(COUNTIFS(jour!$A$2:$A$939,$A12,jour!$C$2:$C$939,I$6)/COUNTIF(jour!$A$2:$A$939,$A12),0) -> 0 | ... AE12: =IFERROR(COUNTIFS(jour!$A$2:$A$939,$A12,jour!$C$2:$C$939,AE$6)/COUNTIF(jour!$A$2:$A$939,$A12),0) -> 0
A13: =A12+1 -> 44234 | B13: =IFERROR(COUNTIFS(jour!$A$2:$A$939,$A13,jour!$C$2:$C$939,B$6)/COUNTIF(jour!$A$2:$A$939,$A13),0) -> 0 | C13: =IFERROR(COUNTIFS(jour!$A$2:$A$939,$A13,jour!$C$2:$C$939,C$6)/COUNTIF(jour!$A$2:$A$939,$A13),0) -> 0 | D13: =IFERROR(COUNTIFS(jour!$A$2:$A$939,$A13,jour!$C$2:$C$939,D$6)/COUNTIF(jour!$A$2:$A$939,$A13),0) -> 0 | E13: =IFERROR(COUNTIFS(jour!$A$2:$A$939,$A13,jour!$C$2:$C$939,E$6)/COUNTIF(jour!$A$2:$A$939,$A13),0) -> 0 | F13: =IFERROR(COUNTIFS(jour!$A$2:$A$939,$A13,jour!$C$2:$C$939,F$6)/COUNTIF(jour!$A$2:$A$939,$A13),0) -> 0 | G13: =IFERROR(COUNTIFS(jour!$A$2:$A$939,$A13,jour!$C$2:$C$939,G$6)/COUNTIF(jour!$A$2:$A$939,$A13),0) -> 0 | H13: =IFERROR(COUNTIFS(jour!$A$2:$A$939,$A13,jour!$C$2:$C$939,H$6)/COUNTIF(jour!$A$2:$A$939,$A13),0) -> 0 | I13: =IFERROR(COUNTIFS(jour!$A$2:$A$939,$A13,jour!$C$2:$C$939,I$6)/COUNTIF(jour!$A$2:$A$939,$A13),0) -> 0 | ... AE13: =IFERROR(COUNTIFS(jour!$A$2:$A$939,$A13,jour!$C$2:$C$939,AE$6)/COUNTIF(jour!$A$2:$A$939,$A13),0) -> 0
A14: =A13+1 -> 44235 | B14: =IFERROR(COUNTIFS(jour!$A$2:$A$939,$A14,jour!$C$2:$C$939,B$6)/COUNTIF(jour!$A$2:$A$939,$A14),0) -> 0 | C14: =IFERROR(COUNTIFS(jour!$A$2:$A$939,$A14,jour!$C$2:$C$939,C$6)/COUNTIF(jour!$A$2:$A$939,$A14),0) -> 0 | D14: =IFERROR(COUNTIFS(jour!$A$2:$A$939,$A14,jour!$C$2:$C$939,D$6)/COUNTIF(jour!$A$2:$A$939,$A14),0) -> 0 | E14: =IFERROR(COUNTIFS(jour!$A$2:$A$939,$A14,jour!$C$2:$C$939,E$6)/COUNTIF(jour!$A$2:$A$939,$A14),0) -> 0 | F14: =IFERROR(COUNTIFS(jour!$A$2:$A$939,$A14,jour!$C$2:$C$939,F$6)/COUNTIF(jour!$A$2:$A$939,$A14),0) -> 0 | G14: =IFERROR(COUNTIFS(jour!$A$2:$A$939,$A14,jour!$C$2:$C$939,G$6)/COUNTIF(jour!$A$2:$A$939,$A14),0) -> 0 | H14: =IFERROR(COUNTIFS(jour!$A$2:$A$939,$A14,jour!$C$2:$C$939,H$6)/COUNTIF(jour!$A$2:$A$939,$A14),0) -> 0 | I14: =IFERROR(COUNTIFS(jour!$A$2:$A$939,$A14,jour!$C$2:$C$939,I$6)/COUNTIF(jour!$A$2:$A$939,$A14),0) -> 0 | ... AE14: =IFERROR(COUNTIFS(jour!$A$2:$A$939,$A14,jour!$C$2:$C$939,AE$6)/COUNTIF(jour!$A$2:$A$939,$A14),0) -> 0
A15: =A14+1 -> 44236 | B15: =IFERROR(COUNTIFS(jour!$A$2:$A$939,$A15,jour!$C$2:$C$939,B$6)/COUNTIF(jour!$A$2:$A$939,$A15),0) -> 0 | C15: =IFERROR(COUNTIFS(jour!$A$2:$A$939,$A15,jour!$C$2:$C$939,C$6)/COUNTIF(jour!$A$2:$A$939,$A15),0) -> 0 | D15: =IFERROR(COUNTIFS(jour!$A$2:$A$939,$A15,jour!$C$2:$C$939,D$6)/COUNTIF(jour!$A$2:$A$939,$A15),0) -> 0 | E15: =IFERROR(COUNTIFS(jour!$A$2:$A$939,$A15,jour!$C$2:$C$939,E$6)/COUNTIF(jour!$A$2:$A$939,$A15),0) -> 0 | F15: =IFERROR(COUNTIFS(jour!$A$2:$A$939,$A15,jour!$C$2:$C$939,F$6)/COUNTIF(jour!$A$2:$A$939,$A15),0) -> 0 | G15: =IFERROR(COUNTIFS(jour!$A$2:$A$939,$A15,jour!$C$2:$C$939,G$6)/COUNTIF(jour!$A$2:$A$939,$A15),0) -> 0 | H15: =IFERROR(COUNTIFS(jour!$A$2:$A$939,$A15,jour!$C$2:$C$939,H$6)/COUNTIF(jour!$A$2:$A$939,$A15),0) -> 0 | I15: =IFERROR(COUNTIFS(jour!$A$2:$A$939,$A15,jour!$C$2:$C$939,I$6)/COUNTIF(jour!$A$2:$A$939,$A15),0) -> 0 | ... AE15: =IFERROR(COUNTIFS(jour!$A$2:$A$939,$A15,jour!$C$2:$C$939,AE$6)/COUNTIF(jour!$A$2:$A$939,$A15),0) -> 0
A16: =A15+1 -> 44237 | B16: =IFERROR(COUNTIFS(jour!$A$2:$A$939,$A16,jour!$C$2:$C$939,B$6)/COUNTIF(jour!$A$2:$A$939,$A16),0) -> 0 | C16: =IFERROR(COUNTIFS(jour!$A$2:$A$939,$A16,jour!$C$2:$C$939,C$6)/COUNTIF(jour!$A$2:$A$939,$A16),0) -> 0 | D16: =IFERROR(COUNTIFS(jour!$A$2:$A$939,$A16,jour!$C$2:$C$939,D$6)/COUNTIF(jour!$A$2:$A$939,$A16),0) -> 0 | E16: =IFERROR(COUNTIFS(jour!$A$2:$A$939,$A16,jour!$C$2:$C$939,E$6)/COUNTIF(jour!$A$2:$A$939,$A16),0) -> 0 | F16: =IFERROR(COUNTIFS(jour!$A$2:$A$939,$A16,jour!$C$2:$C$939,F$6)/COUNTIF(jour!$A$2:$A$939,$A16),0) -> 0 | G16: =IFERROR(COUNTIFS(jour!$A$2:$A$939,$A16,jour!$C$2:$C$939,G$6)/COUNTIF(jour!$A$2:$A$939,$A16),0) -> 0 | H16: =IFERROR(COUNTIFS(jour!$A$2:$A$939,$A16,jour!$C$2:$C$939,H$6)/COUNTIF(jour!$A$2:$A$939,$A16),0) -> 0 | I16: =IFERROR(COUNTIFS(jour!$A$2:$A$939,$A16,jour!$C$2:$C$939,I$6)/COUNTIF(jour!$A$2:$A$939,$A16),0) -> 0 | ... AE16: =IFERROR(COUNTIFS(jour!$A$2:$A$939,$A16,jour!$C$2:$C$939,AE$6)/COUNTIF(jour!$A$2:$A$939,$A16),0) -> 0
A17: =A16+1 -> 44238 | B17: =IFERROR(COUNTIFS(jour!$A$2:$A$939,$A17,jour!$C$2:$C$939,B$6)/COUNTIF(jour!$A$2:$A$939,$A17),0) -> 0 | C17: =IFERROR(COUNTIFS(jour!$A$2:$A$939,$A17,jour!$C$2:$C$939,C$6)/COUNTIF(jour!$A$2:$A$939,$A17),0) -> 0 | D17: =IFERROR(COUNTIFS(jour!$A$2:$A$939,$A17,jour!$C$2:$C$939,D$6)/COUNTIF(jour!$A$2:$A$939,$A17),0) -> 0 | E17: =IFERROR(COUNTIFS(jour!$A$2:$A$939,$A17,jour!$C$2:$C$939,E$6)/COUNTIF(jour!$A$2:$A$939,$A17),0) -> 0 | F17: =IFERROR(COUNTIFS(jour!$A$2:$A$939,$A17,jour!$C$2:$C$939,F$6)/COUNTIF(jour!$A$2:$A$939,$A17),0) -> 0 | G17: =IFERROR(COUNTIFS(jour!$A$2:$A$939,$A17,jour!$C$2:$C$939,G$6)/COUNTIF(jour!$A$2:$A$939,$A17),0) -> 0 | H17: =IFERROR(COUNTIFS(jour!$A$2:$A$939,$A17,jour!$C$2:$C$939,H$6)/COUNTIF(jour!$A$2:$A$939,$A17),0) -> 0 | I17: =IFERROR(COUNTIFS(jour!$A$2:$A$939,$A17,jour!$C$2:$C$939,I$6)/COUNTIF(jour!$A$2:$A$939,$A17),0) -> 0 | ... AE17: =IFERROR(COUNTIFS(jour!$A$2:$A$939,$A17,jour!$C$2:$C$939,AE$6)/COUNTIF(jour!$A$2:$A$939,$A17),0) -> 0
A18: =A17+1 -> 44239 | B18: =IFERROR(COUNTIFS(jour!$A$2:$A$939,$A18,jour!$C$2:$C$939,B$6)/COUNTIF(jour!$A$2:$A$939,$A18),0) -> 0 | C18: =IFERROR(COUNTIFS(jour!$A$2:$A$939,$A18,jour!$C$2:$C$939,C$6)/COUNTIF(jour!$A$2:$A$939,$A18),0) -> 0 | D18: =IFERROR(COUNTIFS(jour!$A$2:$A$939,$A18,jour!$C$2:$C$939,D$6)/COUNTIF(jour!$A$2:$A$939,$A18),0) -> 0 | E18: =IFERROR(COUNTIFS(jour!$A$2:$A$939,$A18,jour!$C$2:$C$939,E$6)/COUNTIF(jour!$A$2:$A$939,$A18),0) -> 0 | F18: =IFERROR(COUNTIFS(jour!$A$2:$A$939,$A18,jour!$C$2:$C$939,F$6)/COUNTIF(jour!$A$2:$A$939,$A18),0) -> 0 | G18: =IFERROR(COUNTIFS(jour!$A$2:$A$939,$A18,jour!$C$2:$C$939,G$6)/COUNTIF(jour!$A$2:$A$939,$A18),0) -> 0 | H18: =IFERROR(COUNTIFS(jour!$A$2:$A$939,$A18,jour!$C$2:$C$939,H$6)/COUNTIF(jour!$A$2:$A$939,$A18),0) -> 0 | I18: =IFERROR(COUNTIFS(jour!$A$2:$A$939,$A18,jour!$C$2:$C$939,I$6)/COUNTIF(jour!$A$2:$A$939,$A18),0) -> 0 | ... AE18: =IFERROR(COUNTIFS(jour!$A$2:$A$939,$A18,jour!$C$2:$C$939,AE$6)/COUNTIF(jour!$A$2:$A$939,$A18),0) -> 0
A19: =A18+1 -> 44240 | B19: =IFERROR(COUNTIFS(jour!$A$2:$A$939,$A19,jour!$C$2:$C$939,B$6)/COUNTIF(jour!$A$2:$A$939,$A19),0) -> 0 | C19: =IFERROR(COUNTIFS(jour!$A$2:$A$939,$A19,jour!$C$2:$C$939,C$6)/COUNTIF(jour!$A$2:$A$939,$A19),0) -> 0 | D19: =IFERROR(COUNTIFS(jour!$A$2:$A$939,$A19,jour!$C$2:$C$939,D$6)/COUNTIF(jour!$A$2:$A$939,$A19),0) -> 0 | E19: =IFERROR(COUNTIFS(jour!$A$2:$A$939,$A19,jour!$C$2:$C$939,E$6)/COUNTIF(jour!$A$2:$A$939,$A19),0) -> 0 | F19: =IFERROR(COUNTIFS(jour!$A$2:$A$939,$A19,jour!$C$2:$C$939,F$6)/COUNTIF(jour!$A$2:$A$939,$A19),0) -> 0 | G19: =IFERROR(COUNTIFS(jour!$A$2:$A$939,$A19,jour!$C$2:$C$939,G$6)/COUNTIF(jour!$A$2:$A$939,$A19),0) -> 0 | H19: =IFERROR(COUNTIFS(jour!$A$2:$A$939,$A19,jour!$C$2:$C$939,H$6)/COUNTIF(jour!$A$2:$A$939,$A19),0) -> 0 | I19: =IFERROR(COUNTIFS(jour!$A$2:$A$939,$A19,jour!$C$2:$C$939,I$6)/COUNTIF(jour!$A$2:$A$939,$A19),0) -> 0 | ... AE19: =IFERROR(COUNTIFS(jour!$A$2:$A$939,$A19,jour!$C$2:$C$939,AE$6)/COUNTIF(jour!$A$2:$A$939,$A19),0) -> 0
... A29: =A28+1 -> 44250 | B29: =IFERROR(COUNTIFS(jour!$A$2:$A$939,$A29,jour!$C$2:$C$939,B$6)/COUNTIF(jour!$A$2:$A$939,$A29),0) -> 0 | C29: =IFERROR(COUNTIFS(jour!$A$2:$A$939,$A29,jour!$C$2:$C$939,C$6)/COUNTIF(jour!$A$2:$A$939,$A29),0) -> 0 | D29: =IFERROR(COUNTIFS(jour!$A$2:$A$939,$A29,jour!$C$2:$C$939,D$6)/COUNTIF(jour!$A$2:$A$939,$A29),0) -> 0 | E29: =IFERROR(COUNTIFS(jour!$A$2:$A$939,$A29,jour!$C$2:$C$939,E$6)/COUNTIF(jour!$A$2:$A$939,$A29),0) -> 0 | F29: =IFERROR(COUNTIFS(jour!$A$2:$A$939,$A29,jour!$C$2:$C$939,F$6)/COUNTIF(jour!$A$2:$A$939,$A29),0) -> 0 | G29: =IFERROR(COUNTIFS(jour!$A$2:$A$939,$A29,jour!$C$2:$C$939,G$6)/COUNTIF(jour!$A$2:$A$939,$A29),0) -> 0 | H29: =IFERROR(COUNTIFS(jour!$A$2:$A$939,$A29,jour!$C$2:$C$939,H$6)/COUNTIF(jour!$A$2:$A$939,$A29),0) -> 0 | I29: =IFERROR(COUNTIFS(jour!$A$2:$A$939,$A29,jour!$C$2:$C$939,I$6)/COUNTIF(jour!$A$2:$A$939,$A29),0) -> 0 | ... AE29: =IFERROR(COUNTIFS(jour!$A$2:$A$939,$A29,jour!$C$2:$C$939,AE$6)/COUNTIF(jour!$A$2:$A$939,$A29),0) -> 0
A30: =A29+1 -> 44251 | B30: =IFERROR(COUNTIFS(jour!$A$2:$A$939,$A30,jour!$C$2:$C$939,B$6)/COUNTIF(jour!$A$2:$A$939,$A30),0) -> 0.25 | C30: =IFERROR(COUNTIFS(jour!$A$2:$A$939,$A30,jour!$C$2:$C$939,C$6)/COUNTIF(jour!$A$2:$A$939,$A30),0) -> 0.125 | D30: =IFERROR(COUNTIFS(jour!$A$2:$A$939,$A30,jour!$C$2:$C$939,D$6)/COUNTIF(jour!$A$2:$A$939,$A30),0) -> 0 | E30: =IFERROR(COUNTIFS(jour!$A$2:$A$939,$A30,jour!$C$2:$C$939,E$6)/COUNTIF(jour!$A$2:$A$939,$A30),0) -> 0 | F30: =IFERROR(COUNTIFS(jour!$A$2:$A$939,$A30,jour!$C$2:$C$939,F$6)/COUNTIF(jour!$A$2:$A$939,$A30),0) -> 0 | G30: =IFERROR(COUNTIFS(jour!$A$2:$A$939,$A30,jour!$C$2:$C$939,G$6)/COUNTIF(jour!$A$2:$A$939,$A30),0) -> 0 | H30: =IFERROR(COUNTIFS(jour!$A$2:$A$939,$A30,jour!$C$2:$C$939,H$6)/COUNTIF(jour!$A$2:$A$939,$A30),0) -> 0.125 | I30: =IFERROR(COUNTIFS(jour!$A$2:$A$939,$A30,jour!$C$2:$C$939,I$6)/COUNTIF(jour!$A$2:$A$939,$A30),0) -> 0 | ... AG30: =IFERROR(COUNTIFS(jour!$A$2:$A$939,$A30,jour!$C$2:$C$939,AG$6)/COUNTIF(jour!$A$2:$A$939,$A30),0) -> 0.125
A31: =A30+1 -> 44252 | B31: =IFERROR(COUNTIFS(jour!$A$2:$A$939,$A31,jour!$C$2:$C$939,B$6)/COUNTIF(jour!$A$2:$A$939,$A31),0) -> 0 | C31: =IFERROR(COUNTIFS(jour!$A$2:$A$939,$A31,jour!$C$2:$C$939,C$6)/COUNTIF(jour!$A$2:$A$939,$A31),0) -> 0 | D31: =IFERROR(COUNTIFS(jour!$A$2:$A$939,$A31,jour!$C$2:$C$939,D$6)/COUNTIF(jour!$A$2:$A$939,$A31),0) -> 0 | E31: =IFERROR(COUNTIFS(jour!$A$2:$A$939,$A31,jour!$C$2:$C$939,E$6)/COUNTIF(jour!$A$2:$A$939,$A31),0) -> 0 | F31: =IFERROR(COUNTIFS(jour!$A$2:$A$939,$A31,jour!$C$2:$C$939,F$6)/COUNTIF(jour!$A$2:$A$939,$A31),0) -> 0 | G31: =IFERROR(COUNTIFS(jour!$A$2:$A$939,$A31,jour!$C$2:$C$939,G$6)/COUNTIF(jour!$A$2:$A$939,$A31),0) -> 0 | H31: =IFERROR(COUNTIFS(jour!$A$2:$A$939,$A31,jour!$C$2:$C$939,H$6)/COUNTIF(jour!$A$2:$A$939,$A31),0) -> 0 | I31: =IFERROR(COUNTIFS(jour!$A$2:$A$939,$A31,jour!$C$2:$C$939,I$6)/COUNTIF(jour!$A$2:$A$939,$A31),0) -> 0 | ... AE31: =IFERROR(COUNTIFS(jour!$A$2:$A$939,$A31,jour!$C$2:$C$939,AE$6)/COUNTIF(jour!$A$2:$A$939,$A31),0) -> 0
A32: =A31+1 -> 44253 | B32: =IFERROR(COUNTIFS(jour!$A$2:$A$939,$A32,jour!$C$2:$C$939,B$6)/COUNTIF(jour!$A$2:$A$939,$A32),0) -> 0 | C32: =IFERROR(COUNTIFS(jour!$A$2:$A$939,$A32,jour!$C$2:$C$939,C$6)/COUNTIF(jour!$A$2:$A$939,$A32),0) -> 0 | D32: =IFERROR(COUNTIFS(jour!$A$2:$A$939,$A32,jour!$C$2:$C$939,D$6)/COUNTIF(jour!$A$2:$A$939,$A32),0) -> 0 | E32: =IFERROR(COUNTIFS(jour!$A$2:$A$939,$A32,jour!$C$2:$C$939,E$6)/COUNTIF(jour!$A$2:$A$939,$A32),0) -> 0 | F32: =IFERROR(COUNTIFS(jour!$A$2:$A$939,$A32,jour!$C$2:$C$939,F$6)/COUNTIF(jour!$A$2:$A$939,$A32),0) -> 0 | G32: =IFERROR(COUNTIFS(jour!$A$2:$A$939,$A32,jour!$C$2:$C$939,G$6)/COUNTIF(jour!$A$2:$A$939,$A32),0) -> 0 | H32: =IFERROR(COUNTIFS(jour!$A$2:$A$939,$A32,jour!$C$2:$C$939,H$6)/COUNTIF(jour!$A$2:$A$939,$A32),0) -> 0 | I32: =IFERROR(COUNTIFS(jour!$A$2:$A$939,$A32,jour!$C$2:$C$939,I$6)/COUNTIF(jour!$A$2:$A$939,$A32),0) -> 0 | ... AE32: =IFERROR(COUNTIFS(jour!$A$2:$A$939,$A32,jour!$C$2:$C$939,AE$6)/COUNTIF(jour!$A$2:$A$939,$A32),0) -> 0
A33: =A32+1 -> 44254 | B33: =IFERROR(COUNTIFS(jour!$A$2:$A$939,$A33,jour!$C$2:$C$939,B$6)/COUNTIF(jour!$A$2:$A$939,$A33),0) -> 0 | C33: =IFERROR(COUNTIFS(jour!$A$2:$A$939,$A33,jour!$C$2:$C$939,C$6)/COUNTIF(jour!$A$2:$A$939,$A33),0) -> 0 | D33: =IFERROR(COUNTIFS(jour!$A$2:$A$939,$A33,jour!$C$2:$C$939,D$6)/COUNTIF(jour!$A$2:$A$939,$A33),0) -> 0 | E33: =IFERROR(COUNTIFS(jour!$A$2:$A$939,$A33,jour!$C$2:$C$939,E$6)/COUNTIF(jour!$A$2:$A$939,$A33),0) -> 0 | F33: =IFERROR(COUNTIFS(jour!$A$2:$A$939,$A33,jour!$C$2:$C$939,F$6)/COUNTIF(jour!$A$2:$A$939,$A33),0) -> 0 | G33: =IFERROR(COUNTIFS(jour!$A$2:$A$939,$A33,jour!$C$2:$C$939,G$6)/COUNTIF(jour!$A$2:$A$939,$A33),0) -> 0 | H33: =IFERROR(COUNTIFS(jour!$A$2:$A$939,$A33,jour!$C$2:$C$939,H$6)/COUNTIF(jour!$A$2:$A$939,$A33),0) -> 0 | I33: =IFERROR(COUNTIFS(jour!$A$2:$A$939,$A33,jour!$C$2:$C$939,I$6)/COUNTIF(jour!$A$2:$A$939,$A33),0) -> 0 | ... AE33: =IFERROR(COUNTIFS(jour!$A$2:$A$939,$A33,jour!$C$2:$C$939,AE$6)/COUNTIF(jour!$A$2:$A$939,$A33),0) -> 0
A34: =A33+1 -> 44255 | B34: =IFERROR(COUNTIFS(jour!$A$2:$A$939,$A34,jour!$C$2:$C$939,B$6)/COUNTIF(jour!$A$2:$A$939,$A34),0) -> 0 | C34: =IFERROR(COUNTIFS(jour!$A$2:$A$939,$A34,jour!$C$2:$C$939,C$6)/COUNTIF(jour!$A$2:$A$939,$A34),0) -> 0 | D34: =IFERROR(COUNTIFS(jour!$A$2:$A$939,$A34,jour!$C$2:$C$939,D$6)/COUNTIF(jour!$A$2:$A$939,$A34),0) -> 0 | E34: =IFERROR(COUNTIFS(jour!$A$2:$A$939,$A34,jour!$C$2:$C$939,E$6)/COUNTIF(jour!$A$2:$A$939,$A34),0) -> 0 | F34: =IFERROR(COUNTIFS(jour!$A$2:$A$939,$A34,jour!$C$2:$C$939,F$6)/COUNTIF(jour!$A$2:$A$939,$A34),0) -> 0 | G34: =IFERROR(COUNTIFS(jour!$A$2:$A$939,$A34,jour!$C$2:$C$939,G$6)/COUNTIF(jour!$A$2:$A$939,$A34),0) -> 0 | H34: =IFERROR(COUNTIFS(jour!$A$2:$A$939,$A34,jour!$C$2:$C$939,H$6)/COUNTIF(jour!$A$2:$A$939,$A34),0) -> 0 | I34: =IFERROR(COUNTIFS(jour!$A$2:$A$939,$A34,jour!$C$2:$C$939,I$6)/COUNTIF(jour!$A$2:$A$939,$A34),0) -> 0 | ... AE34: =IFERROR(COUNTIFS(jour!$A$2:$A$939,$A34,jour!$C$2:$C$939,AE$6)/COUNTIF(jour!$A$2:$A$939,$A34),0) -> 0
B35: =IFERROR(COUNTIFS(jour!$A$2:$A$939,$A35,jour!$C$2:$C$939,B$6)/COUNTIF(jour!$A$2:$A$939,$A35),0) -> 0 | C35: =IFERROR(COUNTIFS(jour!$A$2:$A$939,$A35,jour!$C$2:$C$939,C$6)/COUNTIF(jour!$A$2:$A$939,$A35),0) -> 0 | D35: =IFERROR(COUNTIFS(jour!$A$2:$A$939,$A35,jour!$C$2:$C$939,D$6)/COUNTIF(jour!$A$2:$A$939,$A35),0) -> 0 | E35: =IFERROR(COUNTIFS(jour!$A$2:$A$939,$A35,jour!$C$2:$C$939,E$6)/COUNTIF(jour!$A$2:$A$939,$A35),0) -> 0 | F35: =IFERROR(COUNTIFS(jour!$A$2:$A$939,$A35,jour!$C$2:$C$939,F$6)/COUNTIF(jour!$A$2:$A$939,$A35),0) -> 0 | G35: =IFERROR(COUNTIFS(jour!$A$2:$A$939,$A35,jour!$C$2:$C$939,G$6)/COUNTIF(jour!$A$2:$A$939,$A35),0) -> 0 | H35: =IFERROR(COUNTIFS(jour!$A$2:$A$939,$A35,jour!$C$2:$C$939,H$6)/COUNTIF(jour!$A$2:$A$939,$A35),0) -> 0 | I35: =IFERROR(COUNTIFS(jour!$A$2:$A$939,$A35,jour!$C$2:$C$939,I$6)/COUNTIF(jour!$A$2:$A$939,$A35),0) -> 0 | ... AE35: =IFERROR(COUNTIFS(jour!$A$2:$A$939,$A35,jour!$C$2:$C$939,AE$6)/COUNTIF(jour!$A$2:$A$939,$A35),0) -> 0
B36: =IFERROR(COUNTIFS(jour!$A$2:$A$939,$A36,jour!$C$2:$C$939,B$6)/COUNTIF(jour!$A$2:$A$939,$A36),0) -> 0 | C36: =IFERROR(COUNTIFS(jour!$A$2:$A$939,$A36,jour!$C$2:$C$939,C$6)/COUNTIF(jour!$A$2:$A$939,$A36),0) -> 0 | D36: =IFERROR(COUNTIFS(jour!$A$2:$A$939,$A36,jour!$C$2:$C$939,D$6)/COUNTIF(jour!$A$2:$A$939,$A36),0) -> 0 | E36: =IFERROR(COUNTIFS(jour!$A$2:$A$939,$A36,jour!$C$2:$C$939,E$6)/COUNTIF(jour!$A$2:$A$939,$A36),0) -> 0 | F36: =IFERROR(COUNTIFS(jour!$A$2:$A$939,$A36,jour!$C$2:$C$939,F$6)/COUNTIF(jour!$A$2:$A$939,$A36),0) -> 0 | G36: =IFERROR(COUNTIFS(jour!$A$2:$A$939,$A36,jour!$C$2:$C$939,G$6)/COUNTIF(jour!$A$2:$A$939,$A36),0) -> 0 | H36: =IFERROR(COUNTIFS(jour!$A$2:$A$939,$A36,jour!$C$2:$C$939,H$6)/COUNTIF(jour!$A$2:$A$939,$A36),0) -> 0 | I36: =IFERROR(COUNTIFS(jour!$A$2:$A$939,$A36,jour!$C$2:$C$939,I$6)/COUNTIF(jour!$A$2:$A$939,$A36),0) -> 0 | ... AE36: =IFERROR(COUNTIFS(jour!$A$2:$A$939,$A36,jour!$C$2:$C$939,AE$6)/COUNTIF(jour!$A$2:$A$939,$A36),0) -> 0
B37: =IFERROR(COUNTIFS(jour!$A$2:$A$939,$A37,jour!$C$2:$C$939,B$6)/COUNTIF(jour!$A$2:$A$939,$A37),0) -> 0 | C37: =IFERROR(COUNTIFS(jour!$A$2:$A$939,$A37,jour!$C$2:$C$939,C$6)/COUNTIF(jour!$A$2:$A$939,$A37),0) -> 0 | D37: =IFERROR(COUNTIFS(jour!$A$2:$A$939,$A37,jour!$C$2:$C$939,D$6)/COUNTIF(jour!$A$2:$A$939,$A37),0) -> 0 | E37: =IFERROR(COUNTIFS(jour!$A$2:$A$939,$A37,jour!$C$2:$C$939,E$6)/COUNTIF(jour!$A$2:$A$939,$A37),0) -> 0 | F37: =IFERROR(COUNTIFS(jour!$A$2:$A$939,$A37,jour!$C$2:$C$939,F$6)/COUNTIF(jour!$A$2:$A$939,$A37),0) -> 0 | G37: =IFERROR(COUNTIFS(jour!$A$2:$A$939,$A37,jour!$C$2:$C$939,G$6)/COUNTIF(jour!$A$2:$A$939,$A37),0) -> 0 | H37: =IFERROR(COUNTIFS(jour!$A$2:$A$939,$A37,jour!$C$2:$C$939,H$6)/COUNTIF(jour!$A$2:$A$939,$A37),0) -> 0 | I37: =IFERROR(COUNTIFS(jour!$A$2:$A$939,$A37,jour!$C$2:$C$939,I$6)/COUNTIF(jour!$A$2:$A$939,$A37),0) -> 0 | ... AE37: =IFERROR(COUNTIFS(jour!$A$2:$A$939,$A37,jour!$C$2:$C$939,AE$6)/COUNTIF(jour!$A$2:$A$939,$A37),0) -> 0

Sheet PARAM
A1: Classification 5
A2: EXEMPLE 1
A3: EXEMPLE 2
A4: EXEMPLE 3
A5: EXEMPLE 4
A6: EXEMPLE 5
A7: EXEMPLE 6
A8: EXEMPLE 7
A9: EXEMPLE 8
A10: EXEMPLE 9
A11: EXEMPLE 10
A12: EXEMPLE 11
... A33: EXEMPLE 32
