Workbook

Sheet BDD ARTICLES
A1: Base de données
A5: Référence | B5: Description | C5: Stock critique
A6: A1 | B6: Coca Cola | C6: 10
A7: A2 | B7: Orangina | C7: 10
A8: A3 | B8: Ice Tea | C8: 10
A9: A4 | B9: Bière | C9: 20
A10: A5 | B10: Filtre | C10: 8
A11: A6 | B11: Cafe | C11: 2
A12: A7 | B12: Eau | C12: 5
A13: A8
A14: A9
A15: A10

Sheet MOUVEMENTS
A1: Mouvements de stocks
A5: Date | B5: Référence | C5: Description | D5: Entrées | E5: Sorties | F5: Prix d'achat
A6: 44320 | B6: A2 | C6: =IF(B6="","",VLOOKUP(B6,'BDD ARTICLES'!$A$6:$B$15,2,FALSE)) -> Orangina | D6: 20 | F6: 8
A7: 44321 | B7: A6 | C7: =IF(B7="","",VLOOKUP(B7,'BDD ARTICLES'!$A$6:$B$15,2,FALSE)) -> Cafe | D7: 51 | E7: 50 | F7: 13.15
B8: A1 | C8: =IF(B8="","",VLOOKUP(B8,'BDD ARTICLES'!$A$6:$B$15,2,FALSE)) -> Coca Cola | D8: 10
B9: A2 | C9: =IF(B9="","",VLOOKUP(B9,'BDD ARTICLES'!$A$6:$B$15,2,FALSE)) -> Orangina | F9: 12
B10: A6 | C10: =IF(B10="","",VLOOKUP(B10,'BDD ARTICLES'!$A$6:$B$15,2,FALSE)) -> Cafe | F10: 12.85
C11: =IF(B11="","",VLOOKUP(B11,'BDD ARTICLES'!$A$6:$B$15,2,FALSE))
C12: =IF(B12="","",VLOOKUP(B12,'BDD ARTICLES'!$A$6:$B$15,2,FALSE))
C13: =IF(B13="","",VLOOKUP(B13,'BDD ARTICLES'!$A$6:$B$15,2,FALSE))
C14: =IF(B14="","",VLOOKUP(B14,'BDD ARTICLES'!$A$6:$B$15,2,FALSE))
C15: =IF(B15="","",VLOOKUP(B15,'BDD ARTICLES'!$A$6:$B$15,2,FALSE))
C16: =IF(B16="","",VLOOKUP(B16,'BDD ARTICLES'!$A$6:$B$15,2,FALSE))
C17: =IF(B17="","",VLOOKUP(B17,'BDD ARTICLES'!$A$6:$B$15,2,FALSE))
C18: =IF(B18="","",VLOOKUP(B18,'BDD ARTICLES'!$A$6:$B$15,2,FALSE))
C19: =IF(B19="","",VLOOKUP(B19,'BDD ARTICLES'!$A$6:$B$15,2,FALSE))
C20: =IF(B20="","",VLOOKUP(B20,'BDD ARTICLES'!$A$6:$B$15,2,FALSE))
C21: =IF(B21="","",VLOOKUP(B21,'BDD ARTICLES'!$A$6:$B$15,2,FALSE))
C22: =IF(B22="","",VLOOKUP(B22,'BDD ARTICLES'!$A$6:$B$15,2,FALSE))
... C100: =IF(B100="","",VLOOKUP(B100,'BDD ARTICLES'!$A$6:$B$15,2,FALSE))

Sheet SITUATION
A1: Situation des stocks au : | E1: =TODAY() -> 44322
A5: Référence | B5: Description | C5: Prix d'achat moyen | D5: Stock initial | E5: Entrées | F5: Sorties | G5: Stock final | H5: Statut
A6: ='BDD ARTICLES'!A6 -> A1 | B6: ='BDD ARTICLES'!B6 -> Coca Cola | D6: 10 | E6: =SUMIF(MOUVEMENTS!$B$6:$B$100,SITUATION!A6,MOUVEMENTS!$D$6:$D$100) -> 10 | F6: =SUMIF(MOUVEMENTS!$B$6:$B$100,SITUATION!A6,MOUVEMENTS!$E$6:$E$100) -> 0 | G6: =D6+E6-F6 -> 20 | H6: =IF(G6<0.5*'BDD ARTICLES'!C6,"Approvisionnement urgent !",IF(SITUATION!G6<'BDD ARTICLES'!C6,"Approvisionnement nécessaire","Niveau satisfaisant")) -> Niveau satisfaisant
A7: ='BDD ARTICLES'!A7 -> A2 | B7: ='BDD ARTICLES'!B7 -> Orangina | E7: =SUMIF(MOUVEMENTS!$B$6:$B$100,SITUATION!A7,MOUVEMENTS!$D$6:$D$100) -> 20 | F7: =SUMIF(MOUVEMENTS!$B$6:$B$100,SITUATION!A7,MOUVEMENTS!$E$6:$E$100) -> 0 | G7: =D7+E7-F7 -> 20 | H7: =IF(G7<0.5*'BDD ARTICLES'!C7,"Approvisionnement urgent !",IF(SITUATION!G7<'BDD ARTICLES'!C7,"Approvisionnement nécessaire","Niveau satisfaisant")) -> Niveau satisfaisant
A8: ='BDD ARTICLES'!A8 -> A3 | B8: ='BDD ARTICLES'!B8 -> Ice Tea | E8: =SUMIF(MOUVEMENTS!$B$6:$B$100,SITUATION!A8,MOUVEMENTS!$D$6:$D$100) -> 0 | F8: =SUMIF(MOUVEMENTS!$B$6:$B$100,SITUATION!A8,MOUVEMENTS!$E$6:$E$100) -> 0 | G8: =D8+E8-F8 -> 0 | H8: =IF(G8<0.5*'BDD ARTICLES'!C8,"Approvisionnement urgent !",IF(SITUATION!G8<'BDD ARTICLES'!C8,"Approvisionnement nécessaire","Niveau satisfaisant")) -> Approvisionnement urgent !
A9: ='BDD ARTICLES'!A9 -> A4 | B9: ='BDD ARTICLES'!B9 -> Bière | E9: =SUMIF(MOUVEMENTS!$B$6:$B$100,SITUATION!A9,MOUVEMENTS!$D$6:$D$100) -> 0 | F9: =SUMIF(MOUVEMENTS!$B$6:$B$100,SITUATION!A9,MOUVEMENTS!$E$6:$E$100) -> 0 | G9: =D9+E9-F9 -> 0 | H9: =IF(G9<0.5*'BDD ARTICLES'!C9,"Approvisionnement urgent !",IF(SITUATION!G9<'BDD ARTICLES'!C9,"Approvisionnement nécessaire","Niveau satisfaisant")) -> Approvisionnement urgent !
A10: ='BDD ARTICLES'!A10 -> A5 | B10: ='BDD ARTICLES'!B10 -> Filtre | E10: =SUMIF(MOUVEMENTS!$B$6:$B$100,SITUATION!A10,MOUVEMENTS!$D$6:$D$100) -> 0 | F10: =SUMIF(MOUVEMENTS!$B$6:$B$100,SITUATION!A10,MOUVEMENTS!$E$6:$E$100) -> 0 | G10: =D10+E10-F10 -> 0 | H10: =IF(G10<0.5*'BDD ARTICLES'!C10,"Approvisionnement urgent !",IF(SITUATION!G10<'BDD ARTICLES'!C10,"Approvisionnement nécessaire","Niveau satisfaisant")) -> Approvisionnement urgent !
A11: ='BDD ARTICLES'!A11 -> A6 | B11: ='BDD ARTICLES'!B11 -> Cafe | E11: =SUMIF(MOUVEMENTS!$B$6:$B$100,SITUATION!A11,MOUVEMENTS!$D$6:$D$100) -> 51 | F11: =SUMIF(MOUVEMENTS!$B$6:$B$100,SITUATION!A11,MOUVEMENTS!$E$6:$E$100) -> 50 | G11: =D11+E11-F11 -> 1 | H11: =IF(G11<0.5*'BDD ARTICLES'!C11,"Approvisionnement urgent !",IF(SITUATION!G11<'BDD ARTICLES'!C11,"Approvisionnement nécessaire","Niveau satisfaisant")) -> Approvisionnement nécessaire
A12: ='BDD ARTICLES'!A12 -> A7 | B12: ='BDD ARTICLES'!B12 -> Eau | E12: =SUMIF(MOUVEMENTS!$B$6:$B$100,SITUATION!A12,MOUVEMENTS!$D$6:$D$100) -> 0 | F12: =SUMIF(MOUVEMENTS!$B$6:$B$100,SITUATION!A12,MOUVEMENTS!$E$6:$E$100) -> 0 | G12: =D12+E12-F12 -> 0 | H12: =IF(G12<0.5*'BDD ARTICLES'!C12,"Approvisionnement urgent !",IF(SITUATION!G12<'BDD ARTICLES'!C12,"Approvisionnement nécessaire","Niveau satisfaisant")) -> Approvisionnement urgent !
