Workbook

Sheet Tableau de suivi
A1: Origine | B1: Objectif | C1: Actifs | D1: Inactifs | E1: Retirés | I1: Nb de points
A2: TOTAL | B2: =B3+B4+B5 -> 80 | C2: =C3+C4+C5 -> 0 | D2: =D3+D4+D5 -> 0 | E2: =E3+E4+E5 -> 0 | H2: Date du jour | I2: =TODAY() -> 44664
A3: Involontaires | B3: 20 | H3: Date m-4 | I3: =EDATE(I2,-4) -> 44543
A4: Volontaires | B4: 38 | I4: =IF(I3>I2,"OK","NON") -> NON
A5: Instances | B5: =SUM(B6:B16) -> 22 | C5: =SUM(C6:C16) -> 0 | D5: =SUM(D6:D16) -> 0 | E5: =SUM(E6:E16) -> 0
A6: instance 1 | B6: 2
A7: instance 2 | B7: 2
A8: instance 3 | B8: 2
A9: instance 4 | B9: 2
A10: instance 5 | B10: 2
A11: instance 6 | B11: 2
A12: instance 7 | B12: 2
A13: instance 8 | B13: 2
A14: instance 9 | B14: 2
A15: instance 10 | B15: 2
A16: instance 11 | B16: 2
B18: Age: objectif | C18: Seuil (20% d'écart par rapport à l'objectif) | D18: % | E18: VERIFICATION
A19: 15 à 29 ans | B19: 25 | C19: 20 | D19: 0.25974026
A20: 30 à 59 ans | B20: 33 | C20: 26.4 | D20: 0.34285714
A21: 60 ans et + | B21: 19 | C21: 15.2 | D21: 0.1974026
A22: Vérif
B23: Sexe | C23: Seuil
A24: Hommes | B24: 38 | C24: 30.4 | D24: 0.475
A25: Femmes | B25: 42 | C25: 33.6 | D25: 0.525
A26: Non déterminé | B26: 0 | C26: 0 | D26: 0
B28: Quartier | C28: Seuil (40% d'écart par rapport à l'objectif et minimum de 2)
A29: quartier 1 | B29: 12 | C29: 7.2 | D29: 0.15
A30: quartier 2 | B30: 12 | C30: 7.2 | D30: 0.15
A31: quartier 3 | B31: 8 | C31: 4.8 | D31: 0.1
A32: quartier 4 | B32: 15 | C32: 9 | D32: 0.1875
A33: quartier 5 | B33: 4 | C33: 2.4 | D33: 0.05
A34: quartier 6 | B34: 8 | C34: 4.8 | D34: 0.1
A35: quartier 7 | B35: 19 | C35: 11.4 | D35: 0.2375
A36: quartier 8 | B36: 2 | C36: 2 | D36: 0.025
B38: CSP | C38: Seuil 80% (minim de 20% par rapport à la représentation dans la population)
A39: CSP 1 | B39: 1 | C39: 0.2 | D39: 0.0125
A40: CSP 2 | B40: 5 | C40: 1 | D40: 0.0625
A41: CSP 3 | B41: 11 | C41: 2.2 | D41: 0.1375
A42: CSP 4 | B42: 12 | C42: 2.4 | D42: 0.15
A43: CSP 5 | B43: 13 | C43: 2.6 | D43: 0.1625
...

Sheet Base de données
A1: NOM | B1: PRENOM | C1: ETAT | D1: A EFFACER | E1: ORIGINE | F1: ORIGINE_DETAILLEE | G1: MAIL | H1: TELEPHONE | I1: QUARTIER | J1: ADRESSE | K1: GENRE | L1: DATE_NAISSANCE | M1: AGE | N1: STATUT _PROF | O1: STATUT _PROF-ACTIF | P1: BINOMES | Q1: PRECISIONS MODALITES D'INTERRACTION | R1: GARDE ENF. | S1: DATE D'ENTREE ACV | T1: DATE DE SORTIE ACV
A2: NOM 1 | B2: Prénom 1 | C2: Membre | D2: Instance | E2: Instance | P2: binôme 1
A3: NOM 2 | B3: Prénom 2 | C3: Membre | D3: Involontaire | E3: Involontaire | P3: binôme 2
A4: NOM 3 | B4: Prénom 3 | C4: Partis | D4: Involontaire | E4: Involontaire | P4: binôme 3
A5: NOM 4 | B5: Prénom 4 | C5: Membre | D5: Volontaire | E5: Volontaire | P5: binôme 4
A6: NOM 5 | B6: Prénom 5 | C6: Membre | D6: Instance | E6: Instance | P6: binôme 5
A7: NOM 6 | B7: Prénom 6 | C7: Membre | D7: Instance | E7: Instance | P7: binôme 6
A8: NOM 7 | B8: Prénom 7 | C8: Membre | D8: Instance | E8: Instance | P8: binôme 7
A9: NOM 8 | B9: Prénom 8 | C9: Membre | D9: Instance | E9: Instance | P9: binôme 8
A10: NOM 9 | B10: Prénom 9 | C10: Membre | D10: Volontaire | E10: Volontaire | P10: binôme 9
A11: NOM 10 | B11: Prénom 10 | C11: Membre | D11: Volontaire | E11: Volontaire | P11: binôme 10
A12: NOM 11 | B12: Prénom 11 | D12: Volontaire | E12: Volontaire | P12: binôme 11
A13: NOM 12 | B13: Prénom 12 | C13: Membre | D13: Instance | E13: Instance | P13: binôme 12
A14: NOM 13 | B14: Prénom 13 | C14: Membre | D14: Instance | E14: Instance | P14: binôme 13
A15: NOM 14 | B15: Prénom 14 | C15: Membre | D15: Involontaire | E15: Involontaire | P15: binôme 14
A16: NOM 15 | B16: Prénom 15 | C16: Membre | D16: Involontaire | E16: Involontaire | P16: binôme 15
A17: NOM 16 | B17: Prénom 16 | D17: Volontaire | E17: Volontaire | P17: binôme 16
A18: NOM 17 | B18: Prénom 17 | C18: Membre | D18: Involontaire | P18: binôme 17
A19: NOM 18 | B19: Prénom 18 | C19: Membre | D19: Instance | P19: binôme 18
A20: NOM 19 | B20: Prénom 19 | C20: Membre | D20: Volontaire | P20: binôme 19
A21: NOM 20 | B21: Prénom 20 | C21: Membre | D21: Volontaire | P21: binôme 20
A22: NOM 21 | B22: Prénom 21 | C22: Membre | D22: Instance | P22: binôme 21
A23: NOM 22 | B23: Prénom 22 | C23: Membre | D23: Volontaire | P23: binôme 22
A24: NOM 23 | B24: Prénom 23 | C24: Partis | D24: Instance | P24: binôme 23
A25: NOM 24 | B25: Prénom 24 | C25: Membre | D25: Volontaire | P25: binôme 24
A26: NOM 25 | B26: Prénom 25 | C26: Membre | D26: Instance | P26: binôme 25
A27: NOM 26 | B27: Prénom 26 | C27: Membre | D27: Involontaire | P27: binôme 26
A28: NOM 27 | B28: Prénom 27 | C28: Membre | D28: Involontaire | P28: binôme 27
A29: NOM 28 | B29: Prénom 28 | C29: Membre | D29: Involontaire | P29: binôme 28
... A35: NOM 34 | B35: Prénom 34 | C35: Membre | D35: Involontaire | P35: binôme 34
A36: NOM 35 | B36: Prénom 35 | D36: Instance | P36: binôme 35
A37: NOM 36 | B37: Prénom 36 | C37: Membre | D37: Volontaire | P37: binôme 36
A38: NOM 37 | B38: Prénom 37 | C38: Membre | D38: Involontaire | P38: binôme 37
A39: NOM 38 | B39: Prénom 38 | C39: Membre | D39: Instance | P39: binôme 38
A40: NOM 39 | B40: Prénom 39 | C40: Membre | D40: Volontaire | P40: binôme 39
A41: NOM 40 | B41: Prénom 40 | C41: Membre | D41: Volontaire | P41: binôme 40
A42: NOM 41 | B42: Prénom 41 | C42: Partis | D42: Instance | P42: binôme 41
A43: NOM 42 | B43: Prénom 42 | C43: Membre | D43: Involontaire | P43: binôme 42
A44: NOM 43 | B44: Prénom 43 | C44: Membre | D44: Instance | P44: binôme 43
A45: NOM 44 | B45: Prénom 44 | C45: Membre | D45: Volontaire | P45: binôme 44
...

Sheet Suivi activités
A1: NOM | B1: PRENOM | C1: Groupe 1 | D1: Groupe 2 | E1: Mission 1 | F1: Mission 2 | G1: Mission 3 | H1: % activité récente | I1: % d'activité | J1: NB POINTS ACTIFS | K1: SAS 1 | L1: SAS 2 | M1: Lancement | N1: Carnet de voyage #1 | O1: Carnet de voyage #2 | P1: PHOTO | Q1: Formation 12/01 | R1: Formation 15/02 | S1: BP 20/01 | T1: Charte de Fonctionement 05/03 | U1: OUTILS COM + SAISINE 08/03 | V1: BP 09/03 | W1: Plénière 26/03
A2: DATE | K2: 44561 | L2: 44561 | M2: 44561 | N2: 44561 | O2: 44561 | P2: 44561 | Q2: 44573 | R2: 44607 | S2: 44581 | T2: 44625 | U2: 44628 | V2: 44629 | W2: 44646
A3: ='Base de données'!A2 -> NOM 1 | B3: ='Base de données'!B2 -> Prénom 1 | H3: =COUNTIFS($K$2:$AE$2,$K$2>'Tableau de suivi'!$I$3,'Suivi activités'!K3:AE3,"OUI") -> 0 | I3: =(COUNTIF(K3:BI3,"OUI"))/((COUNTIF(K3:BI3,"OUI")+(COUNTIF(K3:BI3,"NON")))) -> 0 | J3: =COUNTIF(K3:BI3,"OUI") -> 0 | K3: NON | L3: NON | M3: NON | N3: NON | O3: NON | P3: NON | Q3: NON | R3: NON | S3: NON | T3: NON | U3: NON | V3: NON | W3: NON
A4: ='Base de données'!A3 -> NOM 2 | B4: ='Base de données'!B3 -> Prénom 2 | H4: =COUNTIFS($K$2:$AE$2,$K$2>'Tableau de suivi'!$I$3,'Suivi activités'!K4:AE4,"OUI") -> 0 | I4: =(COUNTIF(K4:BI4,"OUI"))/((COUNTIF(K4:BI4,"OUI")+(COUNTIF(K4:BI4,"NON")))) -> 0.23076923 | J4: =COUNTIF(K4:BI4,"OUI") -> 3 | K4: NON | L4: NON | M4: OUI | N4: OUI | O4: NON | P4: OUI | Q4: NON | R4: NON | S4: NON | T4: NON | U4: NON | V4: NON | W4: NON
A5: ='Base de données'!A4 -> NOM 3 | B5: ='Base de données'!B4 -> Prénom 3 | H5: =COUNTIFS($K$2:$AE$2,$K$2>'Tableau de suivi'!$I$3,'Suivi activités'!K5:AE5,"OUI") -> 0 | I5: =(COUNTIF(K5:BI5,"OUI"))/((COUNTIF(K5:BI5,"OUI")+(COUNTIF(K5:BI5,"NON")))) -> #DIV/0! | J5: =COUNTIF(K5:BI5,"OUI") -> 0
A6: ='Base de données'!A5 -> NOM 4 | B6: ='Base de données'!B5 -> Prénom 4 | H6: =COUNTIFS($K$2:$AE$2,$K$2>'Tableau de suivi'!$I$3,'Suivi activités'!K6:AE6,"OUI") -> 0 | I6: =(COUNTIF(K6:BI6,"OUI"))/((COUNTIF(K6:BI6,"OUI")+(COUNTIF(K6:BI6,"NON")))) -> 0.46153846 | J6: =COUNTIF(K6:BI6,"OUI") -> 6 | K6: OUI | L6: OUI | M6: NON | N6: OUI | O6: OUI | P6: OUI | Q6: NON | R6: NON | S6: OUI | T6: NON | U6: NON | V6: NON | W6: NON
A7: ='Base de données'!A6 -> NOM 5 | B7: ='Base de données'!B6 -> Prénom 5 | H7: =COUNTIFS($K$2:$AE$2,$K$2>'Tableau de suivi'!$I$3,'Suivi activités'!K7:AE7,"OUI") -> 0 | I7: =(COUNTIF(K7:BI7,"OUI"))/((COUNTIF(K7:BI7,"OUI")+(COUNTIF(K7:BI7,"NON")))) -> 0.46153846 | J7: =COUNTIF(K7:BI7,"OUI") -> 6 | K7: OUI | L7: OUI | M7: NON | N7: OUI | O7: OUI | P7: NON | Q7: NON | R7: NON | S7: OUI | T7: NON | U7: OUI | V7: NON | W7: NON
A8: ='Base de données'!A7 -> NOM 6 | B8: ='Base de données'!B7 -> Prénom 6 | H8: =COUNTIFS($K$2:$AE$2,$K$2>'Tableau de suivi'!$I$3,'Suivi activités'!K8:AE8,"OUI") -> 0 | I8: =(COUNTIF(K8:BI8,"OUI"))/((COUNTIF(K8:BI8,"OUI")+(COUNTIF(K8:BI8,"NON")))) -> 0.53846154 | J8: =COUNTIF(K8:BI8,"OUI") -> 7 | K8: NON | L8: OUI | M8: OUI | N8: OUI | O8: OUI | P8: OUI | Q8: NON | R8: NON | S8: OUI | T8: NON | U8: NON | V8: NON | W8: OUI
A9: ='Base de données'!A8 -> NOM 7 | B9: ='Base de données'!B8 -> Prénom 7 | H9: =COUNTIFS($K$2:$AE$2,$K$2>'Tableau de suivi'!$I$3,'Suivi activités'!K9:AE9,"OUI") -> 0 | I9: =(COUNTIF(K9:BI9,"OUI"))/((COUNTIF(K9:BI9,"OUI")+(COUNTIF(K9:BI9,"NON")))) -> 0 | J9: =COUNTIF(K9:BI9,"OUI") -> 0 | K9: NON | L9: NON | M9: NON | N9: NON | O9: NON | P9: NON | Q9: NON | R9: NON | S9: NON | T9: NON | U9: NON | V9: NON | W9: NON
A10: ='Base de données'!A9 -> NOM 8 | B10: ='Base de données'!B9 -> Prénom 8 | H10: =COUNTIFS($K$2:$AE$2,$K$2>'Tableau de suivi'!$I$3,'Suivi activités'!K10:AE10,"OUI") -> 0 | I10: =(COUNTIF(K10:BI10,"OUI"))/((COUNTIF(K10:BI10,"OUI")+(COUNTIF(K10:BI10,"NON")))) -> 0.15384615 | J10: =COUNTIF(K10:BI10,"OUI") -> 2 | K10: NON | L10: NON | M10: NON | N10: OUI | O10: NON | P10: OUI | Q10: NON | R10: NON | S10: NON | T10: NON | U10: NON | V10: NON | W10: NON
A11: ='Base de données'!A10 -> NOM 9 | B11: ='Base de données'!B10 -> Prénom 9 | H11: =COUNTIFS($K$2:$AE$2,$K$2>'Tableau de suivi'!$I$3,'Suivi activités'!K11:AE11,"OUI") -> 0 | I11: =(COUNTIF(K11:BI11,"OUI"))/((COUNTIF(K11:BI11,"OUI")+(COUNTIF(K11:BI11,"NON")))) -> 0.76923077 | J11: =COUNTIF(K11:BI11,"OUI") -> 10 | K11: NON | L11: OUI | M11: OUI | N11: OUI | O11: OUI | P11: OUI | Q11: NON | R11: OUI | S11: OUI | T11: NON | U11: OUI | V11: OUI | W11: OUI
A12: ='Base de données'!A11 -> NOM 10 | B12: ='Base de données'!B11 -> Prénom 10 | H12: =COUNTIFS($K$2:$AE$2,$K$2>'Tableau de suivi'!$I$3,'Suivi activités'!K12:AE12,"OUI") -> 0 | I12: =(COUNTIF(K12:BI12,"OUI"))/((COUNTIF(K12:BI12,"OUI")+(COUNTIF(K12:BI12,"NON")))) -> 0.76923077 | J12: =COUNTIF(K12:BI12,"OUI") -> 10 | K12: OUI | L12: OUI | M12: OUI | N12: OUI | O12: OUI | P12: OUI | Q12: OUI | R12: NON | S12: OUI | T12: NON | U12: NON | V12: OUI | W12: OUI
A13: ='Base de données'!A12 -> NOM 11 | B13: ='Base de données'!B12 -> Prénom 11 | H13: =COUNTIFS($K$2:$AE$2,$K$2>'Tableau de suivi'!$I$3,'Suivi activités'!K13:AE13,"OUI") -> 0 | I13: =(COUNTIF(K13:BI13,"OUI"))/((COUNTIF(K13:BI13,"OUI")+(COUNTIF(K13:BI13,"NON")))) -> 1 | J13: =COUNTIF(K13:BI13,"OUI") -> 2 | O13: OUI | W13: OUI
A14: ='Base de données'!A13 -> NOM 12 | B14: ='Base de données'!B13 -> Prénom 12 | H14: =COUNTIFS($K$2:$AE$2,$K$2>'Tableau de suivi'!$I$3,'Suivi activités'!K14:AE14,"OUI") -> 0 | I14: =(COUNTIF(K14:BI14,"OUI"))/((COUNTIF(K14:BI14,"OUI")+(COUNTIF(K14:BI14,"NON")))) -> 0.38461538 | J14: =COUNTIF(K14:BI14,"OUI") -> 5 | K14: NON | L14: OUI | M14: NON | N14: OUI | O14: OUI | P14: OUI | Q14: NON | R14: NON | S14: OUI | T14: NON | U14: NON | V14: NON | W14: NON
A15: ='Base de données'!A14 -> NOM 13 | B15: ='Base de données'!B14 -> Prénom 13 | H15: =COUNTIFS($K$2:$AE$2,$K$2>'Tableau de suivi'!$I$3,'Suivi activités'!K15:AE15,"OUI") -> 0 | I15: =(COUNTIF(K15:BI15,"OUI"))/((COUNTIF(K15:BI15,"OUI")+(COUNTIF(K15:BI15,"NON")))) -> 0.61538462 | J15: =COUNTIF(K15:BI15,"OUI") -> 8 | K15: OUI | L15: OUI | M15: NON | N15: OUI | O15: OUI | P15: OUI | Q15: NON | R15: NON | S15: OUI | T15: NON | U15: OUI | V15: OUI | W15: NON
A16: ='Base de données'!A15 -> NOM 14 | B16: ='Base de données'!B15 -> Prénom 14 | H16: =COUNTIFS($K$2:$AE$2,$K$2>'Tableau de suivi'!$I$3,'Suivi activités'!K16:AE16,"OUI") -> 0 | I16: =(COUNTIF(K16:BI16,"OUI"))/((COUNTIF(K16:BI16,"OUI")+(COUNTIF(K16:BI16,"NON")))) -> 0.76923077 | J16: =COUNTIF(K16:BI16,"OUI") -> 10 | K16: OUI | L16: OUI | M16: OUI | N16: OUI | O16: OUI | P16: OUI | Q16: OUI | R16: OUI | S16: OUI | T16: NON | U16: NON | V16: NON | W16: OUI
A17: ='Base de données'!A16 -> NOM 15 | B17: ='Base de données'!B16 -> Prénom 15 | H17: =COUNTIFS($K$2:$AE$2,$K$2>'Tableau de suivi'!$I$3,'Suivi activités'!K17:AE17,"OUI") -> 0 | I17: =(COUNTIF(K17:BI17,"OUI"))/((COUNTIF(K17:BI17,"OUI")+(COUNTIF(K17:BI17,"NON")))) -> 0.84615385 | J17: =COUNTIF(K17:BI17,"OUI") -> 11 | K17: OUI | L17: NON | M17: NON | N17: OUI | O17: OUI | P17: OUI | Q17: OUI | R17: OUI | S17: OUI | T17: OUI | U17: OUI | V17: OUI | W17: OUI
A18: ='Base de données'!A17 -> NOM 16 | B18: ='Base de données'!B17 -> Prénom 16 | H18: =COUNTIFS($K$2:$AE$2,$K$2>'Tableau de suivi'!$I$3,'Suivi activités'!K18:AE18,"OUI") -> 0 | I18: =(COUNTIF(K18:BI18,"OUI"))/((COUNTIF(K18:BI18,"OUI")+(COUNTIF(K18:BI18,"NON")))) -> #DIV/0! | J18: =COUNTIF(K18:BI18,"OUI") -> 0
A19: ='Base de données'!A18 -> NOM 17 | B19: ='Base de données'!B18 -> Prénom 17 | I19: =(COUNTIF(K19:BI19,"OUI"))/((COUNTIF(K19:BI19,"OUI")+(COUNTIF(K19:BI19,"NON")))) -> 0.15384615 | J19: =COUNTIF(K19:BI19,"OUI") -> 2 | K19: NON | L19: NON | M19: NON | N19: OUI | O19: NON | P19: OUI | Q19: NON | R19: NON | S19: NON | T19: NON | U19: NON | V19: NON | W19: NON
A20: ='Base de données'!A19 -> NOM 18 | B20: ='Base de données'!B19 -> Prénom 18 | I20: =(COUNTIF(K20:BI20,"OUI"))/((COUNTIF(K20:BI20,"OUI")+(COUNTIF(K20:BI20,"NON")))) -> 0.53846154 | J20: =COUNTIF(K20:BI20,"OUI") -> 7 | K20: OUI | L20: OUI | M20: NON | N20: OUI | O20: OUI | P20: OUI | Q20: OUI | R20: NON | S20: OUI | T20: NON | U20: NON | V20: NON | W20: NON
A21: ='Base de données'!A20 -> NOM 19 | B21: ='Base de données'!B20 -> Prénom 19 | I21: =(COUNTIF(K21:BI21,"OUI"))/((COUNTIF(K21:BI21,"OUI")+(COUNTIF(K21:BI21,"NON")))) -> 0 | J21: =COUNTIF(K21:BI21,"OUI") -> 0 | K21: NON | L21: NON | M21: NON | N21: NON | O21: NON | P21: NON | Q21: NON | R21: NON | S21: NON | T21: NON | U21: NON | V21: NON | W21: NON
A22: ='Base de données'!A21 -> NOM 20 | B22: ='Base de données'!B21 -> Prénom 20 | I22: =(COUNTIF(K22:BI22,"OUI"))/((COUNTIF(K22:BI22,"OUI")+(COUNTIF(K22:BI22,"NON")))) -> 0.46153846 | J22: =COUNTIF(K22:BI22,"OUI") -> 6 | K22: NON | L22: OUI | M22: OUI | N22: OUI | O22: OUI | P22: OUI | Q22: NON | R22: NON | S22: OUI | T22: NON | U22: NON | V22: NON | W22: NON
A23: ='Base de données'!A22 -> NOM 21 | B23: ='Base de données'!B22 -> Prénom 21 | I23: =(COUNTIF(K23:BI23,"OUI"))/((COUNTIF(K23:BI23,"OUI")+(COUNTIF(K23:BI23,"NON")))) -> 0.69230769 | J23: =COUNTIF(K23:BI23,"OUI") -> 9 | K23: OUI | L23: NON | M23: OUI | N23: OUI | O23: OUI | P23: OUI | Q23: NON | R23: NON | S23: OUI | T23: OUI | U23: NON | V23: OUI | W23: OUI
A24: ='Base de données'!A23 -> NOM 22 | B24: ='Base de données'!B23 -> Prénom 22 | I24: =(COUNTIF(K24:BI24,"OUI"))/((COUNTIF(K24:BI24,"OUI")+(COUNTIF(K24:BI24,"NON")))) -> 0.53846154 | J24: =COUNTIF(K24:BI24,"OUI") -> 7 | K24: OUI | L24: NON | M24: OUI | N24: NON | O24: OUI | P24: OUI | Q24: NON | R24: NON | S24: OUI | T24: OUI | U24: NON | V24: NON | W24: OUI
A25: ='Base de données'!A24 -> NOM 23 | B25: ='Base de données'!B24 -> Prénom 23 | I25: =(COUNTIF(K25:BI25,"OUI"))/((COUNTIF(K25:BI25,"OUI")+(COUNTIF(K25:BI25,"NON")))) -> #DIV/0! | J25: =COUNTIF(K25:BI25,"OUI") -> 0
A26: ='Base de données'!A25 -> NOM 24 | B26: ='Base de données'!B25 -> Prénom 24 | I26: =(COUNTIF(K26:BI26,"OUI"))/((COUNTIF(K26:BI26,"OUI")+(COUNTIF(K26:BI26,"NON")))) -> 0.76923077 | J26: =COUNTIF(K26:BI26,"OUI") -> 10 | K26: NON | L26: NON | M26: OUI | N26: OUI | O26: OUI | P26: OUI | Q26: OUI | R26: OUI | S26: OUI | T26: OUI | U26: OUI | V26: OUI | W26: NON
A27: ='Base de données'!A26 -> NOM 25 | B27: ='Base de données'!B26 -> Prénom 25 | I27: =(COUNTIF(K27:BI27,"OUI"))/((COUNTIF(K27:BI27,"OUI")+(COUNTIF(K27:BI27,"NON")))) -> 0 | J27: =COUNTIF(K27:BI27,"OUI") -> 0 | K27: NON | L27: NON | M27: NON | N27: NON | O27: NON | P27: NON | Q27: NON | R27: NON | S27: NON | T27: NON | U27: NON | V27: 0 | W27: NON
A28: ='Base de données'!A27 -> NOM 26 | B28: ='Base de données'!B27 -> Prénom 26 | I28: =(COUNTIF(K28:BI28,"OUI"))/((COUNTIF(K28:BI28,"OUI")+(COUNTIF(K28:BI28,"NON")))) -> 0.69230769 | J28: =COUNTIF(K28:BI28,"OUI") -> 9 | K28: OUI | L28: OUI | M28: OUI | N28: OUI | O28: OUI | P28: OUI | Q28: NON | R28: NON | S28: OUI | T28: NON | U28: OUI | V28: OUI | W28: NON
A29: ='Base de données'!A28 -> NOM 27 | B29: ='Base de données'!B28 -> Prénom 27 | I29: =(COUNTIF(K29:BI29,"OUI"))/((COUNTIF(K29:BI29,"OUI")+(COUNTIF(K29:BI29,"NON")))) -> 0 | J29: =COUNTIF(K29:BI29,"OUI") -> 0 | K29: NON | L29: NON | M29: NON | N29: NON | O29: NON | P29: NON | Q29: NON | R29: NON | S29: NON | T29: NON | U29: NON | V29: NON | W29: NON
A30: ='Base de données'!A29 -> NOM 28 | B30: ='Base de données'!B29 -> Prénom 28 | I30: =(COUNTIF(K30:BI30,"OUI"))/((COUNTIF(K30:BI30,"OUI")+(COUNTIF(K30:BI30,"NON")))) -> 0.76923077 | J30: =COUNTIF(K30:BI30,"OUI") -> 10 | K30: OUI | L30: OUI | M30: OUI | N30: OUI | O30: OUI | P30: OUI | Q30: OUI | R30: NON | S30: OUI | T30: NON | U30: NON | V30: OUI | W30: OUI
A31: ='Base de données'!A30 -> NOM 29 | B31: ='Base de données'!B30 -> Prénom 29 | I31: =(COUNTIF(K31:BI31,"OUI"))/((COUNTIF(K31:BI31,"OUI")+(COUNTIF(K31:BI31,"NON")))) -> 1 | J31: =COUNTIF(K31:BI31,"OUI") -> 2 | N31: OUI | P31: OUI
A32: ='Base de données'!A31 -> NOM 30 | B32: ='Base de données'!B31 -> Prénom 30 | I32: =(COUNTIF(K32:BI32,"OUI"))/((COUNTIF(K32:BI32,"OUI")+(COUNTIF(K32:BI32,"NON")))) -> 0.53846154 | J32: =COUNTIF(K32:BI32,"OUI") -> 7 | K32: OUI | L32: OUI | M32: NON | N32: OUI | O32: OUI | P32: OUI | Q32: NON | R32: NON | S32: OUI | T32: NON | U32: OUI | V32: NON | W32: NON
A33: ='Base de données'!A32 -> NOM 31 | B33: ='Base de données'!B32 -> Prénom 31 | I33: =(COUNTIF(K33:BI33,"OUI"))/((COUNTIF(K33:BI33,"OUI")+(COUNTIF(K33:BI33,"NON")))) -> 0.38461538 | J33: =COUNTIF(K33:BI33,"OUI") -> 5 | K33: OUI | L33: OUI | M33: OUI | N33: OUI | O33: NON | P33: OUI | Q33: NON | R33: NON | S33: NON | T33: NON | U33: NON | V33: NON | W33: NON
A34: ='Base de données'!A33 -> NOM 32 | B34: ='Base de données'!B33 -> Prénom 32 | I34: =(COUNTIF(K34:BI34,"OUI"))/((COUNTIF(K34:BI34,"OUI")+(COUNTIF(K34:BI34,"NON")))) -> 0 | J34: =COUNTIF(K34:BI34,"OUI") -> 0 | K34: NON | L34: NON | M34: NON | N34: NON | O34: NON | P34: NON | Q34: NON | R34: NON | S34: NON | T34: NON | U34: NON | V34: NON | W34: NON
A35: ='Base de données'!A34 -> NOM 33 | B35: ='Base de données'!B34 -> Prénom 33 | I35: =(COUNTIF(K35:BI35,"OUI"))/((COUNTIF(K35:BI35,"OUI")+(COUNTIF(K35:BI35,"NON")))) -> 0.61538462 | J35: =COUNTIF(K35:BI35,"OUI") -> 8 | K35: NON | L35: OUI | M35: NON | N35: OUI | O35: OUI | P35: OUI | Q35: NON | R35: NON | S35: OUI | T35: OUI | U35: OUI | V35: NON | W35: OUI
A36: ='Base de données'!A35 -> NOM 34 | B36: ='Base de données'!B35 -> Prénom 34 | I36: =(COUNTIF(K36:BI36,"OUI"))/((COUNTIF(K36:BI36,"OUI")+(COUNTIF(K36:BI36,"NON")))) -> 0.61538462 | J36: =COUNTIF(K36:BI36,"OUI") -> 8 | K36: OUI | L36: OUI | M36: OUI | N36: OUI | O36: OUI | P36: OUI | Q36: NON | R36: NON | S36: OUI | T36: NON | U36: OUI | V36: NON | W36: NON
A37: ='Base de données'!A36 -> NOM 35 | B37: ='Base de données'!B36 -> Prénom 35 | I37: =(COUNTIF(K37:BI37,"OUI"))/((COUNTIF(K37:BI37,"OUI")+(COUNTIF(K37:BI37,"NON")))) -> 0 | J37: =COUNTIF(K37:BI37,"OUI") -> 0 | W37: NON
A38: ='Base de données'!A37 -> NOM 36 | B38: ='Base de données'!B37 -> Prénom 36 | I38: =(COUNTIF(K38:BI38,"OUI"))/((COUNTIF(K38:BI38,"OUI")+(COUNTIF(K38:BI38,"NON")))) -> 0.30769231 | J38: =COUNTIF(K38:BI38,"OUI") -> 4 | K38: OUI | L38: NON | M38: OUI | N38: OUI | O38: NON | P38: OUI | Q38: NON | R38: NON | S38: NON | T38: NON | U38: NON | V38: NON | W38: NON
A39: ='Base de données'!A38 -> NOM 37 | B39: ='Base de données'!B38 -> Prénom 37 | I39: =(COUNTIF(K39:BI39,"OUI"))/((COUNTIF(K39:BI39,"OUI")+(COUNTIF(K39:BI39,"NON")))) -> 0.076923077 | J39: =COUNTIF(K39:BI39,"OUI") -> 1 | K39: NON | L39: NON | M39: NON | N39: OUI | O39: NON | P39: NON | Q39: NON | R39: NON | S39: NON | T39: NON | U39: NON | V39: NON | W39: NON
A40: ='Base de données'!A39 -> NOM 38 | B40: ='Base de données'!B39 -> Prénom 38 | I40: =(COUNTIF(K40:BI40,"OUI"))/((COUNTIF(K40:BI40,"OUI")+(COUNTIF(K40:BI40,"NON")))) -> 0.38461538 | J40: =COUNTIF(K40:BI40,"OUI") -> 5 | K40: NON | L40: OUI | M40: OUI | N40: OUI | O40: OUI | P40: NON | Q40: NON | R40: NON | S40: OUI | T40: NON | U40: NON | V40: NON | W40: NON
...

Sheet Menus déroulants
A1: ETAT | B1: ORIGINE DETAILLEE | C1: ORIGINE | D1: QUARTIER | E1: GENRE | F1: STATUT _PROF | G1: STATUT_ACTIVITE | H1: PRECISIONS MODALITES D'INTERRACTION | I1: GARDE ENF. | J1: PARTICIPATION
A2: Actif | B2: Involontaire | C2: Involontaire | D2: quartier 1 | E2: Femme | F2: Agriculteurs exploitants | G2: Actif -hors étudiant | H2: RAS | I2: Oui | J2: OUI
A3: Parti | B3: Volontaire | C3: Volontaire | D3: quartier 2 | E3: Homme | F3: Artisans, commerçants et chefs d'entreprise | G3: Inactif | H3: Préférer l'écrit à l'oral | I3: Non | J3: NON
B4: Conseil des Ainés | C4: Instance | D4: quartier 3 | E4: NSPP - Autre | F4: Cadres et professions intellectuelles supérieures | G4: Etudiant
B5: Conseil Villeurbannais de la Jeunesse | D5: quartier 4 | F5: Professions Intermédiaires
B6: Maison du Citoyen | D6: quartier 5 | F6: Employés
B7: Conseil de Quartier Charpennes Tonkin | D7: quartier 6 | F7: Ouvriers
B8: Conseil de Quartier Gratte Ciel Dedieu Charmettes | D8: quartier 7 | F8: Retraités
B9: Conseil de Quartier Buers Croix-Luizet | D9: quartier 8 | F9: Autres personnes sans activité professionnelle
B10: Conseil de Quartier Saint Jean
B11: Conseil de Quartier Cusset
B12: Conseil de Quartier Bonnevay La Soie Les Brosses
B13: Conseil de Quartier Perralière Granclément Cyprian
B14: Conseil de Quartier Ferrandière Maisons Neuves
