Workbook

Sheet Tableau de suivi
A1: Origine | B1: Objectif | C1: Actifs | D1: Inactifs | E1: Retirés | I1: Nb de points
A2: TOTAL | B2: =B3+B4+B5 -> 80 | C2: =C3+C4+C5 -> 0 | D2: =D3+D4+D5 -> 0 | E2: =E3+E4+E5 -> 0 | H2: Date du jour | I2: =TODAY() -> 44664
A3: Involontaires | B3: 20 | H3: Date m-4 | I3: =EDATE(I2,-4) -> 44543
A4: Volontaires | B4: 38 | I4: =IF(I3>I2,"OK","NON") -> NON
A5: Instances | B5: =SUM(B6:B16) -> 22 | C5: =SUM(C6:C16) -> 0 | D5: =SUM(D6:D16) -> 0 | E5: =SUM(E6:E16) -> 0
A6: instance 1 | B6: 2
A7: instance 2 | B7: 2
A8: instance 3 | B8: 2
A9: instance 4 | B9: 2
A10: instance 5 | B10: 2
A11: instance 6 | B11: 2
A12: instance 7 | B12: 2
A13: instance 8 | B13: 2
A14: instance 9 | B14: 2
A15: instance 10 | B15: 2
A16: instance 11 | B16: 2
B18: Age: objectif | C18: Seuil (20% d'écart par rapport à l'objectif) | D18: % | E18: VERIFICATION
A19: 15 à 29 ans | B19: 25 | C19: 20 | D19: 0.25974026
A20: 30 à 59 ans | B20: 33 | C20: 26.4 | D20: 0.34285714
A21: 60 ans et + | B21: 19 | C21: 15.2 | D21: 0.1974026
A22: Vérif
B23: Sexe | C23: Seuil
A24: Hommes | B24: 38 | C24: 30.4 | D24: 0.475
A25: Femmes | B25: 42 | C25: 33.6 | D25: 0.525
A26: Non déterminé | B26: 0 | C26: 0 | D26: 0
B28: Quartier | C28: Seuil (40% d'écart par rapport à l'objectif et minimum de 2)
A29: quartier 1 | B29: 12 | C29: 7.2 | D29: 0.15
A30: quartier 2 | B30: 12 | C30: 7.2 | D30: 0.15
A31: quartier 3 | B31: 8 | C31: 4.8 | D31: 0.1
A32: quartier 4 | B32: 15 | C32: 9 | D32: 0.1875
A33: quartier 5 | B33: 4 | C33: 2.4 | D33: 0.05
A34: quartier 6 | B34: 8 | C34: 4.8 | D34: 0.1
A35: quartier 7 | B35: 19 | C35: 11.4 | D35: 0.2375
A36: quartier 8 | B36: 2 | C36: 2 | D36: 0.025
B38: CSP | C38: Seuil 80% (minim de 20% par rapport à la représentation dans la population)
A39: CSP 1 | B39: 1 | C39: 0.2 | D39: 0.0125
A40: CSP 2 | B40: 5 | C40: 1 | D40: 0.0625
A41: CSP 3 | B41: 11 | C41: 2.2 | D41: 0.1375
A42: CSP 4 | B42: 12 | C42: 2.4 | D42: 0.15
A43: CSP 5 | B43: 13 | C43: 2.6 | D43: 0.1625
A44: CSP 6 | B44: 7 | C44: 1.4 | D44: 0.0875
A45: CSP 7 | B45: 13 | C45: 2.6 | D45: 0.1625
A46: CSP 8 | B46: 18 | C46: 3.6 | D46: 0.225
C47: Seuil 80% (minim de 20% par rapport à la représentation dans la population)
B48: Nationalité
A49: Français | B49: 70 | C49: 14 | D49: 0.87
A50: Etrangers | B50: 10.48 | C50: 2.096 | D50: 0.13

Sheet Base de données
A1: NOM | B1: PRENOM | C1: ETAT | D1: A EFFACER | E1: ORIGINE | F1: ORIGINE_DETAILLEE | G1: MAIL | H1: TELEPHONE | I1: QUARTIER | J1: ADRESSE | K1: GENRE | L1: DATE_NAISSANCE | M1: AGE | N1: STATUT _PROF | O1: STATUT _PROF-ACTIF | P1: BINOMES | Q1: PRECISIONS MODALITES D'INTERRACTION | R1: GARDE ENF. | S1: DATE D'ENTREE ACV | T1: DATE DE SORTIE ACV
A2: NOM 1 | B2: Prénom 1 | C2: Membre | D2: Instance | E2: Instance | P2: binôme 1
A3: NOM 2 | B3: Prénom 2 | C3: Membre | D3: Involontaire | E3: Involontaire | P3: binôme 2
A4: NOM 3 | B4: Prénom 3 | C4: Partis | D4: Involontaire | E4: Involontaire | P4: binôme 3
A5: NOM 4 | B5: Prénom 4 | C5: Membre | D5: Volontaire | E5: Volontaire | P5: binôme 4
A6: NOM 5 | B6: Prénom 5 | C6: Membre | D6: Instance | E6: Instance | P6: binôme 5
A7: NOM 6 | B7: Prénom 6 | C7: Membre | D7: Instance | E7: Instance | P7: binôme 6
A8: NOM 7 | B8: Prénom 7 | C8: Membre | D8: Instance | E8: Instance | P8: binôme 7
A9: NOM 8 | B9: Prénom 8 | C9: Membre | D9: Instance | E9: Instance | P9: binôme 8
A10: NOM 9 | B10: Prénom 9 | C10: Membre | D10: Volontaire | E10: Volontaire | P10: binôme 9
A11: NOM 10 | B11: Prénom 10 | C11: Membre | D11: Volontaire | E11: Volontaire | P11: binôme 10
A12: NOM 11 | B12: Prénom 11 | D12: Volontaire | E12: Volontaire | P12: binôme 11
A13: NOM 12 | B13: Prénom 12 | C13: Membre | D13: Instance | E13: Instance | P13: binôme 12
A14: NOM 13 | B14: Prénom 13 | C14: Membre | D14: Instance | E14: Instance | P14: binôme 13
A15: NOM 14 | B15: Prénom 14 | C15: Membre | D15: Involontaire | E15: Involontaire | P15: binôme 14
A16: NOM 15 | B16: Prénom 15 | C16: Membre | D16: Involontaire | E16: Involontaire | P16: binôme 15
A17: NOM 16 | B17: Prénom 16 | D17: Volontaire | E17: Volontaire | P17: binôme 16
A18: NOM 17 | B18: Prénom 17 | C18: Membre | D18: Involontaire | P18: binôme 17
A19: NOM 18 | B19: Prénom 18 | C19: Membre | D19: Instance | P19: binôme 18
A20: NOM 19 | B20: Prénom 19 | C20: Membre | D20: Volontaire | P20: binôme 19
A21: NOM 20 | B21: Prénom 20 | C21: Membre | D21: Volontaire | P21: binôme 20
A22: NOM 21 | B22: Prénom 21 | C22: Membre | D22: Instance | P22: binôme 21
A23: NOM 22 | B23: Prénom 22 | C23: Membre | D23: Volontaire | P23: binôme 22
A24: NOM 23 | B24: Prénom 23 | C24: Partis | D24: Instance | P24: binôme 23
A25: NOM 24 | B25: Prénom 24 | C25: Membre | D25: Volontaire | P25: binôme 24
A26: NOM 25 | B26: Prénom 25 | C26: Membre | D26: Instance | P26: binôme 25
A27: NOM 26 | B27: Prénom 26 | C27: Membre | D27: Involontaire | P27: binôme 26
A28: NOM 27 | B28: Prénom 27 | C28: Membre | D28: Involontaire | P28: binôme 27
A29: NOM 28 | B29: Prénom 28 | C29: Membre | D29: Involontaire | P29: binôme 28
... A35: NOM 34 | B35: Prénom 34 | C35: Membre | D35: Involontaire | P35: binôme 34
A36: NOM 35 | B36: Prénom 35 | D36: Instance | P36: binôme 35
A37: NOM 36 | B37: Prénom 36 | C37: Membre | D37: Volontaire | P37: binôme 36
A38: NOM 37 | B38: Prénom 37 | C38: Membre | D38: Involontaire | P38: binôme 37
A39: NOM 38 | B39: Prénom 38 | C39: Membre | D39: Instance | P39: binôme 38
A40: NOM 39 | B40: Prénom 39 | C40: Membre | D40: Volontaire | P40: binôme 39
A41: NOM 40 | B41: Prénom 40 | C41: Membre | D41: Volontaire | P41: binôme 40
A42: NOM 41 | B42: Prénom 41 | C42: Partis | D42: Instance | P42: binôme 41
A43: NOM 42 | B43: Prénom 42 | C43: Membre | D43: Involontaire | P43: binôme 42
A44: NOM 43 | B44: Prénom 43 | C44: Membre | D44: Instance | P44: binôme 43
A45: NOM 44 | B45: Prénom 44 | C45: Membre | D45: Volontaire | P45: binôme 44
A46: NOM 45 | B46: Prénom 45 | C46: Partis | D46: Instance | P46: binôme 45
A47: NOM 46 | B47: Prénom 46 | C47: Membre | D47: Volontaire | P47: binôme 46
A48: NOM 47 | B48: Prénom 47 | C48: Membre | D48: Involontaire | P48: binôme 47
... A70: NOM 69 | B70: Prénom 69 | C70: Membre | D70: Involontaire | P70: binôme 69
A71: NOM 70 | B71: Prénom 70 | P71: binôme 70
A72: NOM 71 | B72: Prénom 71 | C72: Membre | D72: Volontaire | P72: binôme 71
A73: NOM 72 | B73: Prénom 72 | C73: Membre | D73: Volontaire | P73: binôme 72
A74: NOM 73 | B74: Prénom 73 | C74: Membre | D74: Volontaire | P74: binôme 73
A75: NOM 74 | B75: Prénom 74 | C75: Membre | D75: Volontaire | P75: binôme 74
A76: NOM 75 | B76: Prénom 75 | C76: Membre | D76: Involontaire | P76: binôme 75
A77: NOM 76 | B77: Prénom 76 | C77: Membre | D77: Volontaire | P77: binôme 76
A78: NOM 77 | B78: Prénom 77 | C78: Partis | D78: Involontaire | P78: binôme 77
A79: NOM 78 | B79: Prénom 78 | C79: Membre | D79: Volontaire | P79: binôme 78
A80: NOM 79 | B80: Prénom 79 | C80: Membre | D80: Volontaire | P80: binôme 79
A81: NOM 80 | B81: Prénom 80 | C81: Membre | D81: Volontaire | P81: binôme 80
A82: NOM 81 | B82: Prénom 81 | C82: Membre | D82: Volontaire | P82: binôme 81
A83: NOM 82 | B83: Prénom 82 | C83: Partis | D83: Volontaire | P83: binôme 82
... A92: NOM 91 | B92: Prénom 91 | C92: Membre | D92: Instance | P92: binôme 91

Sheet Suivi activités
A1: NOM | B1: PRENOM | C1: Groupe 1 | D1: Groupe 2 | E1: Mission 1 | F1: Mission 2 | G1: Mission 3 | H1: % activité récente | I1: % d'activité | J1: NB POINTS ACTIFS | K1: SAS 1 | L1: SAS 2 | M1: Lancement | N1: Carnet de voyage #1 | O1: Carnet de voyage #2 | P1: PHOTO | Q1: Formation 12/01 | R1: Formation 15/02 | S1: BP 20/01 | T1: Charte de Fonctionement 05/03 | U1: OUTILS COM + SAISINE 08/03 | V1: BP 09/03 | W1: Plénière 26/03
A2: DATE | K2: 44561 | L2: 44561 | M2: 44561 | N2: 44561 | O2: 44561 | P2: 44561 | Q2: 44573 | R2: 44607 | S2: 44581 | T2: 44625 | U2: 44628 | V2: 44629 | W2: 44646
A3: ='Base de données'!A2 -> NOM 1 | B3: ='Base de données'!B2 -> Prénom 1 | H3: =COUNTIFS($K$2:$AE$2,$K$2>'Tableau de suivi'!$I$3,'Suivi activités'!K3:AE3,"OUI") -> 0 | I3: =(COUNTIF(K3:BI3,"OUI"))/((COUNTIF(K3:BI3,"OUI")+(COUNTIF(K3:BI3,"NON")))) -> 0 | J3: =COUNTIF(K3:BI3,"OUI") -> 0 | K3: NON | L3: NON | M3: NON | N3: NON | O3: NON | P3: NON | Q3: NON | R3: NON | S3: NON | T3: NON | U3: NON | V3: NON | W3: NON
A4: ='Base de données'!A3 -> NOM 2 | B4: ='Base de données'!B3 -> Prénom 2 | H4: =COUNTIFS($K$2:$AE$2,$K$2>'Tableau de suivi'!$I$3,'Suivi activités'!K4:AE4,"OUI") -> 0 | I4: =(COUNTIF(K4:BI4,"OUI"))/((COUNTIF(K4:BI4,"OUI")+(COUNTIF(K4:BI4,"NON")))) -> 0.23076923 | J4: =COUNTIF(K4:BI4,"OUI") -> 3 | K4: NON | L4: NON | M4: OUI | N4: OUI | O4: NON | P4: OUI | Q4: NON | R4: NON | S4: NON | T4: NON | U4: NON | V4: NON | W4: NON
A5: ='Base de données'!A4 -> NOM 3 | B5: ='Base de données'!B4 -> Prénom 3 | H5: =COUNTIFS($K$2:$AE$2,$K$2>'Tableau de suivi'!$I$3,'Suivi activités'!K5:AE5,"OUI") -> 0 | I5: =(COUNTIF(K5:BI5,"OUI"))/((COUNTIF(K5:BI5,"OUI")+(COUNTIF(K5:BI5,"NON")))) -> #DIV/0! | J5: =COUNTIF(K5:BI5,"OUI") -> 0
A6: ='Base de données'!A5 -> NOM 4 | B6: ='Base de données'!B5 -> Prénom 4 | H6: =COUNTIFS($K$2:$AE$2,$K$2>'Tableau de suivi'!$I$3,'Suivi activités'!K6:AE6,"OUI") -> 0 | I6: =(COUNTIF(K6:BI6,"OUI"))/((COUNTIF(K6:BI6,"OUI")+(COUNTIF(K6:BI6,"NON")))) -> 0.46153846 | J6: =COUNTIF(K6:BI6,"OUI") -> 6 | K6: OUI | L6: OUI | M6: NON | N6: OUI | O6: OUI | P6: OUI | Q6: NON | R6: NON | S6: OUI | T6: NON | U6: NON | V6: NON | W6: NON
A7: ='Base de données'!A6 -> NOM 5 | B7: ='Base de données'!B6 -> Prénom 5 | H7: =COUNTIFS($K$2:$AE$2,$K$2>'Tableau de suivi'!$I$3,'Suivi activités'!K7:AE7,"OUI") -> 0 | I7: =(COUNTIF(K7:BI7,"OUI"))/((COUNTIF(K7:BI7,"OUI")+(COUNTIF(K7:BI7,"NON")))) -> 0.46153846 | J7: =COUNTIF(K7:BI7,"OUI") -> 6 | K7: OUI | L7: OUI | M7: NON | N7: OUI | O7: OUI | P7: NON | Q7: NON | R7: NON | S7: OUI | T7: NON | U7: OUI | V7: NON | W7: NON
A8: ='Base de données'!A7 -> NOM 6 | B8: ='Base de données'!B7 -> Prénom 6 | H8: =COUNTIFS($K$2:$AE$2,$K$2>'Tableau de suivi'!$I$3,'Suivi activités'!K8:AE8,"OUI") -> 0 | I8: =(COUNTIF(K8:BI8,"OUI"))/((COUNTIF(K8:BI8,"OUI")+(COUNTIF(K8:BI8,"NON")))) -> 0.53846154 | J8: =COUNTIF(K8:BI8,"OUI") -> 7 | K8: NON | L8: OUI | M8: OUI | N8: OUI | O8: OUI | P8: OUI | Q8: NON | R8: NON | S8: OUI | T8: NON | U8: NON | V8: NON | W8: OUI
A9: ='Base de données'!A8 -> NOM 7 | B9: ='Base de données'!B8 -> Prénom 7 | H9: =COUNTIFS($K$2:$AE$2,$K$2>'Tableau de suivi'!$I$3,'Suivi activités'!K9:AE9,"OUI") -> 0 | I9: =(COUNTIF(K9:BI9,"OUI"))/((COUNTIF(K9:BI9,"OUI")+(COUNTIF(K9:BI9,"NON")))) -> 0 | J9: =COUNTIF(K9:BI9,"OUI") -> 0 | K9: NON | L9: NON | M9: NON | N9: NON | O9: NON | P9: NON | Q9: NON | R9: NON | S9: NON | T9: NON | U9: NON | V9: NON | W9: NON
A10: ='Base de données'!A9 -> NOM 8 | B10: ='Base de données'!B9 -> Prénom 8 | H10: =COUNTIFS($K$2:$AE$2,$K$2>'Tableau de suivi'!$I$3,'Suivi activités'!K10:AE10,"OUI") -> 0 | I10: =(COUNTIF(K10:BI10,"OUI"))/((COUNTIF(K10:BI10,"OUI")+(COUNTIF(K10:BI10,"NON")))) -> 0.15384615 | J10: =COUNTIF(K10:BI10,"OUI") -> 2 | K10: NON | L10: NON | M10: NON | N10: OUI | O10: NON | P10: OUI | Q10: NON | R10: NON | S10: NON | T10: NON | U10: NON | V10: NON | W10: NON
A11: ='Base de données'!A10 -> NOM 9 | B11: ='Base de données'!B10 -> Prénom 9 | H11: =COUNTIFS($K$2:$AE$2,$K$2>'Tableau de suivi'!$I$3,'Suivi activités'!K11:AE11,"OUI") -> 0 | I11: =(COUNTIF(K11:BI11,"OUI"))/((COUNTIF(K11:BI11,"OUI")+(COUNTIF(K11:BI11,"NON")))) -> 0.76923077 | J11: =COUNTIF(K11:BI11,"OUI") -> 10 | K11: NON | L11: OUI | M11: OUI | N11: OUI | O11: OUI | P11: OUI | Q11: NON | R11: OUI | S11: OUI | T11: NON | U11: OUI | V11: OUI | W11: OUI
A12: ='Base de données'!A11 -> NOM 10 | B12: ='Base de données'!B11 -> Prénom 10 | H12: =COUNTIFS($K$2:$AE$2,$K$2>'Tableau de suivi'!$I$3,'Suivi activités'!K12:AE12,"OUI") -> 0 | I12: =(COUNTIF(K12:BI12,"OUI"))/((COUNTIF(K12:BI12,"OUI")+(COUNTIF(K12:BI12,"NON")))) -> 0.76923077 | J12: =COUNTIF(K12:BI12,"OUI") -> 10 | K12: OUI | L12: OUI | M12: OUI | N12: OUI | O12: OUI | P12: OUI | Q12: OUI | R12: NON | S12: OUI | T12: NON | U12: NON | V12: OUI | W12: OUI
A13: ='Base de données'!A12 -> NOM 11 | B13: ='Base de données'!B12 -> Prénom 11 | H13: =COUNTIFS($K$2:$AE$2,$K$2>'Tableau de suivi'!$I$3,'Suivi activités'!K13:AE13,"OUI") -> 0 | I13: =(COUNTIF(K13:BI13,"OUI"))/((COUNTIF(K13:BI13,"OUI")+(COUNTIF(K13:BI13,"NON")))) -> 1 | J13: =COUNTIF(K13:BI13,"OUI") -> 2 | O13: OUI | W13: OUI
A14: ='Base de données'!A13 -> NOM 12 | B14: ='Base de données'!B13 -> Prénom 12 | H14: =COUNTIFS($K$2:$AE$2,$K$2>'Tableau de suivi'!$I$3,'Suivi activités'!K14:AE14,"OUI") -> 0 | I14: =(COUNTIF(K14:BI14,"OUI"))/((COUNTIF(K14:BI14,"OUI")+(COUNTIF(K14:BI14,"NON")))) -> 0.38461538 | J14: =COUNTIF(K14:BI14,"OUI") -> 5 | K14: NON | L14: OUI | M14: NON | N14: OUI | O14: OUI | P14: OUI | Q14: NON | R14: NON | S14: OUI | T14: NON | U14: NON | V14: NON | W14: NON
A15: ='Base de données'!A14 -> NOM 13 | B15: ='Base de données'!B14 -> Prénom 13 | H15: =COUNTIFS($K$2:$AE$2,$K$2>'Tableau de suivi'!$I$3,'Suivi activités'!K15:AE15,"OUI") -> 0 | I15: =(COUNTIF(K15:BI15,"OUI"))/((COUNTIF(K15:BI15,"OUI")+(COUNTIF(K15:BI15,"NON")))) -> 0.61538462 | J15: =COUNTIF(K15:BI15,"OUI") -> 8 | K15: OUI | L15: OUI | M15: NON | N15: OUI | O15: OUI | P15: OUI | Q15: NON | R15: NON | S15: OUI | T15: NON | U15: OUI | V15: OUI | W15: NON
A16: ='Base de données'!A15 -> NOM 14 | B16: ='Base de données'!B15 -> Prénom 14 | H16: =COUNTIFS($K$2:$AE$2,$K$2>'Tableau de suivi'!$I$3,'Suivi activités'!K16:AE16,"OUI") -> 0 | I16: =(COUNTIF(K16:BI16,"OUI"))/((COUNTIF(K16:BI16,"OUI")+(COUNTIF(K16:BI16,"NON")))) -> 0.76923077 | J16: =COUNTIF(K16:BI16,"OUI") -> 10 | K16: OUI | L16: OUI | M16: OUI | N16: OUI | O16: OUI | P16: OUI | Q16: OUI | R16: OUI | S16: OUI | T16: NON | U16: NON | V16: NON | W16: OUI
A17: ='Base de données'!A16 -> NOM 15 | B17: ='Base de données'!B16 -> Prénom 15 | H17: =COUNTIFS($K$2:$AE$2,$K$2>'Tableau de suivi'!$I$3,'Suivi activités'!K17:AE17,"OUI") -> 0 | I17: =(COUNTIF(K17:BI17,"OUI"))/((COUNTIF(K17:BI17,"OUI")+(COUNTIF(K17:BI17,"NON")))) -> 0.84615385 | J17: =COUNTIF(K17:BI17,"OUI") -> 11 | K17: OUI | L17: NON | M17: NON | N17: OUI | O17: OUI | P17: OUI | Q17: OUI | R17: OUI | S17: OUI | T17: OUI | U17: OUI | V17: OUI | W17: OUI
A18: ='Base de données'!A17 -> NOM 16 | B18: ='Base de données'!B17 -> Prénom 16 | H18: =COUNTIFS($K$2:$AE$2,$K$2>'Tableau de suivi'!$I$3,'Suivi activités'!K18:AE18,"OUI") -> 0 | I18: =(COUNTIF(K18:BI18,"OUI"))/((COUNTIF(K18:BI18,"OUI")+(COUNTIF(K18:BI18,"NON")))) -> #DIV/0! | J18: =COUNTIF(K18:BI18,"OUI") -> 0
A19: ='Base de données'!A18 -> NOM 17 | B19: ='Base de données'!B18 -> Prénom 17 | I19: =(COUNTIF(K19:BI19,"OUI"))/((COUNTIF(K19:BI19,"OUI")+(COUNTIF(K19:BI19,"NON")))) -> 0.15384615 | J19: =COUNTIF(K19:BI19,"OUI") -> 2 | K19: NON | L19: NON | M19: NON | N19: OUI | O19: NON | P19: OUI | Q19: NON | R19: NON | S19: NON | T19: NON | U19: NON | V19: NON | W19: NON
A20: ='Base de données'!A19 -> NOM 18 | B20: ='Base de données'!B19 -> Prénom 18 | I20: =(COUNTIF(K20:BI20,"OUI"))/((COUNTIF(K20:BI20,"OUI")+(COUNTIF(K20:BI20,"NON")))) -> 0.53846154 | J20: =COUNTIF(K20:BI20,"OUI") -> 7 | K20: OUI | L20: OUI | M20: NON | N20: OUI | O20: OUI | P20: OUI | Q20: OUI | R20: NON | S20: OUI | T20: NON | U20: NON | V20: NON | W20: NON
A21: ='Base de données'!A20 -> NOM 19 | B21: ='Base de données'!B20 -> Prénom 19 | I21: =(COUNTIF(K21:BI21,"OUI"))/((COUNTIF(K21:BI21,"OUI")+(COUNTIF(K21:BI21,"NON")))) -> 0 | J21: =COUNTIF(K21:BI21,"OUI") -> 0 | K21: NON | L21: NON | M21: NON | N21: NON | O21: NON | P21: NON | Q21: NON | R21: NON | S21: NON | T21: NON | U21: NON | V21: NON | W21: NON
A22: ='Base de données'!A21 -> NOM 20 | B22: ='Base de données'!B21 -> Prénom 20 | I22: =(COUNTIF(K22:BI22,"OUI"))/((COUNTIF(K22:BI22,"OUI")+(COUNTIF(K22:BI22,"NON")))) -> 0.46153846 | J22: =COUNTIF(K22:BI22,"OUI") -> 6 | K22: NON | L22: OUI | M22: OUI | N22: OUI | O22: OUI | P22: OUI | Q22: NON | R22: NON | S22: OUI | T22: NON | U22: NON | V22: NON | W22: NON
A23: ='Base de données'!A22 -> NOM 21 | B23: ='Base de données'!B22 -> Prénom 21 | I23: =(COUNTIF(K23:BI23,"OUI"))/((COUNTIF(K23:BI23,"OUI")+(COUNTIF(K23:BI23,"NON")))) -> 0.69230769 | J23: =COUNTIF(K23:BI23,"OUI") -> 9 | K23: OUI | L23: NON | M23: OUI | N23: OUI | O23: OUI | P23: OUI | Q23: NON | R23: NON | S23: OUI | T23: OUI | U23: NON | V23: OUI | W23: OUI
A24: ='Base de données'!A23 -> NOM 22 | B24: ='Base de données'!B23 -> Prénom 22 | I24: =(COUNTIF(K24:BI24,"OUI"))/((COUNTIF(K24:BI24,"OUI")+(COUNTIF(K24:BI24,"NON")))) -> 0.53846154 | J24: =COUNTIF(K24:BI24,"OUI") -> 7 | K24: OUI | L24: NON | M24: OUI | N24: NON | O24: OUI | P24: OUI | Q24: NON | R24: NON | S24: OUI | T24: OUI | U24: NON | V24: NON | W24: OUI
A25: ='Base de données'!A24 -> NOM 23 | B25: ='Base de données'!B24 -> Prénom 23 | I25: =(COUNTIF(K25:BI25,"OUI"))/((COUNTIF(K25:BI25,"OUI")+(COUNTIF(K25:BI25,"NON")))) -> #DIV/0! | J25: =COUNTIF(K25:BI25,"OUI") -> 0
A26: ='Base de données'!A25 -> NOM 24 | B26: ='Base de données'!B25 -> Prénom 24 | I26: =(COUNTIF(K26:BI26,"OUI"))/((COUNTIF(K26:BI26,"OUI")+(COUNTIF(K26:BI26,"NON")))) -> 0.76923077 | J26: =COUNTIF(K26:BI26,"OUI") -> 10 | K26: NON | L26: NON | M26: OUI | N26: OUI | O26: OUI | P26: OUI | Q26: OUI | R26: OUI | S26: OUI | T26: OUI | U26: OUI | V26: OUI | W26: NON
A27: ='Base de données'!A26 -> NOM 25 | B27: ='Base de données'!B26 -> Prénom 25 | I27: =(COUNTIF(K27:BI27,"OUI"))/((COUNTIF(K27:BI27,"OUI")+(COUNTIF(K27:BI27,"NON")))) -> 0 | J27: =COUNTIF(K27:BI27,"OUI") -> 0 | K27: NON | L27: NON | M27: NON | N27: NON | O27: NON | P27: NON | Q27: NON | R27: NON | S27: NON | T27: NON | U27: NON | V27: 0 | W27: NON
A28: ='Base de données'!A27 -> NOM 26 | B28: ='Base de données'!B27 -> Prénom 26 | I28: =(COUNTIF(K28:BI28,"OUI"))/((COUNTIF(K28:BI28,"OUI")+(COUNTIF(K28:BI28,"NON")))) -> 0.69230769 | J28: =COUNTIF(K28:BI28,"OUI") -> 9 | K28: OUI | L28: OUI | M28: OUI | N28: OUI | O28: OUI | P28: OUI | Q28: NON | R28: NON | S28: OUI | T28: NON | U28: OUI | V28: OUI | W28: NON
A29: ='Base de données'!A28 -> NOM 27 | B29: ='Base de données'!B28 -> Prénom 27 | I29: =(COUNTIF(K29:BI29,"OUI"))/((COUNTIF(K29:BI29,"OUI")+(COUNTIF(K29:BI29,"NON")))) -> 0 | J29: =COUNTIF(K29:BI29,"OUI") -> 0 | K29: NON | L29: NON | M29: NON | N29: NON | O29: NON | P29: NON | Q29: NON | R29: NON | S29: NON | T29: NON | U29: NON | V29: NON | W29: NON
A30: ='Base de données'!A29 -> NOM 28 | B30: ='Base de données'!B29 -> Prénom 28 | I30: =(COUNTIF(K30:BI30,"OUI"))/((COUNTIF(K30:BI30,"OUI")+(COUNTIF(K30:BI30,"NON")))) -> 0.76923077 | J30: =COUNTIF(K30:BI30,"OUI") -> 10 | K30: OUI | L30: OUI | M30: OUI | N30: OUI | O30: OUI | P30: OUI | Q30: OUI | R30: NON | S30: OUI | T30: NON | U30: NON | V30: OUI | W30: OUI
A31: ='Base de données'!A30 -> NOM 29 | B31: ='Base de données'!B30 -> Prénom 29 | I31: =(COUNTIF(K31:BI31,"OUI"))/((COUNTIF(K31:BI31,"OUI")+(COUNTIF(K31:BI31,"NON")))) -> 1 | J31: =COUNTIF(K31:BI31,"OUI") -> 2 | N31: OUI | P31: OUI
A32: ='Base de données'!A31 -> NOM 30 | B32: ='Base de données'!B31 -> Prénom 30 | I32: =(COUNTIF(K32:BI32,"OUI"))/((COUNTIF(K32:BI32,"OUI")+(COUNTIF(K32:BI32,"NON")))) -> 0.53846154 | J32: =COUNTIF(K32:BI32,"OUI") -> 7 | K32: OUI | L32: OUI | M32: NON | N32: OUI | O32: OUI | P32: OUI | Q32: NON | R32: NON | S32: OUI | T32: NON | U32: OUI | V32: NON | W32: NON
A33: ='Base de données'!A32 -> NOM 31 | B33: ='Base de données'!B32 -> Prénom 31 | I33: =(COUNTIF(K33:BI33,"OUI"))/((COUNTIF(K33:BI33,"OUI")+(COUNTIF(K33:BI33,"NON")))) -> 0.38461538 | J33: =COUNTIF(K33:BI33,"OUI") -> 5 | K33: OUI | L33: OUI | M33: OUI | N33: OUI | O33: NON | P33: OUI | Q33: NON | R33: NON | S33: NON | T33: NON | U33: NON | V33: NON | W33: NON
A34: ='Base de données'!A33 -> NOM 32 | B34: ='Base de données'!B33 -> Prénom 32 | I34: =(COUNTIF(K34:BI34,"OUI"))/((COUNTIF(K34:BI34,"OUI")+(COUNTIF(K34:BI34,"NON")))) -> 0 | J34: =COUNTIF(K34:BI34,"OUI") -> 0 | K34: NON | L34: NON | M34: NON | N34: NON | O34: NON | P34: NON | Q34: NON | R34: NON | S34: NON | T34: NON | U34: NON | V34: NON | W34: NON
A35: ='Base de données'!A34 -> NOM 33 | B35: ='Base de données'!B34 -> Prénom 33 | I35: =(COUNTIF(K35:BI35,"OUI"))/((COUNTIF(K35:BI35,"OUI")+(COUNTIF(K35:BI35,"NON")))) -> 0.61538462 | J35: =COUNTIF(K35:BI35,"OUI") -> 8 | K35: NON | L35: OUI | M35: NON | N35: OUI | O35: OUI | P35: OUI | Q35: NON | R35: NON | S35: OUI | T35: OUI | U35: OUI | V35: NON | W35: OUI
A36: ='Base de données'!A35 -> NOM 34 | B36: ='Base de données'!B35 -> Prénom 34 | I36: =(COUNTIF(K36:BI36,"OUI"))/((COUNTIF(K36:BI36,"OUI")+(COUNTIF(K36:BI36,"NON")))) -> 0.61538462 | J36: =COUNTIF(K36:BI36,"OUI") -> 8 | K36: OUI | L36: OUI | M36: OUI | N36: OUI | O36: OUI | P36: OUI | Q36: NON | R36: NON | S36: OUI | T36: NON | U36: OUI | V36: NON | W36: NON
A37: ='Base de données'!A36 -> NOM 35 | B37: ='Base de données'!B36 -> Prénom 35 | I37: =(COUNTIF(K37:BI37,"OUI"))/((COUNTIF(K37:BI37,"OUI")+(COUNTIF(K37:BI37,"NON")))) -> 0 | J37: =COUNTIF(K37:BI37,"OUI") -> 0 | W37: NON
A38: ='Base de données'!A37 -> NOM 36 | B38: ='Base de données'!B37 -> Prénom 36 | I38: =(COUNTIF(K38:BI38,"OUI"))/((COUNTIF(K38:BI38,"OUI")+(COUNTIF(K38:BI38,"NON")))) -> 0.30769231 | J38: =COUNTIF(K38:BI38,"OUI") -> 4 | K38: OUI | L38: NON | M38: OUI | N38: OUI | O38: NON | P38: OUI | Q38: NON | R38: NON | S38: NON | T38: NON | U38: NON | V38: NON | W38: NON
A39: ='Base de données'!A38 -> NOM 37 | B39: ='Base de données'!B38 -> Prénom 37 | I39: =(COUNTIF(K39:BI39,"OUI"))/((COUNTIF(K39:BI39,"OUI")+(COUNTIF(K39:BI39,"NON")))) -> 0.076923077 | J39: =COUNTIF(K39:BI39,"OUI") -> 1 | K39: NON | L39: NON | M39: NON | N39: OUI | O39: NON | P39: NON | Q39: NON | R39: NON | S39: NON | T39: NON | U39: NON | V39: NON | W39: NON
A40: ='Base de données'!A39 -> NOM 38 | B40: ='Base de données'!B39 -> Prénom 38 | I40: =(COUNTIF(K40:BI40,"OUI"))/((COUNTIF(K40:BI40,"OUI")+(COUNTIF(K40:BI40,"NON")))) -> 0.38461538 | J40: =COUNTIF(K40:BI40,"OUI") -> 5 | K40: NON | L40: OUI | M40: OUI | N40: OUI | O40: OUI | P40: NON | Q40: NON | R40: NON | S40: OUI | T40: NON | U40: NON | V40: NON | W40: NON
A41: ='Base de données'!A40 -> NOM 39 | B41: ='Base de données'!B40 -> Prénom 39 | I41: =(COUNTIF(K41:BI41,"OUI"))/((COUNTIF(K41:BI41,"OUI")+(COUNTIF(K41:BI41,"NON")))) -> 0.61538462 | J41: =COUNTIF(K41:BI41,"OUI") -> 8 | K41: OUI | L41: OUI | M41: OUI | N41: OUI | O41: OUI | P41: OUI | Q41: NON | R41: NON | S41: OUI | T41: NON | U41: NON | V41: NON | W41: OUI
A42: ='Base de données'!A41 -> NOM 40 | B42: ='Base de données'!B41 -> Prénom 40 | I42: =(COUNTIF(K42:BI42,"OUI"))/((COUNTIF(K42:BI42,"OUI")+(COUNTIF(K42:BI42,"NON")))) -> 0.46153846 | J42: =COUNTIF(K42:BI42,"OUI") -> 6 | K42: OUI | L42: OUI | M42: NON | N42: OUI | O42: NON | P42: OUI | Q42: NON | R42: NON | S42: NON | T42: OUI | U42: NON | V42: OUI | W42: NON
A43: ='Base de données'!A42 -> NOM 41 | B43: ='Base de données'!B42 -> Prénom 41 | I43: =(COUNTIF(K43:BI43,"OUI"))/((COUNTIF(K43:BI43,"OUI")+(COUNTIF(K43:BI43,"NON")))) -> #DIV/0! | J43: =COUNTIF(K43:BI43,"OUI") -> 0
A44: ='Base de données'!A43 -> NOM 42 | B44: ='Base de données'!B43 -> Prénom 42 | I44: =(COUNTIF(K44:BI44,"OUI"))/((COUNTIF(K44:BI44,"OUI")+(COUNTIF(K44:BI44,"NON")))) -> 1 | J44: =COUNTIF(K44:BI44,"OUI") -> 13 | K44: OUI | L44: OUI | M44: OUI | N44: OUI | O44: OUI | P44: OUI | Q44: OUI | R44: OUI | S44: OUI | T44: OUI | U44: OUI | V44: OUI | W44: OUI
A45: ='Base de données'!A44 -> NOM 43 | B45: ='Base de données'!B44 -> Prénom 43 | I45: =(COUNTIF(K45:BI45,"OUI"))/((COUNTIF(K45:BI45,"OUI")+(COUNTIF(K45:BI45,"NON")))) -> 0.61538462 | J45: =COUNTIF(K45:BI45,"OUI") -> 8 | K45: OUI | L45: OUI | M45: OUI | N45: OUI | O45: OUI | P45: OUI | Q45: NON | R45: NON | S45: OUI | T45: NON | U45: NON | V45: NON | W45: OUI
A46: ='Base de données'!A45 -> NOM 44 | B46: ='Base de données'!B45 -> Prénom 44 | I46: =(COUNTIF(K46:BI46,"OUI"))/((COUNTIF(K46:BI46,"OUI")+(COUNTIF(K46:BI46,"NON")))) -> 0.84615385 | J46: =COUNTIF(K46:BI46,"OUI") -> 11 | K46: NON | L46: OUI | M46: OUI | N46: OUI | O46: OUI | P46: OUI | Q46: OUI | R46: OUI | S46: OUI | T46: OUI | U46: OUI | V46: NON | W46: OUI
A47: ='Base de données'!A46 -> NOM 45 | B47: ='Base de données'!B46 -> Prénom 45 | I47: =(COUNTIF(K47:BI47,"OUI"))/((COUNTIF(K47:BI47,"OUI")+(COUNTIF(K47:BI47,"NON")))) -> #DIV/0! | J47: =COUNTIF(K47:BI47,"OUI") -> 0
A48: ='Base de données'!A47 -> NOM 46 | B48: ='Base de données'!B47 -> Prénom 46 | I48: =(COUNTIF(K48:BI48,"OUI"))/((COUNTIF(K48:BI48,"OUI")+(COUNTIF(K48:BI48,"NON")))) -> 0.46153846 | J48: =COUNTIF(K48:BI48,"OUI") -> 6 | K48: OUI | L48: OUI | M48: NON | N48: OUI | O48: OUI | P48: OUI | Q48: NON | R48: NON | S48: OUI | T48: NON | U48: NON | V48: NON | W48: NON
A49: ='Base de données'!A48 -> NOM 47 | B49: ='Base de données'!B48 -> Prénom 47 | I49: =(COUNTIF(K49:BI49,"OUI"))/((COUNTIF(K49:BI49,"OUI")+(COUNTIF(K49:BI49,"NON")))) -> 0.076923077 | J49: =COUNTIF(K49:BI49,"OUI") -> 1 | K49: NON | L49: NON | M49: NON | N49: OUI | O49: NON | P49: NON | Q49: NON | R49: NON | S49: NON | T49: NON | U49: NON | V49: NON | W49: NON
A50: ='Base de données'!A49 -> NOM 48 | B50: ='Base de données'!B49 -> Prénom 48 | I50: =(COUNTIF(K50:BI50,"OUI"))/((COUNTIF(K50:BI50,"OUI")+(COUNTIF(K50:BI50,"NON")))) -> 0.33333333 | J50: =COUNTIF(K50:BI50,"OUI") -> 4 | K50: NON | L50: OUI | M50: OUI | N50: OUI | O50: NON | P50: 0 | Q50: NON | R50: NON | S50: NON | T50: NON | U50: NON | V50: NON | W50: OUI
A51: ='Base de données'!A50 -> NOM 49 | B51: ='Base de données'!B50 -> Prénom 49 | I51: =(COUNTIF(K51:BI51,"OUI"))/((COUNTIF(K51:BI51,"OUI")+(COUNTIF(K51:BI51,"NON")))) -> 0.46153846 | J51: =COUNTIF(K51:BI51,"OUI") -> 6 | K51: NON | L51: NON | M51: OUI | N51: OUI | O51: OUI | P51: OUI | Q51: NON | R51: NON | S51: OUI | T51: NON | U51: OUI | V51: NON | W51: NON
A52: ='Base de données'!A51 -> NOM 50 | B52: ='Base de données'!B51 -> Prénom 50 | I52: =(COUNTIF(K52:BI52,"OUI"))/((COUNTIF(K52:BI52,"OUI")+(COUNTIF(K52:BI52,"NON")))) -> 0.23076923 | J52: =COUNTIF(K52:BI52,"OUI") -> 3 | K52: OUI | L52: NON | M52: NON | N52: OUI | O52: NON | P52: OUI | Q52: NON | R52: NON | S52: NON | T52: NON | U52: NON | V52: NON | W52: NON
A53: ='Base de données'!A52 -> NOM 51 | B53: ='Base de données'!B52 -> Prénom 51 | I53: =(COUNTIF(K53:BI53,"OUI"))/((COUNTIF(K53:BI53,"OUI")+(COUNTIF(K53:BI53,"NON")))) -> 0.69230769 | J53: =COUNTIF(K53:BI53,"OUI") -> 9 | K53: OUI | L53: OUI | M53: OUI | N53: OUI | O53: OUI | P53: OUI | Q53: NON | R53: OUI | S53: OUI | T53: NON | U53: NON | V53: NON | W53: OUI
A54: ='Base de données'!A53 -> NOM 52 | B54: ='Base de données'!B53 -> Prénom 52 | I54: =(COUNTIF(K54:BI54,"OUI"))/((COUNTIF(K54:BI54,"OUI")+(COUNTIF(K54:BI54,"NON")))) -> 0.38461538 | J54: =COUNTIF(K54:BI54,"OUI") -> 5 | K54: NON | L54: NON | M54: OUI | N54: OUI | O54: OUI | P54: OUI | Q54: NON | R54: NON | S54: OUI | T54: NON | U54: NON | V54: NON | W54: NON
A55: ='Base de données'!A54 -> NOM 53 | B55: ='Base de données'!B54 -> Prénom 53 | I55: =(COUNTIF(K55:BI55,"OUI"))/((COUNTIF(K55:BI55,"OUI")+(COUNTIF(K55:BI55,"NON")))) -> 0.15384615 | J55: =COUNTIF(K55:BI55,"OUI") -> 2 | K55: NON | L55: NON | M55: NON | N55: OUI | O55: NON | P55: OUI | Q55: NON | R55: NON | S55: NON | T55: NON | U55: NON | V55: NON | W55: NON
A56: ='Base de données'!A55 -> NOM 54 | B56: ='Base de données'!B55 -> Prénom 54 | I56: =(COUNTIF(K56:BI56,"OUI"))/((COUNTIF(K56:BI56,"OUI")+(COUNTIF(K56:BI56,"NON")))) -> 0 | J56: =COUNTIF(K56:BI56,"OUI") -> 0 | K56: NON | L56: NON | M56: NON | N56: NON | O56: NON | P56: NON | Q56: NON | R56: NON | S56: NON | T56: NON | U56: NON | V56: 0 | W56: NON
A57: ='Base de données'!A56 -> NOM 55 | B57: ='Base de données'!B56 -> Prénom 55 | I57: =(COUNTIF(K57:BI57,"OUI"))/((COUNTIF(K57:BI57,"OUI")+(COUNTIF(K57:BI57,"NON")))) -> 0.76923077 | J57: =COUNTIF(K57:BI57,"OUI") -> 10 | K57: OUI | L57: OUI | M57: NON | N57: OUI | O57: OUI | P57: OUI | Q57: OUI | R57: NON | S57: OUI | T57: OUI | U57: OUI | V57: NON | W57: OUI
A58: ='Base de données'!A57 -> NOM 56 | B58: ='Base de données'!B57 -> Prénom 56 | I58: =(COUNTIF(K58:BI58,"OUI"))/((COUNTIF(K58:BI58,"OUI")+(COUNTIF(K58:BI58,"NON")))) -> 0.53846154 | J58: =COUNTIF(K58:BI58,"OUI") -> 7 | K58: OUI | L58: NON | M58: NON | N58: OUI | O58: OUI | P58: OUI | Q58: NON | R58: OUI | S58: OUI | T58: OUI | U58: NON | V58: NON | W58: NON
A59: ='Base de données'!A58 -> NOM 57 | B59: ='Base de données'!B58 -> Prénom 57 | I59: =(COUNTIF(K59:BI59,"OUI"))/((COUNTIF(K59:BI59,"OUI")+(COUNTIF(K59:BI59,"NON")))) -> 0 | J59: =COUNTIF(K59:BI59,"OUI") -> 0 | K59: NON | L59: NON | M59: NON | N59: NON | O59: NON | P59: NON | Q59: NON | R59: NON | S59: NON | T59: NON | U59: NON | V59: NON | W59: NON
A60: ='Base de données'!A59 -> NOM 58 | B60: ='Base de données'!B59 -> Prénom 58 | I60: =(COUNTIF(K60:BI60,"OUI"))/((COUNTIF(K60:BI60,"OUI")+(COUNTIF(K60:BI60,"NON")))) -> 0.69230769 | J60: =COUNTIF(K60:BI60,"OUI") -> 9 | K60: OUI | L60: NON | M60: NON | N60: OUI | O60: OUI | P60: OUI | Q60: NON | R60: NON | S60: OUI | T60: OUI | U60: OUI | V60: OUI | W60: OUI
A61: ='Base de données'!A60 -> NOM 59 | B61: ='Base de données'!B60 -> Prénom 59 | I61: =(COUNTIF(K61:BI61,"OUI"))/((COUNTIF(K61:BI61,"OUI")+(COUNTIF(K61:BI61,"NON")))) -> 0.46153846 | J61: =COUNTIF(K61:BI61,"OUI") -> 6 | K61: OUI | L61: OUI | M61: NON | N61: OUI | O61: OUI | P61: OUI | Q61: NON | R61: NON | S61: OUI | T61: NON | U61: NON | V61: NON | W61: NON
A62: ='Base de données'!A61 -> NOM 60 | B62: ='Base de données'!B61 -> Prénom 60 | I62: =(COUNTIF(K62:BI62,"OUI"))/((COUNTIF(K62:BI62,"OUI")+(COUNTIF(K62:BI62,"NON")))) -> 0.076923077 | J62: =COUNTIF(K62:BI62,"OUI") -> 1 | K62: OUI | L62: NON | M62: NON | N62: NON | O62: NON | P62: NON | Q62: NON | R62: NON | S62: NON | T62: NON | U62: NON | V62: NON | W62: NON
A63: ='Base de données'!A62 -> NOM 61 | B63: ='Base de données'!B62 -> Prénom 61 | I63: =(COUNTIF(K63:BI63,"OUI"))/((COUNTIF(K63:BI63,"OUI")+(COUNTIF(K63:BI63,"NON")))) -> 0.92307692 | J63: =COUNTIF(K63:BI63,"OUI") -> 12 | K63: OUI | L63: OUI | M63: OUI | N63: OUI | O63: OUI | P63: OUI | Q63: NON | R63: OUI | S63: OUI | T63: OUI | U63: OUI | V63: OUI | W63: OUI
A64: ='Base de données'!A63 -> NOM 62 | B64: ='Base de données'!B63 -> Prénom 62 | I64: =(COUNTIF(K64:BI64,"OUI"))/((COUNTIF(K64:BI64,"OUI")+(COUNTIF(K64:BI64,"NON")))) -> 0.38461538 | J64: =COUNTIF(K64:BI64,"OUI") -> 5 | K64: NON | L64: NON | M64: NON | N64: OUI | O64: OUI | P64: OUI | Q64: NON | R64: NON | S64: OUI | T64: NON | U64: OUI | V64: NON | W64: NON
A65: ='Base de données'!A64 -> NOM 63 | B65: ='Base de données'!B64 -> Prénom 63 | I65: =(COUNTIF(K65:BI65,"OUI"))/((COUNTIF(K65:BI65,"OUI")+(COUNTIF(K65:BI65,"NON")))) -> 0.38461538 | J65: =COUNTIF(K65:BI65,"OUI") -> 5 | K65: NON | L65: NON | M65: NON | N65: OUI | O65: OUI | P65: OUI | Q65: NON | R65: NON | S65: OUI | T65: NON | U65: OUI | V65: NON | W65: NON
A66: ='Base de données'!A65 -> NOM 64 | B66: ='Base de données'!B65 -> Prénom 64 | I66: =(COUNTIF(K66:BI66,"OUI"))/((COUNTIF(K66:BI66,"OUI")+(COUNTIF(K66:BI66,"NON")))) -> 0.53846154 | J66: =COUNTIF(K66:BI66,"OUI") -> 7 | K66: NON | L66: OUI | M66: NON | N66: OUI | O66: OUI | P66: OUI | Q66: NON | R66: NON | S66: OUI | T66: NON | U66: OUI | V66: OUI | W66: NON
A67: ='Base de données'!A66 -> NOM 65 | B67: ='Base de données'!B66 -> Prénom 65 | I67: =(COUNTIF(K67:BI67,"OUI"))/((COUNTIF(K67:BI67,"OUI")+(COUNTIF(K67:BI67,"NON")))) -> 0 | J67: =COUNTIF(K67:BI67,"OUI") -> 0 | K67: NON | L67: NON | M67: NON | N67: NON | O67: NON | P67: NON | Q67: NON | R67: NON | S67: NON | T67: NON | U67: NON | V67: NON | W67: NON
A68: ='Base de données'!A67 -> NOM 66 | B68: ='Base de données'!B67 -> Prénom 66 | I68: =(COUNTIF(K68:BI68,"OUI"))/((COUNTIF(K68:BI68,"OUI")+(COUNTIF(K68:BI68,"NON")))) -> 0.30769231 | J68: =COUNTIF(K68:BI68,"OUI") -> 4 | K68: NON | L68: NON | M68: OUI | N68: NON | O68: OUI | P68: OUI | Q68: NON | R68: NON | S68: OUI | T68: NON | U68: NON | V68: NON | W68: NON
... A77: ='Base de données'!A76 -> NOM 75 | B77: ='Base de données'!B76 -> Prénom 75 | I77: =(COUNTIF(K77:BI77,"OUI"))/((COUNTIF(K77:BI77,"OUI")+(COUNTIF(K77:BI77,"NON")))) -> 0.61538462 | J77: =COUNTIF(K77:BI77,"OUI") -> 8 | K77: NON | L77: NON | M77: NON | N77: OUI | O77: OUI | P77: OUI | Q77: OUI | R77: OUI | S77: OUI | T77: NON | U77: OUI | V77: OUI | W77: NON
A78: ='Base de données'!A77 -> NOM 76 | B78: ='Base de données'!B77 -> Prénom 76 | I78: =(COUNTIF(K78:BI78,"OUI"))/((COUNTIF(K78:BI78,"OUI")+(COUNTIF(K78:BI78,"NON")))) -> #DIV/0! | J78: =COUNTIF(K78:BI78,"OUI") -> 0
A79: ='Base de données'!A78 -> NOM 77 | B79: ='Base de données'!B78 -> Prénom 77 | I79: =(COUNTIF(K79:BI79,"OUI"))/((COUNTIF(K79:BI79,"OUI")+(COUNTIF(K79:BI79,"NON")))) -> 0.61538462 | J79: =COUNTIF(K79:BI79,"OUI") -> 8 | K79: NON | L79: OUI | M79: NON | N79: OUI | O79: OUI | P79: OUI | Q79: NON | R79: OUI | S79: OUI | T79: NON | U79: NON | V79: OUI | W79: OUI
A80: ='Base de données'!A79 -> NOM 78 | B80: ='Base de données'!B79 -> Prénom 78 | I80: =(COUNTIF(K80:BI80,"OUI"))/((COUNTIF(K80:BI80,"OUI")+(COUNTIF(K80:BI80,"NON")))) -> 0.61538462 | J80: =COUNTIF(K80:BI80,"OUI") -> 8 | K80: OUI | L80: OUI | M80: OUI | N80: OUI | O80: OUI | P80: OUI | Q80: NON | R80: NON | S80: OUI | T80: NON | U80: NON | V80: OUI | W80: NON
A81: ='Base de données'!A80 -> NOM 79 | B81: ='Base de données'!B80 -> Prénom 79 | I81: =(COUNTIF(K81:BI81,"OUI"))/((COUNTIF(K81:BI81,"OUI")+(COUNTIF(K81:BI81,"NON")))) -> 0.53846154 | J81: =COUNTIF(K81:BI81,"OUI") -> 7 | K81: OUI | L81: OUI | M81: NON | N81: OUI | O81: OUI | P81: OUI | Q81: NON | R81: NON | S81: OUI | T81: NON | U81: NON | V81: NON | W81: OUI
A82: ='Base de données'!A81 -> NOM 80 | B82: ='Base de données'!B81 -> Prénom 80 | I82: =(COUNTIF(K82:BI82,"OUI"))/((COUNTIF(K82:BI82,"OUI")+(COUNTIF(K82:BI82,"NON")))) -> 0.69230769 | J82: =COUNTIF(K82:BI82,"OUI") -> 9 | K82: OUI | L82: OUI | M82: NON | N82: OUI | O82: OUI | P82: OUI | Q82: OUI | R82: NON | S82: OUI | T82: NON | U82: OUI | V82: NON | W82: OUI
A83: ='Base de données'!A82 -> NOM 81 | B83: ='Base de données'!B82 -> Prénom 81 | I83: =(COUNTIF(K83:BI83,"OUI"))/((COUNTIF(K83:BI83,"OUI")+(COUNTIF(K83:BI83,"NON")))) -> 1 | J83: =COUNTIF(K83:BI83,"OUI") -> 2 | N83: OUI | P83: OUI
A84: ='Base de données'!A83 -> NOM 82 | B84: ='Base de données'!B83 -> Prénom 82 | I84: =(COUNTIF(K84:BI84,"OUI"))/((COUNTIF(K84:BI84,"OUI")+(COUNTIF(K84:BI84,"NON")))) -> 0.76923077 | J84: =COUNTIF(K84:BI84,"OUI") -> 10 | K84: OUI | L84: OUI | M84: OUI | N84: OUI | O84: OUI | P84: OUI | Q84: NON | R84: NON | S84: OUI | T84: OUI | U84: NON | V84: OUI | W84: OUI
A85: ='Base de données'!A84 -> NOM 83 | B85: ='Base de données'!B84 -> Prénom 83 | I85: =(COUNTIF(K85:BI85,"OUI"))/((COUNTIF(K85:BI85,"OUI")+(COUNTIF(K85:BI85,"NON")))) -> 0.38461538 | J85: =COUNTIF(K85:BI85,"OUI") -> 5 | K85: NON | L85: NON | M85: OUI | N85: OUI | O85: OUI | P85: OUI | Q85: NON | R85: NON | S85: OUI | T85: NON | U85: NON | V85: NON | W85: NON
A86: ='Base de données'!A85 -> NOM 84 | B86: ='Base de données'!B85 -> Prénom 84 | I86: =(COUNTIF(K86:BI86,"OUI"))/((COUNTIF(K86:BI86,"OUI")+(COUNTIF(K86:BI86,"NON")))) -> 0.61538462 | J86: =COUNTIF(K86:BI86,"OUI") -> 8 | K86: OUI | L86: OUI | M86: OUI | N86: NON | O86: OUI | P86: OUI | Q86: OUI | R86: NON | S86: OUI | T86: NON | U86: OUI | V86: NON | W86: NON
A87: ='Base de données'!A86 -> NOM 85 | B87: ='Base de données'!B86 -> Prénom 85 | I87: =(COUNTIF(K87:BI87,"OUI"))/((COUNTIF(K87:BI87,"OUI")+(COUNTIF(K87:BI87,"NON")))) -> 0 | J87: =COUNTIF(K87:BI87,"OUI") -> 0 | K87: NON | L87: NON | M87: NON | N87: NON | O87: NON | P87: NON | Q87: NON | R87: NON | S87: NON | T87: NON | U87: NON | V87: NON | W87: NON
A88: ='Base de données'!A87 -> NOM 86 | B88: ='Base de données'!B87 -> Prénom 86 | I88: =(COUNTIF(K88:BI88,"OUI"))/((COUNTIF(K88:BI88,"OUI")+(COUNTIF(K88:BI88,"NON")))) -> 0.92307692 | J88: =COUNTIF(K88:BI88,"OUI") -> 12 | K88: OUI | L88: OUI | M88: OUI | N88: OUI | O88: OUI | P88: OUI | Q88: OUI | R88: OUI | S88: OUI | T88: OUI | U88: OUI | V88: NON | W88: OUI
A89: ='Base de données'!A88 -> NOM 87 | B89: ='Base de données'!B88 -> Prénom 87 | I89: =(COUNTIF(K89:BI89,"OUI"))/((COUNTIF(K89:BI89,"OUI")+(COUNTIF(K89:BI89,"NON")))) -> 0.38461538 | J89: =COUNTIF(K89:BI89,"OUI") -> 5 | K89: NON | L89: NON | M89: OUI | N89: OUI | O89: OUI | P89: OUI | Q89: NON | R89: NON | S89: OUI | T89: NON | U89: NON | V89: NON | W89: NON
A90: ='Base de données'!A89 -> NOM 88 | B90: ='Base de données'!B89 -> Prénom 88 | I90: =(COUNTIF(K90:BI90,"OUI"))/((COUNTIF(K90:BI90,"OUI")+(COUNTIF(K90:BI90,"NON")))) -> 0.61538462 | J90: =COUNTIF(K90:BI90,"OUI") -> 8 | K90: OUI | L90: OUI | M90: OUI | N90: OUI | O90: OUI | P90: OUI | Q90: NON | R90: NON | S90: OUI | T90: NON | U90: NON | V90: NON | W90: OUI
A91: ='Base de données'!A90 -> NOM 89 | B91: ='Base de données'!B90 -> Prénom 89 | I91: =(COUNTIF(K91:BI91,"OUI"))/((COUNTIF(K91:BI91,"OUI")+(COUNTIF(K91:BI91,"NON")))) -> 0.53846154 | J91: =COUNTIF(K91:BI91,"OUI") -> 7 | K91: OUI | L91: OUI | M91: OUI | N91: OUI | O91: OUI | P91: OUI | Q91: NON | R91: NON | S91: OUI | T91: NON | U91: NON | V91: NON | W91: NON
A92: ='Base de données'!A91 -> NOM 90 | B92: ='Base de données'!B91 -> Prénom 90 | I92: =(COUNTIF(K92:BI92,"OUI"))/((COUNTIF(K92:BI92,"OUI")+(COUNTIF(K92:BI92,"NON")))) -> 0.30769231 | J92: =COUNTIF(K92:BI92,"OUI") -> 4 | K92: OUI | L92: OUI | M92: NON | N92: OUI | O92: NON | P92: OUI | Q92: NON | R92: NON | S92: NON | T92: NON | U92: NON | V92: NON | W92: NON
A93: ='Base de données'!A92 -> NOM 91 | B93: ='Base de données'!B92 -> Prénom 91 | I93: =(COUNTIF(K93:BI93,"OUI"))/((COUNTIF(K93:BI93,"OUI")+(COUNTIF(K93:BI93,"NON")))) -> #DIV/0! | J93: =COUNTIF(K93:BI93,"OUI") -> 0
A94: ='Base de données'!A93 -> 0 | B94: ='Base de données'!B93 -> 0 | I94: =(COUNTIF(K94:BI94,"OUI"))/((COUNTIF(K94:BI94,"OUI")+(COUNTIF(K94:BI94,"NON")))) -> #DIV/0! | J94: =COUNTIF(K94:BI94,"OUI") -> 0
A95: ='Base de données'!A94 -> 0 | B95: ='Base de données'!B94 -> 0 | I95: =(COUNTIF(K95:BI95,"OUI"))/((COUNTIF(K95:BI95,"OUI")+(COUNTIF(K95:BI95,"NON")))) -> #DIV/0! | J95: =COUNTIF(K95:BI95,"OUI") -> 0
A96: ='Base de données'!A95 -> 0 | B96: ='Base de données'!B95 -> 0 | I96: =(COUNTIF(K96:BI96,"OUI"))/((COUNTIF(K96:BI96,"OUI")+(COUNTIF(K96:BI96,"NON")))) -> #DIV/0! | J96: =COUNTIF(K96:BI96,"OUI") -> 0
A97: ='Base de données'!A96 -> 0 | B97: ='Base de données'!B96 -> 0 | I97: =(COUNTIF(K97:BI97,"OUI"))/((COUNTIF(K97:BI97,"OUI")+(COUNTIF(K97:BI97,"NON")))) -> #DIV/0! | J97: =COUNTIF(K97:BI97,"OUI") -> 0
A98: ='Base de données'!A97 -> 0 | B98: ='Base de données'!B97 -> 0 | I98: =(COUNTIF(K98:BI98,"OUI"))/((COUNTIF(K98:BI98,"OUI")+(COUNTIF(K98:BI98,"NON")))) -> #DIV/0! | J98: =COUNTIF(K98:BI98,"OUI") -> 0
A99: ='Base de données'!A98 -> 0 | B99: ='Base de données'!B98 -> 0 | I99: =(COUNTIF(K99:BI99,"OUI"))/((COUNTIF(K99:BI99,"OUI")+(COUNTIF(K99:BI99,"NON")))) -> #DIV/0! | J99: =COUNTIF(K99:BI99,"OUI") -> 0
A100: ='Base de données'!A99 -> 0 | B100: ='Base de données'!B99 -> 0 | I100: =(COUNTIF(K100:BI100,"OUI"))/((COUNTIF(K100:BI100,"OUI")+(COUNTIF(K100:BI100,"NON")))) -> #DIV/0! | J100: =COUNTIF(K100:BI100,"OUI") -> 0
A101: ='Base de données'!A100 -> 0 | B101: ='Base de données'!B100 -> 0 | I101: =(COUNTIF(K101:BI101,"OUI"))/((COUNTIF(K101:BI101,"OUI")+(COUNTIF(K101:BI101,"NON")))) -> #DIV/0! | J101: =COUNTIF(K101:BI101,"OUI") -> 0
A102: ='Base de données'!A101 -> 0 | B102: ='Base de données'!B101 -> 0 | I102: =(COUNTIF(K102:BI102,"OUI"))/((COUNTIF(K102:BI102,"OUI")+(COUNTIF(K102:BI102,"NON")))) -> #DIV/0! | J102: =COUNTIF(K102:BI102,"OUI") -> 0
A103: ='Base de données'!A102 -> 0 | B103: ='Base de données'!B102 -> 0 | I103: =(COUNTIF(K103:BI103,"OUI"))/((COUNTIF(K103:BI103,"OUI")+(COUNTIF(K103:BI103,"NON")))) -> #DIV/0! | J103: =COUNTIF(K103:BI103,"OUI") -> 0
A104: ='Base de données'!A103 -> 0 | B104: ='Base de données'!B103 -> 0 | I104: =(COUNTIF(K104:BI104,"OUI"))/((COUNTIF(K104:BI104,"OUI")+(COUNTIF(K104:BI104,"NON")))) -> #DIV/0! | J104: =COUNTIF(K104:BI104,"OUI") -> 0
... A225: ='Base de données'!A224 -> 0 | B225: ='Base de données'!B224 -> 0 | I225: =(COUNTIF(K225:BI225,"OUI"))/((COUNTIF(K225:BI225,"OUI")+(COUNTIF(K225:BI225,"NON")))) -> #DIV/0! | J225: =COUNTIF(K225:BI225,"OUI") -> 0
A226: ='Base de données'!A225 -> 0 | B226: ='Base de données'!B225 -> 0

Sheet Menus déroulants
A1: ETAT | B1: ORIGINE DETAILLEE | C1: ORIGINE | D1: QUARTIER | E1: GENRE | F1: STATUT _PROF | G1: STATUT_ACTIVITE | H1: PRECISIONS MODALITES D'INTERRACTION | I1: GARDE ENF. | J1: PARTICIPATION
A2: Actif | B2: Involontaire | C2: Involontaire | D2: quartier 1 | E2: Femme | F2: Agriculteurs exploitants | G2: Actif -hors étudiant | H2: RAS | I2: Oui | J2: OUI
A3: Parti | B3: Volontaire | C3: Volontaire | D3: quartier 2 | E3: Homme | F3: Artisans, commerçants et chefs d'entreprise | G3: Inactif | H3: Préférer l'écrit à l'oral | I3: Non | J3: NON
B4: Conseil des Ainés | C4: Instance | D4: quartier 3 | E4: NSPP - Autre | F4: Cadres et professions intellectuelles supérieures | G4: Etudiant
B5: Conseil Villeurbannais de la Jeunesse | D5: quartier 4 | F5: Professions Intermédiaires
B6: Maison du Citoyen | D6: quartier 5 | F6: Employés
B7: Conseil de Quartier Charpennes Tonkin | D7: quartier 6 | F7: Ouvriers
B8: Conseil de Quartier Gratte Ciel Dedieu Charmettes | D8: quartier 7 | F8: Retraités
B9: Conseil de Quartier Buers Croix-Luizet | D9: quartier 8 | F9: Autres personnes sans activité professionnelle
B10: Conseil de Quartier Saint Jean
B11: Conseil de Quartier Cusset
B12: Conseil de Quartier Bonnevay La Soie Les Brosses
B13: Conseil de Quartier Perralière Granclément Cyprian
B14: Conseil de Quartier Ferrandière Maisons Neuves
