Workbook
Name Fer: Fériés!$B$3:$B$15
Name JoursOuvrés: Fériés!$E$2:$E$254

Sheet Fériés
A1: Année | B1: 2021 | E1: Jours ouvrés
A2: 1er jour | B2: 44197 | E2: =WORKDAY($B$2,1,Fer) -> 44200
A3: 1er Janvier | B3: =DATE(B1,1,1) -> 44197 | E3: =WORKDAY(E2,1,Fer) -> 44201
A4: Pâques | B4: =ROUND(DATE(B1,4,MOD(234-11*MOD(B1,19),30))/7,)*7-6 -> 44290 | E4: =WORKDAY(E3,1,Fer) -> 44202
A5: Lundi de Pâques | B5: =B4+1 -> 44291 | E5: =WORKDAY(E4,1,Fer) -> 44203
A6: 1er Mai | B6: =DATE(B1,5,1) -> 44317 | E6: =WORKDAY(E5,1,Fer) -> 44204
A7: 8 Mai | B7: =DATE(B1,5,8) -> 44324 | E7: =WORKDAY(E6,1,Fer) -> 44207
A8: Ascenscion | B8: =B4+39 -> 44329 | E8: =WORKDAY(E7,1,Fer) -> 44208
A9: Pentecôte | B9: =B4+49 -> 44339 | E9: =WORKDAY(E8,1,Fer) -> 44209
A10: Lundi de la Pentecôte | B10: =B4+50 -> 44340 | E10: =WORKDAY(E9,1,Fer) -> 44210
A11: 14 Juillet | B11: =DATE(B1,7,14) -> 44391 | E11: =WORKDAY(E10,1,Fer) -> 44211
A12: 15 Août | B12: =DATE(B1,8,15) -> 44423 | E12: =WORKDAY(E11,1,Fer) -> 44214
A13: 1er Novembre | B13: =DATE(B1,11,1) -> 44501 | E13: =WORKDAY(E12,1,Fer) -> 44215
A14: 11 Novembre | B14: =DATE(B1,11,11) -> 44511 | E14: =WORKDAY(E13,1,Fer) -> 44216
A15: 25 Décembre | B15: =DATE(B1,12,25) -> 44555 | E15: =WORKDAY(E14,1,Fer) -> 44217
A16: dernier jour | B16: 44561 | E16: =WORKDAY(E15,1,Fer) -> 44218
E17: =WORKDAY(E16,1,Fer) -> 44221
E18: =WORKDAY(E17,1,Fer) -> 44222
A19: nb jours ouvrés total | B19: =NETWORKDAYS(B2,B16,B3:B15) -> 254 | E19: =WORKDAY(E18,1,Fer) -> 44223
A20: Mettre les jours fermés dans la colonne B | E20: =WORKDAY(E19,1,Fer) -> 44224
A21: entre B2 et B16 | E21: =WORKDAY(E20,1,Fer) -> 44225
E22: =WORKDAY(E21,1,Fer) -> 44228
E23: =WORKDAY(E22,1,Fer) -> 44229
E24: =WORKDAY(E23,1,Fer) -> 44230
E25: =WORKDAY(E24,1,Fer) -> 44231
E26: =WORKDAY(E25,1,Fer) -> 44232
E27: =WORKDAY(E26,1,Fer) -> 44235
E28: =WORKDAY(E27,1,Fer) -> 44236
E29: =WORKDAY(E28,1,Fer) -> 44237
E30: =WORKDAY(E29,1,Fer) -> 44238
E31: =WORKDAY(E30,1,Fer) -> 44239
E32: =WORKDAY(E31,1,Fer) -> 44242
E33: =WORKDAY(E32,1,Fer) -> 44243
... E254: =WORKDAY(E253,1,Fer) -> 44560

Sheet Données
A1: Total Articles | B1: =SUM(E2:H2) -> 1159 | D1: Classes | E1: A | F1: B | G1: C | H1: D
A2: Nbre jours ouvrés | B2: 231 | D2: Nbre Articles | E2: 717 | F2: 208 | G2: 106 | H2: 128
A3: Nbre inventaires | B3: =SUM(E4:H4) -> 2318 | D3: Nbre de passage | E3: 2 | F3: 2 | G3: 2 | H3: 2
A4: refs/jour ouvré | B4: =SUM(E5:H5) -> 10.034632 | D4: Total | E4: =E2*E3 -> 1434 | F4: =F2*F3 -> 416 | G4: =G2*G3 -> 212 | H4: =H2*H3 -> 256
B5: =ROUND(B4,0) -> 10 | D5: refs/jour ouvré | E5: =E4/$B$2 -> 6.2077922 | F5: =F4/$B$2 -> 1.8008658 | G5: =G4/$B$2 -> 0.91774892 | H5: =H4/$B$2 -> 1.1082251
B6: =B3/B5 -> 231.8 | D6: Arrondi | E6: =ROUND(E5*2,0)/2 -> 6 | F6: =ROUND(F5*2,0)/2 -> 2 | G6: =ROUND(G5*2,0)/2 -> 1 | H6: =ROUND(H5*2,0)/2 -> 1
A15: 44292 | B15: Class A | C15: Class B | D15: Class C | E15: ClassD
B16: {=INDEX(A!$A$2:$A$102,SMALL(IF(A!C$2:H$102=Données!$A$15,ROW(A!$A$2:$A$102)-1),ROW(1:1)))} -> Ref55 | C16: {=INDEX(B!$A$2:$A$83,SMALL(IF(B!$C$2:$G$83=Données!$A$15,ROW(B!$A$2:$A$83)-1),ROW(1:1)))} -> #NUM! | D16: {=INDEX('C'!$A$2:$A$46,SMALL(IF('C'!$C$2:$F$46=Données!$A$15,ROW('C'!$A$2:$A$46)-1),ROW(1:1)))} -> Ref963 | E16: {=INDEX(D!$A$2:$A$52,SMALL(IF(D!$C$2:$M$52=$A$15,ROW(D!$A$2:$A$52)-1),ROW(1:1)))} -> Ref1062
B17: {=INDEX(A!$A$2:$A$102,SMALL(IF(A!C$2:H$102=Données!$A$15,ROW(A!$A$2:$A$102)-1),ROW(2:2)))} -> Ref56 | C17: {=INDEX(B!$A$2:$A$83,SMALL(IF(B!$C$2:$G$83=Données!$A$15,ROW(B!$A$2:$A$83)-1),ROW(2:2)))} -> #NUM! | D17: {=INDEX('C'!$A$2:$A$46,SMALL(IF('C'!$C$2:$F$46=Données!$A$15,ROW('C'!$A$2:$A$46)-1),ROW(2:2)))} -> Ref964 | E17: {=INDEX(D!$A$2:$A$52,SMALL(IF(D!$C$2:$M$52=$A$15,ROW(D!$A$2:$A$52)-1),ROW(2:2)))} -> Ref1063
B18: {=INDEX(A!$A$2:$A$102,SMALL(IF(A!C$2:H$102=Données!$A$15,ROW(A!$A$2:$A$102)-1),ROW(3:3)))} -> Ref57 | C18: {=INDEX(B!$A$2:$A$83,SMALL(IF(B!$C$2:$G$83=Données!$A$15,ROW(B!$A$2:$A$83)-1),ROW(3:3)))} -> #NUM! | D18: {=INDEX('C'!$A$2:$A$46,SMALL(IF('C'!$C$2:$F$46=Données!$A$15,ROW('C'!$A$2:$A$46)-1),ROW(3:3)))} -> Ref965 | E18: {=INDEX(D!$A$2:$A$52,SMALL(IF(D!$C$2:$M$52=$A$15,ROW(D!$A$2:$A$52)-1),ROW(3:3)))} -> Ref1064
B19: {=INDEX(A!$A$2:$A$102,SMALL(IF(A!C$2:H$102=Données!$A$15,ROW(A!$A$2:$A$102)-1),ROW(4:4)))} -> Ref58 | C19: {=INDEX(B!$A$2:$A$83,SMALL(IF(B!$C$2:$G$83=Données!$A$15,ROW(B!$A$2:$A$83)-1),ROW(4:4)))} -> #NUM! | D19: {=INDEX('C'!$A$2:$A$46,SMALL(IF('C'!$C$2:$F$46=Données!$A$15,ROW('C'!$A$2:$A$46)-1),ROW(4:4)))} -> Ref966 | E19: {=INDEX(D!$A$2:$A$52,SMALL(IF(D!$C$2:$M$52=$A$15,ROW(D!$A$2:$A$52)-1),ROW(4:4)))} -> Ref1065
B20: {=INDEX(A!$A$2:$A$102,SMALL(IF(A!C$2:H$102=Données!$A$15,ROW(A!$A$2:$A$102)-1),ROW(5:5)))} -> Ref59 | C20: {=INDEX(B!$A$2:$A$83,SMALL(IF(B!$C$2:$G$83=Données!$A$15,ROW(B!$A$2:$A$83)-1),ROW(5:5)))} -> #NUM! | D20: {=INDEX('C'!$A$2:$A$46,SMALL(IF('C'!$C$2:$F$46=Données!$A$15,ROW('C'!$A$2:$A$46)-1),ROW(5:5)))} -> #NUM! | E20: {=INDEX(D!$A$2:$A$52,SMALL(IF(D!$C$2:$M$52=$A$15,ROW(D!$A$2:$A$52)-1),ROW(5:5)))} -> #NUM!
B21: {=INDEX(A!$A$2:$A$102,SMALL(IF(A!C$2:H$102=Données!$A$15,ROW(A!$A$2:$A$102)-1),ROW(6:6)))} -> Ref60 | C21: {=INDEX(B!$A$2:$A$83,SMALL(IF(B!$C$2:$G$83=Données!$A$15,ROW(B!$A$2:$A$83)-1),ROW(6:6)))} -> #NUM! | D21: {=INDEX('C'!$A$2:$A$46,SMALL(IF('C'!$C$2:$F$46=Données!$A$15,ROW('C'!$A$2:$A$46)-1),ROW(6:6)))} -> #NUM! | E21: {=INDEX(D!$A$2:$A$52,SMALL(IF(D!$C$2:$M$52=$A$15,ROW(D!$A$2:$A$52)-1),ROW(6:6)))} -> #NUM!
B22: {=INDEX(A!$A$2:$A$102,SMALL(IF(A!C$2:H$102=Données!$A$15,ROW(A!$A$2:$A$102)-1),ROW(7:7)))} -> Ref61 | C22: {=INDEX(B!$A$2:$A$83,SMALL(IF(B!$C$2:$G$83=Données!$A$15,ROW(B!$A$2:$A$83)-1),ROW(7:7)))} -> #NUM! | D22: {=INDEX('C'!$A$2:$A$46,SMALL(IF('C'!$C$2:$F$46=Données!$A$15,ROW('C'!$A$2:$A$46)-1),ROW(7:7)))} -> #NUM! | E22: {=INDEX(D!$A$2:$A$52,SMALL(IF(D!$C$2:$M$52=$A$15,ROW(D!$A$2:$A$52)-1),ROW(7:7)))} -> #NUM!
B23: {=INDEX(A!$A$2:$A$102,SMALL(IF(A!C$2:H$102=Données!$A$15,ROW(A!$A$2:$A$102)-1),ROW(8:8)))} -> Ref62 | C23: {=INDEX(B!$A$2:$A$83,SMALL(IF(B!$C$2:$G$83=Données!$A$15,ROW(B!$A$2:$A$83)-1),ROW(8:8)))} -> #NUM! | D23: {=INDEX('C'!$A$2:$A$46,SMALL(IF('C'!$C$2:$F$46=Données!$A$15,ROW('C'!$A$2:$A$46)-1),ROW(8:8)))} -> #NUM! | E23: {=INDEX(D!$A$2:$A$52,SMALL(IF(D!$C$2:$M$52=$A$15,ROW(D!$A$2:$A$52)-1),ROW(8:8)))} -> #NUM!
B24: {=INDEX(A!$A$2:$A$102,SMALL(IF(A!C$2:H$102=Données!$A$15,ROW(A!$A$2:$A$102)-1),ROW(9:9)))} -> Ref63 | C24: {=INDEX(B!$A$2:$A$83,SMALL(IF(B!$C$2:$G$83=Données!$A$15,ROW(B!$A$2:$A$83)-1),ROW(9:9)))} -> #NUM! | D24: {=INDEX('C'!$A$2:$A$46,SMALL(IF('C'!$C$2:$F$46=Données!$A$15,ROW('C'!$A$2:$A$46)-1),ROW(9:9)))} -> #NUM! | E24: {=INDEX(D!$A$2:$A$52,SMALL(IF(D!$C$2:$M$52=$A$15,ROW(D!$A$2:$A$52)-1),ROW(9:9)))} -> #NUM!
B25: {=INDEX(A!$A$2:$A$102,SMALL(IF(A!C$2:H$102=Données!$A$15,ROW(A!$A$2:$A$102)-1),ROW(10:10)))} -> Ref64 | C25: {=INDEX(B!$A$2:$A$83,SMALL(IF(B!$C$2:$G$83=Données!$A$15,ROW(B!$A$2:$A$83)-1),ROW(10:10)))} -> #NUM! | D25: {=INDEX('C'!$A$2:$A$46,SMALL(IF('C'!$C$2:$F$46=Données!$A$15,ROW('C'!$A$2:$A$46)-1),ROW(10:10)))} -> #NUM! | E25: {=INDEX(D!$A$2:$A$52,SMALL(IF(D!$C$2:$M$52=$A$15,ROW(D!$A$2:$A$52)-1),ROW(10:10)))} -> #NUM!
B26: {=INDEX(A!$A$2:$A$102,SMALL(IF(A!C$2:H$102=Données!$A$15,ROW(A!$A$2:$A$102)-1),ROW(11:11)))} -> Ref65 | C26: {=INDEX(B!$A$2:$A$83,SMALL(IF(B!$C$2:$G$83=Données!$A$15,ROW(B!$A$2:$A$83)-1),ROW(11:11)))} -> #NUM! | D26: {=INDEX('C'!$A$2:$A$46,SMALL(IF('C'!$C$2:$F$46=Données!$A$15,ROW('C'!$A$2:$A$46)-1),ROW(11:11)))} -> #NUM! | E26: {=INDEX(D!$A$2:$A$52,SMALL(IF(D!$C$2:$M$52=$A$15,ROW(D!$A$2:$A$52)-1),ROW(11:11)))} -> #NUM!

Sheet A
A1: A | B1: Jour inventaire | C1: Date 1er inv | D1: Date 2ème inv | E1: Date 3ème inv | F1: Date 4ème inv | G1: Date 5ème inv | H1: Date 6ème inv
A2: Ref1 | B2: =IF(INT(MOD(ROW()-2,Données!E$6))=0,MAX($B$1:$B1)+1,MAX(B$1:B1)) -> 1 | C2: =WORKDAY("31/12/2020"+$B2,1,Fer) -> 44200 | D2: =WORKDAY(C$102+$B2+8,1,Fer) -> 44224 | E2: =WORKDAY(D$102+$B2+8,1,Fer) -> 44252 | F2: =WORKDAY(E$102+$B2+8,1,Fer) -> 44280 | G2: =WORKDAY(F$102+$B2+8,1,Fer) -> 44308 | H2: =WORKDAY(G$102+$B2+8,1,Fer) -> 44336
A3: Ref2 | B3: =IF(INT(MOD(ROW()-2,Données!E$6))=0,MAX($B$1:$B2)+1,MAX(B$1:B2)) -> 1 | C3: =WORKDAY("31/12/2020"+$B3,1,Fer) -> 44200 | D3: =WORKDAY(C$102+$B3+8,1,Fer) -> 44224 | E3: =WORKDAY(D$102+$B3+8,1,Fer) -> 44252 | F3: =WORKDAY(E$102+$B3+8,1,Fer) -> 44280 | G3: =WORKDAY(F$102+$B3+8,1,Fer) -> 44308 | H3: =WORKDAY(G$102+$B3+8,1,Fer) -> 44336
A4: Ref3 | B4: =IF(INT(MOD(ROW()-2,Données!E$6))=0,MAX($B$1:$B3)+1,MAX(B$1:B3)) -> 1 | C4: =WORKDAY("31/12/2020"+$B4,1,Fer) -> 44200 | D4: =WORKDAY(C$102+$B4+8,1,Fer) -> 44224 | E4: =WORKDAY(D$102+$B4+8,1,Fer) -> 44252 | F4: =WORKDAY(E$102+$B4+8,1,Fer) -> 44280 | G4: =WORKDAY(F$102+$B4+8,1,Fer) -> 44308 | H4: =WORKDAY(G$102+$B4+8,1,Fer) -> 44336
A5: Ref4 | B5: =IF(INT(MOD(ROW()-2,Données!E$6))=0,MAX($B$1:$B4)+1,MAX(B$1:B4)) -> 1 | C5: =WORKDAY("31/12/2020"+$B5,1,Fer) -> 44200 | D5: =WORKDAY(C$102+$B5+8,1,Fer) -> 44224 | E5: =WORKDAY(D$102+$B5+8,1,Fer) -> 44252 | F5: =WORKDAY(E$102+$B5+8,1,Fer) -> 44280 | G5: =WORKDAY(F$102+$B5+8,1,Fer) -> 44308 | H5: =WORKDAY(G$102+$B5+8,1,Fer) -> 44336
A6: Ref5 | B6: =IF(INT(MOD(ROW()-2,Données!E$6))=0,MAX($B$1:$B5)+1,MAX(B$1:B5)) -> 1 | C6: =WORKDAY("31/12/2020"+$B6,1,Fer) -> 44200 | D6: =WORKDAY(C$102+$B6+8,1,Fer) -> 44224 | E6: =WORKDAY(D$102+$B6+8,1,Fer) -> 44252 | F6: =WORKDAY(E$102+$B6+8,1,Fer) -> 44280 | G6: =WORKDAY(F$102+$B6+8,1,Fer) -> 44308 | H6: =WORKDAY(G$102+$B6+8,1,Fer) -> 44336
A7: Ref6 | B7: =IF(INT(MOD(ROW()-2,Données!E$6))=0,MAX($B$1:$B6)+1,MAX(B$1:B6)) -> 1 | C7: =WORKDAY("31/12/2020"+$B7,1,Fer) -> 44200 | D7: =WORKDAY(C$102+$B7+8,1,Fer) -> 44224 | E7: =WORKDAY(D$102+$B7+8,1,Fer) -> 44252 | F7: =WORKDAY(E$102+$B7+8,1,Fer) -> 44280 | G7: =WORKDAY(F$102+$B7+8,1,Fer) -> 44308 | H7: =WORKDAY(G$102+$B7+8,1,Fer) -> 44336
A8: Ref7 | B8: =IF(INT(MOD(ROW()-2,Données!E$6))=0,MAX($B$1:$B7)+1,MAX(B$1:B7)) -> 2 | C8: =WORKDAY("31/12/2020"+$B8,1,Fer) -> 44200 | D8: =WORKDAY(C$102+$B8+8,1,Fer) -> 44225 | E8: =WORKDAY(D$102+$B8+8,1,Fer) -> 44253 | F8: =WORKDAY(E$102+$B8+8,1,Fer) -> 44281 | G8: =WORKDAY(F$102+$B8+8,1,Fer) -> 44309 | H8: =WORKDAY(G$102+$B8+8,1,Fer) -> 44337
A9: Ref8 | B9: =IF(INT(MOD(ROW()-2,Données!E$6))=0,MAX($B$1:$B8)+1,MAX(B$1:B8)) -> 2 | C9: =WORKDAY("31/12/2020"+$B9,1,Fer) -> 44200 | D9: =WORKDAY(C$102+$B9+8,1,Fer) -> 44225 | E9: =WORKDAY(D$102+$B9+8,1,Fer) -> 44253 | F9: =WORKDAY(E$102+$B9+8,1,Fer) -> 44281 | G9: =WORKDAY(F$102+$B9+8,1,Fer) -> 44309 | H9: =WORKDAY(G$102+$B9+8,1,Fer) -> 44337
A10: Ref9 | B10: =IF(INT(MOD(ROW()-2,Données!E$6))=0,MAX($B$1:$B9)+1,MAX(B$1:B9)) -> 2 | C10: =WORKDAY("31/12/2020"+$B10,1,Fer) -> 44200 | D10: =WORKDAY(C$102+$B10+8,1,Fer) -> 44225 | E10: =WORKDAY(D$102+$B10+8,1,Fer) -> 44253 | F10: =WORKDAY(E$102+$B10+8,1,Fer) -> 44281 | G10: =WORKDAY(F$102+$B10+8,1,Fer) -> 44309 | H10: =WORKDAY(G$102+$B10+8,1,Fer) -> 44337
A11: Ref10 | B11: =IF(INT(MOD(ROW()-2,Données!E$6))=0,MAX($B$1:$B10)+1,MAX(B$1:B10)) -> 2 | C11: =WORKDAY("31/12/2020"+$B11,1,Fer) -> 44200 | D11: =WORKDAY(C$102+$B11+8,1,Fer) -> 44225 | E11: =WORKDAY(D$102+$B11+8,1,Fer) -> 44253 | F11: =WORKDAY(E$102+$B11+8,1,Fer) -> 44281 | G11: =WORKDAY(F$102+$B11+8,1,Fer) -> 44309 | H11: =WORKDAY(G$102+$B11+8,1,Fer) -> 44337
A12: Ref11 | B12: =IF(INT(MOD(ROW()-2,Données!E$6))=0,MAX($B$1:$B11)+1,MAX(B$1:B11)) -> 2 | C12: =WORKDAY("31/12/2020"+$B12,1,Fer) -> 44200 | D12: =WORKDAY(C$102+$B12+8,1,Fer) -> 44225 | E12: =WORKDAY(D$102+$B12+8,1,Fer) -> 44253 | F12: =WORKDAY(E$102+$B12+8,1,Fer) -> 44281 | G12: =WORKDAY(F$102+$B12+8,1,Fer) -> 44309 | H12: =WORKDAY(G$102+$B12+8,1,Fer) -> 44337
A13: Ref12 | B13: =IF(INT(MOD(ROW()-2,Données!E$6))=0,MAX($B$1:$B12)+1,MAX(B$1:B12)) -> 2 | C13: =WORKDAY("31/12/2020"+$B13,1,Fer) -> 44200 | D13: =WORKDAY(C$102+$B13+8,1,Fer) -> 44225 | E13: =WORKDAY(D$102+$B13+8,1,Fer) -> 44253 | F13: =WORKDAY(E$102+$B13+8,1,Fer) -> 44281 | G13: =WORKDAY(F$102+$B13+8,1,Fer) -> 44309 | H13: =WORKDAY(G$102+$B13+8,1,Fer) -> 44337
... A718: Ref717 | B718: =IF(INT(MOD(ROW()-2,Données!E$6))=0,MAX($B$1:$B717)+1,MAX(B$1:B717)) -> 120 | C718: =WORKDAY("31/12/2020"+$B718,1,Fer) -> 44319 | D718: =WORKDAY(C$102+$B718+8,1,Fer) -> 44343 | E718: =WORKDAY(D$102+$B718+8,1,Fer) -> 44371 | F718: =WORKDAY(E$102+$B718+8,1,Fer) -> 44399 | G718: =WORKDAY(F$102+$B718+8,1,Fer) -> 44427 | H718: =WORKDAY(G$102+$B718+8,1,Fer) -> 44455

Sheet B
A1: B | B1: Jour inventaire | C1: Date 1er inv | D1: Date 2ème inv | E1: Date 3ème inv | F1: Date 4ème inv | G1: Date 5ème inv
A2: Ref718 | B2: =IF(INT(MOD(ROW()-2,Données!F$6))=0,MAX($B$1:$B1)+1,MAX(B$1:B1)) -> 1 | C2: =WORKDAY("31/12/2020"+$B2,1,Fer) -> 44200 | D2: =WORKDAY(C$83+$B2+8,1,Fer) -> 44249 | E2: =WORKDAY(D$83+$B2+8,1,Fer) -> 44298 | F2: =WORKDAY(E$83+$B2+8,1,Fer) -> 44351 | G2: =WORKDAY(F$83+$B2+8,1,Fer) -> 44403
A3: Ref719 | B3: =IF(INT(MOD(ROW()-2,Données!F$6))=0,MAX($B$1:$B2)+1,MAX(B$1:B2)) -> 1 | C3: =WORKDAY("31/12/2020"+$B3,1,Fer) -> 44200 | D3: =WORKDAY(C$83+$B3+8,1,Fer) -> 44249 | E3: =WORKDAY(D$83+$B3+8,1,Fer) -> 44298 | F3: =WORKDAY(E$83+$B3+8,1,Fer) -> 44351 | G3: =WORKDAY(F$83+$B3+8,1,Fer) -> 44403
A4: Ref720 | B4: =IF(INT(MOD(ROW()-2,Données!F$6))=0,MAX($B$1:$B3)+1,MAX(B$1:B3)) -> 2 | C4: =WORKDAY("31/12/2020"+$B4,1,Fer) -> 44200 | D4: =WORKDAY(C$83+$B4+8,1,Fer) -> 44249 | E4: =WORKDAY(D$83+$B4+8,1,Fer) -> 44299 | F4: =WORKDAY(E$83+$B4+8,1,Fer) -> 44354 | G4: =WORKDAY(F$83+$B4+8,1,Fer) -> 44403
A5: Ref721 | B5: =IF(INT(MOD(ROW()-2,Données!F$6))=0,MAX($B$1:$B4)+1,MAX(B$1:B4)) -> 2 | C5: =WORKDAY("31/12/2020"+$B5,1,Fer) -> 44200 | D5: =WORKDAY(C$83+$B5+8,1,Fer) -> 44249 | E5: =WORKDAY(D$83+$B5+8,1,Fer) -> 44299 | F5: =WORKDAY(E$83+$B5+8,1,Fer) -> 44354 | G5: =WORKDAY(F$83+$B5+8,1,Fer) -> 44403
A6: Ref722 | B6: =IF(INT(MOD(ROW()-2,Données!F$6))=0,MAX($B$1:$B5)+1,MAX(B$1:B5)) -> 3 | C6: =WORKDAY("31/12/2020"+$B6,1,Fer) -> 44200 | D6: =WORKDAY(C$83+$B6+8,1,Fer) -> 44250 | E6: =WORKDAY(D$83+$B6+8,1,Fer) -> 44300 | F6: =WORKDAY(E$83+$B6+8,1,Fer) -> 44354 | G6: =WORKDAY(F$83+$B6+8,1,Fer) -> 44404
A7: Ref723 | B7: =IF(INT(MOD(ROW()-2,Données!F$6))=0,MAX($B$1:$B6)+1,MAX(B$1:B6)) -> 3 | C7: =WORKDAY("31/12/2020"+$B7,1,Fer) -> 44200 | D7: =WORKDAY(C$83+$B7+8,1,Fer) -> 44250 | E7: =WORKDAY(D$83+$B7+8,1,Fer) -> 44300 | F7: =WORKDAY(E$83+$B7+8,1,Fer) -> 44354 | G7: =WORKDAY(F$83+$B7+8,1,Fer) -> 44404
A8: Ref724 | B8: =IF(INT(MOD(ROW()-2,Données!F$6))=0,MAX($B$1:$B7)+1,MAX(B$1:B7)) -> 4 | C8: =WORKDAY("31/12/2020"+$B8,1,Fer) -> 44201 | D8: =WORKDAY(C$83+$B8+8,1,Fer) -> 44251 | E8: =WORKDAY(D$83+$B8+8,1,Fer) -> 44301 | F8: =WORKDAY(E$83+$B8+8,1,Fer) -> 44354 | G8: =WORKDAY(F$83+$B8+8,1,Fer) -> 44405
A9: Ref725 | B9: =IF(INT(MOD(ROW()-2,Données!F$6))=0,MAX($B$1:$B8)+1,MAX(B$1:B8)) -> 4 | C9: =WORKDAY("31/12/2020"+$B9,1,Fer) -> 44201 | D9: =WORKDAY(C$83+$B9+8,1,Fer) -> 44251 | E9: =WORKDAY(D$83+$B9+8,1,Fer) -> 44301 | F9: =WORKDAY(E$83+$B9+8,1,Fer) -> 44354 | G9: =WORKDAY(F$83+$B9+8,1,Fer) -> 44405
A10: Ref726 | B10: =IF(INT(MOD(ROW()-2,Données!F$6))=0,MAX($B$1:$B9)+1,MAX(B$1:B9)) -> 5 | C10: =WORKDAY("31/12/2020"+$B10,1,Fer) -> 44202 | D10: =WORKDAY(C$83+$B10+8,1,Fer) -> 44252 | E10: =WORKDAY(D$83+$B10+8,1,Fer) -> 44302 | F10: =WORKDAY(E$83+$B10+8,1,Fer) -> 44355 | G10: =WORKDAY(F$83+$B10+8,1,Fer) -> 44406
A11: Ref727 | B11: =IF(INT(MOD(ROW()-2,Données!F$6))=0,MAX($B$1:$B10)+1,MAX(B$1:B10)) -> 5 | C11: =WORKDAY("31/12/2020"+$B11,1,Fer) -> 44202 | D11: =WORKDAY(C$83+$B11+8,1,Fer) -> 44252 | E11: =WORKDAY(D$83+$B11+8,1,Fer) -> 44302 | F11: =WORKDAY(E$83+$B11+8,1,Fer) -> 44355 | G11: =WORKDAY(F$83+$B11+8,1,Fer) -> 44406
A12: Ref728 | B12: =IF(INT(MOD(ROW()-2,Données!F$6))=0,MAX($B$1:$B11)+1,MAX(B$1:B11)) -> 6 | C12: =WORKDAY("31/12/2020"+$B12,1,Fer) -> 44203 | D12: =WORKDAY(C$83+$B12+8,1,Fer) -> 44253 | E12: =WORKDAY(D$83+$B12+8,1,Fer) -> 44305 | F12: =WORKDAY(E$83+$B12+8,1,Fer) -> 44356 | G12: =WORKDAY(F$83+$B12+8,1,Fer) -> 44407
A13: Ref729 | B13: =IF(INT(MOD(ROW()-2,Données!F$6))=0,MAX($B$1:$B12)+1,MAX(B$1:B12)) -> 6 | C13: =WORKDAY("31/12/2020"+$B13,1,Fer) -> 44203 | D13: =WORKDAY(C$83+$B13+8,1,Fer) -> 44253 | E13: =WORKDAY(D$83+$B13+8,1,Fer) -> 44305 | F13: =WORKDAY(E$83+$B13+8,1,Fer) -> 44356 | G13: =WORKDAY(F$83+$B13+8,1,Fer) -> 44407
... A209: Ref925 | B209: =IF(INT(MOD(ROW()-2,Données!F$6))=0,MAX($B$1:$B208)+1,MAX(B$1:B208)) -> 104 | C209: =WORKDAY("31/12/2020"+$B209,1,Fer) -> 44301 | D209: =WORKDAY(C$83+$B209+8,1,Fer) -> 44351 | E209: =WORKDAY(D$83+$B209+8,1,Fer) -> 44403 | F209: =WORKDAY(E$83+$B209+8,1,Fer) -> 44454 | G209: =WORKDAY(F$83+$B209+8,1,Fer) -> 44505

Sheet C
A1: C | B1: Jour inventaire | C1: Date 1er inv | D1: Date 2ème inv | E1: Date 3ème inv | F1: Date 4ème inv
A2: Ref926 | B2: =IF(INT(MOD(ROW()-2,Données!G$6))=0,MAX($B$1:$B1)+1,MAX(B$1:B1)) -> 1 | C2: =WORKDAY("31/12/2020"+$B2,1,Fer) -> 44200 | D2: =WORKDAY(C$46+$B2+8,1,Fer) -> 44252 | E2: =WORKDAY(D$46+$B2+8,1,Fer) -> 44308 | F2: =WORKDAY(E$46+$B2+8,1,Fer) -> 44364
A3: Ref927 | B3: =IF(INT(MOD(ROW()-2,Données!G$6))=0,MAX($B$1:$B2)+1,MAX(B$1:B2)) -> 2 | C3: =WORKDAY("31/12/2020"+$B3,1,Fer) -> 44200 | D3: =WORKDAY(C$46+$B3+8,1,Fer) -> 44253 | E3: =WORKDAY(D$46+$B3+8,1,Fer) -> 44309 | F3: =WORKDAY(E$46+$B3+8,1,Fer) -> 44365
A4: Ref928 | B4: =IF(INT(MOD(ROW()-2,Données!G$6))=0,MAX($B$1:$B3)+1,MAX(B$1:B3)) -> 3 | C4: =WORKDAY("31/12/2020"+$B4,1,Fer) -> 44200 | D4: =WORKDAY(C$46+$B4+8,1,Fer) -> 44256 | E4: =WORKDAY(D$46+$B4+8,1,Fer) -> 44312 | F4: =WORKDAY(E$46+$B4+8,1,Fer) -> 44368
A5: Ref929 | B5: =IF(INT(MOD(ROW()-2,Données!G$6))=0,MAX($B$1:$B4)+1,MAX(B$1:B4)) -> 4 | C5: =WORKDAY("31/12/2020"+$B5,1,Fer) -> 44201 | D5: =WORKDAY(C$46+$B5+8,1,Fer) -> 44256 | E5: =WORKDAY(D$46+$B5+8,1,Fer) -> 44312 | F5: =WORKDAY(E$46+$B5+8,1,Fer) -> 44368
A6: Ref930 | B6: =IF(INT(MOD(ROW()-2,Données!G$6))=0,MAX($B$1:$B5)+1,MAX(B$1:B5)) -> 5 | C6: =WORKDAY("31/12/2020"+$B6,1,Fer) -> 44202 | D6: =WORKDAY(C$46+$B6+8,1,Fer) -> 44256 | E6: =WORKDAY(D$46+$B6+8,1,Fer) -> 44312 | F6: =WORKDAY(E$46+$B6+8,1,Fer) -> 44368
A7: Ref931 | B7: =IF(INT(MOD(ROW()-2,Données!G$6))=0,MAX($B$1:$B6)+1,MAX(B$1:B6)) -> 6 | C7: =WORKDAY("31/12/2020"+$B7,1,Fer) -> 44203 | D7: =WORKDAY(C$46+$B7+8,1,Fer) -> 44257 | E7: =WORKDAY(D$46+$B7+8,1,Fer) -> 44313 | F7: =WORKDAY(E$46+$B7+8,1,Fer) -> 44369
A8: Ref932 | B8: =IF(INT(MOD(ROW()-2,Données!G$6))=0,MAX($B$1:$B7)+1,MAX(B$1:B7)) -> 7 | C8: =WORKDAY("31/12/2020"+$B8,1,Fer) -> 44204 | D8: =WORKDAY(C$46+$B8+8,1,Fer) -> 44258 | E8: =WORKDAY(D$46+$B8+8,1,Fer) -> 44314 | F8: =WORKDAY(E$46+$B8+8,1,Fer) -> 44370
A9: Ref933 | B9: =IF(INT(MOD(ROW()-2,Données!G$6))=0,MAX($B$1:$B8)+1,MAX(B$1:B8)) -> 8 | C9: =WORKDAY("31/12/2020"+$B9,1,Fer) -> 44207 | D9: =WORKDAY(C$46+$B9+8,1,Fer) -> 44259 | E9: =WORKDAY(D$46+$B9+8,1,Fer) -> 44315 | F9: =WORKDAY(E$46+$B9+8,1,Fer) -> 44371
A10: Ref934 | B10: =IF(INT(MOD(ROW()-2,Données!G$6))=0,MAX($B$1:$B9)+1,MAX(B$1:B9)) -> 9 | C10: =WORKDAY("31/12/2020"+$B10,1,Fer) -> 44207 | D10: =WORKDAY(C$46+$B10+8,1,Fer) -> 44260 | E10: =WORKDAY(D$46+$B10+8,1,Fer) -> 44316 | F10: =WORKDAY(E$46+$B10+8,1,Fer) -> 44372
A11: Ref935 | B11: =IF(INT(MOD(ROW()-2,Données!G$6))=0,MAX($B$1:$B10)+1,MAX(B$1:B10)) -> 10 | C11: =WORKDAY("31/12/2020"+$B11,1,Fer) -> 44207 | D11: =WORKDAY(C$46+$B11+8,1,Fer) -> 44263 | E11: =WORKDAY(D$46+$B11+8,1,Fer) -> 44319 | F11: =WORKDAY(E$46+$B11+8,1,Fer) -> 44375
A12: Ref936 | B12: =IF(INT(MOD(ROW()-2,Données!G$6))=0,MAX($B$1:$B11)+1,MAX(B$1:B11)) -> 11 | C12: =WORKDAY("31/12/2020"+$B12,1,Fer) -> 44208 | D12: =WORKDAY(C$46+$B12+8,1,Fer) -> 44263 | E12: =WORKDAY(D$46+$B12+8,1,Fer) -> 44319 | F12: =WORKDAY(E$46+$B12+8,1,Fer) -> 44375
A13: Ref937 | B13: =IF(INT(MOD(ROW()-2,Données!G$6))=0,MAX($B$1:$B12)+1,MAX(B$1:B12)) -> 12 | C13: =WORKDAY("31/12/2020"+$B13,1,Fer) -> 44209 | D13: =WORKDAY(C$46+$B13+8,1,Fer) -> 44263 | E13: =WORKDAY(D$46+$B13+8,1,Fer) -> 44319 | F13: =WORKDAY(E$46+$B13+8,1,Fer) -> 44375
... A107: Ref1031 | B107: =IF(INT(MOD(ROW()-2,Données!G$6))=0,MAX($B$1:$B106)+1,MAX(B$1:B106)) -> 106 | C107: =WORKDAY("31/12/2020"+$B107,1,Fer) -> 44305 | D107: =WORKDAY(C$46+$B107+8,1,Fer) -> 44357 | E107: =WORKDAY(D$46+$B107+8,1,Fer) -> 44413 | F107: =WORKDAY(E$46+$B107+8,1,Fer) -> 44469

Sheet D
A1: D | B1: Jour inventaire | C1: Date 1er inv | D1: Date 2ème inv | E1: Date 3ème inv | F1: Date 4ème inv | G1: Date 5ème inv | H1: Date 6ème inv | I1: Date 7ème inv | J1: Date 8ème inv | K1: Date 9ème inv | L1: Date 10ème inv | M1: Date 11ème inv
A2: Ref1032 | B2: =IF(INT(MOD(ROW()-2,Données!H$6))=0,MAX($B$1:$B1)+1,MAX(B$1:B1)) -> 1 | C2: =WORKDAY("31/12/2020"+$B2,1,Fer) -> 44200 | D2: =WORKDAY(C$52+$B2+8,1,Fer) -> 44259 | E2: =WORKDAY(D$52+$B2+8,1,Fer) -> 44319 | F2: =WORKDAY(E$52+$B2+8,1,Fer) -> 44379 | G2: =WORKDAY(F$52+$B2+8,1,Fer) -> 44441 | H2: =WORKDAY(G$52+$B2+8,1,Fer) -> 44502 | I2: =WORKDAY(H$52+$B2+8,1,Fer) -> 44561 | J2: =WORKDAY(I$52+$B2+8,1,Fer) -> 44623 | K2: =WORKDAY(J$52+$B2+8,1,Fer) -> 44683 | ... M2: =WORKDAY(L$52+$B2+8,1,Fer) -> 44805
A3: Ref1033 | B3: =IF(INT(MOD(ROW()-2,Données!H$6))=0,MAX($B$1:$B2)+1,MAX(B$1:B2)) -> 2 | C3: =WORKDAY("31/12/2020"+$B3,1,Fer) -> 44200 | D3: =WORKDAY(C$52+$B3+8,1,Fer) -> 44260 | E3: =WORKDAY(D$52+$B3+8,1,Fer) -> 44320 | F3: =WORKDAY(E$52+$B3+8,1,Fer) -> 44382 | G3: =WORKDAY(F$52+$B3+8,1,Fer) -> 44442 | H3: =WORKDAY(G$52+$B3+8,1,Fer) -> 44502 | I3: =WORKDAY(H$52+$B3+8,1,Fer) -> 44564 | J3: =WORKDAY(I$52+$B3+8,1,Fer) -> 44624 | K3: =WORKDAY(J$52+$B3+8,1,Fer) -> 44684 | ... M3: =WORKDAY(L$52+$B3+8,1,Fer) -> 44806
A4: Ref1034 | B4: =IF(INT(MOD(ROW()-2,Données!H$6))=0,MAX($B$1:$B3)+1,MAX(B$1:B3)) -> 3 | C4: =WORKDAY("31/12/2020"+$B4,1,Fer) -> 44200 | D4: =WORKDAY(C$52+$B4+8,1,Fer) -> 44263 | E4: =WORKDAY(D$52+$B4+8,1,Fer) -> 44321 | F4: =WORKDAY(E$52+$B4+8,1,Fer) -> 44382 | G4: =WORKDAY(F$52+$B4+8,1,Fer) -> 44445 | H4: =WORKDAY(G$52+$B4+8,1,Fer) -> 44503 | I4: =WORKDAY(H$52+$B4+8,1,Fer) -> 44564 | J4: =WORKDAY(I$52+$B4+8,1,Fer) -> 44627 | K4: =WORKDAY(J$52+$B4+8,1,Fer) -> 44685 | ... M4: =WORKDAY(L$52+$B4+8,1,Fer) -> 44809
A5: Ref1035 | B5: =IF(INT(MOD(ROW()-2,Données!H$6))=0,MAX($B$1:$B4)+1,MAX(B$1:B4)) -> 4 | C5: =WORKDAY("31/12/2020"+$B5,1,Fer) -> 44201 | D5: =WORKDAY(C$52+$B5+8,1,Fer) -> 44263 | E5: =WORKDAY(D$52+$B5+8,1,Fer) -> 44322 | F5: =WORKDAY(E$52+$B5+8,1,Fer) -> 44382 | G5: =WORKDAY(F$52+$B5+8,1,Fer) -> 44445 | H5: =WORKDAY(G$52+$B5+8,1,Fer) -> 44504 | I5: =WORKDAY(H$52+$B5+8,1,Fer) -> 44564 | J5: =WORKDAY(I$52+$B5+8,1,Fer) -> 44627 | K5: =WORKDAY(J$52+$B5+8,1,Fer) -> 44686 | ... M5: =WORKDAY(L$52+$B5+8,1,Fer) -> 44809
A6: Ref1036 | B6: =IF(INT(MOD(ROW()-2,Données!H$6))=0,MAX($B$1:$B5)+1,MAX(B$1:B5)) -> 5 | C6: =WORKDAY("31/12/2020"+$B6,1,Fer) -> 44202 | D6: =WORKDAY(C$52+$B6+8,1,Fer) -> 44263 | E6: =WORKDAY(D$52+$B6+8,1,Fer) -> 44323 | F6: =WORKDAY(E$52+$B6+8,1,Fer) -> 44383 | G6: =WORKDAY(F$52+$B6+8,1,Fer) -> 44445 | H6: =WORKDAY(G$52+$B6+8,1,Fer) -> 44505 | I6: =WORKDAY(H$52+$B6+8,1,Fer) -> 44565 | J6: =WORKDAY(I$52+$B6+8,1,Fer) -> 44627 | K6: =WORKDAY(J$52+$B6+8,1,Fer) -> 44687 | ... M6: =WORKDAY(L$52+$B6+8,1,Fer) -> 44809
A7: Ref1037 | B7: =IF(INT(MOD(ROW()-2,Données!H$6))=0,MAX($B$1:$B6)+1,MAX(B$1:B6)) -> 6 | C7: =WORKDAY("31/12/2020"+$B7,1,Fer) -> 44203 | D7: =WORKDAY(C$52+$B7+8,1,Fer) -> 44264 | E7: =WORKDAY(D$52+$B7+8,1,Fer) -> 44326 | F7: =WORKDAY(E$52+$B7+8,1,Fer) -> 44384 | G7: =WORKDAY(F$52+$B7+8,1,Fer) -> 44446 | H7: =WORKDAY(G$52+$B7+8,1,Fer) -> 44508 | I7: =WORKDAY(H$52+$B7+8,1,Fer) -> 44566 | J7: =WORKDAY(I$52+$B7+8,1,Fer) -> 44628 | K7: =WORKDAY(J$52+$B7+8,1,Fer) -> 44690 | ... M7: =WORKDAY(L$52+$B7+8,1,Fer) -> 44810
A8: Ref1038 | B8: =IF(INT(MOD(ROW()-2,Données!H$6))=0,MAX($B$1:$B7)+1,MAX(B$1:B7)) -> 7 | C8: =WORKDAY("31/12/2020"+$B8,1,Fer) -> 44204 | D8: =WORKDAY(C$52+$B8+8,1,Fer) -> 44265 | E8: =WORKDAY(D$52+$B8+8,1,Fer) -> 44326 | F8: =WORKDAY(E$52+$B8+8,1,Fer) -> 44385 | G8: =WORKDAY(F$52+$B8+8,1,Fer) -> 44447 | H8: =WORKDAY(G$52+$B8+8,1,Fer) -> 44508 | I8: =WORKDAY(H$52+$B8+8,1,Fer) -> 44567 | J8: =WORKDAY(I$52+$B8+8,1,Fer) -> 44629 | K8: =WORKDAY(J$52+$B8+8,1,Fer) -> 44690 | ... M8: =WORKDAY(L$52+$B8+8,1,Fer) -> 44811
A9: Ref1039 | B9: =IF(INT(MOD(ROW()-2,Données!H$6))=0,MAX($B$1:$B8)+1,MAX(B$1:B8)) -> 8 | C9: =WORKDAY("31/12/2020"+$B9,1,Fer) -> 44207 | D9: =WORKDAY(C$52+$B9+8,1,Fer) -> 44266 | E9: =WORKDAY(D$52+$B9+8,1,Fer) -> 44326 | F9: =WORKDAY(E$52+$B9+8,1,Fer) -> 44386 | G9: =WORKDAY(F$52+$B9+8,1,Fer) -> 44448 | H9: =WORKDAY(G$52+$B9+8,1,Fer) -> 44508 | I9: =WORKDAY(H$52+$B9+8,1,Fer) -> 44568 | J9: =WORKDAY(I$52+$B9+8,1,Fer) -> 44630 | K9: =WORKDAY(J$52+$B9+8,1,Fer) -> 44690 | ... M9: =WORKDAY(L$52+$B9+8,1,Fer) -> 44812
A10: Ref1040 | B10: =IF(INT(MOD(ROW()-2,Données!H$6))=0,MAX($B$1:$B9)+1,MAX(B$1:B9)) -> 9 | C10: =WORKDAY("31/12/2020"+$B10,1,Fer) -> 44207 | D10: =WORKDAY(C$52+$B10+8,1,Fer) -> 44267 | E10: =WORKDAY(D$52+$B10+8,1,Fer) -> 44327 | F10: =WORKDAY(E$52+$B10+8,1,Fer) -> 44389 | G10: =WORKDAY(F$52+$B10+8,1,Fer) -> 44449 | H10: =WORKDAY(G$52+$B10+8,1,Fer) -> 44509 | I10: =WORKDAY(H$52+$B10+8,1,Fer) -> 44571 | J10: =WORKDAY(I$52+$B10+8,1,Fer) -> 44631 | K10: =WORKDAY(J$52+$B10+8,1,Fer) -> 44691 | ... M10: =WORKDAY(L$52+$B10+8,1,Fer) -> 44813
A11: Ref1041 | B11: =IF(INT(MOD(ROW()-2,Données!H$6))=0,MAX($B$1:$B10)+1,MAX(B$1:B10)) -> 10 | C11: =WORKDAY("31/12/2020"+$B11,1,Fer) -> 44207 | D11: =WORKDAY(C$52+$B11+8,1,Fer) -> 44270 | E11: =WORKDAY(D$52+$B11+8,1,Fer) -> 44328 | F11: =WORKDAY(E$52+$B11+8,1,Fer) -> 44389 | G11: =WORKDAY(F$52+$B11+8,1,Fer) -> 44452 | H11: =WORKDAY(G$52+$B11+8,1,Fer) -> 44510 | I11: =WORKDAY(H$52+$B11+8,1,Fer) -> 44571 | J11: =WORKDAY(I$52+$B11+8,1,Fer) -> 44634 | K11: =WORKDAY(J$52+$B11+8,1,Fer) -> 44692 | ... M11: =WORKDAY(L$52+$B11+8,1,Fer) -> 44816
A12: Ref1042 | B12: =IF(INT(MOD(ROW()-2,Données!H$6))=0,MAX($B$1:$B11)+1,MAX(B$1:B11)) -> 11 | C12: =WORKDAY("31/12/2020"+$B12,1,Fer) -> 44208 | D12: =WORKDAY(C$52+$B12+8,1,Fer) -> 44270 | E12: =WORKDAY(D$52+$B12+8,1,Fer) -> 44330 | F12: =WORKDAY(E$52+$B12+8,1,Fer) -> 44389 | G12: =WORKDAY(F$52+$B12+8,1,Fer) -> 44452 | H12: =WORKDAY(G$52+$B12+8,1,Fer) -> 44512 | I12: =WORKDAY(H$52+$B12+8,1,Fer) -> 44571 | J12: =WORKDAY(I$52+$B12+8,1,Fer) -> 44634 | K12: =WORKDAY(J$52+$B12+8,1,Fer) -> 44693 | ... M12: =WORKDAY(L$52+$B12+8,1,Fer) -> 44816
A13: Ref1043 | B13: =IF(INT(MOD(ROW()-2,Données!H$6))=0,MAX($B$1:$B12)+1,MAX(B$1:B12)) -> 12 | C13: =WORKDAY("31/12/2020"+$B13,1,Fer) -> 44209 | D13: =WORKDAY(C$52+$B13+8,1,Fer) -> 44270 | E13: =WORKDAY(D$52+$B13+8,1,Fer) -> 44330 | F13: =WORKDAY(E$52+$B13+8,1,Fer) -> 44390 | G13: =WORKDAY(F$52+$B13+8,1,Fer) -> 44452 | H13: =WORKDAY(G$52+$B13+8,1,Fer) -> 44512 | I13: =WORKDAY(H$52+$B13+8,1,Fer) -> 44572 | J13: =WORKDAY(I$52+$B13+8,1,Fer) -> 44634 | K13: =WORKDAY(J$52+$B13+8,1,Fer) -> 44694 | ... M13: =WORKDAY(L$52+$B13+8,1,Fer) -> 44816
... A129: Ref1159 | B129: =IF(INT(MOD(ROW()-2,Données!H$6))=0,MAX($B$1:$B128)+1,MAX(B$1:B128)) -> 128 | C129: =WORKDAY("31/12/2020"+$B129,1,Fer) -> 44326 | D129: =WORKDAY(C$52+$B129+8,1,Fer) -> 44386 | E129: =WORKDAY(D$52+$B129+8,1,Fer) -> 44446 | F129: =WORKDAY(E$52+$B129+8,1,Fer) -> 44508 | G129: =WORKDAY(F$52+$B129+8,1,Fer) -> 44568 | H129: =WORKDAY(G$52+$B129+8,1,Fer) -> 44628 | I129: =WORKDAY(H$52+$B129+8,1,Fer) -> 44690 | J129: =WORKDAY(I$52+$B129+8,1,Fer) -> 44750 | K129: =WORKDAY(J$52+$B129+8,1,Fer) -> 44810 | ... M129: =WORKDAY(L$52+$B129+8,1,Fer) -> 44932
