Workbook
Name Fer: Fériés!$B$3:$B$15
Name JoursOuvrés: Fériés!$E$2:$E$254

Sheet Fériés
A1: Année | B1: 2021 | E1: Jours ouvrés
A2: 1er jour | B2: 44197 | E2: =WORKDAY($B$2,1,Fer) -> 44200
A3: 1er Janvier | B3: =DATE(B1,1,1) -> 44197 | E3: =WORKDAY(E2,1,Fer) -> 44201
A4: Pâques | B4: =ROUND(DATE(B1,4,MOD(234-11*MOD(B1,19),30))/7,)*7-6 -> 44290 | E4: =WORKDAY(E3,1,Fer) -> 44202
A5: Lundi de Pâques | B5: =B4+1 -> 44291 | E5: =WORKDAY(E4,1,Fer) -> 44203
A6: 1er Mai | B6: =DATE(B1,5,1) -> 44317 | E6: =WORKDAY(E5,1,Fer) -> 44204
A7: 8 Mai | B7: =DATE(B1,5,8) -> 44324 | E7: =WORKDAY(E6,1,Fer) -> 44207
A8: Ascenscion | B8: =B4+39 -> 44329 | E8: =WORKDAY(E7,1,Fer) -> 44208
A9: Pentecôte | B9: =B4+49 -> 44339 | E9: =WORKDAY(E8,1,Fer) -> 44209
A10: Lundi de la Pentecôte | B10: =B4+50 -> 44340 | E10: =WORKDAY(E9,1,Fer) -> 44210
A11: 14 Juillet | B11: =DATE(B1,7,14) -> 44391 | E11: =WORKDAY(E10,1,Fer) -> 44211
A12: 15 Août | B12: =DATE(B1,8,15) -> 44423 | E12: =WORKDAY(E11,1,Fer) -> 44214
A13: 1er Novembre | B13: =DATE(B1,11,1) -> 44501 | E13: =WORKDAY(E12,1,Fer) -> 44215
A14: 11 Novembre | B14: =DATE(B1,11,11) -> 44511 | E14: =WORKDAY(E13,1,Fer) -> 44216
A15: 25 Décembre | B15: =DATE(B1,12,25) -> 44555 | E15: =WORKDAY(E14,1,Fer) -> 44217
A16: dernier jour | B16: 44561 | E16: =WORKDAY(E15,1,Fer) -> 44218
E17: =WORKDAY(E16,1,Fer) -> 44221
E18: =WORKDAY(E17,1,Fer) -> 44222
A19: nb jours ouvrés total | B19: =NETWORKDAYS(B2,B16,B3:B15) -> 254 | E19: =WORKDAY(E18,1,Fer) -> 44223
A20: Mettre les jours fermés dans la colonne B | E20: =WORKDAY(E19,1,Fer) -> 44224
A21: entre B2 et B16 | E21: =WORKDAY(E20,1,Fer) -> 44225
E22: =WORKDAY(E21,1,Fer) -> 44228
E23: =WORKDAY(E22,1,Fer) -> 44229
E24: =WORKDAY(E23,1,Fer) -> 44230
E25: =WORKDAY(E24,1,Fer) -> 44231
E26: =WORKDAY(E25,1,Fer) -> 44232
E27: =WORKDAY(E26,1,Fer) -> 44235
E28: =WORKDAY(E27,1,Fer) -> 44236
E29: =WORKDAY(E28,1,Fer) -> 44237
E30: =WORKDAY(E29,1,Fer) -> 44238
E31: =WORKDAY(E30,1,Fer) -> 44239
E32: =WORKDAY(E31,1,Fer) -> 44242
E33: =WORKDAY(E32,1,Fer) -> 44243
... E254: =WORKDAY(E253,1,Fer) -> 44560

Sheet Feuil1
A1: Total Articles | B1: =SUM(E2:H2) -> 850 | D1: Classes | E1: A | F1: B | G1: C | H1: D
A2: Nbre jours ouvrés | B2: 231 | D2: Nbre Articles | E2: 520 | F2: 127 | G2: 149 | H2: 54
A3: Nbre inventaires | B3: =SUM(E4:H4) -> 2550 | D3: Nbre de passage | E3: 3 | F3: 3 | G3: 3 | H3: 3
A4: refs/jour ouvré | B4: =SUM(E5:H5) -> 11.038961 | D4: Total | E4: =E2*E3 -> 1560 | F4: =F2*F3 -> 381 | G4: =G2*G3 -> 447 | H4: =H2*H3 -> 162
B5: =ROUND(B4,0) -> 11 | D5: refs/jour ouvré | E5: =E4/$B$2 -> 6.7532468 | F5: =F4/$B$2 -> 1.6493506 | G5: =G4/$B$2 -> 1.9350649 | H5: =H4/$B$2 -> 0.7012987
B6: =B3/B5 -> 231.81818 | D6: Arrondi | E6: =ROUND(E5*2,0)/2 -> 7 | F6: =ROUND(F5*2,0)/2 -> 1.5 | G6: =ROUND(G5*2,0)/2 -> 2 | H6: =ROUND(H5*2,0)/2 -> 0.5
A15: 44225 | B15: Class A | C15: Class B | D15: Class C | E15: ClassD
B16: {=INDEX(A!$A$2:$A$102,SMALL(IF(A!C$2:H$102=Feuil1!$A$15,ROW(A!$A$2:$A$102)-1),ROW(1:1)))} -> RefA8 | C16: {=INDEX(B!$A$2:$A$83,SMALL(IF(B!$C$2:$G$83=Feuil1!$A$15,ROW(B!$A$2:$A$83)-1),ROW(1:1)))} -> RefB42 | D16: {=INDEX('C'!$A$2:$A$46,SMALL(IF('C'!$C$2:$F$46=Feuil1!$A$15,ROW('C'!$A$2:$A$46)-1),ROW(1:1)))} -> #NUM! | E16: {=INDEX(D!$A$2:$A$52,SMALL(IF(D!$C$2:$M$52=$A$15,ROW(D!$A$2:$A$52)-1),ROW(1:1)))} -> RefD28
B17: {=INDEX(A!$A$2:$A$102,SMALL(IF(A!C$2:H$102=Feuil1!$A$15,ROW(A!$A$2:$A$102)-1),ROW(2:2)))} -> RefA9 | C17: {=INDEX(B!$A$2:$A$83,SMALL(IF(B!$C$2:$G$83=Feuil1!$A$15,ROW(B!$A$2:$A$83)-1),ROW(2:2)))} -> #NUM! | D17: {=INDEX('C'!$A$2:$A$46,SMALL(IF('C'!$C$2:$F$46=Feuil1!$A$15,ROW('C'!$A$2:$A$46)-1),ROW(2:2)))} -> #NUM! | E17: {=INDEX(D!$A$2:$A$52,SMALL(IF(D!$C$2:$M$52=$A$15,ROW(D!$A$2:$A$52)-1),ROW(2:2)))} -> #NUM!
B18: {=INDEX(A!$A$2:$A$102,SMALL(IF(A!C$2:H$102=Feuil1!$A$15,ROW(A!$A$2:$A$102)-1),ROW(3:3)))} -> RefA10 | C18: {=INDEX(B!$A$2:$A$83,SMALL(IF(B!$C$2:$G$83=Feuil1!$A$15,ROW(B!$A$2:$A$83)-1),ROW(3:3)))} -> #NUM! | D18: {=INDEX('C'!$A$2:$A$46,SMALL(IF('C'!$C$2:$F$46=Feuil1!$A$15,ROW('C'!$A$2:$A$46)-1),ROW(3:3)))} -> #NUM! | E18: {=INDEX(D!$A$2:$A$52,SMALL(IF(D!$C$2:$M$52=$A$15,ROW(D!$A$2:$A$52)-1),ROW(3:3)))} -> #NUM!
B19: {=INDEX(A!$A$2:$A$102,SMALL(IF(A!C$2:H$102=Feuil1!$A$15,ROW(A!$A$2:$A$102)-1),ROW(4:4)))} -> RefA11 | C19: {=INDEX(B!$A$2:$A$83,SMALL(IF(B!$C$2:$G$83=Feuil1!$A$15,ROW(B!$A$2:$A$83)-1),ROW(4:4)))} -> #NUM! | D19: {=INDEX('C'!$A$2:$A$46,SMALL(IF('C'!$C$2:$F$46=Feuil1!$A$15,ROW('C'!$A$2:$A$46)-1),ROW(4:4)))} -> #NUM! | E19: {=INDEX(D!$A$2:$A$52,SMALL(IF(D!$C$2:$M$52=$A$15,ROW(D!$A$2:$A$52)-1),ROW(4:4)))} -> #NUM!
B20: {=INDEX(A!$A$2:$A$102,SMALL(IF(A!C$2:H$102=Feuil1!$A$15,ROW(A!$A$2:$A$102)-1),ROW(5:5)))} -> RefA12 | C20: {=INDEX(B!$A$2:$A$83,SMALL(IF(B!$C$2:$G$83=Feuil1!$A$15,ROW(B!$A$2:$A$83)-1),ROW(5:5)))} -> #NUM! | D20: {=INDEX('C'!$A$2:$A$46,SMALL(IF('C'!$C$2:$F$46=Feuil1!$A$15,ROW('C'!$A$2:$A$46)-1),ROW(5:5)))} -> #NUM! | E20: {=INDEX(D!$A$2:$A$52,SMALL(IF(D!$C$2:$M$52=$A$15,ROW(D!$A$2:$A$52)-1),ROW(5:5)))} -> #NUM!
B21: {=INDEX(A!$A$2:$A$102,SMALL(IF(A!C$2:H$102=Feuil1!$A$15,ROW(A!$A$2:$A$102)-1),ROW(6:6)))} -> RefA13 | C21: {=INDEX(B!$A$2:$A$83,SMALL(IF(B!$C$2:$G$83=Feuil1!$A$15,ROW(B!$A$2:$A$83)-1),ROW(6:6)))} -> #NUM! | D21: {=INDEX('C'!$A$2:$A$46,SMALL(IF('C'!$C$2:$F$46=Feuil1!$A$15,ROW('C'!$A$2:$A$46)-1),ROW(6:6)))} -> #NUM! | E21: {=INDEX(D!$A$2:$A$52,SMALL(IF(D!$C$2:$M$52=$A$15,ROW(D!$A$2:$A$52)-1),ROW(6:6)))} -> #NUM!
B22: {=INDEX(A!$A$2:$A$102,SMALL(IF(A!C$2:H$102=Feuil1!$A$15,ROW(A!$A$2:$A$102)-1),ROW(7:7)))} -> RefA14 | C22: {=INDEX(B!$A$2:$A$83,SMALL(IF(B!$C$2:$G$83=Feuil1!$A$15,ROW(B!$A$2:$A$83)-1),ROW(7:7)))} -> #NUM! | D22: {=INDEX('C'!$A$2:$A$46,SMALL(IF('C'!$C$2:$F$46=Feuil1!$A$15,ROW('C'!$A$2:$A$46)-1),ROW(7:7)))} -> #NUM! | E22: {=INDEX(D!$A$2:$A$52,SMALL(IF(D!$C$2:$M$52=$A$15,ROW(D!$A$2:$A$52)-1),ROW(7:7)))} -> #NUM!
B23: {=INDEX(A!$A$2:$A$102,SMALL(IF(A!C$2:H$102=Feuil1!$A$15,ROW(A!$A$2:$A$102)-1),ROW(8:8)))} -> #NUM! | C23: {=INDEX(B!$A$2:$A$83,SMALL(IF(B!$C$2:$G$83=Feuil1!$A$15,ROW(B!$A$2:$A$83)-1),ROW(8:8)))} -> #NUM! | D23: {=INDEX('C'!$A$2:$A$46,SMALL(IF('C'!$C$2:$F$46=Feuil1!$A$15,ROW('C'!$A$2:$A$46)-1),ROW(8:8)))} -> #NUM! | E23: {=INDEX(D!$A$2:$A$52,SMALL(IF(D!$C$2:$M$52=$A$15,ROW(D!$A$2:$A$52)-1),ROW(8:8)))} -> #NUM!
B24: {=INDEX(A!$A$2:$A$102,SMALL(IF(A!C$2:H$102=Feuil1!$A$15,ROW(A!$A$2:$A$102)-1),ROW(9:9)))} -> #NUM! | C24: {=INDEX(B!$A$2:$A$83,SMALL(IF(B!$C$2:$G$83=Feuil1!$A$15,ROW(B!$A$2:$A$83)-1),ROW(9:9)))} -> #NUM! | D24: {=INDEX('C'!$A$2:$A$46,SMALL(IF('C'!$C$2:$F$46=Feuil1!$A$15,ROW('C'!$A$2:$A$46)-1),ROW(9:9)))} -> #NUM! | E24: {=INDEX(D!$A$2:$A$52,SMALL(IF(D!$C$2:$M$52=$A$15,ROW(D!$A$2:$A$52)-1),ROW(9:9)))} -> #NUM!
B25: {=INDEX(A!$A$2:$A$102,SMALL(IF(A!C$2:H$102=Feuil1!$A$15,ROW(A!$A$2:$A$102)-1),ROW(10:10)))} -> #NUM! | C25: {=INDEX(B!$A$2:$A$83,SMALL(IF(B!$C$2:$G$83=Feuil1!$A$15,ROW(B!$A$2:$A$83)-1),ROW(10:10)))} -> #NUM! | D25: {=INDEX('C'!$A$2:$A$46,SMALL(IF('C'!$C$2:$F$46=Feuil1!$A$15,ROW('C'!$A$2:$A$46)-1),ROW(10:10)))} -> #NUM! | E25: {=INDEX(D!$A$2:$A$52,SMALL(IF(D!$C$2:$M$52=$A$15,ROW(D!$A$2:$A$52)-1),ROW(10:10)))} -> #NUM!
B26: {=INDEX(A!$A$2:$A$102,SMALL(IF(A!C$2:H$102=Feuil1!$A$15,ROW(A!$A$2:$A$102)-1),ROW(11:11)))} -> #NUM! | C26: {=INDEX(B!$A$2:$A$83,SMALL(IF(B!$C$2:$G$83=Feuil1!$A$15,ROW(B!$A$2:$A$83)-1),ROW(11:11)))} -> #NUM! | D26: {=INDEX('C'!$A$2:$A$46,SMALL(IF('C'!$C$2:$F$46=Feuil1!$A$15,ROW('C'!$A$2:$A$46)-1),ROW(11:11)))} -> #NUM! | E26: {=INDEX(D!$A$2:$A$52,SMALL(IF(D!$C$2:$M$52=$A$15,ROW(D!$A$2:$A$52)-1),ROW(11:11)))} -> #NUM!

Sheet A
A1: A | B1: Jour inventaire | C1: Date 1er inv | D1: Date 2ème inv | E1: Date 3ème inv | F1: Date 4ème inv | G1: Date 5ème inv | H1: Date 6ème inv
A2: RefA1 | B2: =IF(INT(MOD(ROW()-2,Feuil1!E$6))=0,MAX($B$1:$B1)+1,MAX(B$1:B1)) -> 1 | C2: =WORKDAY("31/12/2020"+$B2,1,Fer) -> 44200 | D2: =WORKDAY(C$102+$B2+8,1,Fer) -> 44224 | E2: =WORKDAY(D$102+$B2+8,1,Fer) -> 44249 | F2: =WORKDAY(E$102+$B2+8,1,Fer) -> 44273 | G2: =WORKDAY(F$102+$B2+8,1,Fer) -> 44298 | H2: =WORKDAY(G$102+$B2+8,1,Fer) -> 44322
A3: RefA2 | B3: =IF(INT(MOD(ROW()-2,Feuil1!E$6))=0,MAX($B$1:$B2)+1,MAX(B$1:B2)) -> 1 | C3: =WORKDAY("31/12/2020"+$B3,1,Fer) -> 44200 | D3: =WORKDAY(C$102+$B3+8,1,Fer) -> 44224 | E3: =WORKDAY(D$102+$B3+8,1,Fer) -> 44249 | F3: =WORKDAY(E$102+$B3+8,1,Fer) -> 44273 | G3: =WORKDAY(F$102+$B3+8,1,Fer) -> 44298 | H3: =WORKDAY(G$102+$B3+8,1,Fer) -> 44322
A4: RefA3 | B4: =IF(INT(MOD(ROW()-2,Feuil1!E$6))=0,MAX($B$1:$B3)+1,MAX(B$1:B3)) -> 1 | C4: =WORKDAY("31/12/2020"+$B4,1,Fer) -> 44200 | D4: =WORKDAY(C$102+$B4+8,1,Fer) -> 44224 | E4: =WORKDAY(D$102+$B4+8,1,Fer) -> 44249 | F4: =WORKDAY(E$102+$B4+8,1,Fer) -> 44273 | G4: =WORKDAY(F$102+$B4+8,1,Fer) -> 44298 | H4: =WORKDAY(G$102+$B4+8,1,Fer) -> 44322
A5: RefA4 | B5: =IF(INT(MOD(ROW()-2,Feuil1!E$6))=0,MAX($B$1:$B4)+1,MAX(B$1:B4)) -> 1 | C5: =WORKDAY("31/12/2020"+$B5,1,Fer) -> 44200 | D5: =WORKDAY(C$102+$B5+8,1,Fer) -> 44224 | E5: =WORKDAY(D$102+$B5+8,1,Fer) -> 44249 | F5: =WORKDAY(E$102+$B5+8,1,Fer) -> 44273 | G5: =WORKDAY(F$102+$B5+8,1,Fer) -> 44298 | H5: =WORKDAY(G$102+$B5+8,1,Fer) -> 44322
A6: RefA5 | B6: =IF(INT(MOD(ROW()-2,Feuil1!E$6))=0,MAX($B$1:$B5)+1,MAX(B$1:B5)) -> 1 | C6: =WORKDAY("31/12/2020"+$B6,1,Fer) -> 44200 | D6: =WORKDAY(C$102+$B6+8,1,Fer) -> 44224 | E6: =WORKDAY(D$102+$B6+8,1,Fer) -> 44249 | F6: =WORKDAY(E$102+$B6+8,1,Fer) -> 44273 | G6: =WORKDAY(F$102+$B6+8,1,Fer) -> 44298 | H6: =WORKDAY(G$102+$B6+8,1,Fer) -> 44322
A7: RefA6 | B7: =IF(INT(MOD(ROW()-2,Feuil1!E$6))=0,MAX($B$1:$B6)+1,MAX(B$1:B6)) -> 1 | C7: =WORKDAY("31/12/2020"+$B7,1,Fer) -> 44200 | D7: =WORKDAY(C$102+$B7+8,1,Fer) -> 44224 | E7: =WORKDAY(D$102+$B7+8,1,Fer) -> 44249 | F7: =WORKDAY(E$102+$B7+8,1,Fer) -> 44273 | G7: =WORKDAY(F$102+$B7+8,1,Fer) -> 44298 | H7: =WORKDAY(G$102+$B7+8,1,Fer) -> 44322
A8: RefA7 | B8: =IF(INT(MOD(ROW()-2,Feuil1!E$6))=0,MAX($B$1:$B7)+1,MAX(B$1:B7)) -> 1 | C8: =WORKDAY("31/12/2020"+$B8,1,Fer) -> 44200 | D8: =WORKDAY(C$102+$B8+8,1,Fer) -> 44224 | E8: =WORKDAY(D$102+$B8+8,1,Fer) -> 44249 | F8: =WORKDAY(E$102+$B8+8,1,Fer) -> 44273 | G8: =WORKDAY(F$102+$B8+8,1,Fer) -> 44298 | H8: =WORKDAY(G$102+$B8+8,1,Fer) -> 44322
A9: RefA8 | B9: =IF(INT(MOD(ROW()-2,Feuil1!E$6))=0,MAX($B$1:$B8)+1,MAX(B$1:B8)) -> 2 | C9: =WORKDAY("31/12/2020"+$B9,1,Fer) -> 44200 | D9: =WORKDAY(C$102+$B9+8,1,Fer) -> 44225 | E9: =WORKDAY(D$102+$B9+8,1,Fer) -> 44249 | F9: =WORKDAY(E$102+$B9+8,1,Fer) -> 44274 | G9: =WORKDAY(F$102+$B9+8,1,Fer) -> 44298 | H9: =WORKDAY(G$102+$B9+8,1,Fer) -> 44323
A10: RefA9 | B10: =IF(INT(MOD(ROW()-2,Feuil1!E$6))=0,MAX($B$1:$B9)+1,MAX(B$1:B9)) -> 2 | C10: =WORKDAY("31/12/2020"+$B10,1,Fer) -> 44200 | D10: =WORKDAY(C$102+$B10+8,1,Fer) -> 44225 | E10: =WORKDAY(D$102+$B10+8,1,Fer) -> 44249 | F10: =WORKDAY(E$102+$B10+8,1,Fer) -> 44274 | G10: =WORKDAY(F$102+$B10+8,1,Fer) -> 44298 | H10: =WORKDAY(G$102+$B10+8,1,Fer) -> 44323
A11: RefA10 | B11: =IF(INT(MOD(ROW()-2,Feuil1!E$6))=0,MAX($B$1:$B10)+1,MAX(B$1:B10)) -> 2 | C11: =WORKDAY("31/12/2020"+$B11,1,Fer) -> 44200 | D11: =WORKDAY(C$102+$B11+8,1,Fer) -> 44225 | E11: =WORKDAY(D$102+$B11+8,1,Fer) -> 44249 | F11: =WORKDAY(E$102+$B11+8,1,Fer) -> 44274 | G11: =WORKDAY(F$102+$B11+8,1,Fer) -> 44298 | H11: =WORKDAY(G$102+$B11+8,1,Fer) -> 44323
A12: RefA11 | B12: =IF(INT(MOD(ROW()-2,Feuil1!E$6))=0,MAX($B$1:$B11)+1,MAX(B$1:B11)) -> 2 | C12: =WORKDAY("31/12/2020"+$B12,1,Fer) -> 44200 | D12: =WORKDAY(C$102+$B12+8,1,Fer) -> 44225 | E12: =WORKDAY(D$102+$B12+8,1,Fer) -> 44249 | F12: =WORKDAY(E$102+$B12+8,1,Fer) -> 44274 | G12: =WORKDAY(F$102+$B12+8,1,Fer) -> 44298 | H12: =WORKDAY(G$102+$B12+8,1,Fer) -> 44323
A13: RefA12 | B13: =IF(INT(MOD(ROW()-2,Feuil1!E$6))=0,MAX($B$1:$B12)+1,MAX(B$1:B12)) -> 2 | C13: =WORKDAY("31/12/2020"+$B13,1,Fer) -> 44200 | D13: =WORKDAY(C$102+$B13+8,1,Fer) -> 44225 | E13: =WORKDAY(D$102+$B13+8,1,Fer) -> 44249 | F13: =WORKDAY(E$102+$B13+8,1,Fer) -> 44274 | G13: =WORKDAY(F$102+$B13+8,1,Fer) -> 44298 | H13: =WORKDAY(G$102+$B13+8,1,Fer) -> 44323
... A102: RefA101 | B102: =IF(INT(MOD(ROW()-2,Feuil1!E$6))=0,MAX($B$1:$B101)+1,MAX(B$1:B101)) -> 15 | C102: =WORKDAY("31/12/2020"+$B102,1,Fer) -> 44214 | D102: =WORKDAY(C$102+$B102+8,1,Fer) -> 44238 | E102: =WORKDAY(D$102+$B102+8,1,Fer) -> 44263 | F102: =WORKDAY(E$102+$B102+8,1,Fer) -> 44287 | G102: =WORKDAY(F$102+$B102+8,1,Fer) -> 44312 | H102: =WORKDAY(G$102+$B102+8,1,Fer) -> 44336
A104: =NETWORKDAYS(C2,H102,Fer) -> 97

Sheet B
A1: B | B1: Jour inventaire | C1: Date 1er inv | D1: Date 2ème inv | E1: Date 3ème inv | F1: Date 4ème inv | G1: Date 5ème inv
A2: RefB1 | B2: =IF(INT(MOD(ROW()-2,Feuil1!F$6))=0,MAX($B$1:$B1)+1,MAX(B$1:B1)) -> 1 | C2: =WORKDAY("31/12/2020"+$B2,1,Fer) -> 44200 | D2: =WORKDAY(C$83+$B2+8,1,Fer) -> 44263 | E2: =WORKDAY(D$83+$B2+8,1,Fer) -> 44326 | F2: =WORKDAY(E$83+$B2+8,1,Fer) -> 44392 | G2: =WORKDAY(F$83+$B2+8,1,Fer) -> 44456
A3: RefB2 | B3: =IF(INT(MOD(ROW()-2,Feuil1!F$6))=0,MAX($B$1:$B2)+1,MAX(B$1:B2)) -> 1 | C3: =WORKDAY("31/12/2020"+$B3,1,Fer) -> 44200 | D3: =WORKDAY(C$83+$B3+8,1,Fer) -> 44263 | E3: =WORKDAY(D$83+$B3+8,1,Fer) -> 44326 | F3: =WORKDAY(E$83+$B3+8,1,Fer) -> 44392 | G3: =WORKDAY(F$83+$B3+8,1,Fer) -> 44456
A4: RefB3 | B4: =IF(INT(MOD(ROW()-2,Feuil1!F$6))=0,MAX($B$1:$B3)+1,MAX(B$1:B3)) -> 2 | C4: =WORKDAY("31/12/2020"+$B4,1,Fer) -> 44200 | D4: =WORKDAY(C$83+$B4+8,1,Fer) -> 44263 | E4: =WORKDAY(D$83+$B4+8,1,Fer) -> 44327 | F4: =WORKDAY(E$83+$B4+8,1,Fer) -> 44393 | G4: =WORKDAY(F$83+$B4+8,1,Fer) -> 44459
A5: RefB4 | B5: =IF(INT(MOD(ROW()-2,Feuil1!F$6))=0,MAX($B$1:$B4)+1,MAX(B$1:B4)) -> 3 | C5: =WORKDAY("31/12/2020"+$B5,1,Fer) -> 44200 | D5: =WORKDAY(C$83+$B5+8,1,Fer) -> 44264 | E5: =WORKDAY(D$83+$B5+8,1,Fer) -> 44328 | F5: =WORKDAY(E$83+$B5+8,1,Fer) -> 44396 | G5: =WORKDAY(F$83+$B5+8,1,Fer) -> 44459
A6: RefB5 | B6: =IF(INT(MOD(ROW()-2,Feuil1!F$6))=0,MAX($B$1:$B5)+1,MAX(B$1:B5)) -> 3 | C6: =WORKDAY("31/12/2020"+$B6,1,Fer) -> 44200 | D6: =WORKDAY(C$83+$B6+8,1,Fer) -> 44264 | E6: =WORKDAY(D$83+$B6+8,1,Fer) -> 44328 | F6: =WORKDAY(E$83+$B6+8,1,Fer) -> 44396 | G6: =WORKDAY(F$83+$B6+8,1,Fer) -> 44459
A7: RefB6 | B7: =IF(INT(MOD(ROW()-2,Feuil1!F$6))=0,MAX($B$1:$B6)+1,MAX(B$1:B6)) -> 4 | C7: =WORKDAY("31/12/2020"+$B7,1,Fer) -> 44201 | D7: =WORKDAY(C$83+$B7+8,1,Fer) -> 44265 | E7: =WORKDAY(D$83+$B7+8,1,Fer) -> 44330 | F7: =WORKDAY(E$83+$B7+8,1,Fer) -> 44396 | G7: =WORKDAY(F$83+$B7+8,1,Fer) -> 44459
A8: RefB7 | B8: =IF(INT(MOD(ROW()-2,Feuil1!F$6))=0,MAX($B$1:$B7)+1,MAX(B$1:B7)) -> 5 | C8: =WORKDAY("31/12/2020"+$B8,1,Fer) -> 44202 | D8: =WORKDAY(C$83+$B8+8,1,Fer) -> 44266 | E8: =WORKDAY(D$83+$B8+8,1,Fer) -> 44330 | F8: =WORKDAY(E$83+$B8+8,1,Fer) -> 44396 | G8: =WORKDAY(F$83+$B8+8,1,Fer) -> 44460
A9: RefB8 | B9: =IF(INT(MOD(ROW()-2,Feuil1!F$6))=0,MAX($B$1:$B8)+1,MAX(B$1:B8)) -> 5 | C9: =WORKDAY("31/12/2020"+$B9,1,Fer) -> 44202 | D9: =WORKDAY(C$83+$B9+8,1,Fer) -> 44266 | E9: =WORKDAY(D$83+$B9+8,1,Fer) -> 44330 | F9: =WORKDAY(E$83+$B9+8,1,Fer) -> 44396 | G9: =WORKDAY(F$83+$B9+8,1,Fer) -> 44460
A10: RefB9 | B10: =IF(INT(MOD(ROW()-2,Feuil1!F$6))=0,MAX($B$1:$B9)+1,MAX(B$1:B9)) -> 6 | C10: =WORKDAY("31/12/2020"+$B10,1,Fer) -> 44203 | D10: =WORKDAY(C$83+$B10+8,1,Fer) -> 44267 | E10: =WORKDAY(D$83+$B10+8,1,Fer) -> 44333 | F10: =WORKDAY(E$83+$B10+8,1,Fer) -> 44397 | G10: =WORKDAY(F$83+$B10+8,1,Fer) -> 44461
A11: RefB10 | B11: =IF(INT(MOD(ROW()-2,Feuil1!F$6))=0,MAX($B$1:$B10)+1,MAX(B$1:B10)) -> 7 | C11: =WORKDAY("31/12/2020"+$B11,1,Fer) -> 44204 | D11: =WORKDAY(C$83+$B11+8,1,Fer) -> 44270 | E11: =WORKDAY(D$83+$B11+8,1,Fer) -> 44333 | F11: =WORKDAY(E$83+$B11+8,1,Fer) -> 44398 | G11: =WORKDAY(F$83+$B11+8,1,Fer) -> 44462
A12: RefB11 | B12: =IF(INT(MOD(ROW()-2,Feuil1!F$6))=0,MAX($B$1:$B11)+1,MAX(B$1:B11)) -> 7 | C12: =WORKDAY("31/12/2020"+$B12,1,Fer) -> 44204 | D12: =WORKDAY(C$83+$B12+8,1,Fer) -> 44270 | E12: =WORKDAY(D$83+$B12+8,1,Fer) -> 44333 | F12: =WORKDAY(E$83+$B12+8,1,Fer) -> 44398 | G12: =WORKDAY(F$83+$B12+8,1,Fer) -> 44462
A13: RefB12 | B13: =IF(INT(MOD(ROW()-2,Feuil1!F$6))=0,MAX($B$1:$B12)+1,MAX(B$1:B12)) -> 8 | C13: =WORKDAY("31/12/2020"+$B13,1,Fer) -> 44207 | D13: =WORKDAY(C$83+$B13+8,1,Fer) -> 44270 | E13: =WORKDAY(D$83+$B13+8,1,Fer) -> 44333 | F13: =WORKDAY(E$83+$B13+8,1,Fer) -> 44399 | G13: =WORKDAY(F$83+$B13+8,1,Fer) -> 44463
... A83: RefB82 | B83: =IF(INT(MOD(ROW()-2,Feuil1!F$6))=0,MAX($B$1:$B82)+1,MAX(B$1:B82)) -> 55 | C83: =WORKDAY("31/12/2020"+$B83,1,Fer) -> 44252 | D83: =WORKDAY(C$83+$B83+8,1,Fer) -> 44316 | E83: =WORKDAY(D$83+$B83+8,1,Fer) -> 44382 | F83: =WORKDAY(E$83+$B83+8,1,Fer) -> 44446 | G83: =WORKDAY(F$83+$B83+8,1,Fer) -> 44510

Sheet C
A1: C | B1: Jour inventaire | C1: Date 1er inv | D1: Date 2ème inv | E1: Date 3ème inv | F1: Date 4ème inv
A2: RefC1 | B2: =IF(INT(MOD(ROW()-2,Feuil1!G$6))=0,MAX($B$1:$B1)+1,MAX(B$1:B1)) -> 1 | C2: =WORKDAY("31/12/2020"+$B2,1,Fer) -> 44200 | D2: =WORKDAY(C$46+$B2+8,1,Fer) -> 44231 | E2: =WORKDAY(D$46+$B2+8,1,Fer) -> 44263 | F2: =WORKDAY(E$46+$B2+8,1,Fer) -> 44295
A3: RefC2 | B3: =IF(INT(MOD(ROW()-2,Feuil1!G$6))=0,MAX($B$1:$B2)+1,MAX(B$1:B2)) -> 1 | C3: =WORKDAY("31/12/2020"+$B3,1,Fer) -> 44200 | D3: =WORKDAY(C$46+$B3+8,1,Fer) -> 44231 | E3: =WORKDAY(D$46+$B3+8,1,Fer) -> 44263 | F3: =WORKDAY(E$46+$B3+8,1,Fer) -> 44295
A4: RefC3 | B4: =IF(INT(MOD(ROW()-2,Feuil1!G$6))=0,MAX($B$1:$B3)+1,MAX(B$1:B3)) -> 2 | C4: =WORKDAY("31/12/2020"+$B4,1,Fer) -> 44200 | D4: =WORKDAY(C$46+$B4+8,1,Fer) -> 44232 | E4: =WORKDAY(D$46+$B4+8,1,Fer) -> 44264 | F4: =WORKDAY(E$46+$B4+8,1,Fer) -> 44298
A5: RefC4 | B5: =IF(INT(MOD(ROW()-2,Feuil1!G$6))=0,MAX($B$1:$B4)+1,MAX(B$1:B4)) -> 2 | C5: =WORKDAY("31/12/2020"+$B5,1,Fer) -> 44200 | D5: =WORKDAY(C$46+$B5+8,1,Fer) -> 44232 | E5: =WORKDAY(D$46+$B5+8,1,Fer) -> 44264 | F5: =WORKDAY(E$46+$B5+8,1,Fer) -> 44298
A6: RefC5 | B6: =IF(INT(MOD(ROW()-2,Feuil1!G$6))=0,MAX($B$1:$B5)+1,MAX(B$1:B5)) -> 3 | C6: =WORKDAY("31/12/2020"+$B6,1,Fer) -> 44200 | D6: =WORKDAY(C$46+$B6+8,1,Fer) -> 44235 | E6: =WORKDAY(D$46+$B6+8,1,Fer) -> 44265 | F6: =WORKDAY(E$46+$B6+8,1,Fer) -> 44298
A7: RefC6 | B7: =IF(INT(MOD(ROW()-2,Feuil1!G$6))=0,MAX($B$1:$B6)+1,MAX(B$1:B6)) -> 3 | C7: =WORKDAY("31/12/2020"+$B7,1,Fer) -> 44200 | D7: =WORKDAY(C$46+$B7+8,1,Fer) -> 44235 | E7: =WORKDAY(D$46+$B7+8,1,Fer) -> 44265 | F7: =WORKDAY(E$46+$B7+8,1,Fer) -> 44298
A8: RefC7 | B8: =IF(INT(MOD(ROW()-2,Feuil1!G$6))=0,MAX($B$1:$B7)+1,MAX(B$1:B7)) -> 4 | C8: =WORKDAY("31/12/2020"+$B8,1,Fer) -> 44201 | D8: =WORKDAY(C$46+$B8+8,1,Fer) -> 44235 | E8: =WORKDAY(D$46+$B8+8,1,Fer) -> 44266 | F8: =WORKDAY(E$46+$B8+8,1,Fer) -> 44298
A9: RefC8 | B9: =IF(INT(MOD(ROW()-2,Feuil1!G$6))=0,MAX($B$1:$B8)+1,MAX(B$1:B8)) -> 4 | C9: =WORKDAY("31/12/2020"+$B9,1,Fer) -> 44201 | D9: =WORKDAY(C$46+$B9+8,1,Fer) -> 44235 | E9: =WORKDAY(D$46+$B9+8,1,Fer) -> 44266 | F9: =WORKDAY(E$46+$B9+8,1,Fer) -> 44298
A10: RefC9 | B10: =IF(INT(MOD(ROW()-2,Feuil1!G$6))=0,MAX($B$1:$B9)+1,MAX(B$1:B9)) -> 5 | C10: =WORKDAY("31/12/2020"+$B10,1,Fer) -> 44202 | D10: =WORKDAY(C$46+$B10+8,1,Fer) -> 44235 | E10: =WORKDAY(D$46+$B10+8,1,Fer) -> 44267 | F10: =WORKDAY(E$46+$B10+8,1,Fer) -> 44299
A11: RefC10 | B11: =IF(INT(MOD(ROW()-2,Feuil1!G$6))=0,MAX($B$1:$B10)+1,MAX(B$1:B10)) -> 5 | C11: =WORKDAY("31/12/2020"+$B11,1,Fer) -> 44202 | D11: =WORKDAY(C$46+$B11+8,1,Fer) -> 44235 | E11: =WORKDAY(D$46+$B11+8,1,Fer) -> 44267 | F11: =WORKDAY(E$46+$B11+8,1,Fer) -> 44299
A12: RefC11 | B12: =IF(INT(MOD(ROW()-2,Feuil1!G$6))=0,MAX($B$1:$B11)+1,MAX(B$1:B11)) -> 6 | C12: =WORKDAY("31/12/2020"+$B12,1,Fer) -> 44203 | D12: =WORKDAY(C$46+$B12+8,1,Fer) -> 44236 | E12: =WORKDAY(D$46+$B12+8,1,Fer) -> 44270 | F12: =WORKDAY(E$46+$B12+8,1,Fer) -> 44300
A13: RefC12 | B13: =IF(INT(MOD(ROW()-2,Feuil1!G$6))=0,MAX($B$1:$B12)+1,MAX(B$1:B12)) -> 6 | C13: =WORKDAY("31/12/2020"+$B13,1,Fer) -> 44203 | D13: =WORKDAY(C$46+$B13+8,1,Fer) -> 44236 | E13: =WORKDAY(D$46+$B13+8,1,Fer) -> 44270 | F13: =WORKDAY(E$46+$B13+8,1,Fer) -> 44300
... A46: RefC45 | B46: =IF(INT(MOD(ROW()-2,Feuil1!G$6))=0,MAX($B$1:$B45)+1,MAX(B$1:B45)) -> 23 | C46: =WORKDAY("31/12/2020"+$B46,1,Fer) -> 44221 | D46: =WORKDAY(C$46+$B46+8,1,Fer) -> 44253 | E46: =WORKDAY(D$46+$B46+8,1,Fer) -> 44285 | F46: =WORKDAY(E$46+$B46+8,1,Fer) -> 44319

Sheet D
A1: D | B1: Jour inventaire | C1: Date 1er inv | D1: Date 2ème inv | E1: Date 3ème inv | F1: Date 4ème inv | G1: Date 5ème inv | H1: Date 6ème inv | I1: Date 7ème inv | J1: Date 8ème inv | K1: Date 9ème inv | L1: Date 10ème inv | M1: Date 11ème inv
A2: RefD1 | B2: =IF(INT(MOD(ROW()-2,Feuil1!H$6))=0,MAX($B$1:$B1)+1,MAX(B$1:B1)) -> 1 | C2: =WORKDAY("31/12/2020"+$B2,1,Fer) -> 44200 | D2: =WORKDAY(C$52+$B2+8,1,Fer) -> 44259 | E2: =WORKDAY(D$52+$B2+8,1,Fer) -> 44319 | F2: =WORKDAY(E$52+$B2+8,1,Fer) -> 44379 | G2: =WORKDAY(F$52+$B2+8,1,Fer) -> 44441 | H2: =WORKDAY(G$52+$B2+8,1,Fer) -> 44502 | I2: =WORKDAY(H$52+$B2+8,1,Fer) -> 44561 | J2: =WORKDAY(I$52+$B2+8,1,Fer) -> 44623 | K2: =WORKDAY(J$52+$B2+8,1,Fer) -> 44683 | ... M2: =WORKDAY(L$52+$B2+8,1,Fer) -> 44805
A3: RefD2 | B3: =IF(INT(MOD(ROW()-2,Feuil1!H$6))=0,MAX($B$1:$B2)+1,MAX(B$1:B2)) -> 2 | C3: =WORKDAY("31/12/2020"+$B3,1,Fer) -> 44200 | D3: =WORKDAY(C$52+$B3+8,1,Fer) -> 44260 | E3: =WORKDAY(D$52+$B3+8,1,Fer) -> 44320 | F3: =WORKDAY(E$52+$B3+8,1,Fer) -> 44382 | G3: =WORKDAY(F$52+$B3+8,1,Fer) -> 44442 | H3: =WORKDAY(G$52+$B3+8,1,Fer) -> 44502 | I3: =WORKDAY(H$52+$B3+8,1,Fer) -> 44564 | J3: =WORKDAY(I$52+$B3+8,1,Fer) -> 44624 | K3: =WORKDAY(J$52+$B3+8,1,Fer) -> 44684 | ... M3: =WORKDAY(L$52+$B3+8,1,Fer) -> 44806
A4: RefD3 | B4: =IF(INT(MOD(ROW()-2,Feuil1!H$6))=0,MAX($B$1:$B3)+1,MAX(B$1:B3)) -> 3 | C4: =WORKDAY("31/12/2020"+$B4,1,Fer) -> 44200 | D4: =WORKDAY(C$52+$B4+8,1,Fer) -> 44263 | E4: =WORKDAY(D$52+$B4+8,1,Fer) -> 44321 | F4: =WORKDAY(E$52+$B4+8,1,Fer) -> 44382 | G4: =WORKDAY(F$52+$B4+8,1,Fer) -> 44445 | H4: =WORKDAY(G$52+$B4+8,1,Fer) -> 44503 | I4: =WORKDAY(H$52+$B4+8,1,Fer) -> 44564 | J4: =WORKDAY(I$52+$B4+8,1,Fer) -> 44627 | K4: =WORKDAY(J$52+$B4+8,1,Fer) -> 44685 | ... M4: =WORKDAY(L$52+$B4+8,1,Fer) -> 44809
A5: RefD4 | B5: =IF(INT(MOD(ROW()-2,Feuil1!H$6))=0,MAX($B$1:$B4)+1,MAX(B$1:B4)) -> 4 | C5: =WORKDAY("31/12/2020"+$B5,1,Fer) -> 44201 | D5: =WORKDAY(C$52+$B5+8,1,Fer) -> 44263 | E5: =WORKDAY(D$52+$B5+8,1,Fer) -> 44322 | F5: =WORKDAY(E$52+$B5+8,1,Fer) -> 44382 | G5: =WORKDAY(F$52+$B5+8,1,Fer) -> 44445 | H5: =WORKDAY(G$52+$B5+8,1,Fer) -> 44504 | I5: =WORKDAY(H$52+$B5+8,1,Fer) -> 44564 | J5: =WORKDAY(I$52+$B5+8,1,Fer) -> 44627 | K5: =WORKDAY(J$52+$B5+8,1,Fer) -> 44686 | ... M5: =WORKDAY(L$52+$B5+8,1,Fer) -> 44809
A6: RefD5 | B6: =IF(INT(MOD(ROW()-2,Feuil1!H$6))=0,MAX($B$1:$B5)+1,MAX(B$1:B5)) -> 5 | C6: =WORKDAY("31/12/2020"+$B6,1,Fer) -> 44202 | D6: =WORKDAY(C$52+$B6+8,1,Fer) -> 44263 | E6: =WORKDAY(D$52+$B6+8,1,Fer) -> 44323 | F6: =WORKDAY(E$52+$B6+8,1,Fer) -> 44383 | G6: =WORKDAY(F$52+$B6+8,1,Fer) -> 44445 | H6: =WORKDAY(G$52+$B6+8,1,Fer) -> 44505 | I6: =WORKDAY(H$52+$B6+8,1,Fer) -> 44565 | J6: =WORKDAY(I$52+$B6+8,1,Fer) -> 44627 | K6: =WORKDAY(J$52+$B6+8,1,Fer) -> 44687 | ... M6: =WORKDAY(L$52+$B6+8,1,Fer) -> 44809
A7: RefD6 | B7: =IF(INT(MOD(ROW()-2,Feuil1!H$6))=0,MAX($B$1:$B6)+1,MAX(B$1:B6)) -> 6 | C7: =WORKDAY("31/12/2020"+$B7,1,Fer) -> 44203 | D7: =WORKDAY(C$52+$B7+8,1,Fer) -> 44264 | E7: =WORKDAY(D$52+$B7+8,1,Fer) -> 44326 | F7: =WORKDAY(E$52+$B7+8,1,Fer) -> 44384 | G7: =WORKDAY(F$52+$B7+8,1,Fer) -> 44446 | H7: =WORKDAY(G$52+$B7+8,1,Fer) -> 44508 | I7: =WORKDAY(H$52+$B7+8,1,Fer) -> 44566 | J7: =WORKDAY(I$52+$B7+8,1,Fer) -> 44628 | K7: =WORKDAY(J$52+$B7+8,1,Fer) -> 44690 | ... M7: =WORKDAY(L$52+$B7+8,1,Fer) -> 44810
A8: RefD7 | B8: =IF(INT(MOD(ROW()-2,Feuil1!H$6))=0,MAX($B$1:$B7)+1,MAX(B$1:B7)) -> 7 | C8: =WORKDAY("31/12/2020"+$B8,1,Fer) -> 44204 | D8: =WORKDAY(C$52+$B8+8,1,Fer) -> 44265 | E8: =WORKDAY(D$52+$B8+8,1,Fer) -> 44326 | F8: =WORKDAY(E$52+$B8+8,1,Fer) -> 44385 | G8: =WORKDAY(F$52+$B8+8,1,Fer) -> 44447 | H8: =WORKDAY(G$52+$B8+8,1,Fer) -> 44508 | I8: =WORKDAY(H$52+$B8+8,1,Fer) -> 44567 | J8: =WORKDAY(I$52+$B8+8,1,Fer) -> 44629 | K8: =WORKDAY(J$52+$B8+8,1,Fer) -> 44690 | ... M8: =WORKDAY(L$52+$B8+8,1,Fer) -> 44811
A9: RefD8 | B9: =IF(INT(MOD(ROW()-2,Feuil1!H$6))=0,MAX($B$1:$B8)+1,MAX(B$1:B8)) -> 8 | C9: =WORKDAY("31/12/2020"+$B9,1,Fer) -> 44207 | D9: =WORKDAY(C$52+$B9+8,1,Fer) -> 44266 | E9: =WORKDAY(D$52+$B9+8,1,Fer) -> 44326 | F9: =WORKDAY(E$52+$B9+8,1,Fer) -> 44386 | G9: =WORKDAY(F$52+$B9+8,1,Fer) -> 44448 | H9: =WORKDAY(G$52+$B9+8,1,Fer) -> 44508 | I9: =WORKDAY(H$52+$B9+8,1,Fer) -> 44568 | J9: =WORKDAY(I$52+$B9+8,1,Fer) -> 44630 | K9: =WORKDAY(J$52+$B9+8,1,Fer) -> 44690 | ... M9: =WORKDAY(L$52+$B9+8,1,Fer) -> 44812
A10: RefD9 | B10: =IF(INT(MOD(ROW()-2,Feuil1!H$6))=0,MAX($B$1:$B9)+1,MAX(B$1:B9)) -> 9 | C10: =WORKDAY("31/12/2020"+$B10,1,Fer) -> 44207 | D10: =WORKDAY(C$52+$B10+8,1,Fer) -> 44267 | E10: =WORKDAY(D$52+$B10+8,1,Fer) -> 44327 | F10: =WORKDAY(E$52+$B10+8,1,Fer) -> 44389 | G10: =WORKDAY(F$52+$B10+8,1,Fer) -> 44449 | H10: =WORKDAY(G$52+$B10+8,1,Fer) -> 44509 | I10: =WORKDAY(H$52+$B10+8,1,Fer) -> 44571 | J10: =WORKDAY(I$52+$B10+8,1,Fer) -> 44631 | K10: =WORKDAY(J$52+$B10+8,1,Fer) -> 44691 | ... M10: =WORKDAY(L$52+$B10+8,1,Fer) -> 44813
A11: RefD10 | B11: =IF(INT(MOD(ROW()-2,Feuil1!H$6))=0,MAX($B$1:$B10)+1,MAX(B$1:B10)) -> 10 | C11: =WORKDAY("31/12/2020"+$B11,1,Fer) -> 44207 | D11: =WORKDAY(C$52+$B11+8,1,Fer) -> 44270 | E11: =WORKDAY(D$52+$B11+8,1,Fer) -> 44328 | F11: =WORKDAY(E$52+$B11+8,1,Fer) -> 44389 | G11: =WORKDAY(F$52+$B11+8,1,Fer) -> 44452 | H11: =WORKDAY(G$52+$B11+8,1,Fer) -> 44510 | I11: =WORKDAY(H$52+$B11+8,1,Fer) -> 44571 | J11: =WORKDAY(I$52+$B11+8,1,Fer) -> 44634 | K11: =WORKDAY(J$52+$B11+8,1,Fer) -> 44692 | ... M11: =WORKDAY(L$52+$B11+8,1,Fer) -> 44816
A12: RefD11 | B12: =IF(INT(MOD(ROW()-2,Feuil1!H$6))=0,MAX($B$1:$B11)+1,MAX(B$1:B11)) -> 11 | C12: =WORKDAY("31/12/2020"+$B12,1,Fer) -> 44208 | D12: =WORKDAY(C$52+$B12+8,1,Fer) -> 44270 | E12: =WORKDAY(D$52+$B12+8,1,Fer) -> 44330 | F12: =WORKDAY(E$52+$B12+8,1,Fer) -> 44389 | G12: =WORKDAY(F$52+$B12+8,1,Fer) -> 44452 | H12: =WORKDAY(G$52+$B12+8,1,Fer) -> 44512 | I12: =WORKDAY(H$52+$B12+8,1,Fer) -> 44571 | J12: =WORKDAY(I$52+$B12+8,1,Fer) -> 44634 | K12: =WORKDAY(J$52+$B12+8,1,Fer) -> 44693 | ... M12: =WORKDAY(L$52+$B12+8,1,Fer) -> 44816
A13: RefD12 | B13: =IF(INT(MOD(ROW()-2,Feuil1!H$6))=0,MAX($B$1:$B12)+1,MAX(B$1:B12)) -> 12 | C13: =WORKDAY("31/12/2020"+$B13,1,Fer) -> 44209 | D13: =WORKDAY(C$52+$B13+8,1,Fer) -> 44270 | E13: =WORKDAY(D$52+$B13+8,1,Fer) -> 44330 | F13: =WORKDAY(E$52+$B13+8,1,Fer) -> 44390 | G13: =WORKDAY(F$52+$B13+8,1,Fer) -> 44452 | H13: =WORKDAY(G$52+$B13+8,1,Fer) -> 44512 | I13: =WORKDAY(H$52+$B13+8,1,Fer) -> 44572 | J13: =WORKDAY(I$52+$B13+8,1,Fer) -> 44634 | K13: =WORKDAY(J$52+$B13+8,1,Fer) -> 44694 | ... M13: =WORKDAY(L$52+$B13+8,1,Fer) -> 44816
... A52: RefD51 | B52: =IF(INT(MOD(ROW()-2,Feuil1!H$6))=0,MAX($B$1:$B51)+1,MAX(B$1:B51)) -> 51 | C52: =WORKDAY("31/12/2020"+$B52,1,Fer) -> 44249 | D52: =WORKDAY(C$52+$B52+8,1,Fer) -> 44309 | E52: =WORKDAY(D$52+$B52+8,1,Fer) -> 44369 | F52: =WORKDAY(E$52+$B52+8,1,Fer) -> 44431 | G52: =WORKDAY(F$52+$B52+8,1,Fer) -> 44491 | H52: =WORKDAY(G$52+$B52+8,1,Fer) -> 44551 | I52: =WORKDAY(H$52+$B52+8,1,Fer) -> 44613 | J52: =WORKDAY(I$52+$B52+8,1,Fer) -> 44673 | K52: =WORKDAY(J$52+$B52+8,1,Fer) -> 44733 | ... M52: =WORKDAY(L$52+$B52+8,1,Fer) -> 44855
