Workbook

Sheet Cartouche
B2: -
B3: -
C5: Maître d'Ouvrage | I5: Maître d'Ouvrage Délégué
E11: Entreprise
E14: Modifications
E15: H
E16: G
E17: F
E18: E
E19: D
E20: C
E21: B
E22: A
E23: -
B25: Phase | E25: Nom du fichier | U25: Format
B26: - | E26: - | U26: A4
B29: Titre du document | E29: Affaire n° | U29: -
B30: -
E31: Date d'émission | S31: Echelle
E32: - | S32: SANS
E34: Plan n° | W34: Indice
F35: x | G35: x | I35: x | K35: x | L35: x | M35: x | O35: N | P35: D | Q35: C | S35: 0 | T35: 0 | U35: 0 | X35: -

Sheet SOMMAIRE
B3: SOMMAIRE
B6: Titre | G6: Page
B8: -Sommaire | C8: . . . . . . . . . . . . . . . . . . . . . . . . . . . . . . . . . . . . . | G8: 1 | I8: 1
B9: -Puissances et foisonnements utilisés | C9: . . . . . . . . . . . . . . . . . . . . . . . . . . . . . . . . . . . . . | G9: =G8+I8 -> 2 | I9: 1
B10: -Tableau d'equipements | C10: . . . . . . . . . . . . . . . . . . . . . . . . . . . . . . . . . . . . . | G10: =G9+I9 -> 3 | I10: 2
B11: -Récapitulatif Onduleurs | C11: . . . . . . . . . . . . . . . . . . . . . . . . . . . . . . . . . . . . . | G11: =G10+I10 -> 5 | I11: 1
B12: -Récapitulatif Tableaux Divisionnaires TD | C12: . . . . . . . . . . . . . . . . . . . . . . . . . . . . . . . . . . . . . | G12: =G11+I11 -> 6 | I12: 1

Sheet ROOM DATA
B2: INFORMATIONS LOCAL | F2: CONSOMMATEURS ELECTRIQUES | Y2: PUISSANCES INSTALLEES (Kva) | AH2: PUISSANCES FOISONNEES (Kva)
B3: REPERE | C3: DESIGNATION | D3: LOCALISATION | F3: ECLAIRAGE | L3: PRISE DE COURANT | R3: ALIMENTATION & FORCE MOTRICE | Y3: ECLAIRAGE | AA3: PC/PT | AD3: FM | AH3: ECLAIRAGE | AJ3: PC/PT | AM3: FM
D4: Niveau | E4: Zone | F4: Tenant | G4: Réseau | H4: Type | I4: Quantité | J4: Punit. (kVA) | K4: FS | L4: Tenant | M4: Réseau | N4: Type | O4: Quantité | P4: Punit. (kVA) | Q4: FS | R4: Tenant | S4: Réseau | T4: Type | U4: Quantité | V4: Punit. (kVA) | W4: FS | Y4: RESEAU | AA4: RESEAU | AD4: RESEAU | AH4: RESEAU | AJ4: RESEAU | AM4: RESEAU
Y5: N | Z5: N/R | AA5: N | AB5: N/R | AC5: OND | AD5: N | AE5: N/R | AF5: OND | AH5: N | AI5: N/R | AJ5: N | AK5: N/R | AL5: OND | AM5: N | AN5: N/R | AO5: OND
C6: Chambre 01.HA 1.1 | D6: R+1 | E6: TB1.1 | F6: TD SG R+1 | G6: N | H6: L1 | I6: 2 | J6: =IF($H6<>"",(VLOOKUP($H6,'Puissances et FS utilisés'!$B$7:$G$44,5,FALSE)),"") -> 0.014130435 | K6: =IF($H6<>"",(VLOOKUP($H6,'Puissances et FS utilisés'!$B$7:$G$44,6,FALSE)),"") -> 1 | L6: TD SG R+1 | M6: N | N6: PCN | O6: 9 | P6: =IF($N6<>"",(VLOOKUP($N6,'Puissances et FS utilisés'!$B$7:$G$44,5,FALSE)),"") -> 0.44444444 | Q6: =IF($N6<>"",(VLOOKUP($N6,'Puissances et FS utilisés'!$B$7:$G$44,6,FALSE)),"") -> 0.3 | Y6: =IF($G6=Y$5,$I6*$J6,"") -> 0.02826087 | Z6: =IF($G6=Z$5,$I6*$J6,"") | AA6: =IF($M6=AA$5,$O6*$P6,"") -> 4 | AB6: =IF($M6=AB$5,$O6*$P6,"") | AC6: =IF($M6=AC$5,$O6*$P6,"") | AD6: =IF($S6=AD$5,$U6*$V6,"") | AE6: =IF($S6=AE$5,$U6*$V6,"") | AF6: =IF($S6=AF$5,$U6*$V6,"") | AH6: =IF($G6=AH$5,$I6*$J6*$K6,"") -> 0.02826087 | AI6: =IF($G6=AI$5,$I6*$J6*$K6,"") | AJ6: =IF($M6=AJ$5,$O6*$P6*$Q6,"") -> 1.2 | AK6: =IF($M6=AK$5,$O6*$P6*$Q6,"") | AL6: =IF($M6=AL$5,$O6*$P6*$Q6,"") | AM6: =IF($S6=AM$5,$U6*$V6*$W6,"") | AN6: =IF($S6=AN$5,$U6*$V6*$W6,"") | AO6: =IF($S6=AO$5,$U6*$V6*$W6,"")
F7: TD SG R+1 | G7: N | H7: L2 | I7: 2 | J7: =IF($H7<>"",(VLOOKUP($H7,'Puissances et FS utilisés'!$B$7:$G$44,5,FALSE)),"") -> 0.0054347826 | K7: =IF($H7<>"",(VLOOKUP($H7,'Puissances et FS utilisés'!$B$7:$G$44,6,FALSE)),"") -> 1 | L7: TD SG R+1 | M7: N | N7: PT6 | O7: 1 | P7: =IF($N7<>"",(VLOOKUP($N7,'Puissances et FS utilisés'!$B$7:$G$44,5,FALSE)),"") -> 0.27777778 | Q7: =IF($N7<>"",(VLOOKUP($N7,'Puissances et FS utilisés'!$B$7:$G$44,6,FALSE)),"") -> 0.3 | V7: =IF($T7<>"",(VLOOKUP($T7,'Puissances et FS utilisés'!$B$7:$G$900,5,FALSE)),"") | W7: =IF($T7<>"",(VLOOKUP($T7,'Puissances et FS utilisés'!$B$7:$G$44,6,FALSE)),"") | Y7: =IF($G7=Y$5,$I7*$J7,"") -> 0.010869565 | Z7: =IF($G7=Z$5,$I7*$J7,"") | AA7: =IF($M7=AA$5,$O7*$P7,"") -> 0.27777778 | AB7: =IF($M7=AB$5,$O7*$P7,"") | AC7: =IF($M7=AC$5,$O7*$P7,"") | AD7: =IF($S7=AD$5,$U7*$V7,"") | AE7: =IF($S7=AE$5,$U7*$V7,"") | AF7: =IF($S7=AF$5,$U7*$V7,"") | AH7: =IF($G7=AH$5,$I7*$J7*$K7,"") -> 0.010869565 | AI7: =IF($G7=AI$5,$I7*$J7*$K7,"") | AJ7: =IF($M7=AJ$5,$O7*$P7*$Q7,"") -> 0.083333333 | AK7: =IF($M7=AK$5,$O7*$P7*$Q7,"") | AL7: =IF($M7=AL$5,$O7*$P7*$Q7,"") | AM7: =IF($S7=AM$5,$U7*$V7*$W7,"") | AN7: =IF($S7=AN$5,$U7*$V7*$W7,"") | AO7: =IF($S7=AO$5,$U7*$V7*$W7,"")
F8: TD SG R+1 | G8: N | H8: L7 | I8: 2 | J8: =IF($H8<>"",(VLOOKUP($H8,'Puissances et FS utilisés'!$B$7:$G$44,5,FALSE)),"") -> 0.010869565 | K8: =IF($H8<>"",(VLOOKUP($H8,'Puissances et FS utilisés'!$B$7:$G$44,6,FALSE)),"") -> 1 | P8: =IF($N8<>"",(VLOOKUP($N8,'Puissances et FS utilisés'!$B$7:$G$44,5,FALSE)),"") | Q8: =IF($N8<>"",(VLOOKUP($N8,'Puissances et FS utilisés'!$B$7:$G$44,6,FALSE)),"") | V8: =IF($T8<>"",(VLOOKUP($T8,'Puissances et FS utilisés'!$B$7:$G$900,5,FALSE)),"") | W8: =IF($T8<>"",(VLOOKUP($T8,'Puissances et FS utilisés'!$B$7:$G$44,6,FALSE)),"") | Y8: =IF($G8=Y$5,$I8*$J8,"") -> 0.02173913 | Z8: =IF($G8=Z$5,$I8*$J8,"") | AA8: =IF($M8=AA$5,$O8*$P8,"") | AB8: =IF($M8=AB$5,$O8*$P8,"") | AC8: =IF($M8=AC$5,$O8*$P8,"") | AD8: =IF($S8=AD$5,$U8*$V8,"") | AE8: =IF($S8=AE$5,$U8*$V8,"") | AF8: =IF($S8=AF$5,$U8*$V8,"") | AH8: =IF($G8=AH$5,$I8*$J8*$K8,"") -> 0.02173913 | AI8: =IF($G8=AI$5,$I8*$J8*$K8,"") | AJ8: =IF($M8=AJ$5,$O8*$P8*$Q8,"") | AK8: =IF($M8=AK$5,$O8*$P8*$Q8,"") | AL8: =IF($M8=AL$5,$O8*$P8*$Q8,"") | AM8: =IF($S8=AM$5,$U8*$V8*$W8,"") | AN8: =IF($S8=AN$5,$U8*$V8*$W8,"") | AO8: =IF($S8=AO$5,$U8*$V8*$W8,"")
C9: Chambre 01.HA 1.1 | D9: R+1 | E9: TB1.1 | F9: TD SG R+1 | G9: N | H9: L8 | I9: 1 | J9: =IF($H9<>"",(VLOOKUP($H9,'Puissances et FS utilisés'!$B$7:$G$44,5,FALSE)),"") -> 0.010869565 | K9: =IF($H9<>"",(VLOOKUP($H9,'Puissances et FS utilisés'!$B$7:$G$44,6,FALSE)),"") -> 1 | P9: =IF($N9<>"",(VLOOKUP($N9,'Puissances et FS utilisés'!$B$7:$G$44,5,FALSE)),"") | Q9: =IF($N9<>"",(VLOOKUP($N9,'Puissances et FS utilisés'!$B$7:$G$44,6,FALSE)),"") | V9: =IF($T9<>"",(VLOOKUP($T9,'Puissances et FS utilisés'!$B$7:$G$900,5,FALSE)),"") | W9: =IF($T9<>"",(VLOOKUP($T9,'Puissances et FS utilisés'!$B$7:$G$44,6,FALSE)),"") | Y9: =IF($G9=Y$5,$I9*$J9,"") -> 0.010869565 | Z9: =IF($G9=Z$5,$I9*$J9,"") | AA9: =IF($M9=AA$5,$O9*$P9,"") | AB9: =IF($M9=AB$5,$O9*$P9,"") | AC9: =IF($M9=AC$5,$O9*$P9,"") | AD9: =IF($S9=AD$5,$U9*$V9,"") | AE9: =IF($S9=AE$5,$U9*$V9,"") | AF9: =IF($S9=AF$5,$U9*$V9,"") | AH9: =IF($G9=AH$5,$I9*$J9*$K9,"") -> 0.010869565 | AI9: =IF($G9=AI$5,$I9*$J9*$K9,"") | AJ9: =IF($M9=AJ$5,$O9*$P9*$Q9,"") | AK9: =IF($M9=AK$5,$O9*$P9*$Q9,"") | AL9: =IF($M9=AL$5,$O9*$P9*$Q9,"") | AM9: =IF($S9=AM$5,$U9*$V9*$W9,"") | AN9: =IF($S9=AN$5,$U9*$V9*$W9,"") | AO9: =IF($S9=AO$5,$U9*$V9*$W9,"")
J10: =IF($H10<>"",(VLOOKUP($H10,'Puissances et FS utilisés'!$B$7:$G$44,5,FALSE)),"") | K10: =IF($H10<>"",(VLOOKUP($H10,'Puissances et FS utilisés'!$B$7:$G$44,6,FALSE)),"") | P10: =IF($N10<>"",(VLOOKUP($N10,'Puissances et FS utilisés'!$B$7:$G$44,5,FALSE)),"") | Q10: =IF($N10<>"",(VLOOKUP($N10,'Puissances et FS utilisés'!$B$7:$G$44,6,FALSE)),"") | V10: =IF($T10<>"",(VLOOKUP($T10,'Puissances et FS utilisés'!$B$7:$G$900,5,FALSE)),"") | Y10: =IF($G10=Y$5,$I10*$J10,"") | Z10: =IF($G10=Z$5,$I10*$J10,"") | AA10: =IF($M10=AA$5,$O10*$P10,"") | AB10: =IF($M10=AB$5,$O10*$P10,"") | AC10: =IF($M10=AC$5,$O10*$P10,"") | AD10: =IF($S10=AD$5,$U10*$V10,"") | AE10: =IF($S10=AE$5,$U10*$V10,"") | AF10: =IF($S10=AF$5,$U10*$V10,"") | AH10: =IF($G10=AH$5,$I10*$J10*$K10,"") | AI10: =IF($G10=AI$5,$I10*$J10*$K10,"") | AJ10: =IF($M10=AJ$5,$O10*$P10*$Q10,"") | AK10: =IF($M10=AK$5,$O10*$P10*$Q10,"") | AL10: =IF($M10=AL$5,$O10*$P10*$Q10,"") | AM10: =IF($S10=AM$5,$U10*$V10*$W10,"") | AN10: =IF($S10=AN$5,$U10*$V10*$W10,"") | AO10: =IF($S10=AO$5,$U10*$V10*$W10,"")
J11: =IF($H11<>"",(VLOOKUP($H11,'Puissances et FS utilisés'!$B$7:$G$44,5,FALSE)),"") | K11: =IF($H11<>"",(VLOOKUP($H11,'Puissances et FS utilisés'!$B$7:$G$44,6,FALSE)),"") | P11: =IF($N11<>"",(VLOOKUP($N11,'Puissances et FS utilisés'!$B$7:$G$44,5,FALSE)),"") | Q11: =IF($N11<>"",(VLOOKUP($N11,'Puissances et FS utilisés'!$B$7:$G$44,6,FALSE)),"") | V11: =IF($T11<>"",(VLOOKUP($T11,'Puissances et FS utilisés'!$B$7:$G$900,5,FALSE)),"") | W11: =IF($T11<>"",(VLOOKUP($T11,'Puissances et FS utilisés'!$B$7:$G$44,6,FALSE)),"") | Y11: =IF($G11=Y$5,$I11*$J11,"") | Z11: =IF($G11=Z$5,$I11*$J11,"") | AA11: =IF($M11=AA$5,$O11*$P11,"") | AB11: =IF($M11=AB$5,$O11*$P11,"") | AC11: =IF($M11=AC$5,$O11*$P11,"") | AD11: =IF($S11=AD$5,$U11*$V11,"") | AE11: =IF($S11=AE$5,$U11*$V11,"") | AF11: =IF($S11=AF$5,$U11*$V11,"") | AH11: =IF($G11=AH$5,$I11*$J11*$K11,"") | AI11: =IF($G11=AI$5,$I11*$J11*$K11,"") | AJ11: =IF($M11=AJ$5,$O11*$P11*$Q11,"") | AK11: =IF($M11=AK$5,$O11*$P11*$Q11,"") | AL11: =IF($M11=AL$5,$O11*$P11*$Q11,"") | AM11: =IF($S11=AM$5,$U11*$V11*$W11,"") | AN11: =IF($S11=AN$5,$U11*$V11*$W11,"") | AO11: =IF($S11=AO$5,$U11*$V11*$W11,"")
C12: SDB 01.HA 1.1 | D12: R+1 | E12: TB1.1 | F12: TD SG R+1 | G12: N | H12: L3 | I12: 2 | J12: =IF($H12<>"",(VLOOKUP($H12,'Puissances et FS utilisés'!$B$7:$G$44,5,FALSE)),"") -> 0.013043478 | K12: =IF($H12<>"",(VLOOKUP($H12,'Puissances et FS utilisés'!$B$7:$G$44,6,FALSE)),"") -> 1 | L12: TD SG R+1 | M12: N | N12: PCN-R | O12: 1 | P12: =IF($N12<>"",(VLOOKUP($N12,'Puissances et FS utilisés'!$B$7:$G$44,5,FALSE)),"") -> 0.44444444 | Q12: =IF($N12<>"",(VLOOKUP($N12,'Puissances et FS utilisés'!$B$7:$G$44,6,FALSE)),"") -> 0.3 | R12: TD SG R+1 | S12: N | T12: FA-B | U12: 1 | V12: =IF($T12<>"",(VLOOKUP($T12,'Puissances et FS utilisés'!$B$7:$G$900,5,FALSE)),"") -> 0.06 | W12: =IF($T12<>"",(VLOOKUP($T12,'Puissances et FS utilisés'!$B$7:$G$900,6,FALSE)),"") -> 0.5 | Y12: =IF($G12=Y$5,$I12*$J12,"") -> 0.026086957 | Z12: =IF($G12=Z$5,$I12*$J12,"") | AA12: =IF($M12=AA$5,$O12*$P12,"") -> 0.44444444 | AB12: =IF($M12=AB$5,$O12*$P12,"") | AC12: =IF($M12=AC$5,$O12*$P12,"") | AD12: =IF($S12=AD$5,$U12*$V12,"") -> 0.06 | AE12: =IF($S12=AE$5,$U12*$V12,"") | AF12: =IF($S12=AF$5,$U12*$V12,"") | AH12: =IF($G12=AH$5,$I12*$J12*$K12,"") -> 0.026086957 | AI12: =IF($G12=AI$5,$I12*$J12*$K12,"") | AJ12: =IF($M12=AJ$5,$O12*$P12*$Q12,"") -> 0.13333333 | AK12: =IF($M12=AK$5,$O12*$P12*$Q12,"") | AL12: =IF($M12=AL$5,$O12*$P12*$Q12,"") | AM12: =IF($S12=AM$5,$U12*$V12*$W12,"") -> 0.03 | AN12: =IF($S12=AN$5,$U12*$V12*$W12,"") | AO12: =IF($S12=AO$5,$U12*$V12*$W12,"")
J13: =IF($H13<>"",(VLOOKUP($H13,'Puissances et FS utilisés'!$B$7:$G$44,5,FALSE)),"") | K13: =IF($H13<>"",(VLOOKUP($H13,'Puissances et FS utilisés'!$B$7:$G$44,6,FALSE)),"") | P13: =IF($N13<>"",(VLOOKUP($N13,'Puissances et FS utilisés'!$B$7:$G$44,5,FALSE)),"") | Q13: =IF($N13<>"",(VLOOKUP($N13,'Puissances et FS utilisés'!$B$7:$G$44,6,FALSE)),"") | V13: =IF($T13<>"",(VLOOKUP($T13,'Puissances et FS utilisés'!$B$7:$G$900,5,FALSE)),"") | Y13: =IF($G13=Y$5,$I13*$J13,"") | Z13: =IF($G13=Z$5,$I13*$J13,"") | AA13: =IF($M13=AA$5,$O13*$P13,"") | AB13: =IF($M13=AB$5,$O13*$P13,"") | AC13: =IF($M13=AC$5,$O13*$P13,"") | AD13: =IF($S13=AD$5,$U13*$V13,"") | AE13: =IF($S13=AE$5,$U13*$V13,"") | AF13: =IF($S13=AF$5,$U13*$V13,"") | AH13: =IF($G13=AH$5,$I13*$J13*$K13,"") | AI13: =IF($G13=AI$5,$I13*$J13*$K13,"") | AJ13: =IF($M13=AJ$5,$O13*$P13*$Q13,"") | AK13: =IF($M13=AK$5,$O13*$P13*$Q13,"") | AL13: =IF($M13=AL$5,$O13*$P13*$Q13,"") | AM13: =IF($S13=AM$5,$U13*$V13*$W13,"") | AN13: =IF($S13=AN$5,$U13*$V13*$W13,"") | AO13: =IF($S13=AO$5,$U13*$V13*$W13,"")
J14: =IF($H14<>"",(VLOOKUP($H14,'Puissances et FS utilisés'!$B$7:$G$44,5,FALSE)),"") | K14: =IF($H14<>"",(VLOOKUP($H14,'Puissances et FS utilisés'!$B$7:$G$44,6,FALSE)),"") | P14: =IF($N14<>"",(VLOOKUP($N14,'Puissances et FS utilisés'!$B$7:$G$44,5,FALSE)),"") | Q14: =IF($N14<>"",(VLOOKUP($N14,'Puissances et FS utilisés'!$B$7:$G$44,6,FALSE)),"") | V14: =IF($T14<>"",(VLOOKUP($T14,'Puissances et FS utilisés'!$B$7:$G$900,5,FALSE)),"") | W14: =IF($T14<>"",(VLOOKUP($T14,'Puissances et FS utilisés'!$B$7:$G$44,6,FALSE)),"") | Y14: =IF($G14=Y$5,$I14*$J14,"") | Z14: =IF($G14=Z$5,$I14*$J14,"") | AA14: =IF($M14=AA$5,$O14*$P14,"") | AB14: =IF($M14=AB$5,$O14*$P14,"") | AC14: =IF($M14=AC$5,$O14*$P14,"") | AD14: =IF($S14=AD$5,$U14*$V14,"") | AE14: =IF($S14=AE$5,$U14*$V14,"") | AF14: =IF($S14=AF$5,$U14*$V14,"") | AH14: =IF($G14=AH$5,$I14*$J14*$K14,"") | AI14: =IF($G14=AI$5,$I14*$J14*$K14,"") | AJ14: =IF($M14=AJ$5,$O14*$P14*$Q14,"") | AK14: =IF($M14=AK$5,$O14*$P14*$Q14,"") | AL14: =IF($M14=AL$5,$O14*$P14*$Q14,"") | AM14: =IF($S14=AM$5,$U14*$V14*$W14,"") | AN14: =IF($S14=AN$5,$U14*$V14*$W14,"") | AO14: =IF($S14=AO$5,$U14*$V14*$W14,"")
C15: Chambre 01.HA 1.2 | D15: R+1 | E15: TB1.1 | F15: TD SG R+1 | G15: N | H15: L1 | I15: 1 | J15: =IF($H15<>"",(VLOOKUP($H15,'Puissances et FS utilisés'!$B$7:$G$44,5,FALSE)),"") -> 0.014130435 | K15: =IF($H15<>"",(VLOOKUP($H15,'Puissances et FS utilisés'!$B$7:$G$44,6,FALSE)),"") -> 1 | L15: TD SG R+1 | M15: N | N15: PCN | O15: 8 | P15: =IF($N15<>"",(VLOOKUP($N15,'Puissances et FS utilisés'!$B$7:$G$44,5,FALSE)),"") -> 0.44444444 | Q15: =IF($N15<>"",(VLOOKUP($N15,'Puissances et FS utilisés'!$B$7:$G$44,6,FALSE)),"") -> 0.3 | Y15: =IF($G15=Y$5,$I15*$J15,"") -> 0.014130435 | Z15: =IF($G15=Z$5,$I15*$J15,"") | AA15: =IF($M15=AA$5,$O15*$P15,"") -> 3.5555556 | AB15: =IF($M15=AB$5,$O15*$P15,"") | AC15: =IF($M15=AC$5,$O15*$P15,"") | AD15: =IF($S15=AD$5,$U15*$V15,"") | AE15: =IF($S15=AE$5,$U15*$V15,"") | AF15: =IF($S15=AF$5,$U15*$V15,"") | AH15: =IF($G15=AH$5,$I15*$J15*$K15,"") -> 0.014130435 | AI15: =IF($G15=AI$5,$I15*$J15*$K15,"") | AJ15: =IF($M15=AJ$5,$O15*$P15*$Q15,"") -> 1.0666667 | AK15: =IF($M15=AK$5,$O15*$P15*$Q15,"") | AL15: =IF($M15=AL$5,$O15*$P15*$Q15,"") | AM15: =IF($S15=AM$5,$U15*$V15*$W15,"") | AN15: =IF($S15=AN$5,$U15*$V15*$W15,"") | AO15: =IF($S15=AO$5,$U15*$V15*$W15,"")
F16: TD SG R+1 | G16: N | H16: L2 | I16: 2 | J16: =IF($H16<>"",(VLOOKUP($H16,'Puissances et FS utilisés'!$B$7:$G$44,5,FALSE)),"") -> 0.0054347826 | K16: =IF($H16<>"",(VLOOKUP($H16,'Puissances et FS utilisés'!$B$7:$G$44,6,FALSE)),"") -> 1 | L16: TD SG R+1 | M16: N | N16: PT6 | O16: 1 | P16: =IF($N16<>"",(VLOOKUP($N16,'Puissances et FS utilisés'!$B$7:$G$44,5,FALSE)),"") -> 0.27777778 | Q16: =IF($N16<>"",(VLOOKUP($N16,'Puissances et FS utilisés'!$B$7:$G$44,6,FALSE)),"") -> 0.3 | V16: =IF($T16<>"",(VLOOKUP($T16,'Puissances et FS utilisés'!$B$7:$G$900,5,FALSE)),"") | W16: =IF($T16<>"",(VLOOKUP($T16,'Puissances et FS utilisés'!$B$7:$G$44,6,FALSE)),"") | Y16: =IF($G16=Y$5,$I16*$J16,"") -> 0.010869565 | Z16: =IF($G16=Z$5,$I16*$J16,"") | AA16: =IF($M16=AA$5,$O16*$P16,"") -> 0.27777778 | AB16: =IF($M16=AB$5,$O16*$P16,"") | AC16: =IF($M16=AC$5,$O16*$P16,"") | AD16: =IF($S16=AD$5,$U16*$V16,"") | AE16: =IF($S16=AE$5,$U16*$V16,"") | AF16: =IF($S16=AF$5,$U16*$V16,"") | AH16: =IF($G16=AH$5,$I16*$J16*$K16,"") -> 0.010869565 | AI16: =IF($G16=AI$5,$I16*$J16*$K16,"") | AJ16: =IF($M16=AJ$5,$O16*$P16*$Q16,"") -> 0.083333333 | AK16: =IF($M16=AK$5,$O16*$P16*$Q16,"") | AL16: =IF($M16=AL$5,$O16*$P16*$Q16,"") | AM16: =IF($S16=AM$5,$U16*$V16*$W16,"") | AN16: =IF($S16=AN$5,$U16*$V16*$W16,"") | AO16: =IF($S16=AO$5,$U16*$V16*$W16,"")
F17: TD SG R+1 | G17: N | H17: L7 | I17: 2 | J17: =IF($H17<>"",(VLOOKUP($H17,'Puissances et FS utilisés'!$B$7:$G$44,5,FALSE)),"") -> 0.010869565 | K17: =IF($H17<>"",(VLOOKUP($H17,'Puissances et FS utilisés'!$B$7:$G$44,6,FALSE)),"") -> 1 | P17: =IF($N17<>"",(VLOOKUP($N17,'Puissances et FS utilisés'!$B$7:$G$44,5,FALSE)),"") | Q17: =IF($N17<>"",(VLOOKUP($N17,'Puissances et FS utilisés'!$B$7:$G$44,6,FALSE)),"") | V17: =IF($T17<>"",(VLOOKUP($T17,'Puissances et FS utilisés'!$B$7:$G$900,5,FALSE)),"") | W17: =IF($T17<>"",(VLOOKUP($T17,'Puissances et FS utilisés'!$B$7:$G$44,6,FALSE)),"") | Y17: =IF($G17=Y$5,$I17*$J17,"") -> 0.02173913 | Z17: =IF($G17=Z$5,$I17*$J17,"") | AA17: =IF($M17=AA$5,$O17*$P17,"") | AB17: =IF($M17=AB$5,$O17*$P17,"") | AC17: =IF($M17=AC$5,$O17*$P17,"") | AD17: =IF($S17=AD$5,$U17*$V17,"") | AE17: =IF($S17=AE$5,$U17*$V17,"") | AF17: =IF($S17=AF$5,$U17*$V17,"") | AH17: =IF($G17=AH$5,$I17*$J17*$K17,"") -> 0.02173913 | AI17: =IF($G17=AI$5,$I17*$J17*$K17,"") | AJ17: =IF($M17=AJ$5,$O17*$P17*$Q17,"") | AK17: =IF($M17=AK$5,$O17*$P17*$Q17,"") | AL17: =IF($M17=AL$5,$O17*$P17*$Q17,"") | AM17: =IF($S17=AM$5,$U17*$V17*$W17,"") | AN17: =IF($S17=AN$5,$U17*$V17*$W17,"") | AO17: =IF($S17=AO$5,$U17*$V17*$W17,"")
C18: Chambre 01.HA 1.2 | D18: R+1 | E18: TB1.1 | F18: TD SG R+1 | G18: N | H18: L8 | I18: 1 | J18: =IF($H18<>"",(VLOOKUP($H18,'Puissances et FS utilisés'!$B$7:$G$44,5,FALSE)),"") -> 0.010869565 | K18: =IF($H18<>"",(VLOOKUP($H18,'Puissances et FS utilisés'!$B$7:$G$44,6,FALSE)),"") -> 1 | P18: =IF($N18<>"",(VLOOKUP($N18,'Puissances et FS utilisés'!$B$7:$G$44,5,FALSE)),"") | Q18: =IF($N18<>"",(VLOOKUP($N18,'Puissances et FS utilisés'!$B$7:$G$44,6,FALSE)),"") | V18: =IF($T18<>"",(VLOOKUP($T18,'Puissances et FS utilisés'!$B$7:$G$900,5,FALSE)),"") | W18: =IF($T18<>"",(VLOOKUP($T18,'Puissances et FS utilisés'!$B$7:$G$44,6,FALSE)),"") | Y18: =IF($G18=Y$5,$I18*$J18,"") -> 0.010869565 | Z18: =IF($G18=Z$5,$I18*$J18,"") | AA18: =IF($M18=AA$5,$O18*$P18,"") | AB18: =IF($M18=AB$5,$O18*$P18,"") | AC18: =IF($M18=AC$5,$O18*$P18,"") | AD18: =IF($S18=AD$5,$U18*$V18,"") | AE18: =IF($S18=AE$5,$U18*$V18,"") | AF18: =IF($S18=AF$5,$U18*$V18,"") | AH18: =IF($G18=AH$5,$I18*$J18*$K18,"") -> 0.010869565 | AI18: =IF($G18=AI$5,$I18*$J18*$K18,"") | AJ18: =IF($M18=AJ$5,$O18*$P18*$Q18,"") | AK18: =IF($M18=AK$5,$O18*$P18*$Q18,"") | AL18: =IF($M18=AL$5,$O18*$P18*$Q18,"") | AM18: =IF($S18=AM$5,$U18*$V18*$W18,"") | AN18: =IF($S18=AN$5,$U18*$V18*$W18,"") | AO18: =IF($S18=AO$5,$U18*$V18*$W18,"")
J19: =IF($H19<>"",(VLOOKUP($H19,'Puissances et FS utilisés'!$B$7:$G$44,5,FALSE)),"") | K19: =IF($H19<>"",(VLOOKUP($H19,'Puissances et FS utilisés'!$B$7:$G$44,6,FALSE)),"") | P19: =IF($N19<>"",(VLOOKUP($N19,'Puissances et FS utilisés'!$B$7:$G$44,5,FALSE)),"") | Q19: =IF($N19<>"",(VLOOKUP($N19,'Puissances et FS utilisés'!$B$7:$G$44,6,FALSE)),"") | V19: =IF($T19<>"",(VLOOKUP($T19,'Puissances et FS utilisés'!$B$7:$G$900,5,FALSE)),"") | Y19: =IF($G19=Y$5,$I19*$J19,"") | Z19: =IF($G19=Z$5,$I19*$J19,"") | AA19: =IF($M19=AA$5,$O19*$P19,"") | AB19: =IF($M19=AB$5,$O19*$P19,"") | AC19: =IF($M19=AC$5,$O19*$P19,"") | AD19: =IF($S19=AD$5,$U19*$V19,"") | AE19: =IF($S19=AE$5,$U19*$V19,"") | AF19: =IF($S19=AF$5,$U19*$V19,"") | AH19: =IF($G19=AH$5,$I19*$J19*$K19,"") | AI19: =IF($G19=AI$5,$I19*$J19*$K19,"") | AJ19: =IF($M19=AJ$5,$O19*$P19*$Q19,"") | AK19: =IF($M19=AK$5,$O19*$P19*$Q19,"") | AL19: =IF($M19=AL$5,$O19*$P19*$Q19,"") | AM19: =IF($S19=AM$5,$U19*$V19*$W19,"") | AN19: =IF($S19=AN$5,$U19*$V19*$W19,"") | AO19: =IF($S19=AO$5,$U19*$V19*$W19,"")
J20: =IF($H20<>"",(VLOOKUP($H20,'Puissances et FS utilisés'!$B$7:$G$44,5,FALSE)),"") | K20: =IF($H20<>"",(VLOOKUP($H20,'Puissances et FS utilisés'!$B$7:$G$44,6,FALSE)),"") | P20: =IF($N20<>"",(VLOOKUP($N20,'Puissances et FS utilisés'!$B$7:$G$44,5,FALSE)),"") | Q20: =IF($N20<>"",(VLOOKUP($N20,'Puissances et FS utilisés'!$B$7:$G$44,6,FALSE)),"") | V20: =IF($T20<>"",(VLOOKUP($T20,'Puissances et FS utilisés'!$B$7:$G$900,5,FALSE)),"") | W20: =IF($T20<>"",(VLOOKUP($T20,'Puissances et FS utilisés'!$B$7:$G$44,6,FALSE)),"") | Y20: =IF($G20=Y$5,$I20*$J20,"") | Z20: =IF($G20=Z$5,$I20*$J20,"") | AA20: =IF($M20=AA$5,$O20*$P20,"") | AB20: =IF($M20=AB$5,$O20*$P20,"") | AC20: =IF($M20=AC$5,$O20*$P20,"") | AD20: =IF($S20=AD$5,$U20*$V20,"") | AE20: =IF($S20=AE$5,$U20*$V20,"") | AF20: =IF($S20=AF$5,$U20*$V20,"") | AH20: =IF($G20=AH$5,$I20*$J20*$K20,"") | AI20: =IF($G20=AI$5,$I20*$J20*$K20,"") | AJ20: =IF($M20=AJ$5,$O20*$P20*$Q20,"") | AK20: =IF($M20=AK$5,$O20*$P20*$Q20,"") | AL20: =IF($M20=AL$5,$O20*$P20*$Q20,"") | AM20: =IF($S20=AM$5,$U20*$V20*$W20,"") | AN20: =IF($S20=AN$5,$U20*$V20*$W20,"") | AO20: =IF($S20=AO$5,$U20*$V20*$W20,"")
C21: SDB 01.HA 1.2 | D21: R+1 | E21: TB1.1 | F21: TD SG R+1 | G21: N | H21: L3 | I21: 2 | J21: =IF($H21<>"",(VLOOKUP($H21,'Puissances et FS utilisés'!$B$7:$G$44,5,FALSE)),"") -> 0.013043478 | K21: =IF($H21<>"",(VLOOKUP($H21,'Puissances et FS utilisés'!$B$7:$G$44,6,FALSE)),"") -> 1 | L21: TD SG R+1 | M21: N | N21: PCN-R | O21: 1 | P21: =IF($N21<>"",(VLOOKUP($N21,'Puissances et FS utilisés'!$B$7:$G$44,5,FALSE)),"") -> 0.44444444 | Q21: =IF($N21<>"",(VLOOKUP($N21,'Puissances et FS utilisés'!$B$7:$G$44,6,FALSE)),"") -> 0.3 | R21: TD SG R+1 | S21: N | T21: FA-B | U21: 1 | V21: =IF($T21<>"",(VLOOKUP($T21,'Puissances et FS utilisés'!$B$7:$G$900,5,FALSE)),"") -> 0.06 | W21: =IF($T21<>"",(VLOOKUP($T21,'Puissances et FS utilisés'!$B$7:$G$900,6,FALSE)),"") -> 0.5 | Y21: =IF($G21=Y$5,$I21*$J21,"") -> 0.026086957 | Z21: =IF($G21=Z$5,$I21*$J21,"") | AA21: =IF($M21=AA$5,$O21*$P21,"") -> 0.44444444 | AB21: =IF($M21=AB$5,$O21*$P21,"") | AC21: =IF($M21=AC$5,$O21*$P21,"") | AD21: =IF($S21=AD$5,$U21*$V21,"") -> 0.06 | AE21: =IF($S21=AE$5,$U21*$V21,"") | AF21: =IF($S21=AF$5,$U21*$V21,"") | AH21: =IF($G21=AH$5,$I21*$J21*$K21,"") -> 0.026086957 | AI21: =IF($G21=AI$5,$I21*$J21*$K21,"") | AJ21: =IF($M21=AJ$5,$O21*$P21*$Q21,"") -> 0.13333333 | AK21: =IF($M21=AK$5,$O21*$P21*$Q21,"") | AL21: =IF($M21=AL$5,$O21*$P21*$Q21,"") | AM21: =IF($S21=AM$5,$U21*$V21*$W21,"") -> 0.03 | AN21: =IF($S21=AN$5,$U21*$V21*$W21,"") | AO21: =IF($S21=AO$5,$U21*$V21*$W21,"")
J22: =IF($H22<>"",(VLOOKUP($H22,'Puissances et FS utilisés'!$B$7:$G$44,5,FALSE)),"") | K22: =IF($H22<>"",(VLOOKUP($H22,'Puissances et FS utilisés'!$B$7:$G$44,6,FALSE)),"") | P22: =IF($N22<>"",(VLOOKUP($N22,'Puissances et FS utilisés'!$B$7:$G$44,5,FALSE)),"") | Q22: =IF($N22<>"",(VLOOKUP($N22,'Puissances et FS utilisés'!$B$7:$G$44,6,FALSE)),"") | V22: =IF($T22<>"",(VLOOKUP($T22,'Puissances et FS utilisés'!$B$7:$G$900,5,FALSE)),"") | Y22: =IF($G22=Y$5,$I22*$J22,"") | Z22: =IF($G22=Z$5,$I22*$J22,"") | AA22: =IF($M22=AA$5,$O22*$P22,"") | AB22: =IF($M22=AB$5,$O22*$P22,"") | AC22: =IF($M22=AC$5,$O22*$P22,"") | AD22: =IF($S22=AD$5,$U22*$V22,"") | AE22: =IF($S22=AE$5,$U22*$V22,"") | AF22: =IF($S22=AF$5,$U22*$V22,"") | AH22: =IF($G22=AH$5,$I22*$J22*$K22,"") | AI22: =IF($G22=AI$5,$I22*$J22*$K22,"") | AJ22: =IF($M22=AJ$5,$O22*$P22*$Q22,"") | AK22: =IF($M22=AK$5,$O22*$P22*$Q22,"") | AL22: =IF($M22=AL$5,$O22*$P22*$Q22,"") | AM22: =IF($S22=AM$5,$U22*$V22*$W22,"") | AN22: =IF($S22=AN$5,$U22*$V22*$W22,"") | AO22: =IF($S22=AO$5,$U22*$V22*$W22,"")
J23: =IF($H23<>"",(VLOOKUP($H23,'Puissances et FS utilisés'!$B$7:$G$44,5,FALSE)),"") | K23: =IF($H23<>"",(VLOOKUP($H23,'Puissances et FS utilisés'!$B$7:$G$44,6,FALSE)),"") | P23: =IF($N23<>"",(VLOOKUP($N23,'Puissances et FS utilisés'!$B$7:$G$44,5,FALSE)),"") | Q23: =IF($N23<>"",(VLOOKUP($N23,'Puissances et FS utilisés'!$B$7:$G$44,6,FALSE)),"") | V23: =IF($T23<>"",(VLOOKUP($T23,'Puissances et FS utilisés'!$B$7:$G$900,5,FALSE)),"") | W23: =IF($T23<>"",(VLOOKUP($T23,'Puissances et FS utilisés'!$B$7:$G$44,6,FALSE)),"") | Y23: =IF($G23=Y$5,$I23*$J23,"") | Z23: =IF($G23=Z$5,$I23*$J23,"") | AA23: =IF($M23=AA$5,$O23*$P23,"") | AB23: =IF($M23=AB$5,$O23*$P23,"") | AC23: =IF($M23=AC$5,$O23*$P23,"") | AD23: =IF($S23=AD$5,$U23*$V23,"") | AE23: =IF($S23=AE$5,$U23*$V23,"") | AF23: =IF($S23=AF$5,$U23*$V23,"") | AH23: =IF($G23=AH$5,$I23*$J23*$K23,"") | AI23: =IF($G23=AI$5,$I23*$J23*$K23,"") | AJ23: =IF($M23=AJ$5,$O23*$P23*$Q23,"") | AK23: =IF($M23=AK$5,$O23*$P23*$Q23,"") | AL23: =IF($M23=AL$5,$O23*$P23*$Q23,"") | AM23: =IF($S23=AM$5,$U23*$V23*$W23,"") | AN23: =IF($S23=AN$5,$U23*$V23*$W23,"") | AO23: =IF($S23=AO$5,$U23*$V23*$W23,"")
C24: Chambre 01.HA 1.3 | D24: R+1 | E24: TB1.2 | F24: TD SG R+1 | G24: N | H24: L1 | I24: 1 | J24: =IF($H24<>"",(VLOOKUP($H24,'Puissances et FS utilisés'!$B$7:$G$44,5,FALSE)),"") -> 0.014130435 | K24: =IF($H24<>"",(VLOOKUP($H24,'Puissances et FS utilisés'!$B$7:$G$44,6,FALSE)),"") -> 1 | L24: TD SG R+1 | M24: N | N24: PCN | O24: 8 | P24: =IF($N24<>"",(VLOOKUP($N24,'Puissances et FS utilisés'!$B$7:$G$44,5,FALSE)),"") -> 0.44444444 | Q24: =IF($N24<>"",(VLOOKUP($N24,'Puissances et FS utilisés'!$B$7:$G$44,6,FALSE)),"") -> 0.3 | Y24: =IF($G24=Y$5,$I24*$J24,"") -> 0.014130435 | Z24: =IF($G24=Z$5,$I24*$J24,"") | AA24: =IF($M24=AA$5,$O24*$P24,"") -> 3.5555556 | AB24: =IF($M24=AB$5,$O24*$P24,"") | AC24: =IF($M24=AC$5,$O24*$P24,"") | AD24: =IF($S24=AD$5,$U24*$V24,"") | AE24: =IF($S24=AE$5,$U24*$V24,"") | AF24: =IF($S24=AF$5,$U24*$V24,"") | AH24: =IF($G24=AH$5,$I24*$J24*$K24,"") -> 0.014130435 | AI24: =IF($G24=AI$5,$I24*$J24*$K24,"") | AJ24: =IF($M24=AJ$5,$O24*$P24*$Q24,"") -> 1.0666667 | AK24: =IF($M24=AK$5,$O24*$P24*$Q24,"") | AL24: =IF($M24=AL$5,$O24*$P24*$Q24,"") | AM24: =IF($S24=AM$5,$U24*$V24*$W24,"") | AN24: =IF($S24=AN$5,$U24*$V24*$W24,"") | AO24: =IF($S24=AO$5,$U24*$V24*$W24,"")
F25: TD SG R+1 | G25: N | H25: L2 | I25: 2 | J25: =IF($H25<>"",(VLOOKUP($H25,'Puissances et FS utilisés'!$B$7:$G$44,5,FALSE)),"") -> 0.0054347826 | K25: =IF($H25<>"",(VLOOKUP($H25,'Puissances et FS utilisés'!$B$7:$G$44,6,FALSE)),"") -> 1 | L25: TD SG R+1 | M25: N | N25: PT6 | O25: 1 | P25: =IF($N25<>"",(VLOOKUP($N25,'Puissances et FS utilisés'!$B$7:$G$44,5,FALSE)),"") -> 0.27777778 | Q25: =IF($N25<>"",(VLOOKUP($N25,'Puissances et FS utilisés'!$B$7:$G$44,6,FALSE)),"") -> 0.3 | V25: =IF($T25<>"",(VLOOKUP($T25,'Puissances et FS utilisés'!$B$7:$G$900,5,FALSE)),"") | W25: =IF($T25<>"",(VLOOKUP($T25,'Puissances et FS utilisés'!$B$7:$G$44,6,FALSE)),"") | Y25: =IF($G25=Y$5,$I25*$J25,"") -> 0.010869565 | Z25: =IF($G25=Z$5,$I25*$J25,"") | AA25: =IF($M25=AA$5,$O25*$P25,"") -> 0.27777778 | AB25: =IF($M25=AB$5,$O25*$P25,"") | AC25: =IF($M25=AC$5,$O25*$P25,"") | AD25: =IF($S25=AD$5,$U25*$V25,"") | AE25: =IF($S25=AE$5,$U25*$V25,"") | AF25: =IF($S25=AF$5,$U25*$V25,"") | AH25: =IF($G25=AH$5,$I25*$J25*$K25,"") -> 0.010869565 | AI25: =IF($G25=AI$5,$I25*$J25*$K25,"") | AJ25: =IF($M25=AJ$5,$O25*$P25*$Q25,"") -> 0.083333333 | AK25: =IF($M25=AK$5,$O25*$P25*$Q25,"") | AL25: =IF($M25=AL$5,$O25*$P25*$Q25,"") | AM25: =IF($S25=AM$5,$U25*$V25*$W25,"") | AN25: =IF($S25=AN$5,$U25*$V25*$W25,"") | AO25: =IF($S25=AO$5,$U25*$V25*$W25,"")
F26: TD SG R+1 | G26: N | H26: L7 | I26: 2 | J26: =IF($H26<>"",(VLOOKUP($H26,'Puissances et FS utilisés'!$B$7:$G$44,5,FALSE)),"") -> 0.010869565 | K26: =IF($H26<>"",(VLOOKUP($H26,'Puissances et FS utilisés'!$B$7:$G$44,6,FALSE)),"") -> 1 | P26: =IF($N26<>"",(VLOOKUP($N26,'Puissances et FS utilisés'!$B$7:$G$44,5,FALSE)),"") | Q26: =IF($N26<>"",(VLOOKUP($N26,'Puissances et FS utilisés'!$B$7:$G$44,6,FALSE)),"") | V26: =IF($T26<>"",(VLOOKUP($T26,'Puissances et FS utilisés'!$B$7:$G$900,5,FALSE)),"") | W26: =IF($T26<>"",(VLOOKUP($T26,'Puissances et FS utilisés'!$B$7:$G$44,6,FALSE)),"") | Y26: =IF($G26=Y$5,$I26*$J26,"") -> 0.02173913 | Z26: =IF($G26=Z$5,$I26*$J26,"") | AA26: =IF($M26=AA$5,$O26*$P26,"") | AB26: =IF($M26=AB$5,$O26*$P26,"") | AC26: =IF($M26=AC$5,$O26*$P26,"") | AD26: =IF($S26=AD$5,$U26*$V26,"") | AE26: =IF($S26=AE$5,$U26*$V26,"") | AF26: =IF($S26=AF$5,$U26*$V26,"") | AH26: =IF($G26=AH$5,$I26*$J26*$K26,"") -> 0.02173913 | AI26: =IF($G26=AI$5,$I26*$J26*$K26,"") | AJ26: =IF($M26=AJ$5,$O26*$P26*$Q26,"") | AK26: =IF($M26=AK$5,$O26*$P26*$Q26,"") | AL26: =IF($M26=AL$5,$O26*$P26*$Q26,"") | AM26: =IF($S26=AM$5,$U26*$V26*$W26,"") | AN26: =IF($S26=AN$5,$U26*$V26*$W26,"") | AO26: =IF($S26=AO$5,$U26*$V26*$W26,"")
C27: Chambre 01.HA 1.3 | D27: R+1 | E27: TB1.2 | F27: TD SG R+1 | G27: N | H27: L8 | I27: 1 | J27: =IF($H27<>"",(VLOOKUP($H27,'Puissances et FS utilisés'!$B$7:$G$44,5,FALSE)),"") -> 0.010869565 | K27: =IF($H27<>"",(VLOOKUP($H27,'Puissances et FS utilisés'!$B$7:$G$44,6,FALSE)),"") -> 1 | P27: =IF($N27<>"",(VLOOKUP($N27,'Puissances et FS utilisés'!$B$7:$G$44,5,FALSE)),"") | Q27: =IF($N27<>"",(VLOOKUP($N27,'Puissances et FS utilisés'!$B$7:$G$44,6,FALSE)),"") | V27: =IF($T27<>"",(VLOOKUP($T27,'Puissances et FS utilisés'!$B$7:$G$900,5,FALSE)),"") | W27: =IF($T27<>"",(VLOOKUP($T27,'Puissances et FS utilisés'!$B$7:$G$44,6,FALSE)),"") | Y27: =IF($G27=Y$5,$I27*$J27,"") -> 0.010869565 | Z27: =IF($G27=Z$5,$I27*$J27,"") | AA27: =IF($M27=AA$5,$O27*$P27,"") | AB27: =IF($M27=AB$5,$O27*$P27,"") | AC27: =IF($M27=AC$5,$O27*$P27,"") | AD27: =IF($S27=AD$5,$U27*$V27,"") | AE27: =IF($S27=AE$5,$U27*$V27,"") | AF27: =IF($S27=AF$5,$U27*$V27,"") | AH27: =IF($G27=AH$5,$I27*$J27*$K27,"") -> 0.010869565 | AI27: =IF($G27=AI$5,$I27*$J27*$K27,"") | AJ27: =IF($M27=AJ$5,$O27*$P27*$Q27,"") | AK27: =IF($M27=AK$5,$O27*$P27*$Q27,"") | AL27: =IF($M27=AL$5,$O27*$P27*$Q27,"") | AM27: =IF($S27=AM$5,$U27*$V27*$W27,"") | AN27: =IF($S27=AN$5,$U27*$V27*$W27,"") | AO27: =IF($S27=AO$5,$U27*$V27*$W27,"")
J28: =IF($H28<>"",(VLOOKUP($H28,'Puissances et FS utilisés'!$B$7:$G$44,5,FALSE)),"") | K28: =IF($H28<>"",(VLOOKUP($H28,'Puissances et FS utilisés'!$B$7:$G$44,6,FALSE)),"") | P28: =IF($N28<>"",(VLOOKUP($N28,'Puissances et FS utilisés'!$B$7:$G$44,5,FALSE)),"") | Q28: =IF($N28<>"",(VLOOKUP($N28,'Puissances et FS utilisés'!$B$7:$G$44,6,FALSE)),"") | V28: =IF($T28<>"",(VLOOKUP($T28,'Puissances et FS utilisés'!$B$7:$G$900,5,FALSE)),"") | Y28: =IF($G28=Y$5,$I28*$J28,"") | Z28: =IF($G28=Z$5,$I28*$J28,"") | AA28: =IF($M28=AA$5,$O28*$P28,"") | AB28: =IF($M28=AB$5,$O28*$P28,"") | AC28: =IF($M28=AC$5,$O28*$P28,"") | AD28: =IF($S28=AD$5,$U28*$V28,"") | AE28: =IF($S28=AE$5,$U28*$V28,"") | AF28: =IF($S28=AF$5,$U28*$V28,"") | AH28: =IF($G28=AH$5,$I28*$J28*$K28,"") | AI28: =IF($G28=AI$5,$I28*$J28*$K28,"") | AJ28: =IF($M28=AJ$5,$O28*$P28*$Q28,"") | AK28: =IF($M28=AK$5,$O28*$P28*$Q28,"") | AL28: =IF($M28=AL$5,$O28*$P28*$Q28,"") | AM28: =IF($S28=AM$5,$U28*$V28*$W28,"") | AN28: =IF($S28=AN$5,$U28*$V28*$W28,"") | AO28: =IF($S28=AO$5,$U28*$V28*$W28,"")
J29: =IF($H29<>"",(VLOOKUP($H29,'Puissances et FS utilisés'!$B$7:$G$44,5,FALSE)),"") | K29: =IF($H29<>"",(VLOOKUP($H29,'Puissances et FS utilisés'!$B$7:$G$44,6,FALSE)),"") | P29: =IF($N29<>"",(VLOOKUP($N29,'Puissances et FS utilisés'!$B$7:$G$44,5,FALSE)),"") | Q29: =IF($N29<>"",(VLOOKUP($N29,'Puissances et FS utilisés'!$B$7:$G$44,6,FALSE)),"") | V29: =IF($T29<>"",(VLOOKUP($T29,'Puissances et FS utilisés'!$B$7:$G$900,5,FALSE)),"") | W29: =IF($T29<>"",(VLOOKUP($T29,'Puissances et FS utilisés'!$B$7:$G$44,6,FALSE)),"") | Y29: =IF($G29=Y$5,$I29*$J29,"") | Z29: =IF($G29=Z$5,$I29*$J29,"") | AA29: =IF($M29=AA$5,$O29*$P29,"") | AB29: =IF($M29=AB$5,$O29*$P29,"") | AC29: =IF($M29=AC$5,$O29*$P29,"") | AD29: =IF($S29=AD$5,$U29*$V29,"") | AE29: =IF($S29=AE$5,$U29*$V29,"") | AF29: =IF($S29=AF$5,$U29*$V29,"") | AH29: =IF($G29=AH$5,$I29*$J29*$K29,"") | AI29: =IF($G29=AI$5,$I29*$J29*$K29,"") | AJ29: =IF($M29=AJ$5,$O29*$P29*$Q29,"") | AK29: =IF($M29=AK$5,$O29*$P29*$Q29,"") | AL29: =IF($M29=AL$5,$O29*$P29*$Q29,"") | AM29: =IF($S29=AM$5,$U29*$V29*$W29,"") | AN29: =IF($S29=AN$5,$U29*$V29*$W29,"") | AO29: =IF($S29=AO$5,$U29*$V29*$W29,"")
C30: SDB 01.HA 1.3 | D30: R+1 | E30: TB1.2 | F30: TD SG R+1 | G30: N | H30: L3 | I30: 2 | J30: =IF($H30<>"",(VLOOKUP($H30,'Puissances et FS utilisés'!$B$7:$G$44,5,FALSE)),"") -> 0.013043478 | K30: =IF($H30<>"",(VLOOKUP($H30,'Puissances et FS utilisés'!$B$7:$G$44,6,FALSE)),"") -> 1 | L30: TD SG R+1 | M30: N | N30: PCN-R | O30: 1 | P30: =IF($N30<>"",(VLOOKUP($N30,'Puissances et FS utilisés'!$B$7:$G$44,5,FALSE)),"") -> 0.44444444 | Q30: =IF($N30<>"",(VLOOKUP($N30,'Puissances et FS utilisés'!$B$7:$G$44,6,FALSE)),"") -> 0.3 | R30: TD SG R+1 | S30: N | T30: FA-B | U30: 1 | V30: =IF($T30<>"",(VLOOKUP($T30,'Puissances et FS utilisés'!$B$7:$G$900,5,FALSE)),"") -> 0.06 | W30: =IF($T30<>"",(VLOOKUP($T30,'Puissances et FS utilisés'!$B$7:$G$900,6,FALSE)),"") -> 0.5 | Y30: =IF($G30=Y$5,$I30*$J30,"") -> 0.026086957 | Z30: =IF($G30=Z$5,$I30*$J30,"") | AA30: =IF($M30=AA$5,$O30*$P30,"") -> 0.44444444 | AB30: =IF($M30=AB$5,$O30*$P30,"") | AC30: =IF($M30=AC$5,$O30*$P30,"") | AD30: =IF($S30=AD$5,$U30*$V30,"") -> 0.06 | AE30: =IF($S30=AE$5,$U30*$V30,"") | AF30: =IF($S30=AF$5,$U30*$V30,"") | AH30: =IF($G30=AH$5,$I30*$J30*$K30,"") -> 0.026086957 | AI30: =IF($G30=AI$5,$I30*$J30*$K30,"") | AJ30: =IF($M30=AJ$5,$O30*$P30*$Q30,"") -> 0.13333333 | AK30: =IF($M30=AK$5,$O30*$P30*$Q30,"") | AL30: =IF($M30=AL$5,$O30*$P30*$Q30,"") | AM30: =IF($S30=AM$5,$U30*$V30*$W30,"") -> 0.03 | AN30: =IF($S30=AN$5,$U30*$V30*$W30,"") | AO30: =IF($S30=AO$5,$U30*$V30*$W30,"")
J31: =IF($H31<>"",(VLOOKUP($H31,'Puissances et FS utilisés'!$B$7:$G$44,5,FALSE)),"") | K31: =IF($H31<>"",(VLOOKUP($H31,'Puissances et FS utilisés'!$B$7:$G$44,6,FALSE)),"") | P31: =IF($N31<>"",(VLOOKUP($N31,'Puissances et FS utilisés'!$B$7:$G$44,5,FALSE)),"") | Q31: =IF($N31<>"",(VLOOKUP($N31,'Puissances et FS utilisés'!$B$7:$G$44,6,FALSE)),"") | V31: =IF($T31<>"",(VLOOKUP($T31,'Puissances et FS utilisés'!$B$7:$G$900,5,FALSE)),"") | Y31: =IF($G31=Y$5,$I31*$J31,"") | Z31: =IF($G31=Z$5,$I31*$J31,"") | AA31: =IF($M31=AA$5,$O31*$P31,"") | AB31: =IF($M31=AB$5,$O31*$P31,"") | AC31: =IF($M31=AC$5,$O31*$P31,"") | AD31: =IF($S31=AD$5,$U31*$V31,"") | AE31: =IF($S31=AE$5,$U31*$V31,"") | AF31: =IF($S31=AF$5,$U31*$V31,"") | AH31: =IF($G31=AH$5,$I31*$J31*$K31,"") | AI31: =IF($G31=AI$5,$I31*$J31*$K31,"") | AJ31: =IF($M31=AJ$5,$O31*$P31*$Q31,"") | AK31: =IF($M31=AK$5,$O31*$P31*$Q31,"") | AL31: =IF($M31=AL$5,$O31*$P31*$Q31,"") | AM31: =IF($S31=AM$5,$U31*$V31*$W31,"") | AN31: =IF($S31=AN$5,$U31*$V31*$W31,"") | AO31: =IF($S31=AO$5,$U31*$V31*$W31,"")
J32: =IF($H32<>"",(VLOOKUP($H32,'Puissances et FS utilisés'!$B$7:$G$44,5,FALSE)),"") | K32: =IF($H32<>"",(VLOOKUP($H32,'Puissances et FS utilisés'!$B$7:$G$44,6,FALSE)),"") | P32: =IF($N32<>"",(VLOOKUP($N32,'Puissances et FS utilisés'!$B$7:$G$44,5,FALSE)),"") | Q32: =IF($N32<>"",(VLOOKUP($N32,'Puissances et FS utilisés'!$B$7:$G$44,6,FALSE)),"") | V32: =IF($T32<>"",(VLOOKUP($T32,'Puissances et FS utilisés'!$B$7:$G$900,5,FALSE)),"") | W32: =IF($T32<>"",(VLOOKUP($T32,'Puissances et FS utilisés'!$B$7:$G$44,6,FALSE)),"") | Y32: =IF($G32=Y$5,$I32*$J32,"") | Z32: =IF($G32=Z$5,$I32*$J32,"") | AA32: =IF($M32=AA$5,$O32*$P32,"") | AB32: =IF($M32=AB$5,$O32*$P32,"") | AC32: =IF($M32=AC$5,$O32*$P32,"") | AD32: =IF($S32=AD$5,$U32*$V32,"") | AE32: =IF($S32=AE$5,$U32*$V32,"") | AF32: =IF($S32=AF$5,$U32*$V32,"") | AH32: =IF($G32=AH$5,$I32*$J32*$K32,"") | AI32: =IF($G32=AI$5,$I32*$J32*$K32,"") | AJ32: =IF($M32=AJ$5,$O32*$P32*$Q32,"") | AK32: =IF($M32=AK$5,$O32*$P32*$Q32,"") | AL32: =IF($M32=AL$5,$O32*$P32*$Q32,"") | AM32: =IF($S32=AM$5,$U32*$V32*$W32,"") | AN32: =IF($S32=AN$5,$U32*$V32*$W32,"") | AO32: =IF($S32=AO$5,$U32*$V32*$W32,"")
C33: Chambre 01.HA 1.4 | D33: R+1 | E33: TB1.2 | F33: TD SG R+1 | G33: N | H33: L1 | I33: 1 | J33: =IF($H33<>"",(VLOOKUP($H33,'Puissances et FS utilisés'!$B$7:$G$44,5,FALSE)),"") -> 0.014130435 | K33: =IF($H33<>"",(VLOOKUP($H33,'Puissances et FS utilisés'!$B$7:$G$44,6,FALSE)),"") -> 1 | L33: TD SG R+1 | M33: N | N33: PCN | O33: 8 | P33: =IF($N33<>"",(VLOOKUP($N33,'Puissances et FS utilisés'!$B$7:$G$44,5,FALSE)),"") -> 0.44444444 | Q33: =IF($N33<>"",(VLOOKUP($N33,'Puissances et FS utilisés'!$B$7:$G$44,6,FALSE)),"") -> 0.3 | Y33: =IF($G33=Y$5,$I33*$J33,"") -> 0.014130435 | Z33: =IF($G33=Z$5,$I33*$J33,"") | AA33: =IF($M33=AA$5,$O33*$P33,"") -> 3.5555556 | AB33: =IF($M33=AB$5,$O33*$P33,"") | AC33: =IF($M33=AC$5,$O33*$P33,"") | AD33: =IF($S33=AD$5,$U33*$V33,"") | AE33: =IF($S33=AE$5,$U33*$V33,"") | AF33: =IF($S33=AF$5,$U33*$V33,"") | AH33: =IF($G33=AH$5,$I33*$J33*$K33,"") -> 0.014130435 | AI33: =IF($G33=AI$5,$I33*$J33*$K33,"") | AJ33: =IF($M33=AJ$5,$O33*$P33*$Q33,"") -> 1.0666667 | AK33: =IF($M33=AK$5,$O33*$P33*$Q33,"") | AL33: =IF($M33=AL$5,$O33*$P33*$Q33,"") | AM33: =IF($S33=AM$5,$U33*$V33*$W33,"") | AN33: =IF($S33=AN$5,$U33*$V33*$W33,"") | AO33: =IF($S33=AO$5,$U33*$V33*$W33,"")
F34: TD SG R+1 | G34: N | H34: L2 | I34: 2 | J34: =IF($H34<>"",(VLOOKUP($H34,'Puissances et FS utilisés'!$B$7:$G$44,5,FALSE)),"") -> 0.0054347826 | K34: =IF($H34<>"",(VLOOKUP($H34,'Puissances et FS utilisés'!$B$7:$G$44,6,FALSE)),"") -> 1 | L34: TD SG R+1 | M34: N | N34: PT6 | O34: 1 | P34: =IF($N34<>"",(VLOOKUP($N34,'Puissances et FS utilisés'!$B$7:$G$44,5,FALSE)),"") -> 0.27777778 | Q34: =IF($N34<>"",(VLOOKUP($N34,'Puissances et FS utilisés'!$B$7:$G$44,6,FALSE)),"") -> 0.3 | V34: =IF($T34<>"",(VLOOKUP($T34,'Puissances et FS utilisés'!$B$7:$G$900,5,FALSE)),"") | W34: =IF($T34<>"",(VLOOKUP($T34,'Puissances et FS utilisés'!$B$7:$G$44,6,FALSE)),"") | Y34: =IF($G34=Y$5,$I34*$J34,"") -> 0.010869565 | Z34: =IF($G34=Z$5,$I34*$J34,"") | AA34: =IF($M34=AA$5,$O34*$P34,"") -> 0.27777778 | AB34: =IF($M34=AB$5,$O34*$P34,"") | AC34: =IF($M34=AC$5,$O34*$P34,"") | AD34: =IF($S34=AD$5,$U34*$V34,"") | AE34: =IF($S34=AE$5,$U34*$V34,"") | AF34: =IF($S34=AF$5,$U34*$V34,"") | AH34: =IF($G34=AH$5,$I34*$J34*$K34,"") -> 0.010869565 | AI34: =IF($G34=AI$5,$I34*$J34*$K34,"") | AJ34: =IF($M34=AJ$5,$O34*$P34*$Q34,"") -> 0.083333333 | AK34: =IF($M34=AK$5,$O34*$P34*$Q34,"") | AL34: =IF($M34=AL$5,$O34*$P34*$Q34,"") | AM34: =IF($S34=AM$5,$U34*$V34*$W34,"") | AN34: =IF($S34=AN$5,$U34*$V34*$W34,"") | AO34: =IF($S34=AO$5,$U34*$V34*$W34,"")
F35: TD SG R+1 | G35: N | H35: L7 | I35: 2 | J35: =IF($H35<>"",(VLOOKUP($H35,'Puissances et FS utilisés'!$B$7:$G$44,5,FALSE)),"") -> 0.010869565 | K35: =IF($H35<>"",(VLOOKUP($H35,'Puissances et FS utilisés'!$B$7:$G$44,6,FALSE)),"") -> 1 | P35: =IF($N35<>"",(VLOOKUP($N35,'Puissances et FS utilisés'!$B$7:$G$44,5,FALSE)),"") | Q35: =IF($N35<>"",(VLOOKUP($N35,'Puissances et FS utilisés'!$B$7:$G$44,6,FALSE)),"") | V35: =IF($T35<>"",(VLOOKUP($T35,'Puissances et FS utilisés'!$B$7:$G$900,5,FALSE)),"") | W35: =IF($T35<>"",(VLOOKUP($T35,'Puissances et FS utilisés'!$B$7:$G$44,6,FALSE)),"") | Y35: =IF($G35=Y$5,$I35*$J35,"") -> 0.02173913 | Z35: =IF($G35=Z$5,$I35*$J35,"") | AA35: =IF($M35=AA$5,$O35*$P35,"") | AB35: =IF($M35=AB$5,$O35*$P35,"") | AC35: =IF($M35=AC$5,$O35*$P35,"") | AD35: =IF($S35=AD$5,$U35*$V35,"") | AE35: =IF($S35=AE$5,$U35*$V35,"") | AF35: =IF($S35=AF$5,$U35*$V35,"") | AH35: =IF($G35=AH$5,$I35*$J35*$K35,"") -> 0.02173913 | AI35: =IF($G35=AI$5,$I35*$J35*$K35,"") | AJ35: =IF($M35=AJ$5,$O35*$P35*$Q35,"") | AK35: =IF($M35=AK$5,$O35*$P35*$Q35,"") | AL35: =IF($M35=AL$5,$O35*$P35*$Q35,"") | AM35: =IF($S35=AM$5,$U35*$V35*$W35,"") | AN35: =IF($S35=AN$5,$U35*$V35*$W35,"") | AO35: =IF($S35=AO$5,$U35*$V35*$W35,"")
C36: Chambre 01.HA 1.4 | D36: R+1 | E36: TB1.2 | F36: TD SG R+1 | G36: N | H36: L8 | I36: 1 | J36: =IF($H36<>"",(VLOOKUP($H36,'Puissances et FS utilisés'!$B$7:$G$44,5,FALSE)),"") -> 0.010869565 | K36: =IF($H36<>"",(VLOOKUP($H36,'Puissances et FS utilisés'!$B$7:$G$44,6,FALSE)),"") -> 1 | P36: =IF($N36<>"",(VLOOKUP($N36,'Puissances et FS utilisés'!$B$7:$G$44,5,FALSE)),"") | Q36: =IF($N36<>"",(VLOOKUP($N36,'Puissances et FS utilisés'!$B$7:$G$44,6,FALSE)),"") | V36: =IF($T36<>"",(VLOOKUP($T36,'Puissances et FS utilisés'!$B$7:$G$900,5,FALSE)),"") | W36: =IF($T36<>"",(VLOOKUP($T36,'Puissances et FS utilisés'!$B$7:$G$44,6,FALSE)),"") | Y36: =IF($G36=Y$5,$I36*$J36,"") -> 0.010869565 | Z36: =IF($G36=Z$5,$I36*$J36,"") | AA36: =IF($M36=AA$5,$O36*$P36,"") | AB36: =IF($M36=AB$5,$O36*$P36,"") | AC36: =IF($M36=AC$5,$O36*$P36,"") | AD36: =IF($S36=AD$5,$U36*$V36,"") | AE36: =IF($S36=AE$5,$U36*$V36,"") | AF36: =IF($S36=AF$5,$U36*$V36,"") | AH36: =IF($G36=AH$5,$I36*$J36*$K36,"") -> 0.010869565 | AI36: =IF($G36=AI$5,$I36*$J36*$K36,"") | AJ36: =IF($M36=AJ$5,$O36*$P36*$Q36,"") | AK36: =IF($M36=AK$5,$O36*$P36*$Q36,"") | AL36: =IF($M36=AL$5,$O36*$P36*$Q36,"") | AM36: =IF($S36=AM$5,$U36*$V36*$W36,"") | AN36: =IF($S36=AN$5,$U36*$V36*$W36,"") | AO36: =IF($S36=AO$5,$U36*$V36*$W36,"")
J37: =IF($H37<>"",(VLOOKUP($H37,'Puissances et FS utilisés'!$B$7:$G$44,5,FALSE)),"") | K37: =IF($H37<>"",(VLOOKUP($H37,'Puissances et FS utilisés'!$B$7:$G$44,6,FALSE)),"") | P37: =IF($N37<>"",(VLOOKUP($N37,'Puissances et FS utilisés'!$B$7:$G$44,5,FALSE)),"") | Q37: =IF($N37<>"",(VLOOKUP($N37,'Puissances et FS utilisés'!$B$7:$G$44,6,FALSE)),"") | V37: =IF($T37<>"",(VLOOKUP($T37,'Puissances et FS utilisés'!$B$7:$G$900,5,FALSE)),"") | Y37: =IF($G37=Y$5,$I37*$J37,"") | Z37: =IF($G37=Z$5,$I37*$J37,"") | AA37: =IF($M37=AA$5,$O37*$P37,"") | AB37: =IF($M37=AB$5,$O37*$P37,"") | AC37: =IF($M37=AC$5,$O37*$P37,"") | AD37: =IF($S37=AD$5,$U37*$V37,"") | AE37: =IF($S37=AE$5,$U37*$V37,"") | AF37: =IF($S37=AF$5,$U37*$V37,"") | AH37: =IF($G37=AH$5,$I37*$J37*$K37,"") | AI37: =IF($G37=AI$5,$I37*$J37*$K37,"") | AJ37: =IF($M37=AJ$5,$O37*$P37*$Q37,"") | AK37: =IF($M37=AK$5,$O37*$P37*$Q37,"") | AL37: =IF($M37=AL$5,$O37*$P37*$Q37,"") | AM37: =IF($S37=AM$5,$U37*$V37*$W37,"") | AN37: =IF($S37=AN$5,$U37*$V37*$W37,"") | AO37: =IF($S37=AO$5,$U37*$V37*$W37,"")
J38: =IF($H38<>"",(VLOOKUP($H38,'Puissances et FS utilisés'!$B$7:$G$44,5,FALSE)),"") | K38: =IF($H38<>"",(VLOOKUP($H38,'Puissances et FS utilisés'!$B$7:$G$44,6,FALSE)),"") | P38: =IF($N38<>"",(VLOOKUP($N38,'Puissances et FS utilisés'!$B$7:$G$44,5,FALSE)),"") | Q38: =IF($N38<>"",(VLOOKUP($N38,'Puissances et FS utilisés'!$B$7:$G$44,6,FALSE)),"") | V38: =IF($T38<>"",(VLOOKUP($T38,'Puissances et FS utilisés'!$B$7:$G$900,5,FALSE)),"") | W38: =IF($T38<>"",(VLOOKUP($T38,'Puissances et FS utilisés'!$B$7:$G$44,6,FALSE)),"") | Y38: =IF($G38=Y$5,$I38*$J38,"") | Z38: =IF($G38=Z$5,$I38*$J38,"") | AA38: =IF($M38=AA$5,$O38*$P38,"") | AB38: =IF($M38=AB$5,$O38*$P38,"") | AC38: =IF($M38=AC$5,$O38*$P38,"") | AD38: =IF($S38=AD$5,$U38*$V38,"") | AE38: =IF($S38=AE$5,$U38*$V38,"") | AF38: =IF($S38=AF$5,$U38*$V38,"") | AH38: =IF($G38=AH$5,$I38*$J38*$K38,"") | AI38: =IF($G38=AI$5,$I38*$J38*$K38,"") | AJ38: =IF($M38=AJ$5,$O38*$P38*$Q38,"") | AK38: =IF($M38=AK$5,$O38*$P38*$Q38,"") | AL38: =IF($M38=AL$5,$O38*$P38*$Q38,"") | AM38: =IF($S38=AM$5,$U38*$V38*$W38,"") | AN38: =IF($S38=AN$5,$U38*$V38*$W38,"") | AO38: =IF($S38=AO$5,$U38*$V38*$W38,"")
C39: SDB 01.HA 1.4 | D39: R+1 | E39: TB1.2 | F39: TD SG R+1 | G39: N | H39: L3 | I39: 2 | J39: =IF($H39<>"",(VLOOKUP($H39,'Puissances et FS utilisés'!$B$7:$G$44,5,FALSE)),"") -> 0.013043478 | K39: =IF($H39<>"",(VLOOKUP($H39,'Puissances et FS utilisés'!$B$7:$G$44,6,FALSE)),"") -> 1 | L39: TD SG R+1 | M39: N | N39: PCN-R | O39: 1 | P39: =IF($N39<>"",(VLOOKUP($N39,'Puissances et FS utilisés'!$B$7:$G$44,5,FALSE)),"") -> 0.44444444 | Q39: =IF($N39<>"",(VLOOKUP($N39,'Puissances et FS utilisés'!$B$7:$G$44,6,FALSE)),"") -> 0.3 | R39: TD SG R+1 | S39: N | T39: FA-B | U39: 1 | V39: =IF($T39<>"",(VLOOKUP($T39,'Puissances et FS utilisés'!$B$7:$G$900,5,FALSE)),"") -> 0.06 | W39: =IF($T39<>"",(VLOOKUP($T39,'Puissances et FS utilisés'!$B$7:$G$900,6,FALSE)),"") -> 0.5 | Y39: =IF($G39=Y$5,$I39*$J39,"") -> 0.026086957 | Z39: =IF($G39=Z$5,$I39*$J39,"") | AA39: =IF($M39=AA$5,$O39*$P39,"") -> 0.44444444 | AB39: =IF($M39=AB$5,$O39*$P39,"") | AC39: =IF($M39=AC$5,$O39*$P39,"") | AD39: =IF($S39=AD$5,$U39*$V39,"") -> 0.06 | AE39: =IF($S39=AE$5,$U39*$V39,"") | AF39: =IF($S39=AF$5,$U39*$V39,"") | AH39: =IF($G39=AH$5,$I39*$J39*$K39,"") -> 0.026086957 | AI39: =IF($G39=AI$5,$I39*$J39*$K39,"") | AJ39: =IF($M39=AJ$5,$O39*$P39*$Q39,"") -> 0.13333333 | AK39: =IF($M39=AK$5,$O39*$P39*$Q39,"") | AL39: =IF($M39=AL$5,$O39*$P39*$Q39,"") | AM39: =IF($S39=AM$5,$U39*$V39*$W39,"") -> 0.03 | AN39: =IF($S39=AN$5,$U39*$V39*$W39,"") | AO39: =IF($S39=AO$5,$U39*$V39*$W39,"")
J40: =IF($H40<>"",(VLOOKUP($H40,'Puissances et FS utilisés'!$B$7:$G$44,5,FALSE)),"") | K40: =IF($H40<>"",(VLOOKUP($H40,'Puissances et FS utilisés'!$B$7:$G$44,6,FALSE)),"") | P40: =IF($N40<>"",(VLOOKUP($N40,'Puissances et FS utilisés'!$B$7:$G$44,5,FALSE)),"") | Q40: =IF($N40<>"",(VLOOKUP($N40,'Puissances et FS utilisés'!$B$7:$G$44,6,FALSE)),"") | V40: =IF($T40<>"",(VLOOKUP($T40,'Puissances et FS utilisés'!$B$7:$G$900,5,FALSE)),"") | Y40: =IF($G40=Y$5,$I40*$J40,"") | Z40: =IF($G40=Z$5,$I40*$J40,"") | AA40: =IF($M40=AA$5,$O40*$P40,"") | AB40: =IF($M40=AB$5,$O40*$P40,"") | AC40: =IF($M40=AC$5,$O40*$P40,"") | AD40: =IF($S40=AD$5,$U40*$V40,"") | AE40: =IF($S40=AE$5,$U40*$V40,"") | AF40: =IF($S40=AF$5,$U40*$V40,"") | AH40: =IF($G40=AH$5,$I40*$J40*$K40,"") | AI40: =IF($G40=AI$5,$I40*$J40*$K40,"") | AJ40: =IF($M40=AJ$5,$O40*$P40*$Q40,"") | AK40: =IF($M40=AK$5,$O40*$P40*$Q40,"") | AL40: =IF($M40=AL$5,$O40*$P40*$Q40,"") | AM40: =IF($S40=AM$5,$U40*$V40*$W40,"") | AN40: =IF($S40=AN$5,$U40*$V40*$W40,"") | AO40: =IF($S40=AO$5,$U40*$V40*$W40,"")
J41: =IF($H41<>"",(VLOOKUP($H41,'Puissances et FS utilisés'!$B$7:$G$44,5,FALSE)),"") | K41: =IF($H41<>"",(VLOOKUP($H41,'Puissances et FS utilisés'!$B$7:$G$44,6,FALSE)),"") | P41: =IF($N41<>"",(VLOOKUP($N41,'Puissances et FS utilisés'!$B$7:$G$44,5,FALSE)),"") | Q41: =IF($N41<>"",(VLOOKUP($N41,'Puissances et FS utilisés'!$B$7:$G$44,6,FALSE)),"") | V41: =IF($T41<>"",(VLOOKUP($T41,'Puissances et FS utilisés'!$B$7:$G$900,5,FALSE)),"") | W41: =IF($T41<>"",(VLOOKUP($T41,'Puissances et FS utilisés'!$B$7:$G$44,6,FALSE)),"") | Y41: =IF($G41=Y$5,$I41*$J41,"") | Z41: =IF($G41=Z$5,$I41*$J41,"") | AA41: =IF($M41=AA$5,$O41*$P41,"") | AB41: =IF($M41=AB$5,$O41*$P41,"") | AC41: =IF($M41=AC$5,$O41*$P41,"") | AD41: =IF($S41=AD$5,$U41*$V41,"") | AE41: =IF($S41=AE$5,$U41*$V41,"") | AF41: =IF($S41=AF$5,$U41*$V41,"") | AH41: =IF($G41=AH$5,$I41*$J41*$K41,"") | AI41: =IF($G41=AI$5,$I41*$J41*$K41,"") | AJ41: =IF($M41=AJ$5,$O41*$P41*$Q41,"") | AK41: =IF($M41=AK$5,$O41*$P41*$Q41,"") | AL41: =IF($M41=AL$5,$O41*$P41*$Q41,"") | AM41: =IF($S41=AM$5,$U41*$V41*$W41,"") | AN41: =IF($S41=AN$5,$U41*$V41*$W41,"") | AO41: =IF($S41=AO$5,$U41*$V41*$W41,"")
...

Sheet Puissances et FS utilisés
B3: Puissances et foisonnements utilisés
B6: Equipements d'éclairage
B8: Type | C8: Description | D8: P (kW) | E8: Cos Φ | F8: S (kVA) | G8: Fs
B9: L1 | C9: Downlight encastré rond LED TYPE A | D9: 0.013 | E9: 0.92 | F9: =D9/E9 -> 0.014130435 | G9: 1
B10: L2 | C10: Applique murale décorative LED TYPE B | D10: =5*10^-3 -> 0.005 | E10: 0.92 | F10: =D10/E10 -> 0.0054347826 | G10: 1
B11: L3 | C11: Downlight encastré rond LED TYPE C | D11: =12*10^-3 -> 0.012 | E11: 0.92 | F11: =D11/E11 -> 0.013043478 | G11: 1
B12: L4 | C12: Downlight encastré rond LED TYPE D | D12: =19*10^-3 -> 0.019 | E12: 0.92 | F12: =D12/E12 -> 0.020652174 | G12: 1
B13: L5 | C13: Luminaire à encastrer ou suspendre LED TYPE E | D13: =31*10^-3 -> 0.031 | E13: 0.92 | F13: =D13/E13 -> 0.033695652 | G13: 1
B14: L6 | C14: Luminaire applique murale LED TYPE F | D14: =15*10^-3 -> 0.015 | E14: 0.92 | F14: =D14/E14 -> 0.016304348 | G14: 1
B15: L7 | C15: Lampe de chevet tête de lit | D15: =10*10^-3 -> 0.01 | E15: 0.92 | F15: =D15/E15 -> 0.010869565 | G15: 1
B16: L8 | C16: Ligne LED lit | D16: =10*10^-3 -> 0.01 | E16: 0.92 | F16: =D16/E16 -> 0.010869565 | G16: 1
B21: Prise de courant/Poste de travail
B23: Type | C23: Description | D23: P (kW) | E23: Cos Φ | F23: S (kVA) | G23: Fs
B24: PCN | C24: Prise 2 x 16A + T Normal | D24: 0.4 | E24: 0.9 | F24: =D24/E24 -> 0.44444444 | G24: 0.3
B25: PCN-R | C25: Prise 2 x 16A + T Normal | D25: 0.4 | E25: 0.9 | F25: =D25/E25 -> 0.44444444 | G25: 0.3
B26: PT1 | C26: Poste de travail Bureau "Normal" (5xPrise 2x16A+T) | D26: =5*0.25 -> 1.25 | E26: =E$24 -> 0.9 | F26: =D26/E26 -> 1.3888889 | G26: 0.5
B27: PTA-O | C27: Poste de travail "Ondulé" Type A (4xPrise 2x16A+T) | D27: =4*0.25 -> 1 | E27: =E$24 -> 0.9 | F27: =D27/E27 -> 1.1111111 | G27: 0.8
B28: PT2 | C28: Poste de travail Reception "Normal" (6xPrise 2x16A+T) | D28: =6*0.25 -> 1.5 | E28: =E$24 -> 0.9 | F28: =D28/E28 -> 1.6666667 | G28: 0.5
B29: PTB-O | C29: Poste de travail "Ondulé" Type B (4xPrise 2x16A+T) | D29: =4*0.25 -> 1 | E29: =E$24 -> 0.9 | F29: =D29/E29 -> 1.1111111 | G29: =G27 -> 0.8
B30: PT3 | C30: Salle repos personnel "Normal" (2xPrise 2x16A+T) | D30: =2*0.25 -> 0.5 | E30: =E$24 -> 0.9 | F30: =D30/E30 -> 0.55555556 | G30: 0.5
B31: PTA-O | C31: Poste de travail "Ondulé" Type A (4xPrise 2x16A+T) | D31: =4*0.25 -> 1 | E31: =E$24 -> 0.9 | F31: =D31/E31 -> 1.1111111 | G31: 0.8
B32: PT4 | C32: Office prises individuelles "Normal" (10xPrise 2x16A+T) | D32: =10*0.25 -> 2.5 | E32: =E$24 -> 0.9 | F32: =D32/E32 -> 2.7777778 | G32: 0.5
B33: PTA-O | C33: Poste de travail "Ondulé" Type A (4xPrise 2x16A+T) | D33: =4*0.25 -> 1 | E33: =E$24 -> 0.9 | F33: =D33/E33 -> 1.1111111 | G33: 0.8
B34: PT5 | C34: Circulation étages "Normal" (6xPrise 2x16A+T) | D34: =6*0.25 -> 1.5 | E34: =E$24 -> 0.9 | F34: =D34/E34 -> 1.6666667 | G34: 0.5
B35: PTA-O | C35: Poste de travail "Ondulé" Type A (4xPrise 2x16A+T) | D35: =4*0.25 -> 1 | E35: =E$24 -> 0.9 | F35: =D35/E35 -> 1.1111111 | G35: 0.8
B36: PT6 | C36: PTTV télévision "Normal" (1xPrise 2x16A+T) | D36: =1*0.25 -> 0.25 | E36: =E$24 -> 0.9 | F36: =D36/E36 -> 0.27777778 | G36: 0.3
B37: PTA-O | C37: Poste de travail "Ondulé" Type A (4xPrise 2x16A+T) | D37: =4*0.25 -> 1 | E37: =E$24 -> 0.9 | F37: =D37/E37 -> 1.1111111 | G37: 0.8
B38: PT7 | C38: PT réserve et lingerie "Normal" (2xPrise 2x16A+T) | D38: =2*0.25 -> 0.5 | E38: =E$24 -> 0.9 | F38: =D38/E38 -> 0.55555556 | G38: 0.6
B39: PTA-O | C39: Poste de travail "Ondulé" Type A (4xPrise 2x16A+T) | D39: =4*0.25 -> 1 | E39: =E$24 -> 0.9 | F39: =D39/E39 -> 1.1111111 | G39: 0.8
B40: PT8 | C40: Vestiaire personnel "Normal" (xPrise 2x16A+T) | D40: =0*0.25 -> 0 | E40: =E$24 -> 0.9 | F40: =D40/E40 -> 0 | G40: 0.5
B41: PTA-O | C41: Poste de travail "Ondulé" Type A (4xPrise 2x16A+T) | D41: =4*0.25 -> 1 | E41: =E$24 -> 0.9 | F41: =D41/E41 -> 1.1111111 | G41: 0.8
B42: PT9 | C42: Prise Rasoir SDB"Normal" (xPrise 2x16A+T) | D42: =1*0.25 -> 0.25 | E42: =E$24 -> 0.9 | F42: =D42/E42 -> 0.27777778 | G42: 0.3
B43: PTA-O | C43: Poste de travail "Ondulé" Type A (4xPrise 2x16A+T) | D43: =4*0.25 -> 1 | E43: =E$24 -> 0.9 | F43: =D43/E43 -> 1.1111111 | G43: 0.8
B45: Alimentations diverses
B47: Type | C47: Description | D47: P (kW) | E47: Cos Φ | F47: S (kVA) | G47: Fs
B48: UPS1 | C48: UPS Poste | D48: 5.4 | E48: 0.9 | F48: =D48/E48 -> 6 | G48: 1
B49: UPS2 | C49: UPS Collectivité | D49: 9 | E49: 0.9 | F49: =D49/E49 -> 10 | G49: 1
B50: UE1 | C50: Groupe extérieur climatisation Poste | D50: 3.17 | E50: 0.8 | F50: =D50/E50 -> 3.9625 | G50: 0.9
B51: UE2 | C51: Groupe extérieur climatisation Collectivité | D51: 7.08 | E51: 0.85 | F51: =D51/E51 -> 8.3294118 | G51: 0.9
B52: UE3 | C52: Climatisation Secours (UE+UI) Local informatique | D52: 1.08 | E52: 0.8 | F52: =D52/E52 -> 1.35 | G52: 0.9
...

Sheet Recap TD
B12: RECAPITULATIF TABLEAUX DIVISIONNAIRES TD
B14: TD | C14: Puissance Installée | D14: Puissance Foisonnée (K1) | I14: Puissance Foisonnée (K2) | L14: 30
C15: Puissance Installée Par Element | D15: Foisonnement par Elément (K1) | E15: Total Puissance Foisonnée par Elément | F15: Puissance Réseau N | G15: Puissance Réseau N/R | H15: Dont Puissance Réseau ONDULABLE | I15: Foisonnement TD (K2) | J15: Puissance Réseau N | K15: Puissance Réseau N/R | L15: Puissance Réseau N | M15: Puissance Réseau N/R
B18: TGBT B | C18: =SUM(C19:C21) -> 87.2 | D18: =E18/C18 -> 0.32252194 | E18: =SUM(E19:E21) -> 28.123913 | F18: =SUM(F19:F21) -> 28.123913 | G18: =SUM(G19:G21) -> 0 | H18: =SUM(H19:H21) -> #REF! | I18: 0.8 | J18: =IF(F18=0,"",I18*F18) -> 22.49913 | K18: =IF(G18=0,"",G18*I18) | L18: =IF(F18=0,"",J18+(J18*L$14%)) -> 29.24887 | M18: =IF(G18=0,"",K18+(K18*L$14%))
B19: ECL | C19: ='ROOM DATA'!Y599 -> 0 | D19: =IF(E19=0,0,E19/C19) -> #DIV/0! | E19: =SUM(F19:G19) -> 1.723913 | F19: ='ROOM DATA'!AH599 -> 1.723913 | G19: ='ROOM DATA'!AI599 -> 0
B20: PC/PT | C20: ='ROOM DATA'!AA599 -> 86 | D20: =IF(E20=0,0,E20/C20) -> 0.3 | E20: =SUM(F20:G20) -> 25.8 | F20: ='ROOM DATA'!AJ599 -> 25.8 | G20: ='ROOM DATA'!AK599 -> 0 | H20: ='ROOM DATA'!#REF! -> #REF!
B21: FM | C21: ='ROOM DATA'!AD599 -> 1.2 | D21: =IF(E21=0,0,E21/C21) -> 0.5 | E21: =SUM(F21:G21) -> 0.6 | F21: ='ROOM DATA'!AM599 -> 0.6 | G21: ='ROOM DATA'!AN599 -> 0 | H21: ='ROOM DATA'!#REF! -> #REF!
B23: TD SG R-1 | C23: =SUM(C24:C26) -> #REF! | D23: =E23/C23 -> #REF! | E23: =SUM(E24:E26) -> #REF! | F23: =SUM(F24:F26) -> #REF! | G23: =SUM(G24:G26) -> #REF! | H23: =SUM(H24:H26) -> #REF! | I23: 0.8 | J23: =IF(F23=0,"",I23*F23) -> #REF! | K23: =IF(G23=0,"",G23*I23) -> #REF! | L23: =IF(F23=0,"",J23+(J23*L$14%)) -> #REF! | M23: =IF(G23=0,"",K23+(K23*L$14%)) -> #REF!
B24: ECL | C24: ='ROOM DATA'!#REF! -> #REF! | D24: =IF(E24=0,0,E24/C24) -> #REF! | E24: =SUM(F24:G24) -> #REF! | F24: ='ROOM DATA'!#REF! -> #REF! | G24: ='ROOM DATA'!#REF! -> #REF!
B25: PC/PT | C25: ='ROOM DATA'!#REF! -> #REF! | D25: =IF(E25=0,0,E25/C25) -> #REF! | E25: =SUM(F25:G25) -> #REF! | F25: ='ROOM DATA'!#REF! -> #REF! | G25: ='ROOM DATA'!#REF! -> #REF! | H25: =#REF! -> #REF!
B26: FM | C26: ='ROOM DATA'!#REF! -> #REF! | D26: =IF(E26=0,0,E26/C26) -> #REF! | E26: =SUM(F26:G26) -> #REF! | F26: ='ROOM DATA'!#REF! -> #REF! | G26: ='ROOM DATA'!#REF! -> #REF! | H26: =#REF! -> #REF!
B28: TD SG R+0 | C28: =SUM(C29:C31) -> 0 | D28: =E28/C28 -> #DIV/0! | E28: =SUM(E29:E31) -> 0 | F28: =SUM(F29:F31) -> 0 | G28: =SUM(G29:G31) -> 0 | H28: =SUM(H29:H31) -> #REF! | I28: 0.8 | J28: =IF(F28=0,"",I28*F28) | K28: =IF(G28=0,"",G28*I28) | L28: =IF(F28=0,"",J28+(J28*L$14%)) | M28: =IF(G28=0,"",K28+(K28*L$14%))
B29: ECL | C29: ='ROOM DATA'!Y604 -> 0 | D29: =IF(E29=0,0,E29/C29) -> 0 | E29: =SUM(F29:G29) -> 0 | F29: ='ROOM DATA'!AH604 -> 0 | G29: ='ROOM DATA'!AI604 -> 0
B30: PC/PT | C30: ='ROOM DATA'!AA604 -> 0 | D30: =IF(E30=0,0,E30/C30) -> 0 | E30: =SUM(F30:G30) -> 0 | F30: ='ROOM DATA'!AJ604 -> 0 | G30: ='ROOM DATA'!AK604 -> 0 | H30: =#REF! -> #REF!
B31: FM | C31: ='ROOM DATA'!AD604 -> 0 | D31: =IF(E31=0,0,E31/C31) -> 0 | E31: =SUM(F31:G31) -> 0 | F31: ='ROOM DATA'!AM604 -> 0 | G31: ='ROOM DATA'!AN604 -> 0 | H31: =#REF! -> #REF!
B33: TD SG R+1 | C33: =SUM(C34:C36) -> 88.923913 | D33: =E33/C33 -> 0.3162694 | E33: =SUM(E34:E36) -> 28.123913 | F33: =SUM(F34:F36) -> 28.123913 | G33: =SUM(G34:G36) -> 0 | H33: =SUM(H34:H36) -> #REF! | I33: 0.8 | J33: =IF(F33=0,"",I33*F33) -> 22.49913 | K33: =IF(G33=0,"",G33*I33) | L33: =IF(F33=0,"",J33+(J33*L$14%)) -> 29.24887 | M33: =IF(G33=0,"",K33+(K33*L$14%))
B34: ECL | C34: ='ROOM DATA'!Y609 -> 1.723913 | D34: =IF(E34=0,0,E34/C34) -> 1 | E34: =SUM(F34:G34) -> 1.723913 | F34: ='ROOM DATA'!AH609 -> 1.723913 | G34: ='ROOM DATA'!AI609 -> 0
B35: PC/PT | C35: ='ROOM DATA'!AA609 -> 86 | D35: =IF(E35=0,0,E35/C35) -> 0.3 | E35: =SUM(F35:G35) -> 25.8 | F35: ='ROOM DATA'!AJ609 -> 25.8 | G35: ='ROOM DATA'!AK609 -> 0 | H35: =#REF! -> #REF!
B36: FM | C36: ='ROOM DATA'!AD609 -> 1.2 | D36: =IF(E36=0,0,E36/C36) -> 0.5 | E36: =SUM(F36:G36) -> 0.6 | F36: ='ROOM DATA'!AM609 -> 0.6 | G36: ='ROOM DATA'!AN609 -> 0 | H36: =#REF! -> #REF!
B38: TD SG R+2 | C38: =SUM(C39:C41) -> 0 | D38: =E38/C38 -> #DIV/0! | E38: =SUM(E39:E41) -> 0 | F38: =SUM(F39:F41) -> 0 | G38: =SUM(G39:G41) -> 0 | H38: =SUM(H39:H41) -> #REF! | I38: 0.8 | J38: =IF(F38=0,"",I38*F38) | K38: =IF(G38=0,"",G38*I38) | L38: =IF(F38=0,"",J38+(J38*L$14%)) | M38: =IF(G38=0,"",K38+(K38*L$14%))
B39: ECL | C39: ='ROOM DATA'!Y101 | D39: =IF(E39=0,0,E39/C39) -> 0 | E39: =SUM(F39:G39) -> 0 | F39: ='ROOM DATA'!AH101 | G39: ='ROOM DATA'!AI101
B40: PC/PT | C40: ='ROOM DATA'!AA101 | D40: =IF(E40=0,0,E40/C40) -> 0 | E40: =SUM(F40:G40) -> 0 | F40: ='ROOM DATA'!AJ101 | G40: ='ROOM DATA'!AK101 | H40: =#REF! -> #REF!
B41: FM | C41: ='ROOM DATA'!AD101 | D41: =IF(E41=0,0,E41/C41) -> 0 | E41: =SUM(F41:G41) -> 0 | F41: ='ROOM DATA'!AM101 | G41: ='ROOM DATA'!AN101 | H41: =#REF! -> #REF!
B43: TD SG R+3 | C43: =SUM(C44:C46) -> 0.28864734 | D43: =E43/C43 -> 0.32635983 | E43: =SUM(E44:E46) -> 0.094202899 | F43: =SUM(F44:F46) -> 0.094202899 | G43: =SUM(G44:G46) -> 0 | H43: =SUM(H44:H46) -> #REF! | I43: 0.8 | J43: =IF(F43=0,"",I43*F43) -> 0.075362319 | K43: =IF(G43=0,"",G43*I43) | L43: =IF(F43=0,"",J43+(J43*L$14%)) -> 0.097971014 | M43: =IF(G43=0,"",K43+(K43*L$14%))
B44: ECL | C44: ='ROOM DATA'!Y106 -> 0.010869565 | D44: =IF(E44=0,0,E44/C44) -> 1 | E44: =SUM(F44:G44) -> 0.010869565 | F44: ='ROOM DATA'!AH106 -> 0.010869565 | G44: ='ROOM DATA'!AI106
B45: PC/PT | C45: ='ROOM DATA'!AA106 -> 0.27777778 | D45: =IF(E45=0,0,E45/C45) -> 0.3 | E45: =SUM(F45:G45) -> 0.083333333 | F45: ='ROOM DATA'!AJ106 -> 0.083333333 | G45: ='ROOM DATA'!AK106 | H45: =#REF! -> #REF!
B46: FM | C46: ='ROOM DATA'!AD106 | D46: =IF(E46=0,0,E46/C46) -> 0 | E46: =SUM(F46:G46) -> 0 | F46: ='ROOM DATA'!AM106 | G46: ='ROOM DATA'!AN106 | H46: =#REF! -> #REF!
B48: TD SG R+3 | C48: =SUM(C49:C51) -> 0.5305314 | D48: =E48/C48 -> 0.35703879 | E48: =SUM(E49:E51) -> 0.18942029 | F48: =SUM(F49:F51) -> 0.18942029 | G48: =SUM(G49:G51) -> 0 | H48: =SUM(H49:H51) -> #REF! | I48: 0.8 | J48: =IF(F48=0,"",I48*F48) -> 0.15153623 | K48: =IF(G48=0,"",G48*I48) | L48: =IF(F48=0,"",J48+(J48*L$14%)) -> 0.1969971 | M48: =IF(G48=0,"",K48+(K48*L$14%))
B49: ECL | C49: ='ROOM DATA'!Y111 -> 0.026086957 | D49: =IF(E49=0,0,E49/C49) -> 1 | E49: =SUM(F49:G49) -> 0.026086957 | F49: ='ROOM DATA'!AH111 -> 0.026086957 | G49: ='ROOM DATA'!AI111
B50: PC/PT | C50: ='ROOM DATA'!AA111 -> 0.44444444 | D50: =IF(E50=0,0,E50/C50) -> 0.3 | E50: =SUM(F50:G50) -> 0.13333333 | F50: ='ROOM DATA'!AJ111 -> 0.13333333 | G50: ='ROOM DATA'!AK111 | H50: =#REF! -> #REF!
B51: FM | C51: ='ROOM DATA'!AD111 -> 0.06 | D51: =IF(E51=0,0,E51/C51) -> 0.5 | E51: =SUM(F51:G51) -> 0.03 | F51: ='ROOM DATA'!AM111 -> 0.03 | G51: ='ROOM DATA'!AN111 | H51: =#REF! -> #REF!
B53: TD SG R+4 | C53: =SUM(C54:C56) -> 0.02173913 | D53: =E53/C53 -> 1 | E53: =SUM(E54:E56) -> 0.02173913 | F53: =SUM(F54:F56) -> 0.02173913 | G53: =SUM(G54:G56) -> 0 | H53: =SUM(H54:H56) -> #REF! | I53: 0.8 | J53: =IF(F53=0,"",I53*F53) -> 0.017391304 | K53: =IF(G53=0,"",G53*I53) | L53: =IF(F53=0,"",J53+(J53*L$14%)) -> 0.022608696 | M53: =IF(G53=0,"",K53+(K53*L$14%))
B54: ECL | C54: ='ROOM DATA'!Y116 -> 0.02173913 | D54: =IF(E54=0,0,E54/C54) -> 1 | E54: =SUM(F54:G54) -> 0.02173913 | F54: ='ROOM DATA'!AH116 -> 0.02173913 | G54: ='ROOM DATA'!AI116
B55: PC/PT | C55: ='ROOM DATA'!AA116 | D55: =IF(E55=0,0,E55/C55) -> 0 | E55: =SUM(F55:G55) -> 0 | F55: ='ROOM DATA'!AJ116 | G55: ='ROOM DATA'!AK116 | H55: =#REF! -> #REF!
B56: FM | C56: ='ROOM DATA'!AD116 | D56: =IF(E56=0,0,E56/C56) -> 0 | E56: =SUM(F56:G56) -> 0 | F56: ='ROOM DATA'!AM116 | G56: ='ROOM DATA'!AN116 | H56: =#REF! -> #REF!
B58: TD SG R+5 | C58: =SUM(C59:C61) -> 0 | D58: =E58/C58 -> #DIV/0! | E58: =SUM(E59:E61) -> 0 | F58: =SUM(F59:F61) -> 0 | G58: =SUM(G59:G61) -> 0 | H58: =SUM(H59:H61) -> #REF! | I58: 0.8 | J58: =IF(F58=0,"",I58*F58) | K58: =IF(G58=0,"",G58*I58) | L58: =IF(F58=0,"",J58+(J58*L$14%)) | M58: =IF(G58=0,"",K58+(K58*L$14%))
B59: ECL | C59: ='ROOM DATA'!Y121 | D59: =IF(E59=0,0,E59/C59) -> 0 | E59: =SUM(F59:G59) -> 0 | F59: ='ROOM DATA'!AH121 | G59: ='ROOM DATA'!AI121
B60: PC/PT | C60: ='ROOM DATA'!AA121 | D60: =IF(E60=0,0,E60/C60) -> 0 | E60: =SUM(F60:G60) -> 0 | F60: ='ROOM DATA'!AJ121 | G60: ='ROOM DATA'!AK121 | H60: =#REF! -> #REF!
B61: FM | C61: ='ROOM DATA'!AD121 | D61: =IF(E61=0,0,E61/C61) -> 0 | E61: =SUM(F61:G61) -> 0 | F61: ='ROOM DATA'!AM121 | G61: ='ROOM DATA'!AN121 | H61: =#REF! -> #REF!
B63: TD SG R+6 | C63: =SUM(C64:C66) -> 0.010869565 | D63: =E63/C63 -> 1 | E63: =SUM(E64:E66) -> 0.010869565 | F63: =SUM(F64:F66) -> 0.010869565 | G63: =SUM(G64:G66) -> 0 | H63: =SUM(H64:H66) -> #REF! | I63: 0.8 | J63: =IF(F63=0,"",I63*F63) -> 0.0086956522 | K63: =IF(G63=0,"",G63*I63) | L63: =IF(F63=0,"",J63+(J63*L$14%)) -> 0.011304348 | M63: =IF(G63=0,"",K63+(K63*L$14%))
...

Sheet Recap ONDULEURS
B12: RECAPITULATIF ONDULEURS
B14: TD | C14: Puissance Installée | D14: Puissance Foisonnée (K1)
C15: Puissance Installée Par Element | D15: Foisonnement par Elément (K1) | E15: Total Puissance Foisonnée par Elément | F15: Puissance Réseau OND
B18: OND1 - SG | C18: =SUM(C19:C20) -> 0 | D18: =E18/C18 -> #DIV/0! | E18: =SUM(E19:E20) -> 0 | F18: =SUM(F19:F20) -> 0
B19: PC/PT | C19: ='ROOM DATA'!AC601 -> 0 | D19: =IF(E19=0,0,E19/C19) -> 0 | E19: =SUM(F19:F19) -> 0 | F19: ='ROOM DATA'!AL601 -> 0
B20: FM | C20: ='ROOM DATA'!AF601 -> 0 | D20: =IF(E20=0,0,E20/C20) -> 0 | E20: =SUM(F20:F20) -> 0 | F20: ='ROOM DATA'!AO601 -> 0
B22: OND2 - COLLECTIVITE | C22: =SUM(C23:C24) -> 0 | D22: =E22/C22 -> #DIV/0! | E22: =SUM(E23:E24) -> 0 | F22: =SUM(F23:F24) -> 0
B23: PC/PT | C23: ='ROOM DATA'!AC603 -> 0 | D23: =IF(E23=0,0,E23/C23) -> 0 | E23: =SUM(F23:F23) -> 0 | F23: ='ROOM DATA'!AL603 -> 0
B24: FM | C24: ='ROOM DATA'!AF603 -> 0 | D24: =IF(E24=0,0,E24/C24) -> 0 | E24: =SUM(F24:F24) -> 0 | F24: ='ROOM DATA'!AO603 -> 0
B31: Total : | C31: =SUM(C17:C30)/2 -> 0 | D31: =E31/C31 -> #DIV/0! | E31: =SUM(E17:E30)/2 -> 0 | F31: =SUM(F17:F30)/2 -> 0
