Workbook

Sheet Cartouche
B2: -
B3: -
C5: Maître d'Ouvrage | I5: Maître d'Ouvrage Délégué
E11: Entreprise
E14: Modifications
E15: H
E16: G
E17: F
E18: E
E19: D
E20: C
E21: B
E22: A
E23: -
B25: Phase | E25: Nom du fichier | U25: Format
B26: - | E26: - | U26: A4
B29: Titre du document | E29: Affaire n° | U29: -
B30: -
E31: Date d'émission | S31: Echelle
E32: - | S32: SANS
E34: Plan n° | W34: Indice
F35: x | G35: x | I35: x | K35: x | L35: x | M35: x | O35: N | P35: D | Q35: C | S35: 0 | T35: 0 | U35: 0 | X35: -

Sheet SOMMAIRE
B3: SOMMAIRE
B6: Titre | G6: Page
B8: -Sommaire | C8: . . . . . . . . . . . . . . . . . . . . . . . . . . . . . . . . . . . . . | G8: 1 | I8: 1
B9: -Puissances et foisonnements utilisés | C9: . . . . . . . . . . . . . . . . . . . . . . . . . . . . . . . . . . . . . | G9: =G8+I8 -> 2 | I9: 1
B10: -Tableau d'equipements | C10: . . . . . . . . . . . . . . . . . . . . . . . . . . . . . . . . . . . . . | G10: =G9+I9 -> 3 | I10: 2
B11: -Récapitulatif Onduleurs | C11: . . . . . . . . . . . . . . . . . . . . . . . . . . . . . . . . . . . . . | G11: =G10+I10 -> 5 | I11: 1
B12: -Récapitulatif Tableaux Divisionnaires TD | C12: . . . . . . . . . . . . . . . . . . . . . . . . . . . . . . . . . . . . . | G12: =G11+I11 -> 6 | I12: 1

Sheet ROOM DATA
B2: INFORMATIONS LOCAL | F2: CONSOMMATEURS ELECTRIQUES | Y2: PUISSANCES INSTALLEES (Kva) | AH2: PUISSANCES FOISONNEES (Kva)
B3: REPERE | C3: DESIGNATION | D3: LOCALISATION | F3: ECLAIRAGE | L3: PRISE DE COURANT | R3: ALIMENTATION & FORCE MOTRICE | Y3: ECLAIRAGE | AA3: PC/PT | AD3: FM | AH3: ECLAIRAGE | AJ3: PC/PT | AM3: FM
D4: Niveau | E4: Zone | F4: Tenant | G4: Réseau | H4: Type | I4: Quantité | J4: Punit. (kVA) | K4: FS | L4: Tenant | M4: Réseau | N4: Type | O4: Quantité | P4: Punit. (kVA) | Q4: FS | R4: Tenant | S4: Réseau | T4: Type | U4: Quantité | V4: Punit. (kVA) | W4: FS | Y4: RESEAU | AA4: RESEAU | AD4: RESEAU | AH4: RESEAU | AJ4: RESEAU | AM4: RESEAU
Y5: N | Z5: N/R | AA5: N | AB5: N/R | AC5: OND | AD5: N | AE5: N/R | AF5: OND | AH5: N | AI5: N/R | AJ5: N | AK5: N/R | AL5: OND | AM5: N | AN5: N/R | AO5: OND
C6: Chambre 01.HA 1.1 | D6: R+1 | E6: TB1.1 | F6: TD SG R+1 | G6: N | H6: L1 | I6: 2 | J6: =IF($H6<>"",(VLOOKUP($H6,'Puissances et FS utilisés'!$B$7:$G$44,5,FALSE)),"") -> 0.014130435 | K6: =IF($H6<>"",(VLOOKUP($H6,'Puissances et FS utilisés'!$B$7:$G$44,6,FALSE)),"") -> 1 | L6: TD SG R+1 | M6: N | N6: PCN | O6: 9 | P6: =IF($N6<>"",(VLOOKUP($N6,'Puissances et FS utilisés'!$B$7:$G$44,5,FALSE)),"") -> 0.44444444 | Q6: =IF($N6<>"",(VLOOKUP($N6,'Puissances et FS utilisés'!$B$7:$G$44,6,FALSE)),"") -> 0.3 | Y6: =IF($G6=Y$5,$I6*$J6,"") -> 0.02826087 | Z6: =IF($G6=Z$5,$I6*$J6,"") | AA6: =IF($M6=AA$5,$O6*$P6,"") -> 4 | AB6: =IF($M6=AB$5,$O6*$P6,"") | AC6: =IF($M6=AC$5,$O6*$P6,"") | AD6: =IF($S6=AD$5,$U6*$V6,"") | AE6: =IF($S6=AE$5,$U6*$V6,"") | AF6: =IF($S6=AF$5,$U6*$V6,"") | AH6: =IF($G6=AH$5,$I6*$J6*$K6,"") -> 0.02826087 | AI6: =IF($G6=AI$5,$I6*$J6*$K6,"") | AJ6: =IF($M6=AJ$5,$O6*$P6*$Q6,"") -> 1.2 | AK6: =IF($M6=AK$5,$O6*$P6*$Q6,"") | AL6: =IF($M6=AL$5,$O6*$P6*$Q6,"") | AM6: =IF($S6=AM$5,$U6*$V6*$W6,"") | AN6: =IF($S6=AN$5,$U6*$V6*$W6,"") | AO6: =IF($S6=AO$5,$U6*$V6*$W6,"")
F7: TD SG R+1 | G7: N | H7: L2 | I7: 2 | J7: =IF($H7<>"",(VLOOKUP($H7,'Puissances et FS utilisés'!$B$7:$G$44,5,FALSE)),"") -> 0.0054347826 | K7: =IF($H7<>"",(VLOOKUP($H7,'Puissances et FS utilisés'!$B$7:$G$44,6,FALSE)),"") -> 1 | L7: TD SG R+1 | M7: N | N7: PT6 | O7: 1 | P7: =IF($N7<>"",(VLOOKUP($N7,'Puissances et FS utilisés'!$B$7:$G$44,5,FALSE)),"") -> 0.27777778 | Q7: =IF($N7<>"",(VLOOKUP($N7,'Puissances et FS utilisés'!$B$7:$G$44,6,FALSE)),"") -> 0.3 | V7: =IF($T7<>"",(VLOOKUP($T7,'Puissances et FS utilisés'!$B$7:$G$900,5,FALSE)),"") | W7: =IF($T7<>"",(VLOOKUP($T7,'Puissances et FS utilisés'!$B$7:$G$44,6,FALSE)),"") | Y7: =IF($G7=Y$5,$I7*$J7,"") -> 0.010869565 | Z7: =IF($G7=Z$5,$I7*$J7,"") | AA7: =IF($M7=AA$5,$O7*$P7,"") -> 0.27777778 | AB7: =IF($M7=AB$5,$O7*$P7,"") | AC7: =IF($M7=AC$5,$O7*$P7,"") | AD7: =IF($S7=AD$5,$U7*$V7,"") | AE7: =IF($S7=AE$5,$U7*$V7,"") | AF7: =IF($S7=AF$5,$U7*$V7,"") | AH7: =IF($G7=AH$5,$I7*$J7*$K7,"") -> 0.010869565 | AI7: =IF($G7=AI$5,$I7*$J7*$K7,"") | AJ7: =IF($M7=AJ$5,$O7*$P7*$Q7,"") -> 0.083333333 | AK7: =IF($M7=AK$5,$O7*$P7*$Q7,"") | AL7: =IF($M7=AL$5,$O7*$P7*$Q7,"") | AM7: =IF($S7=AM$5,$U7*$V7*$W7,"") | AN7: =IF($S7=AN$5,$U7*$V7*$W7,"") | AO7: =IF($S7=AO$5,$U7*$V7*$W7,"")
F8: TD SG R+1 | G8: N | H8: L7 | I8: 2 | J8: =IF($H8<>"",(VLOOKUP($H8,'Puissances et FS utilisés'!$B$7:$G$44,5,FALSE)),"") -> 0.010869565 | K8: =IF($H8<>"",(VLOOKUP($H8,'Puissances et FS utilisés'!$B$7:$G$44,6,FALSE)),"") -> 1 | P8: =IF($N8<>"",(VLOOKUP($N8,'Puissances et FS utilisés'!$B$7:$G$44,5,FALSE)),"") | Q8: =IF($N8<>"",(VLOOKUP($N8,'Puissances et FS utilisés'!$B$7:$G$44,6,FALSE)),"") | V8: =IF($T8<>"",(VLOOKUP($T8,'Puissances et FS utilisés'!$B$7:$G$900,5,FALSE)),"") | W8: =IF($T8<>"",(VLOOKUP($T8,'Puissances et FS utilisés'!$B$7:$G$44,6,FALSE)),"") | Y8: =IF($G8=Y$5,$I8*$J8,"") -> 0.02173913 | Z8: =IF($G8=Z$5,$I8*$J8,"") | AA8: =IF($M8=AA$5,$O8*$P8,"") | AB8: =IF($M8=AB$5,$O8*$P8,"") | AC8: =IF($M8=AC$5,$O8*$P8,"") | AD8: =IF($S8=AD$5,$U8*$V8,"") | AE8: =IF($S8=AE$5,$U8*$V8,"") | AF8: =IF($S8=AF$5,$U8*$V8,"") | AH8: =IF($G8=AH$5,$I8*$J8*$K8,"") -> 0.02173913 | AI8: =IF($G8=AI$5,$I8*$J8*$K8,"") | AJ8: =IF($M8=AJ$5,$O8*$P8*$Q8,"") | AK8: =IF($M8=AK$5,$O8*$P8*$Q8,"") | AL8: =IF($M8=AL$5,$O8*$P8*$Q8,"") | AM8: =IF($S8=AM$5,$U8*$V8*$W8,"") | AN8: =IF($S8=AN$5,$U8*$V8*$W8,"") | AO8: =IF($S8=AO$5,$U8*$V8*$W8,"")
C9: Chambre 01.HA 1.1 | D9: R+1 | E9: TB1.1 | F9: TD SG R+1 | G9: N | H9: L8 | I9: 1 | J9: =IF($H9<>"",(VLOOKUP($H9,'Puissances et FS utilisés'!$B$7:$G$44,5,FALSE)),"") -> 0.010869565 | K9: =IF($H9<>"",(VLOOKUP($H9,'Puissances et FS utilisés'!$B$7:$G$44,6,FALSE)),"") -> 1 | P9: =IF($N9<>"",(VLOOKUP($N9,'Puissances et FS utilisés'!$B$7:$G$44,5,FALSE)),"") | Q9: =IF($N9<>"",(VLOOKUP($N9,'Puissances et FS utilisés'!$B$7:$G$44,6,FALSE)),"") | V9: =IF($T9<>"",(VLOOKUP($T9,'Puissances et FS utilisés'!$B$7:$G$900,5,FALSE)),"") | W9: =IF($T9<>"",(VLOOKUP($T9,'Puissances et FS utilisés'!$B$7:$G$44,6,FALSE)),"") | Y9: =IF($G9=Y$5,$I9*$J9,"") -> 0.010869565 | Z9: =IF($G9=Z$5,$I9*$J9,"") | AA9: =IF($M9=AA$5,$O9*$P9,"") | AB9: =IF($M9=AB$5,$O9*$P9,"") | AC9: =IF($M9=AC$5,$O9*$P9,"") | AD9: =IF($S9=AD$5,$U9*$V9,"") | AE9: =IF($S9=AE$5,$U9*$V9,"") | AF9: =IF($S9=AF$5,$U9*$V9,"") | AH9: =IF($G9=AH$5,$I9*$J9*$K9,"") -> 0.010869565 | AI9: =IF($G9=AI$5,$I9*$J9*$K9,"") | AJ9: =IF($M9=AJ$5,$O9*$P9*$Q9,"") | AK9: =IF($M9=AK$5,$O9*$P9*$Q9,"") | AL9: =IF($M9=AL$5,$O9*$P9*$Q9,"") | AM9: =IF($S9=AM$5,$U9*$V9*$W9,"") | AN9: =IF($S9=AN$5,$U9*$V9*$W9,"") | AO9: =IF($S9=AO$5,$U9*$V9*$W9,"")
J10: =IF($H10<>"",(VLOOKUP($H10,'Puissances et FS utilisés'!$B$7:$G$44,5,FALSE)),"") | K10: =IF($H10<>"",(VLOOKUP($H10,'Puissances et FS utilisés'!$B$7:$G$44,6,FALSE)),"") | P10: =IF($N10<>"",(VLOOKUP($N10,'Puissances et FS utilisés'!$B$7:$G$44,5,FALSE)),"") | Q10: =IF($N10<>"",(VLOOKUP($N10,'Puissances et FS utilisés'!$B$7:$G$44,6,FALSE)),"") | V10: =IF($T10<>"",(VLOOKUP($T10,'Puissances et FS utilisés'!$B$7:$G$900,5,FALSE)),"") | Y10: =IF($G10=Y$5,$I10*$J10,"") | Z10: =IF($G10=Z$5,$I10*$J10,"") | AA10: =IF($M10=AA$5,$O10*$P10,"") | AB10: =IF($M10=AB$5,$O10*$P10,"") | AC10: =IF($M10=AC$5,$O10*$P10,"") | AD10: =IF($S10=AD$5,$U10*$V10,"") | AE10: =IF($S10=AE$5,$U10*$V10,"") | AF10: =IF($S10=AF$5,$U10*$V10,"") | AH10: =IF($G10=AH$5,$I10*$J10*$K10,"") | AI10: =IF($G10=AI$5,$I10*$J10*$K10,"") | AJ10: =IF($M10=AJ$5,$O10*$P10*$Q10,"") | AK10: =IF($M10=AK$5,$O10*$P10*$Q10,"") | AL10: =IF($M10=AL$5,$O10*$P10*$Q10,"") | AM10: =IF($S10=AM$5,$U10*$V10*$W10,"") | AN10: =IF($S10=AN$5,$U10*$V10*$W10,"") | AO10: =IF($S10=AO$5,$U10*$V10*$W10,"")
J11: =IF($H11<>"",(VLOOKUP($H11,'Puissances et FS utilisés'!$B$7:$G$44,5,FALSE)),"") | K11: =IF($H11<>"",(VLOOKUP($H11,'Puissances et FS utilisés'!$B$7:$G$44,6,FALSE)),"") | P11: =IF($N11<>"",(VLOOKUP($N11,'Puissances et FS utilisés'!$B$7:$G$44,5,FALSE)),"") | Q11: =IF($N11<>"",(VLOOKUP($N11,'Puissances et FS utilisés'!$B$7:$G$44,6,FALSE)),"") | V11: =IF($T11<>"",(VLOOKUP($T11,'Puissances et FS utilisés'!$B$7:$G$900,5,FALSE)),"") | W11: =IF($T11<>"",(VLOOKUP($T11,'Puissances et FS utilisés'!$B$7:$G$44,6,FALSE)),"") | Y11: =IF($G11=Y$5,$I11*$J11,"") | Z11: =IF($G11=Z$5,$I11*$J11,"") | AA11: =IF($M11=AA$5,$O11*$P11,"") | AB11: =IF($M11=AB$5,$O11*$P11,"") | AC11: =IF($M11=AC$5,$O11*$P11,"") | AD11: =IF($S11=AD$5,$U11*$V11,"") | AE11: =IF($S11=AE$5,$U11*$V11,"") | AF11: =IF($S11=AF$5,$U11*$V11,"") | AH11: =IF($G11=AH$5,$I11*$J11*$K11,"") | AI11: =IF($G11=AI$5,$I11*$J11*$K11,"") | AJ11: =IF($M11=AJ$5,$O11*$P11*$Q11,"") | AK11: =IF($M11=AK$5,$O11*$P11*$Q11,"") | AL11: =IF($M11=AL$5,$O11*$P11*$Q11,"") | AM11: =IF($S11=AM$5,$U11*$V11*$W11,"") | AN11: =IF($S11=AN$5,$U11*$V11*$W11,"") | AO11: =IF($S11=AO$5,$U11*$V11*$W11,"")
C12: SDB 01.HA 1.1 | D12: R+1 | E12: TB1.1 | F12: TD SG R+1 | G12: N | H12: L3 | I12: 2 | J12: =IF($H12<>"",(VLOOKUP($H12,'Puissances et FS utilisés'!$B$7:$G$44,5,FALSE)),"") -> 0.013043478 | K12: =IF($H12<>"",(VLOOKUP($H12,'Puissances et FS utilisés'!$B$7:$G$44,6,FALSE)),"") -> 1 | L12: TD SG R+1 | M12: N | N12: PCN-R | O12: 1 | P12: =IF($N12<>"",(VLOOKUP($N12,'Puissances et FS utilisés'!$B$7:$G$44,5,FALSE)),"") -> 0.44444444 | Q12: =IF($N12<>"",(VLOOKUP($N12,'Puissances et FS utilisés'!$B$7:$G$44,6,FALSE)),"") -> 0.3 | R12: TD SG R+1 | S12: N | T12: FA-B | U12: 1 | V12: =IF($T12<>"",(VLOOKUP($T12,'Puissances et FS utilisés'!$B$7:$G$900,5,FALSE)),"") -> 0.06 | W12: =IF($T12<>"",(VLOOKUP($T12,'Puissances et FS utilisés'!$B$7:$G$900,6,FALSE)),"") -> 0.5 | Y12: =IF($G12=Y$5,$I12*$J12,"") -> 0.026086957 | Z12: =IF($G12=Z$5,$I12*$J12,"") | AA12: =IF($M12=AA$5,$O12*$P12,"") -> 0.44444444 | AB12: =IF($M12=AB$5,$O12*$P12,"") | AC12: =IF($M12=AC$5,$O12*$P12,"") | AD12: =IF($S12=AD$5,$U12*$V12,"") -> 0.06 | AE12: =IF($S12=AE$5,$U12*$V12,"") | AF12: =IF($S12=AF$5,$U12*$V12,"") | AH12: =IF($G12=AH$5,$I12*$J12*$K12,"") -> 0.026086957 | AI12: =IF($G12=AI$5,$I12*$J12*$K12,"") | AJ12: =IF($M12=AJ$5,$O12*$P12*$Q12,"") -> 0.13333333 | AK12: =IF($M12=AK$5,$O12*$P12*$Q12,"") | AL12: =IF($M12=AL$5,$O12*$P12*$Q12,"") | AM12: =IF($S12=AM$5,$U12*$V12*$W12,"") -> 0.03 | AN12: =IF($S12=AN$5,$U12*$V12*$W12,"") | AO12: =IF($S12=AO$5,$U12*$V12*$W12,"")
J13: =IF($H13<>"",(VLOOKUP($H13,'Puissances et FS utilisés'!$B$7:$G$44,5,FALSE)),"") | K13: =IF($H13<>"",(VLOOKUP($H13,'Puissances et FS utilisés'!$B$7:$G$44,6,FALSE)),"") | P13: =IF($N13<>"",(VLOOKUP($N13,'Puissances et FS utilisés'!$B$7:$G$44,5,FALSE)),"") | Q13: =IF($N13<>"",(VLOOKUP($N13,'Puissances et FS utilisés'!$B$7:$G$44,6,FALSE)),"") | V13: =IF($T13<>"",(VLOOKUP($T13,'Puissances et FS utilisés'!$B$7:$G$900,5,FALSE)),"") | Y13: =IF($G13=Y$5,$I13*$J13,"") | Z13: =IF($G13=Z$5,$I13*$J13,"") | AA13: =IF($M13=AA$5,$O13*$P13,"") | AB13: =IF($M13=AB$5,$O13*$P13,"") | AC13: =IF($M13=AC$5,$O13*$P13,"") | AD13: =IF($S13=AD$5,$U13*$V13,"") | AE13: =IF($S13=AE$5,$U13*$V13,"") | AF13: =IF($S13=AF$5,$U13*$V13,"") | AH13: =IF($G13=AH$5,$I13*$J13*$K13,"") | AI13: =IF($G13=AI$5,$I13*$J13*$K13,"") | AJ13: =IF($M13=AJ$5,$O13*$P13*$Q13,"") | AK13: =IF($M13=AK$5,$O13*$P13*$Q13,"") | AL13: =IF($M13=AL$5,$O13*$P13*$Q13,"") | AM13: =IF($S13=AM$5,$U13*$V13*$W13,"") | AN13: =IF($S13=AN$5,$U13*$V13*$W13,"") | AO13: =IF($S13=AO$5,$U13*$V13*$W13,"")
J14: =IF($H14<>"",(VLOOKUP($H14,'Puissances et FS utilisés'!$B$7:$G$44,5,FALSE)),"") | K14: =IF($H14<>"",(VLOOKUP($H14,'Puissances et FS utilisés'!$B$7:$G$44,6,FALSE)),"") | P14: =IF($N14<>"",(VLOOKUP($N14,'Puissances et FS utilisés'!$B$7:$G$44,5,FALSE)),"") | Q14: =IF($N14<>"",(VLOOKUP($N14,'Puissances et FS utilisés'!$B$7:$G$44,6,FALSE)),"") | V14: =IF($T14<>"",(VLOOKUP($T14,'Puissances et FS utilisés'!$B$7:$G$900,5,FALSE)),"") | W14: =IF($T14<>"",(VLOOKUP($T14,'Puissances et FS utilisés'!$B$7:$G$44,6,FALSE)),"") | Y14: =IF($G14=Y$5,$I14*$J14,"") | Z14: =IF($G14=Z$5,$I14*$J14,"") | AA14: =IF($M14=AA$5,$O14*$P14,"") | AB14: =IF($M14=AB$5,$O14*$P14,"") | AC14: =IF($M14=AC$5,$O14*$P14,"") | AD14: =IF($S14=AD$5,$U14*$V14,"") | AE14: =IF($S14=AE$5,$U14*$V14,"") | AF14: =IF($S14=AF$5,$U14*$V14,"") | AH14: =IF($G14=AH$5,$I14*$J14*$K14,"") | AI14: =IF($G14=AI$5,$I14*$J14*$K14,"") | AJ14: =IF($M14=AJ$5,$O14*$P14*$Q14,"") | AK14: =IF($M14=AK$5,$O14*$P14*$Q14,"") | AL14: =IF($M14=AL$5,$O14*$P14*$Q14,"") | AM14: =IF($S14=AM$5,$U14*$V14*$W14,"") | AN14: =IF($S14=AN$5,$U14*$V14*$W14,"") | AO14: =IF($S14=AO$5,$U14*$V14*$W14,"")
C15: Chambre 01.HA 1.2 | D15: R+1 | E15: TB1.1 | F15: TD SG R+1 | G15: N | H15: L1 | I15: 1 | J15: =IF($H15<>"",(VLOOKUP($H15,'Puissances et FS utilisés'!$B$7:$G$44,5,FALSE)),"") -> 0.014130435 | K15: =IF($H15<>"",(VLOOKUP($H15,'Puissances et FS utilisés'!$B$7:$G$44,6,FALSE)),"") -> 1 | L15: TD SG R+1 | M15: N | N15: PCN | O15: 8 | P15: =IF($N15<>"",(VLOOKUP($N15,'Puissances et FS utilisés'!$B$7:$G$44,5,FALSE)),"") -> 0.44444444 | Q15: =IF($N15<>"",(VLOOKUP($N15,'Puissances et FS utilisés'!$B$7:$G$44,6,FALSE)),"") -> 0.3 | Y15: =IF($G15=Y$5,$I15*$J15,"") -> 0.014130435 | Z15: =IF($G15=Z$5,$I15*$J15,"") | AA15: =IF($M15=AA$5,$O15*$P15,"") -> 3.5555556 | AB15: =IF($M15=AB$5,$O15*$P15,"") | AC15: =IF($M15=AC$5,$O15*$P15,"") | AD15: =IF($S15=AD$5,$U15*$V15,"") | AE15: =IF($S15=AE$5,$U15*$V15,"") | AF15: =IF($S15=AF$5,$U15*$V15,"") | AH15: =IF($G15=AH$5,$I15*$J15*$K15,"") -> 0.014130435 | AI15: =IF($G15=AI$5,$I15*$J15*$K15,"") | AJ15: =IF($M15=AJ$5,$O15*$P15*$Q15,"") -> 1.0666667 | AK15: =IF($M15=AK$5,$O15*$P15*$Q15,"") | AL15: =IF($M15=AL$5,$O15*$P15*$Q15,"") | AM15: =IF($S15=AM$5,$U15*$V15*$W15,"") | AN15: =IF($S15=AN$5,$U15*$V15*$W15,"") | AO15: =IF($S15=AO$5,$U15*$V15*$W15,"")
F16: TD SG R+1 | G16: N | H16: L2 | I16: 2 | J16: =IF($H16<>"",(VLOOKUP($H16,'Puissances et FS utilisés'!$B$7:$G$44,5,FALSE)),"") -> 0.0054347826 | K16: =IF($H16<>"",(VLOOKUP($H16,'Puissances et FS utilisés'!$B$7:$G$44,6,FALSE)),"") -> 1 | L16: TD SG R+1 | M16: N | N16: PT6 | O16: 1 | P16: =IF($N16<>"",(VLOOKUP($N16,'Puissances et FS utilisés'!$B$7:$G$44,5,FALSE)),"") -> 0.27777778 | Q16: =IF($N16<>"",(VLOOKUP($N16,'Puissances et FS utilisés'!$B$7:$G$44,6,FALSE)),"") -> 0.3 | V16: =IF($T16<>"",(VLOOKUP($T16,'Puissances et FS utilisés'!$B$7:$G$900,5,FALSE)),"") | W16: =IF($T16<>"",(VLOOKUP($T16,'Puissances et FS utilisés'!$B$7:$G$44,6,FALSE)),"") | Y16: =IF($G16=Y$5,$I16*$J16,"") -> 0.010869565 | Z16: =IF($G16=Z$5,$I16*$J16,"") | AA16: =IF($M16=AA$5,$O16*$P16,"") -> 0.27777778 | AB16: =IF($M16=AB$5,$O16*$P16,"") | AC16: =IF($M16=AC$5,$O16*$P16,"") | AD16: =IF($S16=AD$5,$U16*$V16,"") | AE16: =IF($S16=AE$5,$U16*$V16,"") | AF16: =IF($S16=AF$5,$U16*$V16,"") | AH16: =IF($G16=AH$5,$I16*$J16*$K16,"") -> 0.010869565 | AI16: =IF($G16=AI$5,$I16*$J16*$K16,"") | AJ16: =IF($M16=AJ$5,$O16*$P16*$Q16,"") -> 0.083333333 | AK16: =IF($M16=AK$5,$O16*$P16*$Q16,"") | AL16: =IF($M16=AL$5,$O16*$P16*$Q16,"") | AM16: =IF($S16=AM$5,$U16*$V16*$W16,"") | AN16: =IF($S16=AN$5,$U16*$V16*$W16,"") | AO16: =IF($S16=AO$5,$U16*$V16*$W16,"")
F17: TD SG R+1 | G17: N | H17: L7 | I17: 2 | J17: =IF($H17<>"",(VLOOKUP($H17,'Puissances et FS utilisés'!$B$7:$G$44,5,FALSE)),"") -> 0.010869565 | K17: =IF($H17<>"",(VLOOKUP($H17,'Puissances et FS utilisés'!$B$7:$G$44,6,FALSE)),"") -> 1 | P17: =IF($N17<>"",(VLOOKUP($N17,'Puissances et FS utilisés'!$B$7:$G$44,5,FALSE)),"") | Q17: =IF($N17<>"",(VLOOKUP($N17,'Puissances et FS utilisés'!$B$7:$G$44,6,FALSE)),"") | V17: =IF($T17<>"",(VLOOKUP($T17,'Puissances et FS utilisés'!$B$7:$G$900,5,FALSE)),"") | W17: =IF($T17<>"",(VLOOKUP($T17,'Puissances et FS utilisés'!$B$7:$G$44,6,FALSE)),"") | Y17: =IF($G17=Y$5,$I17*$J17,"") -> 0.02173913 | Z17: =IF($G17=Z$5,$I17*$J17,"") | AA17: =IF($M17=AA$5,$O17*$P17,"") | AB17: =IF($M17=AB$5,$O17*$P17,"") | AC17: =IF($M17=AC$5,$O17*$P17,"") | AD17: =IF($S17=AD$5,$U17*$V17,"") | AE17: =IF($S17=AE$5,$U17*$V17,"") | AF17: =IF($S17=AF$5,$U17*$V17,"") | AH17: =IF($G17=AH$5,$I17*$J17*$K17,"") -> 0.02173913 | AI17: =IF($G17=AI$5,$I17*$J17*$K17,"") | AJ17: =IF($M17=AJ$5,$O17*$P17*$Q17,"") | AK17: =IF($M17=AK$5,$O17*$P17*$Q17,"") | AL17: =IF($M17=AL$5,$O17*$P17*$Q17,"") | AM17: =IF($S17=AM$5,$U17*$V17*$W17,"") | AN17: =IF($S17=AN$5,$U17*$V17*$W17,"") | AO17: =IF($S17=AO$5,$U17*$V17*$W17,"")
C18: Chambre 01.HA 1.2 | D18: R+1 | E18: TB1.1 | F18: TD SG R+1 | G18: N | H18: L8 | I18: 1 | J18: =IF($H18<>"",(VLOOKUP($H18,'Puissances et FS utilisés'!$B$7:$G$44,5,FALSE)),"") -> 0.010869565 | K18: =IF($H18<>"",(VLOOKUP($H18,'Puissances et FS utilisés'!$B$7:$G$44,6,FALSE)),"") -> 1 | P18: =IF($N18<>"",(VLOOKUP($N18,'Puissances et FS utilisés'!$B$7:$G$44,5,FALSE)),"") | Q18: =IF($N18<>"",(VLOOKUP($N18,'Puissances et FS utilisés'!$B$7:$G$44,6,FALSE)),"") | V18: =IF($T18<>"",(VLOOKUP($T18,'Puissances et FS utilisés'!$B$7:$G$900,5,FALSE)),"") | W18: =IF($T18<>"",(VLOOKUP($T18,'Puissances et FS utilisés'!$B$7:$G$44,6,FALSE)),"") | Y18: =IF($G18=Y$5,$I18*$J18,"") -> 0.010869565 | Z18: =IF($G18=Z$5,$I18*$J18,"") | AA18: =IF($M18=AA$5,$O18*$P18,"") | AB18: =IF($M18=AB$5,$O18*$P18,"") | AC18: =IF($M18=AC$5,$O18*$P18,"") | AD18: =IF($S18=AD$5,$U18*$V18,"") | AE18: =IF($S18=AE$5,$U18*$V18,"") | AF18: =IF($S18=AF$5,$U18*$V18,"") | AH18: =IF($G18=AH$5,$I18*$J18*$K18,"") -> 0.010869565 | AI18: =IF($G18=AI$5,$I18*$J18*$K18,"") | AJ18: =IF($M18=AJ$5,$O18*$P18*$Q18,"") | AK18: =IF($M18=AK$5,$O18*$P18*$Q18,"") | AL18: =IF($M18=AL$5,$O18*$P18*$Q18,"") | AM18: =IF($S18=AM$5,$U18*$V18*$W18,"") | AN18: =IF($S18=AN$5,$U18*$V18*$W18,"") | AO18: =IF($S18=AO$5,$U18*$V18*$W18,"")
J19: =IF($H19<>"",(VLOOKUP($H19,'Puissances et FS utilisés'!$B$7:$G$44,5,FALSE)),"") | K19: =IF($H19<>"",(VLOOKUP($H19,'Puissances et FS utilisés'!$B$7:$G$44,6,FALSE)),"") | P19: =IF($N19<>"",(VLOOKUP($N19,'Puissances et FS utilisés'!$B$7:$G$44,5,FALSE)),"") | Q19: =IF($N19<>"",(VLOOKUP($N19,'Puissances et FS utilisés'!$B$7:$G$44,6,FALSE)),"") | V19: =IF($T19<>"",(VLOOKUP($T19,'Puissances et FS utilisés'!$B$7:$G$900,5,FALSE)),"") | Y19: =IF($G19=Y$5,$I19*$J19,"") | Z19: =IF($G19=Z$5,$I19*$J19,"") | AA19: =IF($M19=AA$5,$O19*$P19,"") | AB19: =IF($M19=AB$5,$O19*$P19,"") | AC19: =IF($M19=AC$5,$O19*$P19,"") | AD19: =IF($S19=AD$5,$U19*$V19,"") | AE19: =IF($S19=AE$5,$U19*$V19,"") | AF19: =IF($S19=AF$5,$U19*$V19,"") | AH19: =IF($G19=AH$5,$I19*$J19*$K19,"") | AI19: =IF($G19=AI$5,$I19*$J19*$K19,"") | AJ19: =IF($M19=AJ$5,$O19*$P19*$Q19,"") | AK19: =IF($M19=AK$5,$O19*$P19*$Q19,"") | AL19: =IF($M19=AL$5,$O19*$P19*$Q19,"") | AM19: =IF($S19=AM$5,$U19*$V19*$W19,"") | AN19: =IF($S19=AN$5,$U19*$V19*$W19,"") | AO19: =IF($S19=AO$5,$U19*$V19*$W19,"")
J20: =IF($H20<>"",(VLOOKUP($H20,'Puissances et FS utilisés'!$B$7:$G$44,5,FALSE)),"") | K20: =IF($H20<>"",(VLOOKUP($H20,'Puissances et FS utilisés'!$B$7:$G$44,6,FALSE)),"") | P20: =IF($N20<>"",(VLOOKUP($N20,'Puissances et FS utilisés'!$B$7:$G$44,5,FALSE)),"") | Q20: =IF($N20<>"",(VLOOKUP($N20,'Puissances et FS utilisés'!$B$7:$G$44,6,FALSE)),"") | V20: =IF($T20<>"",(VLOOKUP($T20,'Puissances et FS utilisés'!$B$7:$G$900,5,FALSE)),"") | W20: =IF($T20<>"",(VLOOKUP($T20,'Puissances et FS utilisés'!$B$7:$G$44,6,FALSE)),"") | Y20: =IF($G20=Y$5,$I20*$J20,"") | Z20: =IF($G20=Z$5,$I20*$J20,"") | AA20: =IF($M20=AA$5,$O20*$P20,"") | AB20: =IF($M20=AB$5,$O20*$P20,"") | AC20: =IF($M20=AC$5,$O20*$P20,"") | AD20: =IF($S20=AD$5,$U20*$V20,"") | AE20: =IF($S20=AE$5,$U20*$V20,"") | AF20: =IF($S20=AF$5,$U20*$V20,"") | AH20: =IF($G20=AH$5,$I20*$J20*$K20,"") | AI20: =IF($G20=AI$5,$I20*$J20*$K20,"") | AJ20: =IF($M20=AJ$5,$O20*$P20*$Q20,"") | AK20: =IF($M20=AK$5,$O20*$P20*$Q20,"") | AL20: =IF($M20=AL$5,$O20*$P20*$Q20,"") | AM20: =IF($S20=AM$5,$U20*$V20*$W20,"") | AN20: =IF($S20=AN$5,$U20*$V20*$W20,"") | AO20: =IF($S20=AO$5,$U20*$V20*$W20,"")
C21: SDB 01.HA 1.2 | D21: R+1 | E21: TB1.1 | F21: TD SG R+1 | G21: N | H21: L3 | I21: 2 | J21: =IF($H21<>"",(VLOOKUP($H21,'Puissances et FS utilisés'!$B$7:$G$44,5,FALSE)),"") -> 0.013043478 | K21: =IF($H21<>"",(VLOOKUP($H21,'Puissances et FS utilisés'!$B$7:$G$44,6,FALSE)),"") -> 1 | L21: TD SG R+1 | M21: N | N21: PCN-R | O21: 1 | P21: =IF($N21<>"",(VLOOKUP($N21,'Puissances et FS utilisés'!$B$7:$G$44,5,FALSE)),"") -> 0.44444444 | Q21: =IF($N21<>"",(VLOOKUP($N21,'Puissances et FS utilisés'!$B$7:$G$44,6,FALSE)),"") -> 0.3 | R21: TD SG R+1 | S21: N | T21: FA-B | U21: 1 | V21: =IF($T21<>"",(VLOOKUP($T21,'Puissances et FS utilisés'!$B$7:$G$900,5,FALSE)),"") -> 0.06 | W21: =IF($T21<>"",(VLOOKUP($T21,'Puissances et FS utilisés'!$B$7:$G$900,6,FALSE)),"") -> 0.5 | Y21: =IF($G21=Y$5,$I21*$J21,"") -> 0.026086957 | Z21: =IF($G21=Z$5,$I21*$J21,"") | AA21: =IF($M21=AA$5,$O21*$P21,"") -> 0.44444444 | AB21: =IF($M21=AB$5,$O21*$P21,"") | AC21: =IF($M21=AC$5,$O21*$P21,"") | AD21: =IF($S21=AD$5,$U21*$V21,"") -> 0.06 | AE21: =IF($S21=AE$5,$U21*$V21,"") | AF21: =IF($S21=AF$5,$U21*$V21,"") | AH21: =IF($G21=AH$5,$I21*$J21*$K21,"") -> 0.026086957 | AI21: =IF($G21=AI$5,$I21*$J21*$K21,"") | AJ21: =IF($M21=AJ$5,$O21*$P21*$Q21,"") -> 0.13333333 | AK21: =IF($M21=AK$5,$O21*$P21*$Q21,"") | AL21: =IF($M21=AL$5,$O21*$P21*$Q21,"") | AM21: =IF($S21=AM$5,$U21*$V21*$W21,"") -> 0.03 | AN21: =IF($S21=AN$5,$U21*$V21*$W21,"") | AO21: =IF($S21=AO$5,$U21*$V21*$W21,"")
J22: =IF($H22<>"",(VLOOKUP($H22,'Puissances et FS utilisés'!$B$7:$G$44,5,FALSE)),"") | K22: =IF($H22<>"",(VLOOKUP($H22,'Puissances et FS utilisés'!$B$7:$G$44,6,FALSE)),"") | P22: =IF($N22<>"",(VLOOKUP($N22,'Puissances et FS utilisés'!$B$7:$G$44,5,FALSE)),"") | Q22: =IF($N22<>"",(VLOOKUP($N22,'Puissances et FS utilisés'!$B$7:$G$44,6,FALSE)),"") | V22: =IF($T22<>"",(VLOOKUP($T22,'Puissances et FS utilisés'!$B$7:$G$900,5,FALSE)),"") | Y22: =IF($G22=Y$5,$I22*$J22,"") | Z22: =IF($G22=Z$5,$I22*$J22,"") | AA22: =IF($M22=AA$5,$O22*$P22,"") | AB22: =IF($M22=AB$5,$O22*$P22,"") | AC22: =IF($M22=AC$5,$O22*$P22,"") | AD22: =IF($S22=AD$5,$U22*$V22,"") | AE22: =IF($S22=AE$5,$U22*$V22,"") | AF22: =IF($S22=AF$5,$U22*$V22,"") | AH22: =IF($G22=AH$5,$I22*$J22*$K22,"") | AI22: =IF($G22=AI$5,$I22*$J22*$K22,"") | AJ22: =IF($M22=AJ$5,$O22*$P22*$Q22,"") | AK22: =IF($M22=AK$5,$O22*$P22*$Q22,"") | AL22: =IF($M22=AL$5,$O22*$P22*$Q22,"") | AM22: =IF($S22=AM$5,$U22*$V22*$W22,"") | AN22: =IF($S22=AN$5,$U22*$V22*$W22,"") | AO22: =IF($S22=AO$5,$U22*$V22*$W22,"")
J23: =IF($H23<>"",(VLOOKUP($H23,'Puissances et FS utilisés'!$B$7:$G$44,5,FALSE)),"") | K23: =IF($H23<>"",(VLOOKUP($H23,'Puissances et FS utilisés'!$B$7:$G$44,6,FALSE)),"") | P23: =IF($N23<>"",(VLOOKUP($N23,'Puissances et FS utilisés'!$B$7:$G$44,5,FALSE)),"") | Q23: =IF($N23<>"",(VLOOKUP($N23,'Puissances et FS utilisés'!$B$7:$G$44,6,FALSE)),"") | V23: =IF($T23<>"",(VLOOKUP($T23,'Puissances et FS utilisés'!$B$7:$G$900,5,FALSE)),"") | W23: =IF($T23<>"",(VLOOKUP($T23,'Puissances et FS utilisés'!$B$7:$G$44,6,FALSE)),"") | Y23: =IF($G23=Y$5,$I23*$J23,"") | Z23: =IF($G23=Z$5,$I23*$J23,"") | AA23: =IF($M23=AA$5,$O23*$P23,"") | AB23: =IF($M23=AB$5,$O23*$P23,"") | AC23: =IF($M23=AC$5,$O23*$P23,"") | AD23: =IF($S23=AD$5,$U23*$V23,"") | AE23: =IF($S23=AE$5,$U23*$V23,"") | AF23: =IF($S23=AF$5,$U23*$V23,"") | AH23: =IF($G23=AH$5,$I23*$J23*$K23,"") | AI23: =IF($G23=AI$5,$I23*$J23*$K23,"") | AJ23: =IF($M23=AJ$5,$O23*$P23*$Q23,"") | AK23: =IF($M23=AK$5,$O23*$P23*$Q23,"") | AL23: =IF($M23=AL$5,$O23*$P23*$Q23,"") | AM23: =IF($S23=AM$5,$U23*$V23*$W23,"") | AN23: =IF($S23=AN$5,$U23*$V23*$W23,"") | AO23: =IF($S23=AO$5,$U23*$V23*$W23,"")
C24: Chambre 01.HA 1.3 | D24: R+1 | E24: TB1.2 | F24: TD SG R+1 | G24: N | H24: L1 | I24: 1 | J24: =IF($H24<>"",(VLOOKUP($H24,'Puissances et FS utilisés'!$B$7:$G$44,5,FALSE)),"") -> 0.014130435 | K24: =IF($H24<>"",(VLOOKUP($H24,'Puissances et FS utilisés'!$B$7:$G$44,6,FALSE)),"") -> 1 | L24: TD SG R+1 | M24: N | N24: PCN | O24: 8 | P24: =IF($N24<>"",(VLOOKUP($N24,'Puissances et FS utilisés'!$B$7:$G$44,5,FALSE)),"") -> 0.44444444 | Q24: =IF($N24<>"",(VLOOKUP($N24,'Puissances et FS utilisés'!$B$7:$G$44,6,FALSE)),"") -> 0.3 | Y24: =IF($G24=Y$5,$I24*$J24,"") -> 0.014130435 | Z24: =IF($G24=Z$5,$I24*$J24,"") | AA24: =IF($M24=AA$5,$O24*$P24,"") -> 3.5555556 | AB24: =IF($M24=AB$5,$O24*$P24,"") | AC24: =IF($M24=AC$5,$O24*$P24,"") | AD24: =IF($S24=AD$5,$U24*$V24,"") | AE24: =IF($S24=AE$5,$U24*$V24,"") | AF24: =IF($S24=AF$5,$U24*$V24,"") | AH24: =IF($G24=AH$5,$I24*$J24*$K24,"") -> 0.014130435 | AI24: =IF($G24=AI$5,$I24*$J24*$K24,"") | AJ24: =IF($M24=AJ$5,$O24*$P24*$Q24,"") -> 1.0666667 | AK24: =IF($M24=AK$5,$O24*$P24*$Q24,"") | AL24: =IF($M24=AL$5,$O24*$P24*$Q24,"") | AM24: =IF($S24=AM$5,$U24*$V24*$W24,"") | AN24: =IF($S24=AN$5,$U24*$V24*$W24,"") | AO24: =IF($S24=AO$5,$U24*$V24*$W24,"")
F25: TD SG R+1 | G25: N | H25: L2 | I25: 2 | J25: =IF($H25<>"",(VLOOKUP($H25,'Puissances et FS utilisés'!$B$7:$G$44,5,FALSE)),"") -> 0.0054347826 | K25: =IF($H25<>"",(VLOOKUP($H25,'Puissances et FS utilisés'!$B$7:$G$44,6,FALSE)),"") -> 1 | L25: TD SG R+1 | M25: N | N25: PT6 | O25: 1 | P25: =IF($N25<>"",(VLOOKUP($N25,'Puissances et FS utilisés'!$B$7:$G$44,5,FALSE)),"") -> 0.27777778 | Q25: =IF($N25<>"",(VLOOKUP($N25,'Puissances et FS utilisés'!$B$7:$G$44,6,FALSE)),"") -> 0.3 | V25: =IF($T25<>"",(VLOOKUP($T25,'Puissances et FS utilisés'!$B$7:$G$900,5,FALSE)),"") | W25: =IF($T25<>"",(VLOOKUP($T25,'Puissances et FS utilisés'!$B$7:$G$44,6,FALSE)),"") | Y25: =IF($G25=Y$5,$I25*$J25,"") -> 0.010869565 | Z25: =IF($G25=Z$5,$I25*$J25,"") | AA25: =IF($M25=AA$5,$O25*$P25,"") -> 0.27777778 | AB25: =IF($M25=AB$5,$O25*$P25,"") | AC25: =IF($M25=AC$5,$O25*$P25,"") | AD25: =IF($S25=AD$5,$U25*$V25,"") | AE25: =IF($S25=AE$5,$U25*$V25,"") | AF25: =IF($S25=AF$5,$U25*$V25,"") | AH25: =IF($G25=AH$5,$I25*$J25*$K25,"") -> 0.010869565 | AI25: =IF($G25=AI$5,$I25*$J25*$K25,"") | AJ25: =IF($M25=AJ$5,$O25*$P25*$Q25,"") -> 0.083333333 | AK25: =IF($M25=AK$5,$O25*$P25*$Q25,"") | AL25: =IF($M25=AL$5,$O25*$P25*$Q25,"") | AM25: =IF($S25=AM$5,$U25*$V25*$W25,"") | AN25: =IF($S25=AN$5,$U25*$V25*$W25,"") | AO25: =IF($S25=AO$5,$U25*$V25*$W25,"")
F26: TD SG R+1 | G26: N | H26: L7 | I26: 2 | J26: =IF($H26<>"",(VLOOKUP($H26,'Puissances et FS utilisés'!$B$7:$G$44,5,FALSE)),"") -> 0.010869565 | K26: =IF($H26<>"",(VLOOKUP($H26,'Puissances et FS utilisés'!$B$7:$G$44,6,FALSE)),"") -> 1 | P26: =IF($N26<>"",(VLOOKUP($N26,'Puissances et FS utilisés'!$B$7:$G$44,5,FALSE)),"") | Q26: =IF($N26<>"",(VLOOKUP($N26,'Puissances et FS utilisés'!$B$7:$G$44,6,FALSE)),"") | V26: =IF($T26<>"",(VLOOKUP($T26,'Puissances et FS utilisés'!$B$7:$G$900,5,FALSE)),"") | W26: =IF($T26<>"",(VLOOKUP($T26,'Puissances et FS utilisés'!$B$7:$G$44,6,FALSE)),"") | Y26: =IF($G26=Y$5,$I26*$J26,"") -> 0.02173913 | Z26: =IF($G26=Z$5,$I26*$J26,"") | AA26: =IF($M26=AA$5,$O26*$P26,"") | AB26: =IF($M26=AB$5,$O26*$P26,"") | AC26: =IF($M26=AC$5,$O26*$P26,"") | AD26: =IF($S26=AD$5,$U26*$V26,"") | AE26: =IF($S26=AE$5,$U26*$V26,"") | AF26: =IF($S26=AF$5,$U26*$V26,"") | AH26: =IF($G26=AH$5,$I26*$J26*$K26,"") -> 0.02173913 | AI26: =IF($G26=AI$5,$I26*$J26*$K26,"") | AJ26: =IF($M26=AJ$5,$O26*$P26*$Q26,"") | AK26: =IF($M26=AK$5,$O26*$P26*$Q26,"") | AL26: =IF($M26=AL$5,$O26*$P26*$Q26,"") | AM26: =IF($S26=AM$5,$U26*$V26*$W26,"") | AN26: =IF($S26=AN$5,$U26*$V26*$W26,"") | AO26: =IF($S26=AO$5,$U26*$V26*$W26,"")
C27: Chambre 01.HA 1.3 | D27: R+1 | E27: TB1.2 | F27: TD SG R+1 | G27: N | H27: L8 | I27: 1 | J27: =IF($H27<>"",(VLOOKUP($H27,'Puissances et FS utilisés'!$B$7:$G$44,5,FALSE)),"") -> 0.010869565 | K27: =IF($H27<>"",(VLOOKUP($H27,'Puissances et FS utilisés'!$B$7:$G$44,6,FALSE)),"") -> 1 | P27: =IF($N27<>"",(VLOOKUP($N27,'Puissances et FS utilisés'!$B$7:$G$44,5,FALSE)),"") | Q27: =IF($N27<>"",(VLOOKUP($N27,'Puissances et FS utilisés'!$B$7:$G$44,6,FALSE)),"") | V27: =IF($T27<>"",(VLOOKUP($T27,'Puissances et FS utilisés'!$B$7:$G$900,5,FALSE)),"") | W27: =IF($T27<>"",(VLOOKUP($T27,'Puissances et FS utilisés'!$B$7:$G$44,6,FALSE)),"") | Y27: =IF($G27=Y$5,$I27*$J27,"") -> 0.010869565 | Z27: =IF($G27=Z$5,$I27*$J27,"") | AA27: =IF($M27=AA$5,$O27*$P27,"") | AB27: =IF($M27=AB$5,$O27*$P27,"") | AC27: =IF($M27=AC$5,$O27*$P27,"") | AD27: =IF($S27=AD$5,$U27*$V27,"") | AE27: =IF($S27=AE$5,$U27*$V27,"") | AF27: =IF($S27=AF$5,$U27*$V27,"") | AH27: =IF($G27=AH$5,$I27*$J27*$K27,"") -> 0.010869565 | AI27: =IF($G27=AI$5,$I27*$J27*$K27,"") | AJ27: =IF($M27=AJ$5,$O27*$P27*$Q27,"") | AK27: =IF($M27=AK$5,$O27*$P27*$Q27,"") | AL27: =IF($M27=AL$5,$O27*$P27*$Q27,"") | AM27: =IF($S27=AM$5,$U27*$V27*$W27,"") | AN27: =IF($S27=AN$5,$U27*$V27*$W27,"") | AO27: =IF($S27=AO$5,$U27*$V27*$W27,"")
J28: =IF($H28<>"",(VLOOKUP($H28,'Puissances et FS utilisés'!$B$7:$G$44,5,FALSE)),"") | K28: =IF($H28<>"",(VLOOKUP($H28,'Puissances et FS utilisés'!$B$7:$G$44,6,FALSE)),"") | P28: =IF($N28<>"",(VLOOKUP($N28,'Puissances et FS utilisés'!$B$7:$G$44,5,FALSE)),"") | Q28: =IF($N28<>"",(VLOOKUP($N28,'Puissances et FS utilisés'!$B$7:$G$44,6,FALSE)),"") | V28: =IF($T28<>"",(VLOOKUP($T28,'Puissances et FS utilisés'!$B$7:$G$900,5,FALSE)),"") | Y28: =IF($G28=Y$5,$I28*$J28,"") | Z28: =IF($G28=Z$5,$I28*$J28,"") | AA28: =IF($M28=AA$5,$O28*$P28,"") | AB28: =IF($M28=AB$5,$O28*$P28,"") | AC28: =IF($M28=AC$5,$O28*$P28,"") | AD28: =IF($S28=AD$5,$U28*$V28,"") | AE28: =IF($S28=AE$5,$U28*$V28,"") | AF28: =IF($S28=AF$5,$U28*$V28,"") | AH28: =IF($G28=AH$5,$I28*$J28*$K28,"") | AI28: =IF($G28=AI$5,$I28*$J28*$K28,"") | AJ28: =IF($M28=AJ$5,$O28*$P28*$Q28,"") | AK28: =IF($M28=AK$5,$O28*$P28*$Q28,"") | AL28: =IF($M28=AL$5,$O28*$P28*$Q28,"") | AM28: =IF($S28=AM$5,$U28*$V28*$W28,"") | AN28: =IF($S28=AN$5,$U28*$V28*$W28,"") | AO28: =IF($S28=AO$5,$U28*$V28*$W28,"")
J29: =IF($H29<>"",(VLOOKUP($H29,'Puissances et FS utilisés'!$B$7:$G$44,5,FALSE)),"") | K29: =IF($H29<>"",(VLOOKUP($H29,'Puissances et FS utilisés'!$B$7:$G$44,6,FALSE)),"") | P29: =IF($N29<>"",(VLOOKUP($N29,'Puissances et FS utilisés'!$B$7:$G$44,5,FALSE)),"") | Q29: =IF($N29<>"",(VLOOKUP($N29,'Puissances et FS utilisés'!$B$7:$G$44,6,FALSE)),"") | V29: =IF($T29<>"",(VLOOKUP($T29,'Puissances et FS utilisés'!$B$7:$G$900,5,FALSE)),"") | W29: =IF($T29<>"",(VLOOKUP($T29,'Puissances et FS utilisés'!$B$7:$G$44,6,FALSE)),"") | Y29: =IF($G29=Y$5,$I29*$J29,"") | Z29: =IF($G29=Z$5,$I29*$J29,"") | AA29: =IF($M29=AA$5,$O29*$P29,"") | AB29: =IF($M29=AB$5,$O29*$P29,"") | AC29: =IF($M29=AC$5,$O29*$P29,"") | AD29: =IF($S29=AD$5,$U29*$V29,"") | AE29: =IF($S29=AE$5,$U29*$V29,"") | AF29: =IF($S29=AF$5,$U29*$V29,"") | AH29: =IF($G29=AH$5,$I29*$J29*$K29,"") | AI29: =IF($G29=AI$5,$I29*$J29*$K29,"") | AJ29: =IF($M29=AJ$5,$O29*$P29*$Q29,"") | AK29: =IF($M29=AK$5,$O29*$P29*$Q29,"") | AL29: =IF($M29=AL$5,$O29*$P29*$Q29,"") | AM29: =IF($S29=AM$5,$U29*$V29*$W29,"") | AN29: =IF($S29=AN$5,$U29*$V29*$W29,"") | AO29: =IF($S29=AO$5,$U29*$V29*$W29,"")
C30: SDB 01.HA 1.3 | D30: R+1 | E30: TB1.2 | F30: TD SG R+1 | G30: N | H30: L3 | I30: 2 | J30: =IF($H30<>"",(VLOOKUP($H30,'Puissances et FS utilisés'!$B$7:$G$44,5,FALSE)),"") -> 0.013043478 | K30: =IF($H30<>"",(VLOOKUP($H30,'Puissances et FS utilisés'!$B$7:$G$44,6,FALSE)),"") -> 1 | L30: TD SG R+1 | M30: N | N30: PCN-R | O30: 1 | P30: =IF($N30<>"",(VLOOKUP($N30,'Puissances et FS utilisés'!$B$7:$G$44,5,FALSE)),"") -> 0.44444444 | Q30: =IF($N30<>"",(VLOOKUP($N30,'Puissances et FS utilisés'!$B$7:$G$44,6,FALSE)),"") -> 0.3 | R30: TD SG R+1 | S30: N | T30: FA-B | U30: 1 | V30: =IF($T30<>"",(VLOOKUP($T30,'Puissances et FS utilisés'!$B$7:$G$900,5,FALSE)),"") -> 0.06 | W30: =IF($T30<>"",(VLOOKUP($T30,'Puissances et FS utilisés'!$B$7:$G$900,6,FALSE)),"") -> 0.5 | Y30: =IF($G30=Y$5,$I30*$J30,"") -> 0.026086957 | Z30: =IF($G30=Z$5,$I30*$J30,"") | AA30: =IF($M30=AA$5,$O30*$P30,"") -> 0.44444444 | AB30: =IF($M30=AB$5,$O30*$P30,"") | AC30: =IF($M30=AC$5,$O30*$P30,"") | AD30: =IF($S30=AD$5,$U30*$V30,"") -> 0.06 | AE30: =IF($S30=AE$5,$U30*$V30,"") | AF30: =IF($S30=AF$5,$U30*$V30,"") | AH30: =IF($G30=AH$5,$I30*$J30*$K30,"") -> 0.026086957 | AI30: =IF($G30=AI$5,$I30*$J30*$K30,"") | AJ30: =IF($M30=AJ$5,$O30*$P30*$Q30,"") -> 0.13333333 | AK30: =IF($M30=AK$5,$O30*$P30*$Q30,"") | AL30: =IF($M30=AL$5,$O30*$P30*$Q30,"") | AM30: =IF($S30=AM$5,$U30*$V30*$W30,"") -> 0.03 | AN30: =IF($S30=AN$5,$U30*$V30*$W30,"") | AO30: =IF($S30=AO$5,$U30*$V30*$W30,"")
J31: =IF($H31<>"",(VLOOKUP($H31,'Puissances et FS utilisés'!$B$7:$G$44,5,FALSE)),"") | K31: =IF($H31<>"",(VLOOKUP($H31,'Puissances et FS utilisés'!$B$7:$G$44,6,FALSE)),"") | P31: =IF($N31<>"",(VLOOKUP($N31,'Puissances et FS utilisés'!$B$7:$G$44,5,FALSE)),"") | Q31: =IF($N31<>"",(VLOOKUP($N31,'Puissances et FS utilisés'!$B$7:$G$44,6,FALSE)),"") | V31: =IF($T31<>"",(VLOOKUP($T31,'Puissances et FS utilisés'!$B$7:$G$900,5,FALSE)),"") | Y31: =IF($G31=Y$5,$I31*$J31,"") | Z31: =IF($G31=Z$5,$I31*$J31,"") | AA31: =IF($M31=AA$5,$O31*$P31,"") | AB31: =IF($M31=AB$5,$O31*$P31,"") | AC31: =IF($M31=AC$5,$O31*$P31,"") | AD31: =IF($S31=AD$5,$U31*$V31,"") | AE31: =IF($S31=AE$5,$U31*$V31,"") | AF31: =IF($S31=AF$5,$U31*$V31,"") | AH31: =IF($G31=AH$5,$I31*$J31*$K31,"") | AI31: =IF($G31=AI$5,$I31*$J31*$K31,"") | AJ31: =IF($M31=AJ$5,$O31*$P31*$Q31,"") | AK31: =IF($M31=AK$5,$O31*$P31*$Q31,"") | AL31: =IF($M31=AL$5,$O31*$P31*$Q31,"") | AM31: =IF($S31=AM$5,$U31*$V31*$W31,"") | AN31: =IF($S31=AN$5,$U31*$V31*$W31,"") | AO31: =IF($S31=AO$5,$U31*$V31*$W31,"")
J32: =IF($H32<>"",(VLOOKUP($H32,'Puissances et FS utilisés'!$B$7:$G$44,5,FALSE)),"") | K32: =IF($H32<>"",(VLOOKUP($H32,'Puissances et FS utilisés'!$B$7:$G$44,6,FALSE)),"") | P32: =IF($N32<>"",(VLOOKUP($N32,'Puissances et FS utilisés'!$B$7:$G$44,5,FALSE)),"") | Q32: =IF($N32<>"",(VLOOKUP($N32,'Puissances et FS utilisés'!$B$7:$G$44,6,FALSE)),"") | V32: =IF($T32<>"",(VLOOKUP($T32,'Puissances et FS utilisés'!$B$7:$G$900,5,FALSE)),"") | W32: =IF($T32<>"",(VLOOKUP($T32,'Puissances et FS utilisés'!$B$7:$G$44,6,FALSE)),"") | Y32: =IF($G32=Y$5,$I32*$J32,"") | Z32: =IF($G32=Z$5,$I32*$J32,"") | AA32: =IF($M32=AA$5,$O32*$P32,"") | AB32: =IF($M32=AB$5,$O32*$P32,"") | AC32: =IF($M32=AC$5,$O32*$P32,"") | AD32: =IF($S32=AD$5,$U32*$V32,"") | AE32: =IF($S32=AE$5,$U32*$V32,"") | AF32: =IF($S32=AF$5,$U32*$V32,"") | AH32: =IF($G32=AH$5,$I32*$J32*$K32,"") | AI32: =IF($G32=AI$5,$I32*$J32*$K32,"") | AJ32: =IF($M32=AJ$5,$O32*$P32*$Q32,"") | AK32: =IF($M32=AK$5,$O32*$P32*$Q32,"") | AL32: =IF($M32=AL$5,$O32*$P32*$Q32,"") | AM32: =IF($S32=AM$5,$U32*$V32*$W32,"") | AN32: =IF($S32=AN$5,$U32*$V32*$W32,"") | AO32: =IF($S32=AO$5,$U32*$V32*$W32,"")
C33: Chambre 01.HA 1.4 | D33: R+1 | E33: TB1.2 | F33: TD SG R+1 | G33: N | H33: L1 | I33: 1 | J33: =IF($H33<>"",(VLOOKUP($H33,'Puissances et FS utilisés'!$B$7:$G$44,5,FALSE)),"") -> 0.014130435 | K33: =IF($H33<>"",(VLOOKUP($H33,'Puissances et FS utilisés'!$B$7:$G$44,6,FALSE)),"") -> 1 | L33: TD SG R+1 | M33: N | N33: PCN | O33: 8 | P33: =IF($N33<>"",(VLOOKUP($N33,'Puissances et FS utilisés'!$B$7:$G$44,5,FALSE)),"") -> 0.44444444 | Q33: =IF($N33<>"",(VLOOKUP($N33,'Puissances et FS utilisés'!$B$7:$G$44,6,FALSE)),"") -> 0.3 | Y33: =IF($G33=Y$5,$I33*$J33,"") -> 0.014130435 | Z33: =IF($G33=Z$5,$I33*$J33,"") | AA33: =IF($M33=AA$5,$O33*$P33,"") -> 3.5555556 | AB33: =IF($M33=AB$5,$O33*$P33,"") | AC33: =IF($M33=AC$5,$O33*$P33,"") | AD33: =IF($S33=AD$5,$U33*$V33,"") | AE33: =IF($S33=AE$5,$U33*$V33,"") | AF33: =IF($S33=AF$5,$U33*$V33,"") | AH33: =IF($G33=AH$5,$I33*$J33*$K33,"") -> 0.014130435 | AI33: =IF($G33=AI$5,$I33*$J33*$K33,"") | AJ33: =IF($M33=AJ$5,$O33*$P33*$Q33,"") -> 1.0666667 | AK33: =IF($M33=AK$5,$O33*$P33*$Q33,"") | AL33: =IF($M33=AL$5,$O33*$P33*$Q33,"") | AM33: =IF($S33=AM$5,$U33*$V33*$W33,"") | AN33: =IF($S33=AN$5,$U33*$V33*$W33,"") | AO33: =IF($S33=AO$5,$U33*$V33*$W33,"")
F34: TD SG R+1 | G34: N | H34: L2 | I34: 2 | J34: =IF($H34<>"",(VLOOKUP($H34,'Puissances et FS utilisés'!$B$7:$G$44,5,FALSE)),"") -> 0.0054347826 | K34: =IF($H34<>"",(VLOOKUP($H34,'Puissances et FS utilisés'!$B$7:$G$44,6,FALSE)),"") -> 1 | L34: TD SG R+1 | M34: N | N34: PT6 | O34: 1 | P34: =IF($N34<>"",(VLOOKUP($N34,'Puissances et FS utilisés'!$B$7:$G$44,5,FALSE)),"") -> 0.27777778 | Q34: =IF($N34<>"",(VLOOKUP($N34,'Puissances et FS utilisés'!$B$7:$G$44,6,FALSE)),"") -> 0.3 | V34: =IF($T34<>"",(VLOOKUP($T34,'Puissances et FS utilisés'!$B$7:$G$900,5,FALSE)),"") | W34: =IF($T34<>"",(VLOOKUP($T34,'Puissances et FS utilisés'!$B$7:$G$44,6,FALSE)),"") | Y34: =IF($G34=Y$5,$I34*$J34,"") -> 0.010869565 | Z34: =IF($G34=Z$5,$I34*$J34,"") | AA34: =IF($M34=AA$5,$O34*$P34,"") -> 0.27777778 | AB34: =IF($M34=AB$5,$O34*$P34,"") | AC34: =IF($M34=AC$5,$O34*$P34,"") | AD34: =IF($S34=AD$5,$U34*$V34,"") | AE34: =IF($S34=AE$5,$U34*$V34,"") | AF34: =IF($S34=AF$5,$U34*$V34,"") | AH34: =IF($G34=AH$5,$I34*$J34*$K34,"") -> 0.010869565 | AI34: =IF($G34=AI$5,$I34*$J34*$K34,"") | AJ34: =IF($M34=AJ$5,$O34*$P34*$Q34,"") -> 0.083333333 | AK34: =IF($M34=AK$5,$O34*$P34*$Q34,"") | AL34: =IF($M34=AL$5,$O34*$P34*$Q34,"") | AM34: =IF($S34=AM$5,$U34*$V34*$W34,"") | AN34: =IF($S34=AN$5,$U34*$V34*$W34,"") | AO34: =IF($S34=AO$5,$U34*$V34*$W34,"")
F35: TD SG R+1 | G35: N | H35: L7 | I35: 2 | J35: =IF($H35<>"",(VLOOKUP($H35,'Puissances et FS utilisés'!$B$7:$G$44,5,FALSE)),"") -> 0.010869565 | K35: =IF($H35<>"",(VLOOKUP($H35,'Puissances et FS utilisés'!$B$7:$G$44,6,FALSE)),"") -> 1 | P35: =IF($N35<>"",(VLOOKUP($N35,'Puissances et FS utilisés'!$B$7:$G$44,5,FALSE)),"") | Q35: =IF($N35<>"",(VLOOKUP($N35,'Puissances et FS utilisés'!$B$7:$G$44,6,FALSE)),"") | V35: =IF($T35<>"",(VLOOKUP($T35,'Puissances et FS utilisés'!$B$7:$G$900,5,FALSE)),"") | W35: =IF($T35<>"",(VLOOKUP($T35,'Puissances et FS utilisés'!$B$7:$G$44,6,FALSE)),"") | Y35: =IF($G35=Y$5,$I35*$J35,"") -> 0.02173913 | Z35: =IF($G35=Z$5,$I35*$J35,"") | AA35: =IF($M35=AA$5,$O35*$P35,"") | AB35: =IF($M35=AB$5,$O35*$P35,"") | AC35: =IF($M35=AC$5,$O35*$P35,"") | AD35: =IF($S35=AD$5,$U35*$V35,"") | AE35: =IF($S35=AE$5,$U35*$V35,"") | AF35: =IF($S35=AF$5,$U35*$V35,"") | AH35: =IF($G35=AH$5,$I35*$J35*$K35,"") -> 0.02173913 | AI35: =IF($G35=AI$5,$I35*$J35*$K35,"") | AJ35: =IF($M35=AJ$5,$O35*$P35*$Q35,"") | AK35: =IF($M35=AK$5,$O35*$P35*$Q35,"") | AL35: =IF($M35=AL$5,$O35*$P35*$Q35,"") | AM35: =IF($S35=AM$5,$U35*$V35*$W35,"") | AN35: =IF($S35=AN$5,$U35*$V35*$W35,"") | AO35: =IF($S35=AO$5,$U35*$V35*$W35,"")
C36: Chambre 01.HA 1.4 | D36: R+1 | E36: TB1.2 | F36: TD SG R+1 | G36: N | H36: L8 | I36: 1 | J36: =IF($H36<>"",(VLOOKUP($H36,'Puissances et FS utilisés'!$B$7:$G$44,5,FALSE)),"") -> 0.010869565 | K36: =IF($H36<>"",(VLOOKUP($H36,'Puissances et FS utilisés'!$B$7:$G$44,6,FALSE)),"") -> 1 | P36: =IF($N36<>"",(VLOOKUP($N36,'Puissances et FS utilisés'!$B$7:$G$44,5,FALSE)),"") | Q36: =IF($N36<>"",(VLOOKUP($N36,'Puissances et FS utilisés'!$B$7:$G$44,6,FALSE)),"") | V36: =IF($T36<>"",(VLOOKUP($T36,'Puissances et FS utilisés'!$B$7:$G$900,5,FALSE)),"") | W36: =IF($T36<>"",(VLOOKUP($T36,'Puissances et FS utilisés'!$B$7:$G$44,6,FALSE)),"") | Y36: =IF($G36=Y$5,$I36*$J36,"") -> 0.010869565 | Z36: =IF($G36=Z$5,$I36*$J36,"") | AA36: =IF($M36=AA$5,$O36*$P36,"") | AB36: =IF($M36=AB$5,$O36*$P36,"") | AC36: =IF($M36=AC$5,$O36*$P36,"") | AD36: =IF($S36=AD$5,$U36*$V36,"") | AE36: =IF($S36=AE$5,$U36*$V36,"") | AF36: =IF($S36=AF$5,$U36*$V36,"") | AH36: =IF($G36=AH$5,$I36*$J36*$K36,"") -> 0.010869565 | AI36: =IF($G36=AI$5,$I36*$J36*$K36,"") | AJ36: =IF($M36=AJ$5,$O36*$P36*$Q36,"") | AK36: =IF($M36=AK$5,$O36*$P36*$Q36,"") | AL36: =IF($M36=AL$5,$O36*$P36*$Q36,"") | AM36: =IF($S36=AM$5,$U36*$V36*$W36,"") | AN36: =IF($S36=AN$5,$U36*$V36*$W36,"") | AO36: =IF($S36=AO$5,$U36*$V36*$W36,"")
J37: =IF($H37<>"",(VLOOKUP($H37,'Puissances et FS utilisés'!$B$7:$G$44,5,FALSE)),"") | K37: =IF($H37<>"",(VLOOKUP($H37,'Puissances et FS utilisés'!$B$7:$G$44,6,FALSE)),"") | P37: =IF($N37<>"",(VLOOKUP($N37,'Puissances et FS utilisés'!$B$7:$G$44,5,FALSE)),"") | Q37: =IF($N37<>"",(VLOOKUP($N37,'Puissances et FS utilisés'!$B$7:$G$44,6,FALSE)),"") | V37: =IF($T37<>"",(VLOOKUP($T37,'Puissances et FS utilisés'!$B$7:$G$900,5,FALSE)),"") | Y37: =IF($G37=Y$5,$I37*$J37,"") | Z37: =IF($G37=Z$5,$I37*$J37,"") | AA37: =IF($M37=AA$5,$O37*$P37,"") | AB37: =IF($M37=AB$5,$O37*$P37,"") | AC37: =IF($M37=AC$5,$O37*$P37,"") | AD37: =IF($S37=AD$5,$U37*$V37,"") | AE37: =IF($S37=AE$5,$U37*$V37,"") | AF37: =IF($S37=AF$5,$U37*$V37,"") | AH37: =IF($G37=AH$5,$I37*$J37*$K37,"") | AI37: =IF($G37=AI$5,$I37*$J37*$K37,"") | AJ37: =IF($M37=AJ$5,$O37*$P37*$Q37,"") | AK37: =IF($M37=AK$5,$O37*$P37*$Q37,"") | AL37: =IF($M37=AL$5,$O37*$P37*$Q37,"") | AM37: =IF($S37=AM$5,$U37*$V37*$W37,"") | AN37: =IF($S37=AN$5,$U37*$V37*$W37,"") | AO37: =IF($S37=AO$5,$U37*$V37*$W37,"")
J38: =IF($H38<>"",(VLOOKUP($H38,'Puissances et FS utilisés'!$B$7:$G$44,5,FALSE)),"") | K38: =IF($H38<>"",(VLOOKUP($H38,'Puissances et FS utilisés'!$B$7:$G$44,6,FALSE)),"") | P38: =IF($N38<>"",(VLOOKUP($N38,'Puissances et FS utilisés'!$B$7:$G$44,5,FALSE)),"") | Q38: =IF($N38<>"",(VLOOKUP($N38,'Puissances et FS utilisés'!$B$7:$G$44,6,FALSE)),"") | V38: =IF($T38<>"",(VLOOKUP($T38,'Puissances et FS utilisés'!$B$7:$G$900,5,FALSE)),"") | W38: =IF($T38<>"",(VLOOKUP($T38,'Puissances et FS utilisés'!$B$7:$G$44,6,FALSE)),"") | Y38: =IF($G38=Y$5,$I38*$J38,"") | Z38: =IF($G38=Z$5,$I38*$J38,"") | AA38: =IF($M38=AA$5,$O38*$P38,"") | AB38: =IF($M38=AB$5,$O38*$P38,"") | AC38: =IF($M38=AC$5,$O38*$P38,"") | AD38: =IF($S38=AD$5,$U38*$V38,"") | AE38: =IF($S38=AE$5,$U38*$V38,"") | AF38: =IF($S38=AF$5,$U38*$V38,"") | AH38: =IF($G38=AH$5,$I38*$J38*$K38,"") | AI38: =IF($G38=AI$5,$I38*$J38*$K38,"") | AJ38: =IF($M38=AJ$5,$O38*$P38*$Q38,"") | AK38: =IF($M38=AK$5,$O38*$P38*$Q38,"") | AL38: =IF($M38=AL$5,$O38*$P38*$Q38,"") | AM38: =IF($S38=AM$5,$U38*$V38*$W38,"") | AN38: =IF($S38=AN$5,$U38*$V38*$W38,"") | AO38: =IF($S38=AO$5,$U38*$V38*$W38,"")
C39: SDB 01.HA 1.4 | D39: R+1 | E39: TB1.2 | F39: TD SG R+1 | G39: N | H39: L3 | I39: 2 | J39: =IF($H39<>"",(VLOOKUP($H39,'Puissances et FS utilisés'!$B$7:$G$44,5,FALSE)),"") -> 0.013043478 | K39: =IF($H39<>"",(VLOOKUP($H39,'Puissances et FS utilisés'!$B$7:$G$44,6,FALSE)),"") -> 1 | L39: TD SG R+1 | M39: N | N39: PCN-R | O39: 1 | P39: =IF($N39<>"",(VLOOKUP($N39,'Puissances et FS utilisés'!$B$7:$G$44,5,FALSE)),"") -> 0.44444444 | Q39: =IF($N39<>"",(VLOOKUP($N39,'Puissances et FS utilisés'!$B$7:$G$44,6,FALSE)),"") -> 0.3 | R39: TD SG R+1 | S39: N | T39: FA-B | U39: 1 | V39: =IF($T39<>"",(VLOOKUP($T39,'Puissances et FS utilisés'!$B$7:$G$900,5,FALSE)),"") -> 0.06 | W39: =IF($T39<>"",(VLOOKUP($T39,'Puissances et FS utilisés'!$B$7:$G$900,6,FALSE)),"") -> 0.5 | Y39: =IF($G39=Y$5,$I39*$J39,"") -> 0.026086957 | Z39: =IF($G39=Z$5,$I39*$J39,"") | AA39: =IF($M39=AA$5,$O39*$P39,"") -> 0.44444444 | AB39: =IF($M39=AB$5,$O39*$P39,"") | AC39: =IF($M39=AC$5,$O39*$P39,"") | AD39: =IF($S39=AD$5,$U39*$V39,"") -> 0.06 | AE39: =IF($S39=AE$5,$U39*$V39,"") | AF39: =IF($S39=AF$5,$U39*$V39,"") | AH39: =IF($G39=AH$5,$I39*$J39*$K39,"") -> 0.026086957 | AI39: =IF($G39=AI$5,$I39*$J39*$K39,"") | AJ39: =IF($M39=AJ$5,$O39*$P39*$Q39,"") -> 0.13333333 | AK39: =IF($M39=AK$5,$O39*$P39*$Q39,"") | AL39: =IF($M39=AL$5,$O39*$P39*$Q39,"") | AM39: =IF($S39=AM$5,$U39*$V39*$W39,"") -> 0.03 | AN39: =IF($S39=AN$5,$U39*$V39*$W39,"") | AO39: =IF($S39=AO$5,$U39*$V39*$W39,"")
J40: =IF($H40<>"",(VLOOKUP($H40,'Puissances et FS utilisés'!$B$7:$G$44,5,FALSE)),"") | K40: =IF($H40<>"",(VLOOKUP($H40,'Puissances et FS utilisés'!$B$7:$G$44,6,FALSE)),"") | P40: =IF($N40<>"",(VLOOKUP($N40,'Puissances et FS utilisés'!$B$7:$G$44,5,FALSE)),"") | Q40: =IF($N40<>"",(VLOOKUP($N40,'Puissances et FS utilisés'!$B$7:$G$44,6,FALSE)),"") | V40: =IF($T40<>"",(VLOOKUP($T40,'Puissances et FS utilisés'!$B$7:$G$900,5,FALSE)),"") | Y40: =IF($G40=Y$5,$I40*$J40,"") | Z40: =IF($G40=Z$5,$I40*$J40,"") | AA40: =IF($M40=AA$5,$O40*$P40,"") | AB40: =IF($M40=AB$5,$O40*$P40,"") | AC40: =IF($M40=AC$5,$O40*$P40,"") | AD40: =IF($S40=AD$5,$U40*$V40,"") | AE40: =IF($S40=AE$5,$U40*$V40,"") | AF40: =IF($S40=AF$5,$U40*$V40,"") | AH40: =IF($G40=AH$5,$I40*$J40*$K40,"") | AI40: =IF($G40=AI$5,$I40*$J40*$K40,"") | AJ40: =IF($M40=AJ$5,$O40*$P40*$Q40,"") | AK40: =IF($M40=AK$5,$O40*$P40*$Q40,"") | AL40: =IF($M40=AL$5,$O40*$P40*$Q40,"") | AM40: =IF($S40=AM$5,$U40*$V40*$W40,"") | AN40: =IF($S40=AN$5,$U40*$V40*$W40,"") | AO40: =IF($S40=AO$5,$U40*$V40*$W40,"")
J41: =IF($H41<>"",(VLOOKUP($H41,'Puissances et FS utilisés'!$B$7:$G$44,5,FALSE)),"") | K41: =IF($H41<>"",(VLOOKUP($H41,'Puissances et FS utilisés'!$B$7:$G$44,6,FALSE)),"") | P41: =IF($N41<>"",(VLOOKUP($N41,'Puissances et FS utilisés'!$B$7:$G$44,5,FALSE)),"") | Q41: =IF($N41<>"",(VLOOKUP($N41,'Puissances et FS utilisés'!$B$7:$G$44,6,FALSE)),"") | V41: =IF($T41<>"",(VLOOKUP($T41,'Puissances et FS utilisés'!$B$7:$G$900,5,FALSE)),"") | W41: =IF($T41<>"",(VLOOKUP($T41,'Puissances et FS utilisés'!$B$7:$G$44,6,FALSE)),"") | Y41: =IF($G41=Y$5,$I41*$J41,"") | Z41: =IF($G41=Z$5,$I41*$J41,"") | AA41: =IF($M41=AA$5,$O41*$P41,"") | AB41: =IF($M41=AB$5,$O41*$P41,"") | AC41: =IF($M41=AC$5,$O41*$P41,"") | AD41: =IF($S41=AD$5,$U41*$V41,"") | AE41: =IF($S41=AE$5,$U41*$V41,"") | AF41: =IF($S41=AF$5,$U41*$V41,"") | AH41: =IF($G41=AH$5,$I41*$J41*$K41,"") | AI41: =IF($G41=AI$5,$I41*$J41*$K41,"") | AJ41: =IF($M41=AJ$5,$O41*$P41*$Q41,"") | AK41: =IF($M41=AK$5,$O41*$P41*$Q41,"") | AL41: =IF($M41=AL$5,$O41*$P41*$Q41,"") | AM41: =IF($S41=AM$5,$U41*$V41*$W41,"") | AN41: =IF($S41=AN$5,$U41*$V41*$W41,"") | AO41: =IF($S41=AO$5,$U41*$V41*$W41,"")
C42: Chambre 01.HA 1.5 | D42: R+1 | E42: TB1.3 | F42: TD SG R+1 | G42: N | H42: L1 | I42: 1 | J42: =IF($H42<>"",(VLOOKUP($H42,'Puissances et FS utilisés'!$B$7:$G$44,5,FALSE)),"") -> 0.014130435 | K42: =IF($H42<>"",(VLOOKUP($H42,'Puissances et FS utilisés'!$B$7:$G$44,6,FALSE)),"") -> 1 | L42: TD SG R+1 | M42: N | N42: PCN | O42: 8 | P42: =IF($N42<>"",(VLOOKUP($N42,'Puissances et FS utilisés'!$B$7:$G$44,5,FALSE)),"") -> 0.44444444 | Q42: =IF($N42<>"",(VLOOKUP($N42,'Puissances et FS utilisés'!$B$7:$G$44,6,FALSE)),"") -> 0.3 | Y42: =IF($G42=Y$5,$I42*$J42,"") -> 0.014130435 | Z42: =IF($G42=Z$5,$I42*$J42,"") | AA42: =IF($M42=AA$5,$O42*$P42,"") -> 3.5555556 | AB42: =IF($M42=AB$5,$O42*$P42,"") | AC42: =IF($M42=AC$5,$O42*$P42,"") | AD42: =IF($S42=AD$5,$U42*$V42,"") | AE42: =IF($S42=AE$5,$U42*$V42,"") | AF42: =IF($S42=AF$5,$U42*$V42,"") | AH42: =IF($G42=AH$5,$I42*$J42*$K42,"") -> 0.014130435 | AI42: =IF($G42=AI$5,$I42*$J42*$K42,"") | AJ42: =IF($M42=AJ$5,$O42*$P42*$Q42,"") -> 1.0666667 | AK42: =IF($M42=AK$5,$O42*$P42*$Q42,"") | AL42: =IF($M42=AL$5,$O42*$P42*$Q42,"") | AM42: =IF($S42=AM$5,$U42*$V42*$W42,"") | AN42: =IF($S42=AN$5,$U42*$V42*$W42,"") | AO42: =IF($S42=AO$5,$U42*$V42*$W42,"")
F43: TD SG R+1 | G43: N | H43: L2 | I43: 2 | J43: =IF($H43<>"",(VLOOKUP($H43,'Puissances et FS utilisés'!$B$7:$G$44,5,FALSE)),"") -> 0.0054347826 | K43: =IF($H43<>"",(VLOOKUP($H43,'Puissances et FS utilisés'!$B$7:$G$44,6,FALSE)),"") -> 1 | L43: TD SG R+1 | M43: N | N43: PT6 | O43: 1 | P43: =IF($N43<>"",(VLOOKUP($N43,'Puissances et FS utilisés'!$B$7:$G$44,5,FALSE)),"") -> 0.27777778 | Q43: =IF($N43<>"",(VLOOKUP($N43,'Puissances et FS utilisés'!$B$7:$G$44,6,FALSE)),"") -> 0.3 | V43: =IF($T43<>"",(VLOOKUP($T43,'Puissances et FS utilisés'!$B$7:$G$900,5,FALSE)),"") | W43: =IF($T43<>"",(VLOOKUP($T43,'Puissances et FS utilisés'!$B$7:$G$44,6,FALSE)),"") | Y43: =IF($G43=Y$5,$I43*$J43,"") -> 0.010869565 | Z43: =IF($G43=Z$5,$I43*$J43,"") | AA43: =IF($M43=AA$5,$O43*$P43,"") -> 0.27777778 | AB43: =IF($M43=AB$5,$O43*$P43,"") | AC43: =IF($M43=AC$5,$O43*$P43,"") | AD43: =IF($S43=AD$5,$U43*$V43,"") | AE43: =IF($S43=AE$5,$U43*$V43,"") | AF43: =IF($S43=AF$5,$U43*$V43,"") | AH43: =IF($G43=AH$5,$I43*$J43*$K43,"") -> 0.010869565 | AI43: =IF($G43=AI$5,$I43*$J43*$K43,"") | AJ43: =IF($M43=AJ$5,$O43*$P43*$Q43,"") -> 0.083333333 | AK43: =IF($M43=AK$5,$O43*$P43*$Q43,"") | AL43: =IF($M43=AL$5,$O43*$P43*$Q43,"") | AM43: =IF($S43=AM$5,$U43*$V43*$W43,"") | AN43: =IF($S43=AN$5,$U43*$V43*$W43,"") | AO43: =IF($S43=AO$5,$U43*$V43*$W43,"")
F44: TD SG R+1 | G44: N | H44: L7 | I44: 2 | J44: =IF($H44<>"",(VLOOKUP($H44,'Puissances et FS utilisés'!$B$7:$G$44,5,FALSE)),"") -> 0.010869565 | K44: =IF($H44<>"",(VLOOKUP($H44,'Puissances et FS utilisés'!$B$7:$G$44,6,FALSE)),"") -> 1 | P44: =IF($N44<>"",(VLOOKUP($N44,'Puissances et FS utilisés'!$B$7:$G$44,5,FALSE)),"") | Q44: =IF($N44<>"",(VLOOKUP($N44,'Puissances et FS utilisés'!$B$7:$G$44,6,FALSE)),"") | V44: =IF($T44<>"",(VLOOKUP($T44,'Puissances et FS utilisés'!$B$7:$G$900,5,FALSE)),"") | W44: =IF($T44<>"",(VLOOKUP($T44,'Puissances et FS utilisés'!$B$7:$G$44,6,FALSE)),"") | Y44: =IF($G44=Y$5,$I44*$J44,"") -> 0.02173913 | Z44: =IF($G44=Z$5,$I44*$J44,"") | AA44: =IF($M44=AA$5,$O44*$P44,"") | AB44: =IF($M44=AB$5,$O44*$P44,"") | AC44: =IF($M44=AC$5,$O44*$P44,"") | AD44: =IF($S44=AD$5,$U44*$V44,"") | AE44: =IF($S44=AE$5,$U44*$V44,"") | AF44: =IF($S44=AF$5,$U44*$V44,"") | AH44: =IF($G44=AH$5,$I44*$J44*$K44,"") -> 0.02173913 | AI44: =IF($G44=AI$5,$I44*$J44*$K44,"") | AJ44: =IF($M44=AJ$5,$O44*$P44*$Q44,"") | AK44: =IF($M44=AK$5,$O44*$P44*$Q44,"") | AL44: =IF($M44=AL$5,$O44*$P44*$Q44,"") | AM44: =IF($S44=AM$5,$U44*$V44*$W44,"") | AN44: =IF($S44=AN$5,$U44*$V44*$W44,"") | AO44: =IF($S44=AO$5,$U44*$V44*$W44,"")
C45: Chambre 01.HA 1.5 | D45: R+1 | E45: TB1.3 | F45: TD SG R+1 | G45: N | H45: L8 | I45: 1 | J45: =IF($H45<>"",(VLOOKUP($H45,'Puissances et FS utilisés'!$B$7:$G$44,5,FALSE)),"") -> 0.010869565 | K45: =IF($H45<>"",(VLOOKUP($H45,'Puissances et FS utilisés'!$B$7:$G$44,6,FALSE)),"") -> 1 | P45: =IF($N45<>"",(VLOOKUP($N45,'Puissances et FS utilisés'!$B$7:$G$44,5,FALSE)),"") | Q45: =IF($N45<>"",(VLOOKUP($N45,'Puissances et FS utilisés'!$B$7:$G$44,6,FALSE)),"") | V45: =IF($T45<>"",(VLOOKUP($T45,'Puissances et FS utilisés'!$B$7:$G$900,5,FALSE)),"") | W45: =IF($T45<>"",(VLOOKUP($T45,'Puissances et FS utilisés'!$B$7:$G$44,6,FALSE)),"") | Y45: =IF($G45=Y$5,$I45*$J45,"") -> 0.010869565 | Z45: =IF($G45=Z$5,$I45*$J45,"") | AA45: =IF($M45=AA$5,$O45*$P45,"") | AB45: =IF($M45=AB$5,$O45*$P45,"") | AC45: =IF($M45=AC$5,$O45*$P45,"") | AD45: =IF($S45=AD$5,$U45*$V45,"") | AE45: =IF($S45=AE$5,$U45*$V45,"") | AF45: =IF($S45=AF$5,$U45*$V45,"") | AH45: =IF($G45=AH$5,$I45*$J45*$K45,"") -> 0.010869565 | AI45: =IF($G45=AI$5,$I45*$J45*$K45,"") | AJ45: =IF($M45=AJ$5,$O45*$P45*$Q45,"") | AK45: =IF($M45=AK$5,$O45*$P45*$Q45,"") | AL45: =IF($M45=AL$5,$O45*$P45*$Q45,"") | AM45: =IF($S45=AM$5,$U45*$V45*$W45,"") | AN45: =IF($S45=AN$5,$U45*$V45*$W45,"") | AO45: =IF($S45=AO$5,$U45*$V45*$W45,"")
J46: =IF($H46<>"",(VLOOKUP($H46,'Puissances et FS utilisés'!$B$7:$G$44,5,FALSE)),"") | K46: =IF($H46<>"",(VLOOKUP($H46,'Puissances et FS utilisés'!$B$7:$G$44,6,FALSE)),"") | P46: =IF($N46<>"",(VLOOKUP($N46,'Puissances et FS utilisés'!$B$7:$G$44,5,FALSE)),"") | Q46: =IF($N46<>"",(VLOOKUP($N46,'Puissances et FS utilisés'!$B$7:$G$44,6,FALSE)),"") | V46: =IF($T46<>"",(VLOOKUP($T46,'Puissances et FS utilisés'!$B$7:$G$900,5,FALSE)),"") | Y46: =IF($G46=Y$5,$I46*$J46,"") | Z46: =IF($G46=Z$5,$I46*$J46,"") | AA46: =IF($M46=AA$5,$O46*$P46,"") | AB46: =IF($M46=AB$5,$O46*$P46,"") | AC46: =IF($M46=AC$5,$O46*$P46,"") | AD46: =IF($S46=AD$5,$U46*$V46,"") | AE46: =IF($S46=AE$5,$U46*$V46,"") | AF46: =IF($S46=AF$5,$U46*$V46,"") | AH46: =IF($G46=AH$5,$I46*$J46*$K46,"") | AI46: =IF($G46=AI$5,$I46*$J46*$K46,"") | AJ46: =IF($M46=AJ$5,$O46*$P46*$Q46,"") | AK46: =IF($M46=AK$5,$O46*$P46*$Q46,"") | AL46: =IF($M46=AL$5,$O46*$P46*$Q46,"") | AM46: =IF($S46=AM$5,$U46*$V46*$W46,"") | AN46: =IF($S46=AN$5,$U46*$V46*$W46,"") | AO46: =IF($S46=AO$5,$U46*$V46*$W46,"")
J47: =IF($H47<>"",(VLOOKUP($H47,'Puissances et FS utilisés'!$B$7:$G$44,5,FALSE)),"") | K47: =IF($H47<>"",(VLOOKUP($H47,'Puissances et FS utilisés'!$B$7:$G$44,6,FALSE)),"") | P47: =IF($N47<>"",(VLOOKUP($N47,'Puissances et FS utilisés'!$B$7:$G$44,5,FALSE)),"") | Q47: =IF($N47<>"",(VLOOKUP($N47,'Puissances et FS utilisés'!$B$7:$G$44,6,FALSE)),"") | V47: =IF($T47<>"",(VLOOKUP($T47,'Puissances et FS utilisés'!$B$7:$G$900,5,FALSE)),"") | W47: =IF($T47<>"",(VLOOKUP($T47,'Puissances et FS utilisés'!$B$7:$G$44,6,FALSE)),"") | Y47: =IF($G47=Y$5,$I47*$J47,"") | Z47: =IF($G47=Z$5,$I47*$J47,"") | AA47: =IF($M47=AA$5,$O47*$P47,"") | AB47: =IF($M47=AB$5,$O47*$P47,"") | AC47: =IF($M47=AC$5,$O47*$P47,"") | AD47: =IF($S47=AD$5,$U47*$V47,"") | AE47: =IF($S47=AE$5,$U47*$V47,"") | AF47: =IF($S47=AF$5,$U47*$V47,"") | AH47: =IF($G47=AH$5,$I47*$J47*$K47,"") | AI47: =IF($G47=AI$5,$I47*$J47*$K47,"") | AJ47: =IF($M47=AJ$5,$O47*$P47*$Q47,"") | AK47: =IF($M47=AK$5,$O47*$P47*$Q47,"") | AL47: =IF($M47=AL$5,$O47*$P47*$Q47,"") | AM47: =IF($S47=AM$5,$U47*$V47*$W47,"") | AN47: =IF($S47=AN$5,$U47*$V47*$W47,"") | AO47: =IF($S47=AO$5,$U47*$V47*$W47,"")
C48: SDB 01.HA 1.5 | D48: R+1 | E48: TB1.3 | F48: TD SG R+1 | G48: N | H48: L3 | I48: 2 | J48: =IF($H48<>"",(VLOOKUP($H48,'Puissances et FS utilisés'!$B$7:$G$44,5,FALSE)),"") -> 0.013043478 | K48: =IF($H48<>"",(VLOOKUP($H48,'Puissances et FS utilisés'!$B$7:$G$44,6,FALSE)),"") -> 1 | L48: TD SG R+1 | M48: N | N48: PCN-R | O48: 1 | P48: =IF($N48<>"",(VLOOKUP($N48,'Puissances et FS utilisés'!$B$7:$G$44,5,FALSE)),"") -> 0.44444444 | Q48: =IF($N48<>"",(VLOOKUP($N48,'Puissances et FS utilisés'!$B$7:$G$44,6,FALSE)),"") -> 0.3 | R48: TD SG R+1 | S48: N | T48: FA-B | U48: 1 | V48: =IF($T48<>"",(VLOOKUP($T48,'Puissances et FS utilisés'!$B$7:$G$900,5,FALSE)),"") -> 0.06 | W48: =IF($T48<>"",(VLOOKUP($T48,'Puissances et FS utilisés'!$B$7:$G$900,6,FALSE)),"") -> 0.5 | Y48: =IF($G48=Y$5,$I48*$J48,"") -> 0.026086957 | Z48: =IF($G48=Z$5,$I48*$J48,"") | AA48: =IF($M48=AA$5,$O48*$P48,"") -> 0.44444444 | AB48: =IF($M48=AB$5,$O48*$P48,"") | AC48: =IF($M48=AC$5,$O48*$P48,"") | AD48: =IF($S48=AD$5,$U48*$V48,"") -> 0.06 | AE48: =IF($S48=AE$5,$U48*$V48,"") | AF48: =IF($S48=AF$5,$U48*$V48,"") | AH48: =IF($G48=AH$5,$I48*$J48*$K48,"") -> 0.026086957 | AI48: =IF($G48=AI$5,$I48*$J48*$K48,"") | AJ48: =IF($M48=AJ$5,$O48*$P48*$Q48,"") -> 0.13333333 | AK48: =IF($M48=AK$5,$O48*$P48*$Q48,"") | AL48: =IF($M48=AL$5,$O48*$P48*$Q48,"") | AM48: =IF($S48=AM$5,$U48*$V48*$W48,"") -> 0.03 | AN48: =IF($S48=AN$5,$U48*$V48*$W48,"") | AO48: =IF($S48=AO$5,$U48*$V48*$W48,"")
J49: =IF($H49<>"",(VLOOKUP($H49,'Puissances et FS utilisés'!$B$7:$G$44,5,FALSE)),"") | K49: =IF($H49<>"",(VLOOKUP($H49,'Puissances et FS utilisés'!$B$7:$G$44,6,FALSE)),"") | P49: =IF($N49<>"",(VLOOKUP($N49,'Puissances et FS utilisés'!$B$7:$G$44,5,FALSE)),"") | Q49: =IF($N49<>"",(VLOOKUP($N49,'Puissances et FS utilisés'!$B$7:$G$44,6,FALSE)),"") | V49: =IF($T49<>"",(VLOOKUP($T49,'Puissances et FS utilisés'!$B$7:$G$900,5,FALSE)),"") | Y49: =IF($G49=Y$5,$I49*$J49,"") | Z49: =IF($G49=Z$5,$I49*$J49,"") | AA49: =IF($M49=AA$5,$O49*$P49,"") | AB49: =IF($M49=AB$5,$O49*$P49,"") | AC49: =IF($M49=AC$5,$O49*$P49,"") | AD49: =IF($S49=AD$5,$U49*$V49,"") | AE49: =IF($S49=AE$5,$U49*$V49,"") | AF49: =IF($S49=AF$5,$U49*$V49,"") | AH49: =IF($G49=AH$5,$I49*$J49*$K49,"") | AI49: =IF($G49=AI$5,$I49*$J49*$K49,"") | AJ49: =IF($M49=AJ$5,$O49*$P49*$Q49,"") | AK49: =IF($M49=AK$5,$O49*$P49*$Q49,"") | AL49: =IF($M49=AL$5,$O49*$P49*$Q49,"") | AM49: =IF($S49=AM$5,$U49*$V49*$W49,"") | AN49: =IF($S49=AN$5,$U49*$V49*$W49,"") | AO49: =IF($S49=AO$5,$U49*$V49*$W49,"")
J50: =IF($H50<>"",(VLOOKUP($H50,'Puissances et FS utilisés'!$B$7:$G$44,5,FALSE)),"") | K50: =IF($H50<>"",(VLOOKUP($H50,'Puissances et FS utilisés'!$B$7:$G$44,6,FALSE)),"") | P50: =IF($N50<>"",(VLOOKUP($N50,'Puissances et FS utilisés'!$B$7:$G$44,5,FALSE)),"") | Q50: =IF($N50<>"",(VLOOKUP($N50,'Puissances et FS utilisés'!$B$7:$G$44,6,FALSE)),"") | V50: =IF($T50<>"",(VLOOKUP($T50,'Puissances et FS utilisés'!$B$7:$G$900,5,FALSE)),"") | W50: =IF($T50<>"",(VLOOKUP($T50,'Puissances et FS utilisés'!$B$7:$G$44,6,FALSE)),"") | Y50: =IF($G50=Y$5,$I50*$J50,"") | Z50: =IF($G50=Z$5,$I50*$J50,"") | AA50: =IF($M50=AA$5,$O50*$P50,"") | AB50: =IF($M50=AB$5,$O50*$P50,"") | AC50: =IF($M50=AC$5,$O50*$P50,"") | AD50: =IF($S50=AD$5,$U50*$V50,"") | AE50: =IF($S50=AE$5,$U50*$V50,"") | AF50: =IF($S50=AF$5,$U50*$V50,"") | AH50: =IF($G50=AH$5,$I50*$J50*$K50,"") | AI50: =IF($G50=AI$5,$I50*$J50*$K50,"") | AJ50: =IF($M50=AJ$5,$O50*$P50*$Q50,"") | AK50: =IF($M50=AK$5,$O50*$P50*$Q50,"") | AL50: =IF($M50=AL$5,$O50*$P50*$Q50,"") | AM50: =IF($S50=AM$5,$U50*$V50*$W50,"") | AN50: =IF($S50=AN$5,$U50*$V50*$W50,"") | AO50: =IF($S50=AO$5,$U50*$V50*$W50,"")
C51: Chambre 01.HA 1.6 | D51: R+1 | E51: TB1.3 | F51: TD SG R+1 | G51: N | H51: L1 | I51: 1 | J51: =IF($H51<>"",(VLOOKUP($H51,'Puissances et FS utilisés'!$B$7:$G$44,5,FALSE)),"") -> 0.014130435 | K51: =IF($H51<>"",(VLOOKUP($H51,'Puissances et FS utilisés'!$B$7:$G$44,6,FALSE)),"") -> 1 | L51: TD SG R+1 | M51: N | N51: PCN | O51: 8 | P51: =IF($N51<>"",(VLOOKUP($N51,'Puissances et FS utilisés'!$B$7:$G$44,5,FALSE)),"") -> 0.44444444 | Q51: =IF($N51<>"",(VLOOKUP($N51,'Puissances et FS utilisés'!$B$7:$G$44,6,FALSE)),"") -> 0.3 | Y51: =IF($G51=Y$5,$I51*$J51,"") -> 0.014130435 | Z51: =IF($G51=Z$5,$I51*$J51,"") | AA51: =IF($M51=AA$5,$O51*$P51,"") -> 3.5555556 | AB51: =IF($M51=AB$5,$O51*$P51,"") | AC51: =IF($M51=AC$5,$O51*$P51,"") | AD51: =IF($S51=AD$5,$U51*$V51,"") | AE51: =IF($S51=AE$5,$U51*$V51,"") | AF51: =IF($S51=AF$5,$U51*$V51,"") | AH51: =IF($G51=AH$5,$I51*$J51*$K51,"") -> 0.014130435 | AI51: =IF($G51=AI$5,$I51*$J51*$K51,"") | AJ51: =IF($M51=AJ$5,$O51*$P51*$Q51,"") -> 1.0666667 | AK51: =IF($M51=AK$5,$O51*$P51*$Q51,"") | AL51: =IF($M51=AL$5,$O51*$P51*$Q51,"") | AM51: =IF($S51=AM$5,$U51*$V51*$W51,"") | AN51: =IF($S51=AN$5,$U51*$V51*$W51,"") | AO51: =IF($S51=AO$5,$U51*$V51*$W51,"")
F52: TD SG R+1 | G52: N | H52: L2 | I52: 2 | J52: =IF($H52<>"",(VLOOKUP($H52,'Puissances et FS utilisés'!$B$7:$G$44,5,FALSE)),"") -> 0.0054347826 | K52: =IF($H52<>"",(VLOOKUP($H52,'Puissances et FS utilisés'!$B$7:$G$44,6,FALSE)),"") -> 1 | L52: TD SG R+1 | M52: N | N52: PT6 | O52: 1 | P52: =IF($N52<>"",(VLOOKUP($N52,'Puissances et FS utilisés'!$B$7:$G$44,5,FALSE)),"") -> 0.27777778 | Q52: =IF($N52<>"",(VLOOKUP($N52,'Puissances et FS utilisés'!$B$7:$G$44,6,FALSE)),"") -> 0.3 | V52: =IF($T52<>"",(VLOOKUP($T52,'Puissances et FS utilisés'!$B$7:$G$900,5,FALSE)),"") | W52: =IF($T52<>"",(VLOOKUP($T52,'Puissances et FS utilisés'!$B$7:$G$44,6,FALSE)),"") | Y52: =IF($G52=Y$5,$I52*$J52,"") -> 0.010869565 | Z52: =IF($G52=Z$5,$I52*$J52,"") | AA52: =IF($M52=AA$5,$O52*$P52,"") -> 0.27777778 | AB52: =IF($M52=AB$5,$O52*$P52,"") | AC52: =IF($M52=AC$5,$O52*$P52,"") | AD52: =IF($S52=AD$5,$U52*$V52,"") | AE52: =IF($S52=AE$5,$U52*$V52,"") | AF52: =IF($S52=AF$5,$U52*$V52,"") | AH52: =IF($G52=AH$5,$I52*$J52*$K52,"") -> 0.010869565 | AI52: =IF($G52=AI$5,$I52*$J52*$K52,"") | AJ52: =IF($M52=AJ$5,$O52*$P52*$Q52,"") -> 0.083333333 | AK52: =IF($M52=AK$5,$O52*$P52*$Q52,"") | AL52: =IF($M52=AL$5,$O52*$P52*$Q52,"") | AM52: =IF($S52=AM$5,$U52*$V52*$W52,"") | AN52: =IF($S52=AN$5,$U52*$V52*$W52,"") | AO52: =IF($S52=AO$5,$U52*$V52*$W52,"")
F53: TD SG R+1 | G53: N | H53: L7 | I53: 2 | J53: =IF($H53<>"",(VLOOKUP($H53,'Puissances et FS utilisés'!$B$7:$G$44,5,FALSE)),"") -> 0.010869565 | K53: =IF($H53<>"",(VLOOKUP($H53,'Puissances et FS utilisés'!$B$7:$G$44,6,FALSE)),"") -> 1 | P53: =IF($N53<>"",(VLOOKUP($N53,'Puissances et FS utilisés'!$B$7:$G$44,5,FALSE)),"") | Q53: =IF($N53<>"",(VLOOKUP($N53,'Puissances et FS utilisés'!$B$7:$G$44,6,FALSE)),"") | V53: =IF($T53<>"",(VLOOKUP($T53,'Puissances et FS utilisés'!$B$7:$G$900,5,FALSE)),"") | W53: =IF($T53<>"",(VLOOKUP($T53,'Puissances et FS utilisés'!$B$7:$G$44,6,FALSE)),"") | Y53: =IF($G53=Y$5,$I53*$J53,"") -> 0.02173913 | Z53: =IF($G53=Z$5,$I53*$J53,"") | AA53: =IF($M53=AA$5,$O53*$P53,"") | AB53: =IF($M53=AB$5,$O53*$P53,"") | AC53: =IF($M53=AC$5,$O53*$P53,"") | AD53: =IF($S53=AD$5,$U53*$V53,"") | AE53: =IF($S53=AE$5,$U53*$V53,"") | AF53: =IF($S53=AF$5,$U53*$V53,"") | AH53: =IF($G53=AH$5,$I53*$J53*$K53,"") -> 0.02173913 | AI53: =IF($G53=AI$5,$I53*$J53*$K53,"") | AJ53: =IF($M53=AJ$5,$O53*$P53*$Q53,"") | AK53: =IF($M53=AK$5,$O53*$P53*$Q53,"") | AL53: =IF($M53=AL$5,$O53*$P53*$Q53,"") | AM53: =IF($S53=AM$5,$U53*$V53*$W53,"") | AN53: =IF($S53=AN$5,$U53*$V53*$W53,"") | AO53: =IF($S53=AO$5,$U53*$V53*$W53,"")
C54: Chambre 01.HA 1.6 | D54: R+1 | E54: TB1.3 | F54: TD SG R+1 | G54: N | H54: L8 | I54: 1 | J54: =IF($H54<>"",(VLOOKUP($H54,'Puissances et FS utilisés'!$B$7:$G$44,5,FALSE)),"") -> 0.010869565 | K54: =IF($H54<>"",(VLOOKUP($H54,'Puissances et FS utilisés'!$B$7:$G$44,6,FALSE)),"") -> 1 | P54: =IF($N54<>"",(VLOOKUP($N54,'Puissances et FS utilisés'!$B$7:$G$44,5,FALSE)),"") | Q54: =IF($N54<>"",(VLOOKUP($N54,'Puissances et FS utilisés'!$B$7:$G$44,6,FALSE)),"") | V54: =IF($T54<>"",(VLOOKUP($T54,'Puissances et FS utilisés'!$B$7:$G$900,5,FALSE)),"") | W54: =IF($T54<>"",(VLOOKUP($T54,'Puissances et FS utilisés'!$B$7:$G$44,6,FALSE)),"") | Y54: =IF($G54=Y$5,$I54*$J54,"") -> 0.010869565 | Z54: =IF($G54=Z$5,$I54*$J54,"") | AA54: =IF($M54=AA$5,$O54*$P54,"") | AB54: =IF($M54=AB$5,$O54*$P54,"") | AC54: =IF($M54=AC$5,$O54*$P54,"") | AD54: =IF($S54=AD$5,$U54*$V54,"") | AE54: =IF($S54=AE$5,$U54*$V54,"") | AF54: =IF($S54=AF$5,$U54*$V54,"") | AH54: =IF($G54=AH$5,$I54*$J54*$K54,"") -> 0.010869565 | AI54: =IF($G54=AI$5,$I54*$J54*$K54,"") | AJ54: =IF($M54=AJ$5,$O54*$P54*$Q54,"") | AK54: =IF($M54=AK$5,$O54*$P54*$Q54,"") | AL54: =IF($M54=AL$5,$O54*$P54*$Q54,"") | AM54: =IF($S54=AM$5,$U54*$V54*$W54,"") | AN54: =IF($S54=AN$5,$U54*$V54*$W54,"") | AO54: =IF($S54=AO$5,$U54*$V54*$W54,"")
J55: =IF($H55<>"",(VLOOKUP($H55,'Puissances et FS utilisés'!$B$7:$G$44,5,FALSE)),"") | K55: =IF($H55<>"",(VLOOKUP($H55,'Puissances et FS utilisés'!$B$7:$G$44,6,FALSE)),"") | P55: =IF($N55<>"",(VLOOKUP($N55,'Puissances et FS utilisés'!$B$7:$G$44,5,FALSE)),"") | Q55: =IF($N55<>"",(VLOOKUP($N55,'Puissances et FS utilisés'!$B$7:$G$44,6,FALSE)),"") | V55: =IF($T55<>"",(VLOOKUP($T55,'Puissances et FS utilisés'!$B$7:$G$900,5,FALSE)),"") | Y55: =IF($G55=Y$5,$I55*$J55,"") | Z55: =IF($G55=Z$5,$I55*$J55,"") | AA55: =IF($M55=AA$5,$O55*$P55,"") | AB55: =IF($M55=AB$5,$O55*$P55,"") | AC55: =IF($M55=AC$5,$O55*$P55,"") | AD55: =IF($S55=AD$5,$U55*$V55,"") | AE55: =IF($S55=AE$5,$U55*$V55,"") | AF55: =IF($S55=AF$5,$U55*$V55,"") | AH55: =IF($G55=AH$5,$I55*$J55*$K55,"") | AI55: =IF($G55=AI$5,$I55*$J55*$K55,"") | AJ55: =IF($M55=AJ$5,$O55*$P55*$Q55,"") | AK55: =IF($M55=AK$5,$O55*$P55*$Q55,"") | AL55: =IF($M55=AL$5,$O55*$P55*$Q55,"") | AM55: =IF($S55=AM$5,$U55*$V55*$W55,"") | AN55: =IF($S55=AN$5,$U55*$V55*$W55,"") | AO55: =IF($S55=AO$5,$U55*$V55*$W55,"")
J56: =IF($H56<>"",(VLOOKUP($H56,'Puissances et FS utilisés'!$B$7:$G$44,5,FALSE)),"") | K56: =IF($H56<>"",(VLOOKUP($H56,'Puissances et FS utilisés'!$B$7:$G$44,6,FALSE)),"") | P56: =IF($N56<>"",(VLOOKUP($N56,'Puissances et FS utilisés'!$B$7:$G$44,5,FALSE)),"") | Q56: =IF($N56<>"",(VLOOKUP($N56,'Puissances et FS utilisés'!$B$7:$G$44,6,FALSE)),"") | V56: =IF($T56<>"",(VLOOKUP($T56,'Puissances et FS utilisés'!$B$7:$G$900,5,FALSE)),"") | W56: =IF($T56<>"",(VLOOKUP($T56,'Puissances et FS utilisés'!$B$7:$G$44,6,FALSE)),"") | Y56: =IF($G56=Y$5,$I56*$J56,"") | Z56: =IF($G56=Z$5,$I56*$J56,"") | AA56: =IF($M56=AA$5,$O56*$P56,"") | AB56: =IF($M56=AB$5,$O56*$P56,"") | AC56: =IF($M56=AC$5,$O56*$P56,"") | AD56: =IF($S56=AD$5,$U56*$V56,"") | AE56: =IF($S56=AE$5,$U56*$V56,"") | AF56: =IF($S56=AF$5,$U56*$V56,"") | AH56: =IF($G56=AH$5,$I56*$J56*$K56,"") | AI56: =IF($G56=AI$5,$I56*$J56*$K56,"") | AJ56: =IF($M56=AJ$5,$O56*$P56*$Q56,"") | AK56: =IF($M56=AK$5,$O56*$P56*$Q56,"") | AL56: =IF($M56=AL$5,$O56*$P56*$Q56,"") | AM56: =IF($S56=AM$5,$U56*$V56*$W56,"") | AN56: =IF($S56=AN$5,$U56*$V56*$W56,"") | AO56: =IF($S56=AO$5,$U56*$V56*$W56,"")
C57: SDB 01.HA 1.6 | D57: R+1 | E57: TB1.3 | F57: TD SG R+1 | G57: N | H57: L3 | I57: 2 | J57: =IF($H57<>"",(VLOOKUP($H57,'Puissances et FS utilisés'!$B$7:$G$44,5,FALSE)),"") -> 0.013043478 | K57: =IF($H57<>"",(VLOOKUP($H57,'Puissances et FS utilisés'!$B$7:$G$44,6,FALSE)),"") -> 1 | L57: TD SG R+1 | M57: N | N57: PCN-R | O57: 1 | P57: =IF($N57<>"",(VLOOKUP($N57,'Puissances et FS utilisés'!$B$7:$G$44,5,FALSE)),"") -> 0.44444444 | Q57: =IF($N57<>"",(VLOOKUP($N57,'Puissances et FS utilisés'!$B$7:$G$44,6,FALSE)),"") -> 0.3 | R57: TD SG R+1 | S57: N | T57: FA-B | U57: 1 | V57: =IF($T57<>"",(VLOOKUP($T57,'Puissances et FS utilisés'!$B$7:$G$900,5,FALSE)),"") -> 0.06 | W57: =IF($T57<>"",(VLOOKUP($T57,'Puissances et FS utilisés'!$B$7:$G$900,6,FALSE)),"") -> 0.5 | Y57: =IF($G57=Y$5,$I57*$J57,"") -> 0.026086957 | Z57: =IF($G57=Z$5,$I57*$J57,"") | AA57: =IF($M57=AA$5,$O57*$P57,"") -> 0.44444444 | AB57: =IF($M57=AB$5,$O57*$P57,"") | AC57: =IF($M57=AC$5,$O57*$P57,"") | AD57: =IF($S57=AD$5,$U57*$V57,"") -> 0.06 | AE57: =IF($S57=AE$5,$U57*$V57,"") | AF57: =IF($S57=AF$5,$U57*$V57,"") | AH57: =IF($G57=AH$5,$I57*$J57*$K57,"") -> 0.026086957 | AI57: =IF($G57=AI$5,$I57*$J57*$K57,"") | AJ57: =IF($M57=AJ$5,$O57*$P57*$Q57,"") -> 0.13333333 | AK57: =IF($M57=AK$5,$O57*$P57*$Q57,"") | AL57: =IF($M57=AL$5,$O57*$P57*$Q57,"") | AM57: =IF($S57=AM$5,$U57*$V57*$W57,"") -> 0.03 | AN57: =IF($S57=AN$5,$U57*$V57*$W57,"") | AO57: =IF($S57=AO$5,$U57*$V57*$W57,"")
J58: =IF($H58<>"",(VLOOKUP($H58,'Puissances et FS utilisés'!$B$7:$G$44,5,FALSE)),"") | K58: =IF($H58<>"",(VLOOKUP($H58,'Puissances et FS utilisés'!$B$7:$G$44,6,FALSE)),"") | P58: =IF($N58<>"",(VLOOKUP($N58,'Puissances et FS utilisés'!$B$7:$G$44,5,FALSE)),"") | Q58: =IF($N58<>"",(VLOOKUP($N58,'Puissances et FS utilisés'!$B$7:$G$44,6,FALSE)),"") | V58: =IF($T58<>"",(VLOOKUP($T58,'Puissances et FS utilisés'!$B$7:$G$900,5,FALSE)),"") | Y58: =IF($G58=Y$5,$I58*$J58,"") | Z58: =IF($G58=Z$5,$I58*$J58,"") | AA58: =IF($M58=AA$5,$O58*$P58,"") | AB58: =IF($M58=AB$5,$O58*$P58,"") | AC58: =IF($M58=AC$5,$O58*$P58,"") | AD58: =IF($S58=AD$5,$U58*$V58,"") | AE58: =IF($S58=AE$5,$U58*$V58,"") | AF58: =IF($S58=AF$5,$U58*$V58,"") | AH58: =IF($G58=AH$5,$I58*$J58*$K58,"") | AI58: =IF($G58=AI$5,$I58*$J58*$K58,"") | AJ58: =IF($M58=AJ$5,$O58*$P58*$Q58,"") | AK58: =IF($M58=AK$5,$O58*$P58*$Q58,"") | AL58: =IF($M58=AL$5,$O58*$P58*$Q58,"") | AM58: =IF($S58=AM$5,$U58*$V58*$W58,"") | AN58: =IF($S58=AN$5,$U58*$V58*$W58,"") | AO58: =IF($S58=AO$5,$U58*$V58*$W58,"")
J59: =IF($H59<>"",(VLOOKUP($H59,'Puissances et FS utilisés'!$B$7:$G$44,5,FALSE)),"") | K59: =IF($H59<>"",(VLOOKUP($H59,'Puissances et FS utilisés'!$B$7:$G$44,6,FALSE)),"") | P59: =IF($N59<>"",(VLOOKUP($N59,'Puissances et FS utilisés'!$B$7:$G$44,5,FALSE)),"") | Q59: =IF($N59<>"",(VLOOKUP($N59,'Puissances et FS utilisés'!$B$7:$G$44,6,FALSE)),"") | V59: =IF($T59<>"",(VLOOKUP($T59,'Puissances et FS utilisés'!$B$7:$G$900,5,FALSE)),"") | W59: =IF($T59<>"",(VLOOKUP($T59,'Puissances et FS utilisés'!$B$7:$G$44,6,FALSE)),"") | Y59: =IF($G59=Y$5,$I59*$J59,"") | Z59: =IF($G59=Z$5,$I59*$J59,"") | AA59: =IF($M59=AA$5,$O59*$P59,"") | AB59: =IF($M59=AB$5,$O59*$P59,"") | AC59: =IF($M59=AC$5,$O59*$P59,"") | AD59: =IF($S59=AD$5,$U59*$V59,"") | AE59: =IF($S59=AE$5,$U59*$V59,"") | AF59: =IF($S59=AF$5,$U59*$V59,"") | AH59: =IF($G59=AH$5,$I59*$J59*$K59,"") | AI59: =IF($G59=AI$5,$I59*$J59*$K59,"") | AJ59: =IF($M59=AJ$5,$O59*$P59*$Q59,"") | AK59: =IF($M59=AK$5,$O59*$P59*$Q59,"") | AL59: =IF($M59=AL$5,$O59*$P59*$Q59,"") | AM59: =IF($S59=AM$5,$U59*$V59*$W59,"") | AN59: =IF($S59=AN$5,$U59*$V59*$W59,"") | AO59: =IF($S59=AO$5,$U59*$V59*$W59,"")
C60: Chambre 01.HA 1.7 | D60: R+1 | E60: TB1.4 | F60: TD SG R+1 | G60: N | H60: L1 | I60: 1 | J60: =IF($H60<>"",(VLOOKUP($H60,'Puissances et FS utilisés'!$B$7:$G$44,5,FALSE)),"") -> 0.014130435 | K60: =IF($H60<>"",(VLOOKUP($H60,'Puissances et FS utilisés'!$B$7:$G$44,6,FALSE)),"") -> 1 | L60: TD SG R+1 | M60: N | N60: PCN | O60: 8 | P60: =IF($N60<>"",(VLOOKUP($N60,'Puissances et FS utilisés'!$B$7:$G$44,5,FALSE)),"") -> 0.44444444 | Q60: =IF($N60<>"",(VLOOKUP($N60,'Puissances et FS utilisés'!$B$7:$G$44,6,FALSE)),"") -> 0.3 | Y60: =IF($G60=Y$5,$I60*$J60,"") -> 0.014130435 | Z60: =IF($G60=Z$5,$I60*$J60,"") | AA60: =IF($M60=AA$5,$O60*$P60,"") -> 3.5555556 | AB60: =IF($M60=AB$5,$O60*$P60,"") | AC60: =IF($M60=AC$5,$O60*$P60,"") | AD60: =IF($S60=AD$5,$U60*$V60,"") | AE60: =IF($S60=AE$5,$U60*$V60,"") | AF60: =IF($S60=AF$5,$U60*$V60,"") | AH60: =IF($G60=AH$5,$I60*$J60*$K60,"") -> 0.014130435 | AI60: =IF($G60=AI$5,$I60*$J60*$K60,"") | AJ60: =IF($M60=AJ$5,$O60*$P60*$Q60,"") -> 1.0666667 | AK60: =IF($M60=AK$5,$O60*$P60*$Q60,"") | AL60: =IF($M60=AL$5,$O60*$P60*$Q60,"") | AM60: =IF($S60=AM$5,$U60*$V60*$W60,"") | AN60: =IF($S60=AN$5,$U60*$V60*$W60,"") | AO60: =IF($S60=AO$5,$U60*$V60*$W60,"")
F61: TD SG R+1 | G61: N | H61: L2 | I61: 2 | J61: =IF($H61<>"",(VLOOKUP($H61,'Puissances et FS utilisés'!$B$7:$G$44,5,FALSE)),"") -> 0.0054347826 | K61: =IF($H61<>"",(VLOOKUP($H61,'Puissances et FS utilisés'!$B$7:$G$44,6,FALSE)),"") -> 1 | L61: TD SG R+1 | M61: N | N61: PT6 | O61: 1 | P61: =IF($N61<>"",(VLOOKUP($N61,'Puissances et FS utilisés'!$B$7:$G$44,5,FALSE)),"") -> 0.27777778 | Q61: =IF($N61<>"",(VLOOKUP($N61,'Puissances et FS utilisés'!$B$7:$G$44,6,FALSE)),"") -> 0.3 | V61: =IF($T61<>"",(VLOOKUP($T61,'Puissances et FS utilisés'!$B$7:$G$900,5,FALSE)),"") | W61: =IF($T61<>"",(VLOOKUP($T61,'Puissances et FS utilisés'!$B$7:$G$44,6,FALSE)),"") | Y61: =IF($G61=Y$5,$I61*$J61,"") -> 0.010869565 | Z61: =IF($G61=Z$5,$I61*$J61,"") | AA61: =IF($M61=AA$5,$O61*$P61,"") -> 0.27777778 | AB61: =IF($M61=AB$5,$O61*$P61,"") | AC61: =IF($M61=AC$5,$O61*$P61,"") | AD61: =IF($S61=AD$5,$U61*$V61,"") | AE61: =IF($S61=AE$5,$U61*$V61,"") | AF61: =IF($S61=AF$5,$U61*$V61,"") | AH61: =IF($G61=AH$5,$I61*$J61*$K61,"") -> 0.010869565 | AI61: =IF($G61=AI$5,$I61*$J61*$K61,"") | AJ61: =IF($M61=AJ$5,$O61*$P61*$Q61,"") -> 0.083333333 | AK61: =IF($M61=AK$5,$O61*$P61*$Q61,"") | AL61: =IF($M61=AL$5,$O61*$P61*$Q61,"") | AM61: =IF($S61=AM$5,$U61*$V61*$W61,"") | AN61: =IF($S61=AN$5,$U61*$V61*$W61,"") | AO61: =IF($S61=AO$5,$U61*$V61*$W61,"")
F62: TD SG R+1 | G62: N | H62: L7 | I62: 2 | J62: =IF($H62<>"",(VLOOKUP($H62,'Puissances et FS utilisés'!$B$7:$G$44,5,FALSE)),"") -> 0.010869565 | K62: =IF($H62<>"",(VLOOKUP($H62,'Puissances et FS utilisés'!$B$7:$G$44,6,FALSE)),"") -> 1 | P62: =IF($N62<>"",(VLOOKUP($N62,'Puissances et FS utilisés'!$B$7:$G$44,5,FALSE)),"") | Q62: =IF($N62<>"",(VLOOKUP($N62,'Puissances et FS utilisés'!$B$7:$G$44,6,FALSE)),"") | V62: =IF($T62<>"",(VLOOKUP($T62,'Puissances et FS utilisés'!$B$7:$G$900,5,FALSE)),"") | W62: =IF($T62<>"",(VLOOKUP($T62,'Puissances et FS utilisés'!$B$7:$G$44,6,FALSE)),"") | Y62: =IF($G62=Y$5,$I62*$J62,"") -> 0.02173913 | Z62: =IF($G62=Z$5,$I62*$J62,"") | AA62: =IF($M62=AA$5,$O62*$P62,"") | AB62: =IF($M62=AB$5,$O62*$P62,"") | AC62: =IF($M62=AC$5,$O62*$P62,"") | AD62: =IF($S62=AD$5,$U62*$V62,"") | AE62: =IF($S62=AE$5,$U62*$V62,"") | AF62: =IF($S62=AF$5,$U62*$V62,"") | AH62: =IF($G62=AH$5,$I62*$J62*$K62,"") -> 0.02173913 | AI62: =IF($G62=AI$5,$I62*$J62*$K62,"") | AJ62: =IF($M62=AJ$5,$O62*$P62*$Q62,"") | AK62: =IF($M62=AK$5,$O62*$P62*$Q62,"") | AL62: =IF($M62=AL$5,$O62*$P62*$Q62,"") | AM62: =IF($S62=AM$5,$U62*$V62*$W62,"") | AN62: =IF($S62=AN$5,$U62*$V62*$W62,"") | AO62: =IF($S62=AO$5,$U62*$V62*$W62,"")
C63: Chambre 01.HA 1.7 | D63: R+1 | E63: TB1.4 | F63: TD SG R+1 | G63: N | H63: L8 | I63: 1 | J63: =IF($H63<>"",(VLOOKUP($H63,'Puissances et FS utilisés'!$B$7:$G$44,5,FALSE)),"") -> 0.010869565 | K63: =IF($H63<>"",(VLOOKUP($H63,'Puissances et FS utilisés'!$B$7:$G$44,6,FALSE)),"") -> 1 | P63: =IF($N63<>"",(VLOOKUP($N63,'Puissances et FS utilisés'!$B$7:$G$44,5,FALSE)),"") | Q63: =IF($N63<>"",(VLOOKUP($N63,'Puissances et FS utilisés'!$B$7:$G$44,6,FALSE)),"") | V63: =IF($T63<>"",(VLOOKUP($T63,'Puissances et FS utilisés'!$B$7:$G$900,5,FALSE)),"") | W63: =IF($T63<>"",(VLOOKUP($T63,'Puissances et FS utilisés'!$B$7:$G$44,6,FALSE)),"") | Y63: =IF($G63=Y$5,$I63*$J63,"") -> 0.010869565 | Z63: =IF($G63=Z$5,$I63*$J63,"") | AA63: =IF($M63=AA$5,$O63*$P63,"") | AB63: =IF($M63=AB$5,$O63*$P63,"") | AC63: =IF($M63=AC$5,$O63*$P63,"") | AD63: =IF($S63=AD$5,$U63*$V63,"") | AE63: =IF($S63=AE$5,$U63*$V63,"") | AF63: =IF($S63=AF$5,$U63*$V63,"") | AH63: =IF($G63=AH$5,$I63*$J63*$K63,"") -> 0.010869565 | AI63: =IF($G63=AI$5,$I63*$J63*$K63,"") | AJ63: =IF($M63=AJ$5,$O63*$P63*$Q63,"") | AK63: =IF($M63=AK$5,$O63*$P63*$Q63,"") | AL63: =IF($M63=AL$5,$O63*$P63*$Q63,"") | AM63: =IF($S63=AM$5,$U63*$V63*$W63,"") | AN63: =IF($S63=AN$5,$U63*$V63*$W63,"") | AO63: =IF($S63=AO$5,$U63*$V63*$W63,"")
J64: =IF($H64<>"",(VLOOKUP($H64,'Puissances et FS utilisés'!$B$7:$G$44,5,FALSE)),"") | K64: =IF($H64<>"",(VLOOKUP($H64,'Puissances et FS utilisés'!$B$7:$G$44,6,FALSE)),"") | P64: =IF($N64<>"",(VLOOKUP($N64,'Puissances et FS utilisés'!$B$7:$G$44,5,FALSE)),"") | Q64: =IF($N64<>"",(VLOOKUP($N64,'Puissances et FS utilisés'!$B$7:$G$44,6,FALSE)),"") | V64: =IF($T64<>"",(VLOOKUP($T64,'Puissances et FS utilisés'!$B$7:$G$900,5,FALSE)),"") | Y64: =IF($G64=Y$5,$I64*$J64,"") | Z64: =IF($G64=Z$5,$I64*$J64,"") | AA64: =IF($M64=AA$5,$O64*$P64,"") | AB64: =IF($M64=AB$5,$O64*$P64,"") | AC64: =IF($M64=AC$5,$O64*$P64,"") | AD64: =IF($S64=AD$5,$U64*$V64,"") | AE64: =IF($S64=AE$5,$U64*$V64,"") | AF64: =IF($S64=AF$5,$U64*$V64,"") | AH64: =IF($G64=AH$5,$I64*$J64*$K64,"") | AI64: =IF($G64=AI$5,$I64*$J64*$K64,"") | AJ64: =IF($M64=AJ$5,$O64*$P64*$Q64,"") | AK64: =IF($M64=AK$5,$O64*$P64*$Q64,"") | AL64: =IF($M64=AL$5,$O64*$P64*$Q64,"") | AM64: =IF($S64=AM$5,$U64*$V64*$W64,"") | AN64: =IF($S64=AN$5,$U64*$V64*$W64,"") | AO64: =IF($S64=AO$5,$U64*$V64*$W64,"")
J65: =IF($H65<>"",(VLOOKUP($H65,'Puissances et FS utilisés'!$B$7:$G$44,5,FALSE)),"") | K65: =IF($H65<>"",(VLOOKUP($H65,'Puissances et FS utilisés'!$B$7:$G$44,6,FALSE)),"") | P65: =IF($N65<>"",(VLOOKUP($N65,'Puissances et FS utilisés'!$B$7:$G$44,5,FALSE)),"") | Q65: =IF($N65<>"",(VLOOKUP($N65,'Puissances et FS utilisés'!$B$7:$G$44,6,FALSE)),"") | V65: =IF($T65<>"",(VLOOKUP($T65,'Puissances et FS utilisés'!$B$7:$G$900,5,FALSE)),"") | W65: =IF($T65<>"",(VLOOKUP($T65,'Puissances et FS utilisés'!$B$7:$G$44,6,FALSE)),"") | Y65: =IF($G65=Y$5,$I65*$J65,"") | Z65: =IF($G65=Z$5,$I65*$J65,"") | AA65: =IF($M65=AA$5,$O65*$P65,"") | AB65: =IF($M65=AB$5,$O65*$P65,"") | AC65: =IF($M65=AC$5,$O65*$P65,"") | AD65: =IF($S65=AD$5,$U65*$V65,"") | AE65: =IF($S65=AE$5,$U65*$V65,"") | AF65: =IF($S65=AF$5,$U65*$V65,"") | AH65: =IF($G65=AH$5,$I65*$J65*$K65,"") | AI65: =IF($G65=AI$5,$I65*$J65*$K65,"") | AJ65: =IF($M65=AJ$5,$O65*$P65*$Q65,"") | AK65: =IF($M65=AK$5,$O65*$P65*$Q65,"") | AL65: =IF($M65=AL$5,$O65*$P65*$Q65,"") | AM65: =IF($S65=AM$5,$U65*$V65*$W65,"") | AN65: =IF($S65=AN$5,$U65*$V65*$W65,"") | AO65: =IF($S65=AO$5,$U65*$V65*$W65,"")
C66: SDB 01.HA 1.7 | D66: R+1 | E66: TB1.4 | F66: TD SG R+1 | G66: N | H66: L3 | I66: 2 | J66: =IF($H66<>"",(VLOOKUP($H66,'Puissances et FS utilisés'!$B$7:$G$44,5,FALSE)),"") -> 0.013043478 | K66: =IF($H66<>"",(VLOOKUP($H66,'Puissances et FS utilisés'!$B$7:$G$44,6,FALSE)),"") -> 1 | L66: TD SG R+1 | M66: N | N66: PCN-R | O66: 1 | P66: =IF($N66<>"",(VLOOKUP($N66,'Puissances et FS utilisés'!$B$7:$G$44,5,FALSE)),"") -> 0.44444444 | Q66: =IF($N66<>"",(VLOOKUP($N66,'Puissances et FS utilisés'!$B$7:$G$44,6,FALSE)),"") -> 0.3 | R66: TD SG R+1 | S66: N | T66: FA-B | U66: 1 | V66: =IF($T66<>"",(VLOOKUP($T66,'Puissances et FS utilisés'!$B$7:$G$900,5,FALSE)),"") -> 0.06 | W66: =IF($T66<>"",(VLOOKUP($T66,'Puissances et FS utilisés'!$B$7:$G$900,6,FALSE)),"") -> 0.5 | Y66: =IF($G66=Y$5,$I66*$J66,"") -> 0.026086957 | Z66: =IF($G66=Z$5,$I66*$J66,"") | AA66: =IF($M66=AA$5,$O66*$P66,"") -> 0.44444444 | AB66: =IF($M66=AB$5,$O66*$P66,"") | AC66: =IF($M66=AC$5,$O66*$P66,"") | AD66: =IF($S66=AD$5,$U66*$V66,"") -> 0.06 | AE66: =IF($S66=AE$5,$U66*$V66,"") | AF66: =IF($S66=AF$5,$U66*$V66,"") | AH66: =IF($G66=AH$5,$I66*$J66*$K66,"") -> 0.026086957 | AI66: =IF($G66=AI$5,$I66*$J66*$K66,"") | AJ66: =IF($M66=AJ$5,$O66*$P66*$Q66,"") -> 0.13333333 | AK66: =IF($M66=AK$5,$O66*$P66*$Q66,"") | AL66: =IF($M66=AL$5,$O66*$P66*$Q66,"") | AM66: =IF($S66=AM$5,$U66*$V66*$W66,"") -> 0.03 | AN66: =IF($S66=AN$5,$U66*$V66*$W66,"") | AO66: =IF($S66=AO$5,$U66*$V66*$W66,"")
J67: =IF($H67<>"",(VLOOKUP($H67,'Puissances et FS utilisés'!$B$7:$G$44,5,FALSE)),"") | K67: =IF($H67<>"",(VLOOKUP($H67,'Puissances et FS utilisés'!$B$7:$G$44,6,FALSE)),"") | P67: =IF($N67<>"",(VLOOKUP($N67,'Puissances et FS utilisés'!$B$7:$G$44,5,FALSE)),"") | Q67: =IF($N67<>"",(VLOOKUP($N67,'Puissances et FS utilisés'!$B$7:$G$44,6,FALSE)),"") | V67: =IF($T67<>"",(VLOOKUP($T67,'Puissances et FS utilisés'!$B$7:$G$900,5,FALSE)),"") | Y67: =IF($G67=Y$5,$I67*$J67,"") | Z67: =IF($G67=Z$5,$I67*$J67,"") | AA67: =IF($M67=AA$5,$O67*$P67,"") | AB67: =IF($M67=AB$5,$O67*$P67,"") | AC67: =IF($M67=AC$5,$O67*$P67,"") | AD67: =IF($S67=AD$5,$U67*$V67,"") | AE67: =IF($S67=AE$5,$U67*$V67,"") | AF67: =IF($S67=AF$5,$U67*$V67,"") | AH67: =IF($G67=AH$5,$I67*$J67*$K67,"") | AI67: =IF($G67=AI$5,$I67*$J67*$K67,"") | AJ67: =IF($M67=AJ$5,$O67*$P67*$Q67,"") | AK67: =IF($M67=AK$5,$O67*$P67*$Q67,"") | AL67: =IF($M67=AL$5,$O67*$P67*$Q67,"") | AM67: =IF($S67=AM$5,$U67*$V67*$W67,"") | AN67: =IF($S67=AN$5,$U67*$V67*$W67,"") | AO67: =IF($S67=AO$5,$U67*$V67*$W67,"")
J68: =IF($H68<>"",(VLOOKUP($H68,'Puissances et FS utilisés'!$B$7:$G$44,5,FALSE)),"") | K68: =IF($H68<>"",(VLOOKUP($H68,'Puissances et FS utilisés'!$B$7:$G$44,6,FALSE)),"") | P68: =IF($N68<>"",(VLOOKUP($N68,'Puissances et FS utilisés'!$B$7:$G$44,5,FALSE)),"") | Q68: =IF($N68<>"",(VLOOKUP($N68,'Puissances et FS utilisés'!$B$7:$G$44,6,FALSE)),"") | V68: =IF($T68<>"",(VLOOKUP($T68,'Puissances et FS utilisés'!$B$7:$G$900,5,FALSE)),"") | W68: =IF($T68<>"",(VLOOKUP($T68,'Puissances et FS utilisés'!$B$7:$G$44,6,FALSE)),"") | Y68: =IF($G68=Y$5,$I68*$J68,"") | Z68: =IF($G68=Z$5,$I68*$J68,"") | AA68: =IF($M68=AA$5,$O68*$P68,"") | AB68: =IF($M68=AB$5,$O68*$P68,"") | AC68: =IF($M68=AC$5,$O68*$P68,"") | AD68: =IF($S68=AD$5,$U68*$V68,"") | AE68: =IF($S68=AE$5,$U68*$V68,"") | AF68: =IF($S68=AF$5,$U68*$V68,"") | AH68: =IF($G68=AH$5,$I68*$J68*$K68,"") | AI68: =IF($G68=AI$5,$I68*$J68*$K68,"") | AJ68: =IF($M68=AJ$5,$O68*$P68*$Q68,"") | AK68: =IF($M68=AK$5,$O68*$P68*$Q68,"") | AL68: =IF($M68=AL$5,$O68*$P68*$Q68,"") | AM68: =IF($S68=AM$5,$U68*$V68*$W68,"") | AN68: =IF($S68=AN$5,$U68*$V68*$W68,"") | AO68: =IF($S68=AO$5,$U68*$V68*$W68,"")
C69: Chambre 01.HA 1.8 | D69: R+1 | E69: TB1.4 | F69: TD SG R+1 | G69: N | H69: L1 | I69: 1 | J69: =IF($H69<>"",(VLOOKUP($H69,'Puissances et FS utilisés'!$B$7:$G$44,5,FALSE)),"") -> 0.014130435 | K69: =IF($H69<>"",(VLOOKUP($H69,'Puissances et FS utilisés'!$B$7:$G$44,6,FALSE)),"") -> 1 | L69: TD SG R+1 | M69: N | N69: PCN | O69: 8 | P69: =IF($N69<>"",(VLOOKUP($N69,'Puissances et FS utilisés'!$B$7:$G$44,5,FALSE)),"") -> 0.44444444 | Q69: =IF($N69<>"",(VLOOKUP($N69,'Puissances et FS utilisés'!$B$7:$G$44,6,FALSE)),"") -> 0.3 | Y69: =IF($G69=Y$5,$I69*$J69,"") -> 0.014130435 | Z69: =IF($G69=Z$5,$I69*$J69,"") | AA69: =IF($M69=AA$5,$O69*$P69,"") -> 3.5555556 | AB69: =IF($M69=AB$5,$O69*$P69,"") | AC69: =IF($M69=AC$5,$O69*$P69,"") | AD69: =IF($S69=AD$5,$U69*$V69,"") | AE69: =IF($S69=AE$5,$U69*$V69,"") | AF69: =IF($S69=AF$5,$U69*$V69,"") | AH69: =IF($G69=AH$5,$I69*$J69*$K69,"") -> 0.014130435 | AI69: =IF($G69=AI$5,$I69*$J69*$K69,"") | AJ69: =IF($M69=AJ$5,$O69*$P69*$Q69,"") -> 1.0666667 | AK69: =IF($M69=AK$5,$O69*$P69*$Q69,"") | AL69: =IF($M69=AL$5,$O69*$P69*$Q69,"") | AM69: =IF($S69=AM$5,$U69*$V69*$W69,"") | AN69: =IF($S69=AN$5,$U69*$V69*$W69,"") | AO69: =IF($S69=AO$5,$U69*$V69*$W69,"")
F70: TD SG R+1 | G70: N | H70: L2 | I70: 2 | J70: =IF($H70<>"",(VLOOKUP($H70,'Puissances et FS utilisés'!$B$7:$G$44,5,FALSE)),"") -> 0.0054347826 | K70: =IF($H70<>"",(VLOOKUP($H70,'Puissances et FS utilisés'!$B$7:$G$44,6,FALSE)),"") -> 1 | L70: TD SG R+1 | M70: N | N70: PT6 | O70: 1 | P70: =IF($N70<>"",(VLOOKUP($N70,'Puissances et FS utilisés'!$B$7:$G$44,5,FALSE)),"") -> 0.27777778 | Q70: =IF($N70<>"",(VLOOKUP($N70,'Puissances et FS utilisés'!$B$7:$G$44,6,FALSE)),"") -> 0.3 | V70: =IF($T70<>"",(VLOOKUP($T70,'Puissances et FS utilisés'!$B$7:$G$900,5,FALSE)),"") | W70: =IF($T70<>"",(VLOOKUP($T70,'Puissances et FS utilisés'!$B$7:$G$44,6,FALSE)),"") | Y70: =IF($G70=Y$5,$I70*$J70,"") -> 0.010869565 | Z70: =IF($G70=Z$5,$I70*$J70,"") | AA70: =IF($M70=AA$5,$O70*$P70,"") -> 0.27777778 | AB70: =IF($M70=AB$5,$O70*$P70,"") | AC70: =IF($M70=AC$5,$O70*$P70,"") | AD70: =IF($S70=AD$5,$U70*$V70,"") | AE70: =IF($S70=AE$5,$U70*$V70,"") | AF70: =IF($S70=AF$5,$U70*$V70,"") | AH70: =IF($G70=AH$5,$I70*$J70*$K70,"") -> 0.010869565 | AI70: =IF($G70=AI$5,$I70*$J70*$K70,"") | AJ70: =IF($M70=AJ$5,$O70*$P70*$Q70,"") -> 0.083333333 | AK70: =IF($M70=AK$5,$O70*$P70*$Q70,"") | AL70: =IF($M70=AL$5,$O70*$P70*$Q70,"") | AM70: =IF($S70=AM$5,$U70*$V70*$W70,"") | AN70: =IF($S70=AN$5,$U70*$V70*$W70,"") | AO70: =IF($S70=AO$5,$U70*$V70*$W70,"")
F71: TD SG R+1 | G71: N | H71: L7 | I71: 2 | J71: =IF($H71<>"",(VLOOKUP($H71,'Puissances et FS utilisés'!$B$7:$G$44,5,FALSE)),"") -> 0.010869565 | K71: =IF($H71<>"",(VLOOKUP($H71,'Puissances et FS utilisés'!$B$7:$G$44,6,FALSE)),"") -> 1 | P71: =IF($N71<>"",(VLOOKUP($N71,'Puissances et FS utilisés'!$B$7:$G$44,5,FALSE)),"") | Q71: =IF($N71<>"",(VLOOKUP($N71,'Puissances et FS utilisés'!$B$7:$G$44,6,FALSE)),"") | V71: =IF($T71<>"",(VLOOKUP($T71,'Puissances et FS utilisés'!$B$7:$G$900,5,FALSE)),"") | W71: =IF($T71<>"",(VLOOKUP($T71,'Puissances et FS utilisés'!$B$7:$G$44,6,FALSE)),"") | Y71: =IF($G71=Y$5,$I71*$J71,"") -> 0.02173913 | Z71: =IF($G71=Z$5,$I71*$J71,"") | AA71: =IF($M71=AA$5,$O71*$P71,"") | AB71: =IF($M71=AB$5,$O71*$P71,"") | AC71: =IF($M71=AC$5,$O71*$P71,"") | AD71: =IF($S71=AD$5,$U71*$V71,"") | AE71: =IF($S71=AE$5,$U71*$V71,"") | AF71: =IF($S71=AF$5,$U71*$V71,"") | AH71: =IF($G71=AH$5,$I71*$J71*$K71,"") -> 0.02173913 | AI71: =IF($G71=AI$5,$I71*$J71*$K71,"") | AJ71: =IF($M71=AJ$5,$O71*$P71*$Q71,"") | AK71: =IF($M71=AK$5,$O71*$P71*$Q71,"") | AL71: =IF($M71=AL$5,$O71*$P71*$Q71,"") | AM71: =IF($S71=AM$5,$U71*$V71*$W71,"") | AN71: =IF($S71=AN$5,$U71*$V71*$W71,"") | AO71: =IF($S71=AO$5,$U71*$V71*$W71,"")
C72: Chambre 01.HA 1.8 | D72: R+1 | E72: TB1.4 | F72: TD SG R+1 | G72: N | H72: L8 | I72: 1 | J72: =IF($H72<>"",(VLOOKUP($H72,'Puissances et FS utilisés'!$B$7:$G$44,5,FALSE)),"") -> 0.010869565 | K72: =IF($H72<>"",(VLOOKUP($H72,'Puissances et FS utilisés'!$B$7:$G$44,6,FALSE)),"") -> 1 | P72: =IF($N72<>"",(VLOOKUP($N72,'Puissances et FS utilisés'!$B$7:$G$44,5,FALSE)),"") | Q72: =IF($N72<>"",(VLOOKUP($N72,'Puissances et FS utilisés'!$B$7:$G$44,6,FALSE)),"") | V72: =IF($T72<>"",(VLOOKUP($T72,'Puissances et FS utilisés'!$B$7:$G$900,5,FALSE)),"") | W72: =IF($T72<>"",(VLOOKUP($T72,'Puissances et FS utilisés'!$B$7:$G$44,6,FALSE)),"") | Y72: =IF($G72=Y$5,$I72*$J72,"") -> 0.010869565 | Z72: =IF($G72=Z$5,$I72*$J72,"") | AA72: =IF($M72=AA$5,$O72*$P72,"") | AB72: =IF($M72=AB$5,$O72*$P72,"") | AC72: =IF($M72=AC$5,$O72*$P72,"") | AD72: =IF($S72=AD$5,$U72*$V72,"") | AE72: =IF($S72=AE$5,$U72*$V72,"") | AF72: =IF($S72=AF$5,$U72*$V72,"") | AH72: =IF($G72=AH$5,$I72*$J72*$K72,"") -> 0.010869565 | AI72: =IF($G72=AI$5,$I72*$J72*$K72,"") | AJ72: =IF($M72=AJ$5,$O72*$P72*$Q72,"") | AK72: =IF($M72=AK$5,$O72*$P72*$Q72,"") | AL72: =IF($M72=AL$5,$O72*$P72*$Q72,"") | AM72: =IF($S72=AM$5,$U72*$V72*$W72,"") | AN72: =IF($S72=AN$5,$U72*$V72*$W72,"") | AO72: =IF($S72=AO$5,$U72*$V72*$W72,"")
J73: =IF($H73<>"",(VLOOKUP($H73,'Puissances et FS utilisés'!$B$7:$G$44,5,FALSE)),"") | K73: =IF($H73<>"",(VLOOKUP($H73,'Puissances et FS utilisés'!$B$7:$G$44,6,FALSE)),"") | P73: =IF($N73<>"",(VLOOKUP($N73,'Puissances et FS utilisés'!$B$7:$G$44,5,FALSE)),"") | Q73: =IF($N73<>"",(VLOOKUP($N73,'Puissances et FS utilisés'!$B$7:$G$44,6,FALSE)),"") | V73: =IF($T73<>"",(VLOOKUP($T73,'Puissances et FS utilisés'!$B$7:$G$900,5,FALSE)),"") | Y73: =IF($G73=Y$5,$I73*$J73,"") | Z73: =IF($G73=Z$5,$I73*$J73,"") | AA73: =IF($M73=AA$5,$O73*$P73,"") | AB73: =IF($M73=AB$5,$O73*$P73,"") | AC73: =IF($M73=AC$5,$O73*$P73,"") | AD73: =IF($S73=AD$5,$U73*$V73,"") | AE73: =IF($S73=AE$5,$U73*$V73,"") | AF73: =IF($S73=AF$5,$U73*$V73,"") | AH73: =IF($G73=AH$5,$I73*$J73*$K73,"") | AI73: =IF($G73=AI$5,$I73*$J73*$K73,"") | AJ73: =IF($M73=AJ$5,$O73*$P73*$Q73,"") | AK73: =IF($M73=AK$5,$O73*$P73*$Q73,"") | AL73: =IF($M73=AL$5,$O73*$P73*$Q73,"") | AM73: =IF($S73=AM$5,$U73*$V73*$W73,"") | AN73: =IF($S73=AN$5,$U73*$V73*$W73,"") | AO73: =IF($S73=AO$5,$U73*$V73*$W73,"")
J74: =IF($H74<>"",(VLOOKUP($H74,'Puissances et FS utilisés'!$B$7:$G$44,5,FALSE)),"") | K74: =IF($H74<>"",(VLOOKUP($H74,'Puissances et FS utilisés'!$B$7:$G$44,6,FALSE)),"") | P74: =IF($N74<>"",(VLOOKUP($N74,'Puissances et FS utilisés'!$B$7:$G$44,5,FALSE)),"") | Q74: =IF($N74<>"",(VLOOKUP($N74,'Puissances et FS utilisés'!$B$7:$G$44,6,FALSE)),"") | V74: =IF($T74<>"",(VLOOKUP($T74,'Puissances et FS utilisés'!$B$7:$G$900,5,FALSE)),"") | W74: =IF($T74<>"",(VLOOKUP($T74,'Puissances et FS utilisés'!$B$7:$G$44,6,FALSE)),"") | Y74: =IF($G74=Y$5,$I74*$J74,"") | Z74: =IF($G74=Z$5,$I74*$J74,"") | AA74: =IF($M74=AA$5,$O74*$P74,"") | AB74: =IF($M74=AB$5,$O74*$P74,"") | AC74: =IF($M74=AC$5,$O74*$P74,"") | AD74: =IF($S74=AD$5,$U74*$V74,"") | AE74: =IF($S74=AE$5,$U74*$V74,"") | AF74: =IF($S74=AF$5,$U74*$V74,"") | AH74: =IF($G74=AH$5,$I74*$J74*$K74,"") | AI74: =IF($G74=AI$5,$I74*$J74*$K74,"") | AJ74: =IF($M74=AJ$5,$O74*$P74*$Q74,"") | AK74: =IF($M74=AK$5,$O74*$P74*$Q74,"") | AL74: =IF($M74=AL$5,$O74*$P74*$Q74,"") | AM74: =IF($S74=AM$5,$U74*$V74*$W74,"") | AN74: =IF($S74=AN$5,$U74*$V74*$W74,"") | AO74: =IF($S74=AO$5,$U74*$V74*$W74,"")
C75: SDB 01.HA 1.8 | D75: R+1 | E75: TB1.4 | F75: TD SG R+1 | G75: N | H75: L3 | I75: 2 | J75: =IF($H75<>"",(VLOOKUP($H75,'Puissances et FS utilisés'!$B$7:$G$44,5,FALSE)),"") -> 0.013043478 | K75: =IF($H75<>"",(VLOOKUP($H75,'Puissances et FS utilisés'!$B$7:$G$44,6,FALSE)),"") -> 1 | L75: TD SG R+1 | M75: N | N75: PCN-R | O75: 1 | P75: =IF($N75<>"",(VLOOKUP($N75,'Puissances et FS utilisés'!$B$7:$G$44,5,FALSE)),"") -> 0.44444444 | Q75: =IF($N75<>"",(VLOOKUP($N75,'Puissances et FS utilisés'!$B$7:$G$44,6,FALSE)),"") -> 0.3 | R75: TD SG R+1 | S75: N | T75: FA-B | U75: 1 | V75: =IF($T75<>"",(VLOOKUP($T75,'Puissances et FS utilisés'!$B$7:$G$900,5,FALSE)),"") -> 0.06 | W75: =IF($T75<>"",(VLOOKUP($T75,'Puissances et FS utilisés'!$B$7:$G$900,6,FALSE)),"") -> 0.5 | Y75: =IF($G75=Y$5,$I75*$J75,"") -> 0.026086957 | Z75: =IF($G75=Z$5,$I75*$J75,"") | AA75: =IF($M75=AA$5,$O75*$P75,"") -> 0.44444444 | AB75: =IF($M75=AB$5,$O75*$P75,"") | AC75: =IF($M75=AC$5,$O75*$P75,"") | AD75: =IF($S75=AD$5,$U75*$V75,"") -> 0.06 | AE75: =IF($S75=AE$5,$U75*$V75,"") | AF75: =IF($S75=AF$5,$U75*$V75,"") | AH75: =IF($G75=AH$5,$I75*$J75*$K75,"") -> 0.026086957 | AI75: =IF($G75=AI$5,$I75*$J75*$K75,"") | AJ75: =IF($M75=AJ$5,$O75*$P75*$Q75,"") -> 0.13333333 | AK75: =IF($M75=AK$5,$O75*$P75*$Q75,"") | AL75: =IF($M75=AL$5,$O75*$P75*$Q75,"") | AM75: =IF($S75=AM$5,$U75*$V75*$W75,"") -> 0.03 | AN75: =IF($S75=AN$5,$U75*$V75*$W75,"") | AO75: =IF($S75=AO$5,$U75*$V75*$W75,"")
J76: =IF($H76<>"",(VLOOKUP($H76,'Puissances et FS utilisés'!$B$7:$G$44,5,FALSE)),"") | K76: =IF($H76<>"",(VLOOKUP($H76,'Puissances et FS utilisés'!$B$7:$G$44,6,FALSE)),"") | P76: =IF($N76<>"",(VLOOKUP($N76,'Puissances et FS utilisés'!$B$7:$G$44,5,FALSE)),"") | Q76: =IF($N76<>"",(VLOOKUP($N76,'Puissances et FS utilisés'!$B$7:$G$44,6,FALSE)),"") | V76: =IF($T76<>"",(VLOOKUP($T76,'Puissances et FS utilisés'!$B$7:$G$900,5,FALSE)),"") | Y76: =IF($G76=Y$5,$I76*$J76,"") | Z76: =IF($G76=Z$5,$I76*$J76,"") | AA76: =IF($M76=AA$5,$O76*$P76,"") | AB76: =IF($M76=AB$5,$O76*$P76,"") | AC76: =IF($M76=AC$5,$O76*$P76,"") | AD76: =IF($S76=AD$5,$U76*$V76,"") | AE76: =IF($S76=AE$5,$U76*$V76,"") | AF76: =IF($S76=AF$5,$U76*$V76,"") | AH76: =IF($G76=AH$5,$I76*$J76*$K76,"") | AI76: =IF($G76=AI$5,$I76*$J76*$K76,"") | AJ76: =IF($M76=AJ$5,$O76*$P76*$Q76,"") | AK76: =IF($M76=AK$5,$O76*$P76*$Q76,"") | AL76: =IF($M76=AL$5,$O76*$P76*$Q76,"") | AM76: =IF($S76=AM$5,$U76*$V76*$W76,"") | AN76: =IF($S76=AN$5,$U76*$V76*$W76,"") | AO76: =IF($S76=AO$5,$U76*$V76*$W76,"")
J77: =IF($H77<>"",(VLOOKUP($H77,'Puissances et FS utilisés'!$B$7:$G$44,5,FALSE)),"") | K77: =IF($H77<>"",(VLOOKUP($H77,'Puissances et FS utilisés'!$B$7:$G$44,6,FALSE)),"") | P77: =IF($N77<>"",(VLOOKUP($N77,'Puissances et FS utilisés'!$B$7:$G$44,5,FALSE)),"") | Q77: =IF($N77<>"",(VLOOKUP($N77,'Puissances et FS utilisés'!$B$7:$G$44,6,FALSE)),"") | V77: =IF($T77<>"",(VLOOKUP($T77,'Puissances et FS utilisés'!$B$7:$G$900,5,FALSE)),"") | W77: =IF($T77<>"",(VLOOKUP($T77,'Puissances et FS utilisés'!$B$7:$G$44,6,FALSE)),"") | Y77: =IF($G77=Y$5,$I77*$J77,"") | Z77: =IF($G77=Z$5,$I77*$J77,"") | AA77: =IF($M77=AA$5,$O77*$P77,"") | AB77: =IF($M77=AB$5,$O77*$P77,"") | AC77: =IF($M77=AC$5,$O77*$P77,"") | AD77: =IF($S77=AD$5,$U77*$V77,"") | AE77: =IF($S77=AE$5,$U77*$V77,"") | AF77: =IF($S77=AF$5,$U77*$V77,"") | AH77: =IF($G77=AH$5,$I77*$J77*$K77,"") | AI77: =IF($G77=AI$5,$I77*$J77*$K77,"") | AJ77: =IF($M77=AJ$5,$O77*$P77*$Q77,"") | AK77: =IF($M77=AK$5,$O77*$P77*$Q77,"") | AL77: =IF($M77=AL$5,$O77*$P77*$Q77,"") | AM77: =IF($S77=AM$5,$U77*$V77*$W77,"") | AN77: =IF($S77=AN$5,$U77*$V77*$W77,"") | AO77: =IF($S77=AO$5,$U77*$V77*$W77,"")
C78: Chambre 01.HA 1.9 | D78: R+1 | E78: TB1.5 | F78: TD SG R+1 | G78: N | H78: L1 | I78: 1 | J78: =IF($H78<>"",(VLOOKUP($H78,'Puissances et FS utilisés'!$B$7:$G$44,5,FALSE)),"") -> 0.014130435 | K78: =IF($H78<>"",(VLOOKUP($H78,'Puissances et FS utilisés'!$B$7:$G$44,6,FALSE)),"") -> 1 | L78: TD SG R+1 | M78: N | N78: PCN | O78: 8 | P78: =IF($N78<>"",(VLOOKUP($N78,'Puissances et FS utilisés'!$B$7:$G$44,5,FALSE)),"") -> 0.44444444 | Q78: =IF($N78<>"",(VLOOKUP($N78,'Puissances et FS utilisés'!$B$7:$G$44,6,FALSE)),"") -> 0.3 | Y78: =IF($G78=Y$5,$I78*$J78,"") -> 0.014130435 | Z78: =IF($G78=Z$5,$I78*$J78,"") | AA78: =IF($M78=AA$5,$O78*$P78,"") -> 3.5555556 | AB78: =IF($M78=AB$5,$O78*$P78,"") | AC78: =IF($M78=AC$5,$O78*$P78,"") | AD78: =IF($S78=AD$5,$U78*$V78,"") | AE78: =IF($S78=AE$5,$U78*$V78,"") | AF78: =IF($S78=AF$5,$U78*$V78,"") | AH78: =IF($G78=AH$5,$I78*$J78*$K78,"") -> 0.014130435 | AI78: =IF($G78=AI$5,$I78*$J78*$K78,"") | AJ78: =IF($M78=AJ$5,$O78*$P78*$Q78,"") -> 1.0666667 | AK78: =IF($M78=AK$5,$O78*$P78*$Q78,"") | AL78: =IF($M78=AL$5,$O78*$P78*$Q78,"") | AM78: =IF($S78=AM$5,$U78*$V78*$W78,"") | AN78: =IF($S78=AN$5,$U78*$V78*$W78,"") | AO78: =IF($S78=AO$5,$U78*$V78*$W78,"")
F79: TD SG R+1 | G79: N | H79: L2 | I79: 2 | J79: =IF($H79<>"",(VLOOKUP($H79,'Puissances et FS utilisés'!$B$7:$G$44,5,FALSE)),"") -> 0.0054347826 | K79: =IF($H79<>"",(VLOOKUP($H79,'Puissances et FS utilisés'!$B$7:$G$44,6,FALSE)),"") -> 1 | L79: TD SG R+1 | M79: N | N79: PT6 | O79: 1 | P79: =IF($N79<>"",(VLOOKUP($N79,'Puissances et FS utilisés'!$B$7:$G$44,5,FALSE)),"") -> 0.27777778 | Q79: =IF($N79<>"",(VLOOKUP($N79,'Puissances et FS utilisés'!$B$7:$G$44,6,FALSE)),"") -> 0.3 | V79: =IF($T79<>"",(VLOOKUP($T79,'Puissances et FS utilisés'!$B$7:$G$900,5,FALSE)),"") | W79: =IF($T79<>"",(VLOOKUP($T79,'Puissances et FS utilisés'!$B$7:$G$44,6,FALSE)),"") | Y79: =IF($G79=Y$5,$I79*$J79,"") -> 0.010869565 | Z79: =IF($G79=Z$5,$I79*$J79,"") | AA79: =IF($M79=AA$5,$O79*$P79,"") -> 0.27777778 | AB79: =IF($M79=AB$5,$O79*$P79,"") | AC79: =IF($M79=AC$5,$O79*$P79,"") | AD79: =IF($S79=AD$5,$U79*$V79,"") | AE79: =IF($S79=AE$5,$U79*$V79,"") | AF79: =IF($S79=AF$5,$U79*$V79,"") | AH79: =IF($G79=AH$5,$I79*$J79*$K79,"") -> 0.010869565 | AI79: =IF($G79=AI$5,$I79*$J79*$K79,"") | AJ79: =IF($M79=AJ$5,$O79*$P79*$Q79,"") -> 0.083333333 | AK79: =IF($M79=AK$5,$O79*$P79*$Q79,"") | AL79: =IF($M79=AL$5,$O79*$P79*$Q79,"") | AM79: =IF($S79=AM$5,$U79*$V79*$W79,"") | AN79: =IF($S79=AN$5,$U79*$V79*$W79,"") | AO79: =IF($S79=AO$5,$U79*$V79*$W79,"")
F80: TD SG R+1 | G80: N | H80: L7 | I80: 2 | J80: =IF($H80<>"",(VLOOKUP($H80,'Puissances et FS utilisés'!$B$7:$G$44,5,FALSE)),"") -> 0.010869565 | K80: =IF($H80<>"",(VLOOKUP($H80,'Puissances et FS utilisés'!$B$7:$G$44,6,FALSE)),"") -> 1 | P80: =IF($N80<>"",(VLOOKUP($N80,'Puissances et FS utilisés'!$B$7:$G$44,5,FALSE)),"") | Q80: =IF($N80<>"",(VLOOKUP($N80,'Puissances et FS utilisés'!$B$7:$G$44,6,FALSE)),"") | V80: =IF($T80<>"",(VLOOKUP($T80,'Puissances et FS utilisés'!$B$7:$G$900,5,FALSE)),"") | W80: =IF($T80<>"",(VLOOKUP($T80,'Puissances et FS utilisés'!$B$7:$G$44,6,FALSE)),"") | Y80: =IF($G80=Y$5,$I80*$J80,"") -> 0.02173913 | Z80: =IF($G80=Z$5,$I80*$J80,"") | AA80: =IF($M80=AA$5,$O80*$P80,"") | AB80: =IF($M80=AB$5,$O80*$P80,"") | AC80: =IF($M80=AC$5,$O80*$P80,"") | AD80: =IF($S80=AD$5,$U80*$V80,"") | AE80: =IF($S80=AE$5,$U80*$V80,"") | AF80: =IF($S80=AF$5,$U80*$V80,"") | AH80: =IF($G80=AH$5,$I80*$J80*$K80,"") -> 0.02173913 | AI80: =IF($G80=AI$5,$I80*$J80*$K80,"") | AJ80: =IF($M80=AJ$5,$O80*$P80*$Q80,"") | AK80: =IF($M80=AK$5,$O80*$P80*$Q80,"") | AL80: =IF($M80=AL$5,$O80*$P80*$Q80,"") | AM80: =IF($S80=AM$5,$U80*$V80*$W80,"") | AN80: =IF($S80=AN$5,$U80*$V80*$W80,"") | AO80: =IF($S80=AO$5,$U80*$V80*$W80,"")
C81: Chambre 01.HA 1.9 | D81: R+1 | E81: TB1.5 | F81: TD SG R+1 | G81: N | H81: L8 | I81: 1 | J81: =IF($H81<>"",(VLOOKUP($H81,'Puissances et FS utilisés'!$B$7:$G$44,5,FALSE)),"") -> 0.010869565 | K81: =IF($H81<>"",(VLOOKUP($H81,'Puissances et FS utilisés'!$B$7:$G$44,6,FALSE)),"") -> 1 | P81: =IF($N81<>"",(VLOOKUP($N81,'Puissances et FS utilisés'!$B$7:$G$44,5,FALSE)),"") | Q81: =IF($N81<>"",(VLOOKUP($N81,'Puissances et FS utilisés'!$B$7:$G$44,6,FALSE)),"") | V81: =IF($T81<>"",(VLOOKUP($T81,'Puissances et FS utilisés'!$B$7:$G$900,5,FALSE)),"") | W81: =IF($T81<>"",(VLOOKUP($T81,'Puissances et FS utilisés'!$B$7:$G$44,6,FALSE)),"") | Y81: =IF($G81=Y$5,$I81*$J81,"") -> 0.010869565 | Z81: =IF($G81=Z$5,$I81*$J81,"") | AA81: =IF($M81=AA$5,$O81*$P81,"") | AB81: =IF($M81=AB$5,$O81*$P81,"") | AC81: =IF($M81=AC$5,$O81*$P81,"") | AD81: =IF($S81=AD$5,$U81*$V81,"") | AE81: =IF($S81=AE$5,$U81*$V81,"") | AF81: =IF($S81=AF$5,$U81*$V81,"") | AH81: =IF($G81=AH$5,$I81*$J81*$K81,"") -> 0.010869565 | AI81: =IF($G81=AI$5,$I81*$J81*$K81,"") | AJ81: =IF($M81=AJ$5,$O81*$P81*$Q81,"") | AK81: =IF($M81=AK$5,$O81*$P81*$Q81,"") | AL81: =IF($M81=AL$5,$O81*$P81*$Q81,"") | AM81: =IF($S81=AM$5,$U81*$V81*$W81,"") | AN81: =IF($S81=AN$5,$U81*$V81*$W81,"") | AO81: =IF($S81=AO$5,$U81*$V81*$W81,"")
J82: =IF($H82<>"",(VLOOKUP($H82,'Puissances et FS utilisés'!$B$7:$G$44,5,FALSE)),"") | K82: =IF($H82<>"",(VLOOKUP($H82,'Puissances et FS utilisés'!$B$7:$G$44,6,FALSE)),"") | P82: =IF($N82<>"",(VLOOKUP($N82,'Puissances et FS utilisés'!$B$7:$G$44,5,FALSE)),"") | Q82: =IF($N82<>"",(VLOOKUP($N82,'Puissances et FS utilisés'!$B$7:$G$44,6,FALSE)),"") | V82: =IF($T82<>"",(VLOOKUP($T82,'Puissances et FS utilisés'!$B$7:$G$900,5,FALSE)),"") | Y82: =IF($G82=Y$5,$I82*$J82,"") | Z82: =IF($G82=Z$5,$I82*$J82,"") | AA82: =IF($M82=AA$5,$O82*$P82,"") | AB82: =IF($M82=AB$5,$O82*$P82,"") | AC82: =IF($M82=AC$5,$O82*$P82,"") | AD82: =IF($S82=AD$5,$U82*$V82,"") | AE82: =IF($S82=AE$5,$U82*$V82,"") | AF82: =IF($S82=AF$5,$U82*$V82,"") | AH82: =IF($G82=AH$5,$I82*$J82*$K82,"") | AI82: =IF($G82=AI$5,$I82*$J82*$K82,"") | AJ82: =IF($M82=AJ$5,$O82*$P82*$Q82,"") | AK82: =IF($M82=AK$5,$O82*$P82*$Q82,"") | AL82: =IF($M82=AL$5,$O82*$P82*$Q82,"") | AM82: =IF($S82=AM$5,$U82*$V82*$W82,"") | AN82: =IF($S82=AN$5,$U82*$V82*$W82,"") | AO82: =IF($S82=AO$5,$U82*$V82*$W82,"")
J83: =IF($H83<>"",(VLOOKUP($H83,'Puissances et FS utilisés'!$B$7:$G$44,5,FALSE)),"") | K83: =IF($H83<>"",(VLOOKUP($H83,'Puissances et FS utilisés'!$B$7:$G$44,6,FALSE)),"") | P83: =IF($N83<>"",(VLOOKUP($N83,'Puissances et FS utilisés'!$B$7:$G$44,5,FALSE)),"") | Q83: =IF($N83<>"",(VLOOKUP($N83,'Puissances et FS utilisés'!$B$7:$G$44,6,FALSE)),"") | V83: =IF($T83<>"",(VLOOKUP($T83,'Puissances et FS utilisés'!$B$7:$G$900,5,FALSE)),"") | W83: =IF($T83<>"",(VLOOKUP($T83,'Puissances et FS utilisés'!$B$7:$G$44,6,FALSE)),"") | Y83: =IF($G83=Y$5,$I83*$J83,"") | Z83: =IF($G83=Z$5,$I83*$J83,"") | AA83: =IF($M83=AA$5,$O83*$P83,"") | AB83: =IF($M83=AB$5,$O83*$P83,"") | AC83: =IF($M83=AC$5,$O83*$P83,"") | AD83: =IF($S83=AD$5,$U83*$V83,"") | AE83: =IF($S83=AE$5,$U83*$V83,"") | AF83: =IF($S83=AF$5,$U83*$V83,"") | AH83: =IF($G83=AH$5,$I83*$J83*$K83,"") | AI83: =IF($G83=AI$5,$I83*$J83*$K83,"") | AJ83: =IF($M83=AJ$5,$O83*$P83*$Q83,"") | AK83: =IF($M83=AK$5,$O83*$P83*$Q83,"") | AL83: =IF($M83=AL$5,$O83*$P83*$Q83,"") | AM83: =IF($S83=AM$5,$U83*$V83*$W83,"") | AN83: =IF($S83=AN$5,$U83*$V83*$W83,"") | AO83: =IF($S83=AO$5,$U83*$V83*$W83,"")
C84: SDB 01.HA 1.9 | D84: R+1 | E84: TB1.5 | F84: TD SG R+1 | G84: N | H84: L3 | I84: 2 | J84: =IF($H84<>"",(VLOOKUP($H84,'Puissances et FS utilisés'!$B$7:$G$44,5,FALSE)),"") -> 0.013043478 | K84: =IF($H84<>"",(VLOOKUP($H84,'Puissances et FS utilisés'!$B$7:$G$44,6,FALSE)),"") -> 1 | L84: TD SG R+1 | M84: N | N84: PCN-R | O84: 1 | P84: =IF($N84<>"",(VLOOKUP($N84,'Puissances et FS utilisés'!$B$7:$G$44,5,FALSE)),"") -> 0.44444444 | Q84: =IF($N84<>"",(VLOOKUP($N84,'Puissances et FS utilisés'!$B$7:$G$44,6,FALSE)),"") -> 0.3 | R84: TD SG R+1 | S84: N | T84: FA-B | U84: 1 | V84: =IF($T84<>"",(VLOOKUP($T84,'Puissances et FS utilisés'!$B$7:$G$900,5,FALSE)),"") -> 0.06 | W84: =IF($T84<>"",(VLOOKUP($T84,'Puissances et FS utilisés'!$B$7:$G$900,6,FALSE)),"") -> 0.5 | Y84: =IF($G84=Y$5,$I84*$J84,"") -> 0.026086957 | Z84: =IF($G84=Z$5,$I84*$J84,"") | AA84: =IF($M84=AA$5,$O84*$P84,"") -> 0.44444444 | AB84: =IF($M84=AB$5,$O84*$P84,"") | AC84: =IF($M84=AC$5,$O84*$P84,"") | AD84: =IF($S84=AD$5,$U84*$V84,"") -> 0.06 | AE84: =IF($S84=AE$5,$U84*$V84,"") | AF84: =IF($S84=AF$5,$U84*$V84,"") | AH84: =IF($G84=AH$5,$I84*$J84*$K84,"") -> 0.026086957 | AI84: =IF($G84=AI$5,$I84*$J84*$K84,"") | AJ84: =IF($M84=AJ$5,$O84*$P84*$Q84,"") -> 0.13333333 | AK84: =IF($M84=AK$5,$O84*$P84*$Q84,"") | AL84: =IF($M84=AL$5,$O84*$P84*$Q84,"") | AM84: =IF($S84=AM$5,$U84*$V84*$W84,"") -> 0.03 | AN84: =IF($S84=AN$5,$U84*$V84*$W84,"") | AO84: =IF($S84=AO$5,$U84*$V84*$W84,"")
J85: =IF($H85<>"",(VLOOKUP($H85,'Puissances et FS utilisés'!$B$7:$G$44,5,FALSE)),"") | K85: =IF($H85<>"",(VLOOKUP($H85,'Puissances et FS utilisés'!$B$7:$G$44,6,FALSE)),"") | P85: =IF($N85<>"",(VLOOKUP($N85,'Puissances et FS utilisés'!$B$7:$G$44,5,FALSE)),"") | Q85: =IF($N85<>"",(VLOOKUP($N85,'Puissances et FS utilisés'!$B$7:$G$44,6,FALSE)),"") | V85: =IF($T85<>"",(VLOOKUP($T85,'Puissances et FS utilisés'!$B$7:$G$900,5,FALSE)),"") | Y85: =IF($G85=Y$5,$I85*$J85,"") | Z85: =IF($G85=Z$5,$I85*$J85,"") | AA85: =IF($M85=AA$5,$O85*$P85,"") | AB85: =IF($M85=AB$5,$O85*$P85,"") | AC85: =IF($M85=AC$5,$O85*$P85,"") | AD85: =IF($S85=AD$5,$U85*$V85,"") | AE85: =IF($S85=AE$5,$U85*$V85,"") | AF85: =IF($S85=AF$5,$U85*$V85,"") | AH85: =IF($G85=AH$5,$I85*$J85*$K85,"") | AI85: =IF($G85=AI$5,$I85*$J85*$K85,"") | AJ85: =IF($M85=AJ$5,$O85*$P85*$Q85,"") | AK85: =IF($M85=AK$5,$O85*$P85*$Q85,"") | AL85: =IF($M85=AL$5,$O85*$P85*$Q85,"") | AM85: =IF($S85=AM$5,$U85*$V85*$W85,"") | AN85: =IF($S85=AN$5,$U85*$V85*$W85,"") | AO85: =IF($S85=AO$5,$U85*$V85*$W85,"")
J86: =IF($H86<>"",(VLOOKUP($H86,'Puissances et FS utilisés'!$B$7:$G$44,5,FALSE)),"") | K86: =IF($H86<>"",(VLOOKUP($H86,'Puissances et FS utilisés'!$B$7:$G$44,6,FALSE)),"") | P86: =IF($N86<>"",(VLOOKUP($N86,'Puissances et FS utilisés'!$B$7:$G$44,5,FALSE)),"") | Q86: =IF($N86<>"",(VLOOKUP($N86,'Puissances et FS utilisés'!$B$7:$G$44,6,FALSE)),"") | V86: =IF($T86<>"",(VLOOKUP($T86,'Puissances et FS utilisés'!$B$7:$G$900,5,FALSE)),"") | W86: =IF($T86<>"",(VLOOKUP($T86,'Puissances et FS utilisés'!$B$7:$G$44,6,FALSE)),"") | Y86: =IF($G86=Y$5,$I86*$J86,"") | Z86: =IF($G86=Z$5,$I86*$J86,"") | AA86: =IF($M86=AA$5,$O86*$P86,"") | AB86: =IF($M86=AB$5,$O86*$P86,"") | AC86: =IF($M86=AC$5,$O86*$P86,"") | AD86: =IF($S86=AD$5,$U86*$V86,"") | AE86: =IF($S86=AE$5,$U86*$V86,"") | AF86: =IF($S86=AF$5,$U86*$V86,"") | AH86: =IF($G86=AH$5,$I86*$J86*$K86,"") | AI86: =IF($G86=AI$5,$I86*$J86*$K86,"") | AJ86: =IF($M86=AJ$5,$O86*$P86*$Q86,"") | AK86: =IF($M86=AK$5,$O86*$P86*$Q86,"") | AL86: =IF($M86=AL$5,$O86*$P86*$Q86,"") | AM86: =IF($S86=AM$5,$U86*$V86*$W86,"") | AN86: =IF($S86=AN$5,$U86*$V86*$W86,"") | AO86: =IF($S86=AO$5,$U86*$V86*$W86,"")
C87: Chambre 01.HA 1.10 | D87: R+1 | E87: TB1.5 | F87: TD SG R+1 | G87: N | H87: L1 | I87: 2 | J87: =IF($H87<>"",(VLOOKUP($H87,'Puissances et FS utilisés'!$B$7:$G$44,5,FALSE)),"") -> 0.014130435 | K87: =IF($H87<>"",(VLOOKUP($H87,'Puissances et FS utilisés'!$B$7:$G$44,6,FALSE)),"") -> 1 | L87: TD SG R+1 | M87: N | N87: PCN | O87: 7 | P87: =IF($N87<>"",(VLOOKUP($N87,'Puissances et FS utilisés'!$B$7:$G$44,5,FALSE)),"") -> 0.44444444 | Q87: =IF($N87<>"",(VLOOKUP($N87,'Puissances et FS utilisés'!$B$7:$G$44,6,FALSE)),"") -> 0.3 | Y87: =IF($G87=Y$5,$I87*$J87,"") -> 0.02826087 | Z87: =IF($G87=Z$5,$I87*$J87,"") | AA87: =IF($M87=AA$5,$O87*$P87,"") -> 3.1111111 | AB87: =IF($M87=AB$5,$O87*$P87,"") | AC87: =IF($M87=AC$5,$O87*$P87,"") | AD87: =IF($S87=AD$5,$U87*$V87,"") | AE87: =IF($S87=AE$5,$U87*$V87,"") | AF87: =IF($S87=AF$5,$U87*$V87,"") | AH87: =IF($G87=AH$5,$I87*$J87*$K87,"") -> 0.02826087 | AI87: =IF($G87=AI$5,$I87*$J87*$K87,"") | AJ87: =IF($M87=AJ$5,$O87*$P87*$Q87,"") -> 0.93333333 | AK87: =IF($M87=AK$5,$O87*$P87*$Q87,"") | AL87: =IF($M87=AL$5,$O87*$P87*$Q87,"") | AM87: =IF($S87=AM$5,$U87*$V87*$W87,"") | AN87: =IF($S87=AN$5,$U87*$V87*$W87,"") | AO87: =IF($S87=AO$5,$U87*$V87*$W87,"")
F88: TD SG R+1 | G88: N | H88: L2 | I88: 2 | J88: =IF($H88<>"",(VLOOKUP($H88,'Puissances et FS utilisés'!$B$7:$G$44,5,FALSE)),"") -> 0.0054347826 | K88: =IF($H88<>"",(VLOOKUP($H88,'Puissances et FS utilisés'!$B$7:$G$44,6,FALSE)),"") -> 1 | L88: TD SG R+1 | M88: N | N88: PT6 | O88: 1 | P88: =IF($N88<>"",(VLOOKUP($N88,'Puissances et FS utilisés'!$B$7:$G$44,5,FALSE)),"") -> 0.27777778 | Q88: =IF($N88<>"",(VLOOKUP($N88,'Puissances et FS utilisés'!$B$7:$G$44,6,FALSE)),"") -> 0.3 | V88: =IF($T88<>"",(VLOOKUP($T88,'Puissances et FS utilisés'!$B$7:$G$900,5,FALSE)),"") | W88: =IF($T88<>"",(VLOOKUP($T88,'Puissances et FS utilisés'!$B$7:$G$44,6,FALSE)),"") | Y88: =IF($G88=Y$5,$I88*$J88,"") -> 0.010869565 | Z88: =IF($G88=Z$5,$I88*$J88,"") | AA88: =IF($M88=AA$5,$O88*$P88,"") -> 0.27777778 | AB88: =IF($M88=AB$5,$O88*$P88,"") | AC88: =IF($M88=AC$5,$O88*$P88,"") | AD88: =IF($S88=AD$5,$U88*$V88,"") | AE88: =IF($S88=AE$5,$U88*$V88,"") | AF88: =IF($S88=AF$5,$U88*$V88,"") | AH88: =IF($G88=AH$5,$I88*$J88*$K88,"") -> 0.010869565 | AI88: =IF($G88=AI$5,$I88*$J88*$K88,"") | AJ88: =IF($M88=AJ$5,$O88*$P88*$Q88,"") -> 0.083333333 | AK88: =IF($M88=AK$5,$O88*$P88*$Q88,"") | AL88: =IF($M88=AL$5,$O88*$P88*$Q88,"") | AM88: =IF($S88=AM$5,$U88*$V88*$W88,"") | AN88: =IF($S88=AN$5,$U88*$V88*$W88,"") | AO88: =IF($S88=AO$5,$U88*$V88*$W88,"")
F89: TD SG R+1 | G89: N | H89: L7 | I89: 2 | J89: =IF($H89<>"",(VLOOKUP($H89,'Puissances et FS utilisés'!$B$7:$G$44,5,FALSE)),"") -> 0.010869565 | K89: =IF($H89<>"",(VLOOKUP($H89,'Puissances et FS utilisés'!$B$7:$G$44,6,FALSE)),"") -> 1 | P89: =IF($N89<>"",(VLOOKUP($N89,'Puissances et FS utilisés'!$B$7:$G$44,5,FALSE)),"") | Q89: =IF($N89<>"",(VLOOKUP($N89,'Puissances et FS utilisés'!$B$7:$G$44,6,FALSE)),"") | V89: =IF($T89<>"",(VLOOKUP($T89,'Puissances et FS utilisés'!$B$7:$G$900,5,FALSE)),"") | W89: =IF($T89<>"",(VLOOKUP($T89,'Puissances et FS utilisés'!$B$7:$G$44,6,FALSE)),"") | Y89: =IF($G89=Y$5,$I89*$J89,"") -> 0.02173913 | Z89: =IF($G89=Z$5,$I89*$J89,"") | AA89: =IF($M89=AA$5,$O89*$P89,"") | AB89: =IF($M89=AB$5,$O89*$P89,"") | AC89: =IF($M89=AC$5,$O89*$P89,"") | AD89: =IF($S89=AD$5,$U89*$V89,"") | AE89: =IF($S89=AE$5,$U89*$V89,"") | AF89: =IF($S89=AF$5,$U89*$V89,"") | AH89: =IF($G89=AH$5,$I89*$J89*$K89,"") -> 0.02173913 | AI89: =IF($G89=AI$5,$I89*$J89*$K89,"") | AJ89: =IF($M89=AJ$5,$O89*$P89*$Q89,"") | AK89: =IF($M89=AK$5,$O89*$P89*$Q89,"") | AL89: =IF($M89=AL$5,$O89*$P89*$Q89,"") | AM89: =IF($S89=AM$5,$U89*$V89*$W89,"") | AN89: =IF($S89=AN$5,$U89*$V89*$W89,"") | AO89: =IF($S89=AO$5,$U89*$V89*$W89,"")
C90: Chambre 01.HA 1.10 | D90: R+1 | E90: TB1.5 | F90: TD SG R+1 | G90: N | H90: L8 | I90: 1 | J90: =IF($H90<>"",(VLOOKUP($H90,'Puissances et FS utilisés'!$B$7:$G$44,5,FALSE)),"") -> 0.010869565 | K90: =IF($H90<>"",(VLOOKUP($H90,'Puissances et FS utilisés'!$B$7:$G$44,6,FALSE)),"") -> 1 | P90: =IF($N90<>"",(VLOOKUP($N90,'Puissances et FS utilisés'!$B$7:$G$44,5,FALSE)),"") | Q90: =IF($N90<>"",(VLOOKUP($N90,'Puissances et FS utilisés'!$B$7:$G$44,6,FALSE)),"") | V90: =IF($T90<>"",(VLOOKUP($T90,'Puissances et FS utilisés'!$B$7:$G$900,5,FALSE)),"") | W90: =IF($T90<>"",(VLOOKUP($T90,'Puissances et FS utilisés'!$B$7:$G$44,6,FALSE)),"") | Y90: =IF($G90=Y$5,$I90*$J90,"") -> 0.010869565 | Z90: =IF($G90=Z$5,$I90*$J90,"") | AA90: =IF($M90=AA$5,$O90*$P90,"") | AB90: =IF($M90=AB$5,$O90*$P90,"") | AC90: =IF($M90=AC$5,$O90*$P90,"") | AD90: =IF($S90=AD$5,$U90*$V90,"") | AE90: =IF($S90=AE$5,$U90*$V90,"") | AF90: =IF($S90=AF$5,$U90*$V90,"") | AH90: =IF($G90=AH$5,$I90*$J90*$K90,"") -> 0.010869565 | AI90: =IF($G90=AI$5,$I90*$J90*$K90,"") | AJ90: =IF($M90=AJ$5,$O90*$P90*$Q90,"") | AK90: =IF($M90=AK$5,$O90*$P90*$Q90,"") | AL90: =IF($M90=AL$5,$O90*$P90*$Q90,"") | AM90: =IF($S90=AM$5,$U90*$V90*$W90,"") | AN90: =IF($S90=AN$5,$U90*$V90*$W90,"") | AO90: =IF($S90=AO$5,$U90*$V90*$W90,"")
J91: =IF($H91<>"",(VLOOKUP($H91,'Puissances et FS utilisés'!$B$7:$G$44,5,FALSE)),"") | K91: =IF($H91<>"",(VLOOKUP($H91,'Puissances et FS utilisés'!$B$7:$G$44,6,FALSE)),"") | P91: =IF($N91<>"",(VLOOKUP($N91,'Puissances et FS utilisés'!$B$7:$G$44,5,FALSE)),"") | Q91: =IF($N91<>"",(VLOOKUP($N91,'Puissances et FS utilisés'!$B$7:$G$44,6,FALSE)),"") | V91: =IF($T91<>"",(VLOOKUP($T91,'Puissances et FS utilisés'!$B$7:$G$900,5,FALSE)),"") | Y91: =IF($G91=Y$5,$I91*$J91,"") | Z91: =IF($G91=Z$5,$I91*$J91,"") | AA91: =IF($M91=AA$5,$O91*$P91,"") | AB91: =IF($M91=AB$5,$O91*$P91,"") | AC91: =IF($M91=AC$5,$O91*$P91,"") | AD91: =IF($S91=AD$5,$U91*$V91,"") | AE91: =IF($S91=AE$5,$U91*$V91,"") | AF91: =IF($S91=AF$5,$U91*$V91,"") | AH91: =IF($G91=AH$5,$I91*$J91*$K91,"") | AI91: =IF($G91=AI$5,$I91*$J91*$K91,"") | AJ91: =IF($M91=AJ$5,$O91*$P91*$Q91,"") | AK91: =IF($M91=AK$5,$O91*$P91*$Q91,"") | AL91: =IF($M91=AL$5,$O91*$P91*$Q91,"") | AM91: =IF($S91=AM$5,$U91*$V91*$W91,"") | AN91: =IF($S91=AN$5,$U91*$V91*$W91,"") | AO91: =IF($S91=AO$5,$U91*$V91*$W91,"")
J92: =IF($H92<>"",(VLOOKUP($H92,'Puissances et FS utilisés'!$B$7:$G$44,5,FALSE)),"") | K92: =IF($H92<>"",(VLOOKUP($H92,'Puissances et FS utilisés'!$B$7:$G$44,6,FALSE)),"") | P92: =IF($N92<>"",(VLOOKUP($N92,'Puissances et FS utilisés'!$B$7:$G$44,5,FALSE)),"") | Q92: =IF($N92<>"",(VLOOKUP($N92,'Puissances et FS utilisés'!$B$7:$G$44,6,FALSE)),"") | V92: =IF($T92<>"",(VLOOKUP($T92,'Puissances et FS utilisés'!$B$7:$G$900,5,FALSE)),"") | W92: =IF($T92<>"",(VLOOKUP($T92,'Puissances et FS utilisés'!$B$7:$G$44,6,FALSE)),"") | Y92: =IF($G92=Y$5,$I92*$J92,"") | Z92: =IF($G92=Z$5,$I92*$J92,"") | AA92: =IF($M92=AA$5,$O92*$P92,"") | AB92: =IF($M92=AB$5,$O92*$P92,"") | AC92: =IF($M92=AC$5,$O92*$P92,"") | AD92: =IF($S92=AD$5,$U92*$V92,"") | AE92: =IF($S92=AE$5,$U92*$V92,"") | AF92: =IF($S92=AF$5,$U92*$V92,"") | AH92: =IF($G92=AH$5,$I92*$J92*$K92,"") | AI92: =IF($G92=AI$5,$I92*$J92*$K92,"") | AJ92: =IF($M92=AJ$5,$O92*$P92*$Q92,"") | AK92: =IF($M92=AK$5,$O92*$P92*$Q92,"") | AL92: =IF($M92=AL$5,$O92*$P92*$Q92,"") | AM92: =IF($S92=AM$5,$U92*$V92*$W92,"") | AN92: =IF($S92=AN$5,$U92*$V92*$W92,"") | AO92: =IF($S92=AO$5,$U92*$V92*$W92,"")
C93: SDB 01.HA 1.10 | D93: R+1 | E93: TB1.5 | F93: TD SG R+1 | G93: N | H93: L3 | I93: 2 | J93: =IF($H93<>"",(VLOOKUP($H93,'Puissances et FS utilisés'!$B$7:$G$44,5,FALSE)),"") -> 0.013043478 | K93: =IF($H93<>"",(VLOOKUP($H93,'Puissances et FS utilisés'!$B$7:$G$44,6,FALSE)),"") -> 1 | L93: TD SG R+1 | M93: N | N93: PCN-R | O93: 1 | P93: =IF($N93<>"",(VLOOKUP($N93,'Puissances et FS utilisés'!$B$7:$G$44,5,FALSE)),"") -> 0.44444444 | Q93: =IF($N93<>"",(VLOOKUP($N93,'Puissances et FS utilisés'!$B$7:$G$44,6,FALSE)),"") -> 0.3 | R93: TD SG R+1 | S93: N | T93: FA-B | U93: 1 | V93: =IF($T93<>"",(VLOOKUP($T93,'Puissances et FS utilisés'!$B$7:$G$900,5,FALSE)),"") -> 0.06 | W93: =IF($T93<>"",(VLOOKUP($T93,'Puissances et FS utilisés'!$B$7:$G$900,6,FALSE)),"") -> 0.5 | Y93: =IF($G93=Y$5,$I93*$J93,"") -> 0.026086957 | Z93: =IF($G93=Z$5,$I93*$J93,"") | AA93: =IF($M93=AA$5,$O93*$P93,"") -> 0.44444444 | AB93: =IF($M93=AB$5,$O93*$P93,"") | AC93: =IF($M93=AC$5,$O93*$P93,"") | AD93: =IF($S93=AD$5,$U93*$V93,"") -> 0.06 | AE93: =IF($S93=AE$5,$U93*$V93,"") | AF93: =IF($S93=AF$5,$U93*$V93,"") | AH93: =IF($G93=AH$5,$I93*$J93*$K93,"") -> 0.026086957 | AI93: =IF($G93=AI$5,$I93*$J93*$K93,"") | AJ93: =IF($M93=AJ$5,$O93*$P93*$Q93,"") -> 0.13333333 | AK93: =IF($M93=AK$5,$O93*$P93*$Q93,"") | AL93: =IF($M93=AL$5,$O93*$P93*$Q93,"") | AM93: =IF($S93=AM$5,$U93*$V93*$W93,"") -> 0.03 | AN93: =IF($S93=AN$5,$U93*$V93*$W93,"") | AO93: =IF($S93=AO$5,$U93*$V93*$W93,"")
J94: =IF($H94<>"",(VLOOKUP($H94,'Puissances et FS utilisés'!$B$7:$G$44,5,FALSE)),"") | K94: =IF($H94<>"",(VLOOKUP($H94,'Puissances et FS utilisés'!$B$7:$G$44,6,FALSE)),"") | P94: =IF($N94<>"",(VLOOKUP($N94,'Puissances et FS utilisés'!$B$7:$G$44,5,FALSE)),"") | Q94: =IF($N94<>"",(VLOOKUP($N94,'Puissances et FS utilisés'!$B$7:$G$44,6,FALSE)),"") | V94: =IF($T94<>"",(VLOOKUP($T94,'Puissances et FS utilisés'!$B$7:$G$900,5,FALSE)),"") | Y94: =IF($G94=Y$5,$I94*$J94,"") | Z94: =IF($G94=Z$5,$I94*$J94,"") | AA94: =IF($M94=AA$5,$O94*$P94,"") | AB94: =IF($M94=AB$5,$O94*$P94,"") | AC94: =IF($M94=AC$5,$O94*$P94,"") | AD94: =IF($S94=AD$5,$U94*$V94,"") | AE94: =IF($S94=AE$5,$U94*$V94,"") | AF94: =IF($S94=AF$5,$U94*$V94,"") | AH94: =IF($G94=AH$5,$I94*$J94*$K94,"") | AI94: =IF($G94=AI$5,$I94*$J94*$K94,"") | AJ94: =IF($M94=AJ$5,$O94*$P94*$Q94,"") | AK94: =IF($M94=AK$5,$O94*$P94*$Q94,"") | AL94: =IF($M94=AL$5,$O94*$P94*$Q94,"") | AM94: =IF($S94=AM$5,$U94*$V94*$W94,"") | AN94: =IF($S94=AN$5,$U94*$V94*$W94,"") | AO94: =IF($S94=AO$5,$U94*$V94*$W94,"")
J95: =IF($H95<>"",(VLOOKUP($H95,'Puissances et FS utilisés'!$B$7:$G$44,5,FALSE)),"") | K95: =IF($H95<>"",(VLOOKUP($H95,'Puissances et FS utilisés'!$B$7:$G$44,6,FALSE)),"") | P95: =IF($N95<>"",(VLOOKUP($N95,'Puissances et FS utilisés'!$B$7:$G$44,5,FALSE)),"") | Q95: =IF($N95<>"",(VLOOKUP($N95,'Puissances et FS utilisés'!$B$7:$G$44,6,FALSE)),"") | V95: =IF($T95<>"",(VLOOKUP($T95,'Puissances et FS utilisés'!$B$7:$G$900,5,FALSE)),"") | W95: =IF($T95<>"",(VLOOKUP($T95,'Puissances et FS utilisés'!$B$7:$G$44,6,FALSE)),"") | Y95: =IF($G95=Y$5,$I95*$J95,"") | Z95: =IF($G95=Z$5,$I95*$J95,"") | AA95: =IF($M95=AA$5,$O95*$P95,"") | AB95: =IF($M95=AB$5,$O95*$P95,"") | AC95: =IF($M95=AC$5,$O95*$P95,"") | AD95: =IF($S95=AD$5,$U95*$V95,"") | AE95: =IF($S95=AE$5,$U95*$V95,"") | AF95: =IF($S95=AF$5,$U95*$V95,"") | AH95: =IF($G95=AH$5,$I95*$J95*$K95,"") | AI95: =IF($G95=AI$5,$I95*$J95*$K95,"") | AJ95: =IF($M95=AJ$5,$O95*$P95*$Q95,"") | AK95: =IF($M95=AK$5,$O95*$P95*$Q95,"") | AL95: =IF($M95=AL$5,$O95*$P95*$Q95,"") | AM95: =IF($S95=AM$5,$U95*$V95*$W95,"") | AN95: =IF($S95=AN$5,$U95*$V95*$W95,"") | AO95: =IF($S95=AO$5,$U95*$V95*$W95,"")
C96: Chambre 01.HD 1.11 | D96: R+1 | E96: TB1.6 | F96: TD SG R+1 | G96: N | H96: L1 | I96: 1 | J96: =IF($H96<>"",(VLOOKUP($H96,'Puissances et FS utilisés'!$B$7:$G$44,5,FALSE)),"") -> 0.014130435 | K96: =IF($H96<>"",(VLOOKUP($H96,'Puissances et FS utilisés'!$B$7:$G$44,6,FALSE)),"") -> 1 | L96: TD SG R+1 | M96: N | N96: PCN | O96: 8 | P96: =IF($N96<>"",(VLOOKUP($N96,'Puissances et FS utilisés'!$B$7:$G$44,5,FALSE)),"") -> 0.44444444 | Q96: =IF($N96<>"",(VLOOKUP($N96,'Puissances et FS utilisés'!$B$7:$G$44,6,FALSE)),"") -> 0.3 | Y96: =IF($G96=Y$5,$I96*$J96,"") -> 0.014130435 | Z96: =IF($G96=Z$5,$I96*$J96,"") | AA96: =IF($M96=AA$5,$O96*$P96,"") -> 3.5555556 | AB96: =IF($M96=AB$5,$O96*$P96,"") | AC96: =IF($M96=AC$5,$O96*$P96,"") | AD96: =IF($S96=AD$5,$U96*$V96,"") | AE96: =IF($S96=AE$5,$U96*$V96,"") | AF96: =IF($S96=AF$5,$U96*$V96,"") | AH96: =IF($G96=AH$5,$I96*$J96*$K96,"") -> 0.014130435 | AI96: =IF($G96=AI$5,$I96*$J96*$K96,"") | AJ96: =IF($M96=AJ$5,$O96*$P96*$Q96,"") -> 1.0666667 | AK96: =IF($M96=AK$5,$O96*$P96*$Q96,"") | AL96: =IF($M96=AL$5,$O96*$P96*$Q96,"") | AM96: =IF($S96=AM$5,$U96*$V96*$W96,"") | AN96: =IF($S96=AN$5,$U96*$V96*$W96,"") | AO96: =IF($S96=AO$5,$U96*$V96*$W96,"")
F97: TD SG R+1 | G97: N | H97: L2 | I97: 2 | J97: =IF($H97<>"",(VLOOKUP($H97,'Puissances et FS utilisés'!$B$7:$G$44,5,FALSE)),"") -> 0.0054347826 | K97: =IF($H97<>"",(VLOOKUP($H97,'Puissances et FS utilisés'!$B$7:$G$44,6,FALSE)),"") -> 1 | L97: TD SG R+1 | M97: N | N97: PT6 | O97: 1 | P97: =IF($N97<>"",(VLOOKUP($N97,'Puissances et FS utilisés'!$B$7:$G$44,5,FALSE)),"") -> 0.27777778 | Q97: =IF($N97<>"",(VLOOKUP($N97,'Puissances et FS utilisés'!$B$7:$G$44,6,FALSE)),"") -> 0.3 | V97: =IF($T97<>"",(VLOOKUP($T97,'Puissances et FS utilisés'!$B$7:$G$900,5,FALSE)),"") | W97: =IF($T97<>"",(VLOOKUP($T97,'Puissances et FS utilisés'!$B$7:$G$44,6,FALSE)),"") | Y97: =IF($G97=Y$5,$I97*$J97,"") -> 0.010869565 | Z97: =IF($G97=Z$5,$I97*$J97,"") | AA97: =IF($M97=AA$5,$O97*$P97,"") -> 0.27777778 | AB97: =IF($M97=AB$5,$O97*$P97,"") | AC97: =IF($M97=AC$5,$O97*$P97,"") | AD97: =IF($S97=AD$5,$U97*$V97,"") | AE97: =IF($S97=AE$5,$U97*$V97,"") | AF97: =IF($S97=AF$5,$U97*$V97,"") | AH97: =IF($G97=AH$5,$I97*$J97*$K97,"") -> 0.010869565 | AI97: =IF($G97=AI$5,$I97*$J97*$K97,"") | AJ97: =IF($M97=AJ$5,$O97*$P97*$Q97,"") -> 0.083333333 | AK97: =IF($M97=AK$5,$O97*$P97*$Q97,"") | AL97: =IF($M97=AL$5,$O97*$P97*$Q97,"") | AM97: =IF($S97=AM$5,$U97*$V97*$W97,"") | AN97: =IF($S97=AN$5,$U97*$V97*$W97,"") | AO97: =IF($S97=AO$5,$U97*$V97*$W97,"")
F98: TD SG R+1 | G98: N | H98: L7 | I98: 2 | J98: =IF($H98<>"",(VLOOKUP($H98,'Puissances et FS utilisés'!$B$7:$G$44,5,FALSE)),"") -> 0.010869565 | K98: =IF($H98<>"",(VLOOKUP($H98,'Puissances et FS utilisés'!$B$7:$G$44,6,FALSE)),"") -> 1 | P98: =IF($N98<>"",(VLOOKUP($N98,'Puissances et FS utilisés'!$B$7:$G$44,5,FALSE)),"") | Q98: =IF($N98<>"",(VLOOKUP($N98,'Puissances et FS utilisés'!$B$7:$G$44,6,FALSE)),"") | V98: =IF($T98<>"",(VLOOKUP($T98,'Puissances et FS utilisés'!$B$7:$G$900,5,FALSE)),"") | W98: =IF($T98<>"",(VLOOKUP($T98,'Puissances et FS utilisés'!$B$7:$G$44,6,FALSE)),"") | Y98: =IF($G98=Y$5,$I98*$J98,"") -> 0.02173913 | Z98: =IF($G98=Z$5,$I98*$J98,"") | AA98: =IF($M98=AA$5,$O98*$P98,"") | AB98: =IF($M98=AB$5,$O98*$P98,"") | AC98: =IF($M98=AC$5,$O98*$P98,"") | AD98: =IF($S98=AD$5,$U98*$V98,"") | AE98: =IF($S98=AE$5,$U98*$V98,"") | AF98: =IF($S98=AF$5,$U98*$V98,"") | AH98: =IF($G98=AH$5,$I98*$J98*$K98,"") -> 0.02173913 | AI98: =IF($G98=AI$5,$I98*$J98*$K98,"") | AJ98: =IF($M98=AJ$5,$O98*$P98*$Q98,"") | AK98: =IF($M98=AK$5,$O98*$P98*$Q98,"") | AL98: =IF($M98=AL$5,$O98*$P98*$Q98,"") | AM98: =IF($S98=AM$5,$U98*$V98*$W98,"") | AN98: =IF($S98=AN$5,$U98*$V98*$W98,"") | AO98: =IF($S98=AO$5,$U98*$V98*$W98,"")
C99: Chambre 01.HD 1.11 | D99: R+1 | E99: TB1.6 | F99: TD SG R+1 | G99: N | H99: L8 | I99: 1 | J99: =IF($H99<>"",(VLOOKUP($H99,'Puissances et FS utilisés'!$B$7:$G$44,5,FALSE)),"") -> 0.010869565 | K99: =IF($H99<>"",(VLOOKUP($H99,'Puissances et FS utilisés'!$B$7:$G$44,6,FALSE)),"") -> 1 | P99: =IF($N99<>"",(VLOOKUP($N99,'Puissances et FS utilisés'!$B$7:$G$44,5,FALSE)),"") | Q99: =IF($N99<>"",(VLOOKUP($N99,'Puissances et FS utilisés'!$B$7:$G$44,6,FALSE)),"") | V99: =IF($T99<>"",(VLOOKUP($T99,'Puissances et FS utilisés'!$B$7:$G$900,5,FALSE)),"") | W99: =IF($T99<>"",(VLOOKUP($T99,'Puissances et FS utilisés'!$B$7:$G$44,6,FALSE)),"") | Y99: =IF($G99=Y$5,$I99*$J99,"") -> 0.010869565 | Z99: =IF($G99=Z$5,$I99*$J99,"") | AA99: =IF($M99=AA$5,$O99*$P99,"") | AB99: =IF($M99=AB$5,$O99*$P99,"") | AC99: =IF($M99=AC$5,$O99*$P99,"") | AD99: =IF($S99=AD$5,$U99*$V99,"") | AE99: =IF($S99=AE$5,$U99*$V99,"") | AF99: =IF($S99=AF$5,$U99*$V99,"") | AH99: =IF($G99=AH$5,$I99*$J99*$K99,"") -> 0.010869565 | AI99: =IF($G99=AI$5,$I99*$J99*$K99,"") | AJ99: =IF($M99=AJ$5,$O99*$P99*$Q99,"") | AK99: =IF($M99=AK$5,$O99*$P99*$Q99,"") | AL99: =IF($M99=AL$5,$O99*$P99*$Q99,"") | AM99: =IF($S99=AM$5,$U99*$V99*$W99,"") | AN99: =IF($S99=AN$5,$U99*$V99*$W99,"") | AO99: =IF($S99=AO$5,$U99*$V99*$W99,"")
J100: =IF($H100<>"",(VLOOKUP($H100,'Puissances et FS utilisés'!$B$7:$G$44,5,FALSE)),"") | K100: =IF($H100<>"",(VLOOKUP($H100,'Puissances et FS utilisés'!$B$7:$G$44,6,FALSE)),"") | P100: =IF($N100<>"",(VLOOKUP($N100,'Puissances et FS utilisés'!$B$7:$G$44,5,FALSE)),"") | Q100: =IF($N100<>"",(VLOOKUP($N100,'Puissances et FS utilisés'!$B$7:$G$44,6,FALSE)),"") | V100: =IF($T100<>"",(VLOOKUP($T100,'Puissances et FS utilisés'!$B$7:$G$900,5,FALSE)),"") | Y100: =IF($G100=Y$5,$I100*$J100,"") | Z100: =IF($G100=Z$5,$I100*$J100,"") | AA100: =IF($M100=AA$5,$O100*$P100,"") | AB100: =IF($M100=AB$5,$O100*$P100,"") | AC100: =IF($M100=AC$5,$O100*$P100,"") | AD100: =IF($S100=AD$5,$U100*$V100,"") | AE100: =IF($S100=AE$5,$U100*$V100,"") | AF100: =IF($S100=AF$5,$U100*$V100,"") | AH100: =IF($G100=AH$5,$I100*$J100*$K100,"") | AI100: =IF($G100=AI$5,$I100*$J100*$K100,"") | AJ100: =IF($M100=AJ$5,$O100*$P100*$Q100,"") | AK100: =IF($M100=AK$5,$O100*$P100*$Q100,"") | AL100: =IF($M100=AL$5,$O100*$P100*$Q100,"") | AM100: =IF($S100=AM$5,$U100*$V100*$W100,"") | AN100: =IF($S100=AN$5,$U100*$V100*$W100,"") | AO100: =IF($S100=AO$5,$U100*$V100*$W100,"")
J101: =IF($H101<>"",(VLOOKUP($H101,'Puissances et FS utilisés'!$B$7:$G$44,5,FALSE)),"") | K101: =IF($H101<>"",(VLOOKUP($H101,'Puissances et FS utilisés'!$B$7:$G$44,6,FALSE)),"") | P101: =IF($N101<>"",(VLOOKUP($N101,'Puissances et FS utilisés'!$B$7:$G$44,5,FALSE)),"") | Q101: =IF($N101<>"",(VLOOKUP($N101,'Puissances et FS utilisés'!$B$7:$G$44,6,FALSE)),"") | V101: =IF($T101<>"",(VLOOKUP($T101,'Puissances et FS utilisés'!$B$7:$G$900,5,FALSE)),"") | W101: =IF($T101<>"",(VLOOKUP($T101,'Puissances et FS utilisés'!$B$7:$G$44,6,FALSE)),"") | Y101: =IF($G101=Y$5,$I101*$J101,"") | Z101: =IF($G101=Z$5,$I101*$J101,"") | AA101: =IF($M101=AA$5,$O101*$P101,"") | AB101: =IF($M101=AB$5,$O101*$P101,"") | AC101: =IF($M101=AC$5,$O101*$P101,"") | AD101: =IF($S101=AD$5,$U101*$V101,"") | AE101: =IF($S101=AE$5,$U101*$V101,"") | AF101: =IF($S101=AF$5,$U101*$V101,"") | AH101: =IF($G101=AH$5,$I101*$J101*$K101,"") | AI101: =IF($G101=AI$5,$I101*$J101*$K101,"") | AJ101: =IF($M101=AJ$5,$O101*$P101*$Q101,"") | AK101: =IF($M101=AK$5,$O101*$P101*$Q101,"") | AL101: =IF($M101=AL$5,$O101*$P101*$Q101,"") | AM101: =IF($S101=AM$5,$U101*$V101*$W101,"") | AN101: =IF($S101=AN$5,$U101*$V101*$W101,"") | AO101: =IF($S101=AO$5,$U101*$V101*$W101,"")
...

Sheet Puissances et FS utilisés
B3: Puissances et foisonnements utilisés
B6: Equipements d'éclairage
B8: Type | C8: Description | D8: P (kW) | E8: Cos Φ | F8: S (kVA) | G8: Fs
B9: L1 | C9: Downlight encastré rond LED TYPE A | D9: 0.013 | E9: 0.92 | F9: =D9/E9 -> 0.014130435 | G9: 1
B10: L2 | C10: Applique murale décorative LED TYPE B | D10: =5*10^-3 -> 0.005 | E10: 0.92 | F10: =D10/E10 -> 0.0054347826 | G10: 1
B11: L3 | C11: Downlight encastré rond LED TYPE C | D11: =12*10^-3 -> 0.012 | E11: 0.92 | F11: =D11/E11 -> 0.013043478 | G11: 1
B12: L4 | C12: Downlight encastré rond LED TYPE D | D12: =19*10^-3 -> 0.019 | E12: 0.92 | F12: =D12/E12 -> 0.020652174 | G12: 1
B13: L5 | C13: Luminaire à encastrer ou suspendre LED TYPE E | D13: =31*10^-3 -> 0.031 | E13: 0.92 | F13: =D13/E13 -> 0.033695652 | G13: 1
B14: L6 | C14: Luminaire applique murale LED TYPE F | D14: =15*10^-3 -> 0.015 | E14: 0.92 | F14: =D14/E14 -> 0.016304348 | G14: 1
B15: L7 | C15: Lampe de chevet tête de lit | D15: =10*10^-3 -> 0.01 | E15: 0.92 | F15: =D15/E15 -> 0.010869565 | G15: 1
B16: L8 | C16: Ligne LED lit | D16: =10*10^-3 -> 0.01 | E16: 0.92 | F16: =D16/E16 -> 0.010869565 | G16: 1
B21: Prise de courant/Poste de travail
B23: Type | C23: Description | D23: P (kW) | E23: Cos Φ | F23: S (kVA) | G23: Fs
B24: PCN | C24: Prise 2 x 16A + T Normal | D24: 0.4 | E24: 0.9 | F24: =D24/E24 -> 0.44444444 | G24: 0.3
B25: PCN-R | C25: Prise 2 x 16A + T Normal | D25: 0.4 | E25: 0.9 | F25: =D25/E25 -> 0.44444444 | G25: 0.3
B26: PT1 | C26: Poste de travail Bureau "Normal" (5xPrise 2x16A+T) | D26: =5*0.25 -> 1.25 | E26: =E$24 -> 0.9 | F26: =D26/E26 -> 1.3888889 | G26: 0.5
B27: PTA-O | C27: Poste de travail "Ondulé" Type A (4xPrise 2x16A+T) | D27: =4*0.25 -> 1 | E27: =E$24 -> 0.9 | F27: =D27/E27 -> 1.1111111 | G27: 0.8
B28: PT2 | C28: Poste de travail Reception "Normal" (6xPrise 2x16A+T) | D28: =6*0.25 -> 1.5 | E28: =E$24 -> 0.9 | F28: =D28/E28 -> 1.6666667 | G28: 0.5
B29: PTB-O | C29: Poste de travail "Ondulé" Type B (4xPrise 2x16A+T) | D29: =4*0.25 -> 1 | E29: =E$24 -> 0.9 | F29: =D29/E29 -> 1.1111111 | G29: =G27 -> 0.8
B30: PT3 | C30: Salle repos personnel "Normal" (2xPrise 2x16A+T) | D30: =2*0.25 -> 0.5 | E30: =E$24 -> 0.9 | F30: =D30/E30 -> 0.55555556 | G30: 0.5
B31: PTA-O | C31: Poste de travail "Ondulé" Type A (4xPrise 2x16A+T) | D31: =4*0.25 -> 1 | E31: =E$24 -> 0.9 | F31: =D31/E31 -> 1.1111111 | G31: 0.8
B32: PT4 | C32: Office prises individuelles "Normal" (10xPrise 2x16A+T) | D32: =10*0.25 -> 2.5 | E32: =E$24 -> 0.9 | F32: =D32/E32 -> 2.7777778 | G32: 0.5
B33: PTA-O | C33: Poste de travail "Ondulé" Type A (4xPrise 2x16A+T) | D33: =4*0.25 -> 1 | E33: =E$24 -> 0.9 | F33: =D33/E33 -> 1.1111111 | G33: 0.8
B34: PT5 | C34: Circulation étages "Normal" (6xPrise 2x16A+T) | D34: =6*0.25 -> 1.5 | E34: =E$24 -> 0.9 | F34: =D34/E34 -> 1.6666667 | G34: 0.5
B35: PTA-O | C35: Poste de travail "Ondulé" Type A (4xPrise 2x16A+T) | D35: =4*0.25 -> 1 | E35: =E$24 -> 0.9 | F35: =D35/E35 -> 1.1111111 | G35: 0.8
B36: PT6 | C36: PTTV télévision "Normal" (1xPrise 2x16A+T) | D36: =1*0.25 -> 0.25 | E36: =E$24 -> 0.9 | F36: =D36/E36 -> 0.27777778 | G36: 0.3
B37: PTA-O | C37: Poste de travail "Ondulé" Type A (4xPrise 2x16A+T) | D37: =4*0.25 -> 1 | E37: =E$24 -> 0.9 | F37: =D37/E37 -> 1.1111111 | G37: 0.8
B38: PT7 | C38: PT réserve et lingerie "Normal" (2xPrise 2x16A+T) | D38: =2*0.25 -> 0.5 | E38: =E$24 -> 0.9 | F38: =D38/E38 -> 0.55555556 | G38: 0.6
B39: PTA-O | C39: Poste de travail "Ondulé" Type A (4xPrise 2x16A+T) | D39: =4*0.25 -> 1 | E39: =E$24 -> 0.9 | F39: =D39/E39 -> 1.1111111 | G39: 0.8
B40: PT8 | C40: Vestiaire personnel "Normal" (xPrise 2x16A+T) | D40: =0*0.25 -> 0 | E40: =E$24 -> 0.9 | F40: =D40/E40 -> 0 | G40: 0.5
B41: PTA-O | C41: Poste de travail "Ondulé" Type A (4xPrise 2x16A+T) | D41: =4*0.25 -> 1 | E41: =E$24 -> 0.9 | F41: =D41/E41 -> 1.1111111 | G41: 0.8
B42: PT9 | C42: Prise Rasoir SDB"Normal" (xPrise 2x16A+T) | D42: =1*0.25 -> 0.25 | E42: =E$24 -> 0.9 | F42: =D42/E42 -> 0.27777778 | G42: 0.3
B43: PTA-O | C43: Poste de travail "Ondulé" Type A (4xPrise 2x16A+T) | D43: =4*0.25 -> 1 | E43: =E$24 -> 0.9 | F43: =D43/E43 -> 1.1111111 | G43: 0.8
B45: Alimentations diverses
B47: Type | C47: Description | D47: P (kW) | E47: Cos Φ | F47: S (kVA) | G47: Fs
B48: UPS1 | C48: UPS Poste | D48: 5.4 | E48: 0.9 | F48: =D48/E48 -> 6 | G48: 1
B49: UPS2 | C49: UPS Collectivité | D49: 9 | E49: 0.9 | F49: =D49/E49 -> 10 | G49: 1
B50: UE1 | C50: Groupe extérieur climatisation Poste | D50: 3.17 | E50: 0.8 | F50: =D50/E50 -> 3.9625 | G50: 0.9
B51: UE2 | C51: Groupe extérieur climatisation Collectivité | D51: 7.08 | E51: 0.85 | F51: =D51/E51 -> 8.3294118 | G51: 0.9
B52: UE3 | C52: Climatisation Secours (UE+UI) Local informatique | D52: 1.08 | E52: 0.8 | F52: =D52/E52 -> 1.35 | G52: 0.9
B53: UI | C53: Unité interieure climatisation | D53: 0.045 | E53: 0.85 | F53: =D53/E53 -> 0.052941176 | G53: 0.8
B54: CAS | C54: Cassette murale Local informatique | D54: 0.06 | E54: 0.85 | F54: =D54/E54 -> 0.070588235 | G54: 1
B55: VMC | C55: VMC Sanitaires | D55: 0.16 | E55: 0.8 | F55: =D55/E55 -> 0.2 | G55: 0.6
B56: BECS | C56: Ballon eau chaud sanitaire 15l / 30l | D56: 2 | E56: 0.8 | F56: =D56/E56 -> 2.5 | G56: 0.6
B57: SSI | C57: Centrale Incendie Type 4 | D57: 1 | E57: 0.9 | F57: =D57/E57 -> 1.1111111 | G57: 1
B58: VDI | C58: Rack IT | D58: 2 | E58: 0.9 | F58: =D58/E58 -> 2.2222222 | G58: 1
B59: INT | C59: Centrale Intrusion Poste | D59: 1 | E59: 0.9 | F59: =D59/E59 -> 1.1111111 | G59: 1
B60: CA | C60: Centrale Contrôle d’Accès | D60: 1 | E60: 0.9 | F60: =D60/E60 -> 1.1111111 | G60: 1
B61: FA-B | C61: Film anti-buée miroir | D61: =36*10^-3 -> 0.036 | E61: 0.6 | F61: =D61/E61 -> 0.06 | G61: 0.5

Sheet Recap TD
B12: RECAPITULATIF TABLEAUX DIVISIONNAIRES TD
B14: TD | C14: Puissance Installée | D14: Puissance Foisonnée (K1) | I14: Puissance Foisonnée (K2) | L14: 30
C15: Puissance Installée Par Element | D15: Foisonnement par Elément (K1) | E15: Total Puissance Foisonnée par Elément | F15: Puissance Réseau N | G15: Puissance Réseau N/R | H15: Dont Puissance Réseau ONDULABLE | I15: Foisonnement TD (K2) | J15: Puissance Réseau N | K15: Puissance Réseau N/R | L15: Puissance Réseau N | M15: Puissance Réseau N/R
B18: TGBT B | C18: =SUM(C19:C21) -> 87.2 | D18: =E18/C18 -> 0.32252194 | E18: =SUM(E19:E21) -> 28.123913 | F18: =SUM(F19:F21) -> 28.123913 | G18: =SUM(G19:G21) -> 0 | H18: =SUM(H19:H21) -> #REF! | I18: 0.8 | J18: =IF(F18=0,"",I18*F18) -> 22.49913 | K18: =IF(G18=0,"",G18*I18) | L18: =IF(F18=0,"",J18+(J18*L$14%)) -> 29.24887 | M18: =IF(G18=0,"",K18+(K18*L$14%))
B19: ECL | C19: ='ROOM DATA'!Y599 -> 0 | D19: =IF(E19=0,0,E19/C19) -> #DIV/0! | E19: =SUM(F19:G19) -> 1.723913 | F19: ='ROOM DATA'!AH599 -> 1.723913 | G19: ='ROOM DATA'!AI599 -> 0
B20: PC/PT | C20: ='ROOM DATA'!AA599 -> 86 | D20: =IF(E20=0,0,E20/C20) -> 0.3 | E20: =SUM(F20:G20) -> 25.8 | F20: ='ROOM DATA'!AJ599 -> 25.8 | G20: ='ROOM DATA'!AK599 -> 0 | H20: ='ROOM DATA'!#REF! -> #REF!
B21: FM | C21: ='ROOM DATA'!AD599 -> 1.2 | D21: =IF(E21=0,0,E21/C21) -> 0.5 | E21: =SUM(F21:G21) -> 0.6 | F21: ='ROOM DATA'!AM599 -> 0.6 | G21: ='ROOM DATA'!AN599 -> 0 | H21: ='ROOM DATA'!#REF! -> #REF!
B23: TD SG R-1 | C23: =SUM(C24:C26) -> #REF! | D23: =E23/C23 -> #REF! | E23: =SUM(E24:E26) -> #REF! | F23: =SUM(F24:F26) -> #REF! | G23: =SUM(G24:G26) -> #REF! | H23: =SUM(H24:H26) -> #REF! | I23: 0.8 | J23: =IF(F23=0,"",I23*F23) -> #REF! | K23: =IF(G23=0,"",G23*I23) -> #REF! | L23: =IF(F23=0,"",J23+(J23*L$14%)) -> #REF! | M23: =IF(G23=0,"",K23+(K23*L$14%)) -> #REF!
B24: ECL | C24: ='ROOM DATA'!#REF! -> #REF! | D24: =IF(E24=0,0,E24/C24) -> #REF! | E24: =SUM(F24:G24) -> #REF! | F24: ='ROOM DATA'!#REF! -> #REF! | G24: ='ROOM DATA'!#REF! -> #REF!
B25: PC/PT | C25: ='ROOM DATA'!#REF! -> #REF! | D25: =IF(E25=0,0,E25/C25) -> #REF! | E25: =SUM(F25:G25) -> #REF! | F25: ='ROOM DATA'!#REF! -> #REF! | G25: ='ROOM DATA'!#REF! -> #REF! | H25: =#REF! -> #REF!
B26: FM | C26: ='ROOM DATA'!#REF! -> #REF! | D26: =IF(E26=0,0,E26/C26) -> #REF! | E26: =SUM(F26:G26) -> #REF! | F26: ='ROOM DATA'!#REF! -> #REF! | G26: ='ROOM DATA'!#REF! -> #REF! | H26: =#REF! -> #REF!
B28: TD SG R+0 | C28: =SUM(C29:C31) -> 0 | D28: =E28/C28 -> #DIV/0! | E28: =SUM(E29:E31) -> 0 | F28: =SUM(F29:F31) -> 0 | G28: =SUM(G29:G31) -> 0 | H28: =SUM(H29:H31) -> #REF! | I28: 0.8 | J28: =IF(F28=0,"",I28*F28) | K28: =IF(G28=0,"",G28*I28) | L28: =IF(F28=0,"",J28+(J28*L$14%)) | M28: =IF(G28=0,"",K28+(K28*L$14%))
B29: ECL | C29: ='ROOM DATA'!Y604 -> 0 | D29: =IF(E29=0,0,E29/C29) -> 0 | E29: =SUM(F29:G29) -> 0 | F29: ='ROOM DATA'!AH604 -> 0 | G29: ='ROOM DATA'!AI604 -> 0
B30: PC/PT | C30: ='ROOM DATA'!AA604 -> 0 | D30: =IF(E30=0,0,E30/C30) -> 0 | E30: =SUM(F30:G30) -> 0 | F30: ='ROOM DATA'!AJ604 -> 0 | G30: ='ROOM DATA'!AK604 -> 0 | H30: =#REF! -> #REF!
B31: FM | C31: ='ROOM DATA'!AD604 -> 0 | D31: =IF(E31=0,0,E31/C31) -> 0 | E31: =SUM(F31:G31) -> 0 | F31: ='ROOM DATA'!AM604 -> 0 | G31: ='ROOM DATA'!AN604 -> 0 | H31: =#REF! -> #REF!
B33: TD SG R+1 | C33: =SUM(C34:C36) -> 88.923913 | D33: =E33/C33 -> 0.3162694 | E33: =SUM(E34:E36) -> 28.123913 | F33: =SUM(F34:F36) -> 28.123913 | G33: =SUM(G34:G36) -> 0 | H33: =SUM(H34:H36) -> #REF! | I33: 0.8 | J33: =IF(F33=0,"",I33*F33) -> 22.49913 | K33: =IF(G33=0,"",G33*I33) | L33: =IF(F33=0,"",J33+(J33*L$14%)) -> 29.24887 | M33: =IF(G33=0,"",K33+(K33*L$14%))
B34: ECL | C34: ='ROOM DATA'!Y609 -> 1.723913 | D34: =IF(E34=0,0,E34/C34) -> 1 | E34: =SUM(F34:G34) -> 1.723913 | F34: ='ROOM DATA'!AH609 -> 1.723913 | G34: ='ROOM DATA'!AI609 -> 0
B35: PC/PT | C35: ='ROOM DATA'!AA609 -> 86 | D35: =IF(E35=0,0,E35/C35) -> 0.3 | E35: =SUM(F35:G35) -> 25.8 | F35: ='ROOM DATA'!AJ609 -> 25.8 | G35: ='ROOM DATA'!AK609 -> 0 | H35: =#REF! -> #REF!
B36: FM | C36: ='ROOM DATA'!AD609 -> 1.2 | D36: =IF(E36=0,0,E36/C36) -> 0.5 | E36: =SUM(F36:G36) -> 0.6 | F36: ='ROOM DATA'!AM609 -> 0.6 | G36: ='ROOM DATA'!AN609 -> 0 | H36: =#REF! -> #REF!
B38: TD SG R+2 | C38: =SUM(C39:C41) -> 0 | D38: =E38/C38 -> #DIV/0! | E38: =SUM(E39:E41) -> 0 | F38: =SUM(F39:F41) -> 0 | G38: =SUM(G39:G41) -> 0 | H38: =SUM(H39:H41) -> #REF! | I38: 0.8 | J38: =IF(F38=0,"",I38*F38) | K38: =IF(G38=0,"",G38*I38) | L38: =IF(F38=0,"",J38+(J38*L$14%)) | M38: =IF(G38=0,"",K38+(K38*L$14%))
B39: ECL | C39: ='ROOM DATA'!Y101 | D39: =IF(E39=0,0,E39/C39) -> 0 | E39: =SUM(F39:G39) -> 0 | F39: ='ROOM DATA'!AH101 | G39: ='ROOM DATA'!AI101
B40: PC/PT | C40: ='ROOM DATA'!AA101 | D40: =IF(E40=0,0,E40/C40) -> 0 | E40: =SUM(F40:G40) -> 0 | F40: ='ROOM DATA'!AJ101 | G40: ='ROOM DATA'!AK101 | H40: =#REF! -> #REF!
B41: FM | C41: ='ROOM DATA'!AD101 | D41: =IF(E41=0,0,E41/C41) -> 0 | E41: =SUM(F41:G41) -> 0 | F41: ='ROOM DATA'!AM101 | G41: ='ROOM DATA'!AN101 | H41: =#REF! -> #REF!
B43: TD SG R+3 | C43: =SUM(C44:C46) -> 0.28864734 | D43: =E43/C43 -> 0.32635983 | E43: =SUM(E44:E46) -> 0.094202899 | F43: =SUM(F44:F46) -> 0.094202899 | G43: =SUM(G44:G46) -> 0 | H43: =SUM(H44:H46) -> #REF! | I43: 0.8 | J43: =IF(F43=0,"",I43*F43) -> 0.075362319 | K43: =IF(G43=0,"",G43*I43) | L43: =IF(F43=0,"",J43+(J43*L$14%)) -> 0.097971014 | M43: =IF(G43=0,"",K43+(K43*L$14%))
B44: ECL | C44: ='ROOM DATA'!Y106 -> 0.010869565 | D44: =IF(E44=0,0,E44/C44) -> 1 | E44: =SUM(F44:G44) -> 0.010869565 | F44: ='ROOM DATA'!AH106 -> 0.010869565 | G44: ='ROOM DATA'!AI106
B45: PC/PT | C45: ='ROOM DATA'!AA106 -> 0.27777778 | D45: =IF(E45=0,0,E45/C45) -> 0.3 | E45: =SUM(F45:G45) -> 0.083333333 | F45: ='ROOM DATA'!AJ106 -> 0.083333333 | G45: ='ROOM DATA'!AK106 | H45: =#REF! -> #REF!
B46: FM | C46: ='ROOM DATA'!AD106 | D46: =IF(E46=0,0,E46/C46) -> 0 | E46: =SUM(F46:G46) -> 0 | F46: ='ROOM DATA'!AM106 | G46: ='ROOM DATA'!AN106 | H46: =#REF! -> #REF!
B48: TD SG R+3 | C48: =SUM(C49:C51) -> 0.5305314 | D48: =E48/C48 -> 0.35703879 | E48: =SUM(E49:E51) -> 0.18942029 | F48: =SUM(F49:F51) -> 0.18942029 | G48: =SUM(G49:G51) -> 0 | H48: =SUM(H49:H51) -> #REF! | I48: 0.8 | J48: =IF(F48=0,"",I48*F48) -> 0.15153623 | K48: =IF(G48=0,"",G48*I48) | L48: =IF(F48=0,"",J48+(J48*L$14%)) -> 0.1969971 | M48: =IF(G48=0,"",K48+(K48*L$14%))
B49: ECL | C49: ='ROOM DATA'!Y111 -> 0.026086957 | D49: =IF(E49=0,0,E49/C49) -> 1 | E49: =SUM(F49:G49) -> 0.026086957 | F49: ='ROOM DATA'!AH111 -> 0.026086957 | G49: ='ROOM DATA'!AI111
B50: PC/PT | C50: ='ROOM DATA'!AA111 -> 0.44444444 | D50: =IF(E50=0,0,E50/C50) -> 0.3 | E50: =SUM(F50:G50) -> 0.13333333 | F50: ='ROOM DATA'!AJ111 -> 0.13333333 | G50: ='ROOM DATA'!AK111 | H50: =#REF! -> #REF!
B51: FM | C51: ='ROOM DATA'!AD111 -> 0.06 | D51: =IF(E51=0,0,E51/C51) -> 0.5 | E51: =SUM(F51:G51) -> 0.03 | F51: ='ROOM DATA'!AM111 -> 0.03 | G51: ='ROOM DATA'!AN111 | H51: =#REF! -> #REF!
B53: TD SG R+4 | C53: =SUM(C54:C56) -> 0.02173913 | D53: =E53/C53 -> 1 | E53: =SUM(E54:E56) -> 0.02173913 | F53: =SUM(F54:F56) -> 0.02173913 | G53: =SUM(G54:G56) -> 0 | H53: =SUM(H54:H56) -> #REF! | I53: 0.8 | J53: =IF(F53=0,"",I53*F53) -> 0.017391304 | K53: =IF(G53=0,"",G53*I53) | L53: =IF(F53=0,"",J53+(J53*L$14%)) -> 0.022608696 | M53: =IF(G53=0,"",K53+(K53*L$14%))
B54: ECL | C54: ='ROOM DATA'!Y116 -> 0.02173913 | D54: =IF(E54=0,0,E54/C54) -> 1 | E54: =SUM(F54:G54) -> 0.02173913 | F54: ='ROOM DATA'!AH116 -> 0.02173913 | G54: ='ROOM DATA'!AI116
B55: PC/PT | C55: ='ROOM DATA'!AA116 | D55: =IF(E55=0,0,E55/C55) -> 0 | E55: =SUM(F55:G55) -> 0 | F55: ='ROOM DATA'!AJ116 | G55: ='ROOM DATA'!AK116 | H55: =#REF! -> #REF!
B56: FM | C56: ='ROOM DATA'!AD116 | D56: =IF(E56=0,0,E56/C56) -> 0 | E56: =SUM(F56:G56) -> 0 | F56: ='ROOM DATA'!AM116 | G56: ='ROOM DATA'!AN116 | H56: =#REF! -> #REF!
B58: TD SG R+5 | C58: =SUM(C59:C61) -> 0 | D58: =E58/C58 -> #DIV/0! | E58: =SUM(E59:E61) -> 0 | F58: =SUM(F59:F61) -> 0 | G58: =SUM(G59:G61) -> 0 | H58: =SUM(H59:H61) -> #REF! | I58: 0.8 | J58: =IF(F58=0,"",I58*F58) | K58: =IF(G58=0,"",G58*I58) | L58: =IF(F58=0,"",J58+(J58*L$14%)) | M58: =IF(G58=0,"",K58+(K58*L$14%))
B59: ECL | C59: ='ROOM DATA'!Y121 | D59: =IF(E59=0,0,E59/C59) -> 0 | E59: =SUM(F59:G59) -> 0 | F59: ='ROOM DATA'!AH121 | G59: ='ROOM DATA'!AI121
B60: PC/PT | C60: ='ROOM DATA'!AA121 | D60: =IF(E60=0,0,E60/C60) -> 0 | E60: =SUM(F60:G60) -> 0 | F60: ='ROOM DATA'!AJ121 | G60: ='ROOM DATA'!AK121 | H60: =#REF! -> #REF!
B61: FM | C61: ='ROOM DATA'!AD121 | D61: =IF(E61=0,0,E61/C61) -> 0 | E61: =SUM(F61:G61) -> 0 | F61: ='ROOM DATA'!AM121 | G61: ='ROOM DATA'!AN121 | H61: =#REF! -> #REF!
B63: TD SG R+6 | C63: =SUM(C64:C66) -> 0.010869565 | D63: =E63/C63 -> 1 | E63: =SUM(E64:E66) -> 0.010869565 | F63: =SUM(F64:F66) -> 0.010869565 | G63: =SUM(G64:G66) -> 0 | H63: =SUM(H64:H66) -> #REF! | I63: 0.8 | J63: =IF(F63=0,"",I63*F63) -> 0.0086956522 | K63: =IF(G63=0,"",G63*I63) | L63: =IF(F63=0,"",J63+(J63*L$14%)) -> 0.011304348 | M63: =IF(G63=0,"",K63+(K63*L$14%))
B64: ECL | C64: ='ROOM DATA'!Y126 -> 0.010869565 | D64: =IF(E64=0,0,E64/C64) -> 1 | E64: =SUM(F64:G64) -> 0.010869565 | F64: ='ROOM DATA'!AH126 -> 0.010869565 | G64: ='ROOM DATA'!AI126
B65: PC/PT | C65: ='ROOM DATA'!AA126 | D65: =IF(E65=0,0,E65/C65) -> 0 | E65: =SUM(F65:G65) -> 0 | F65: ='ROOM DATA'!AJ126 | G65: ='ROOM DATA'!AK126 | H65: =#REF! -> #REF!
B66: FM | C66: ='ROOM DATA'!AD126 | D66: =IF(E66=0,0,E66/C66) -> 0 | E66: =SUM(F66:G66) -> 0 | F66: ='ROOM DATA'!AM126 | G66: ='ROOM DATA'!AN126 | H66: =#REF! -> #REF!
B68: TD SG R+7 | C68: =SUM(C69:C71) -> 0 | D68: =E68/C68 -> #DIV/0! | E68: =SUM(E69:E71) -> 0 | F68: =SUM(F69:F71) -> 0 | G68: =SUM(G69:G71) -> 0 | H68: =SUM(H69:H71) -> #REF! | I68: 0.8 | J68: =IF(F68=0,"",I68*F68) | K68: =IF(G68=0,"",G68*I68) | L68: =IF(F68=0,"",J68+(J68*L$14%)) | M68: =IF(G68=0,"",K68+(K68*L$14%))
B69: ECL | C69: ='ROOM DATA'!Y131 | D69: =IF(E69=0,0,E69/C69) -> 0 | E69: =SUM(F69:G69) -> 0 | F69: ='ROOM DATA'!AH131 | G69: ='ROOM DATA'!AI131
B70: PC/PT | C70: ='ROOM DATA'!AA131 | D70: =IF(E70=0,0,E70/C70) -> 0 | E70: =SUM(F70:G70) -> 0 | F70: ='ROOM DATA'!AJ131 | G70: ='ROOM DATA'!AK131 | H70: =#REF! -> #REF!
B71: FM | C71: ='ROOM DATA'!AD131 | D71: =IF(E71=0,0,E71/C71) -> 0 | E71: =SUM(F71:G71) -> 0 | F71: ='ROOM DATA'!AM131 | G71: ='ROOM DATA'!AN131 | H71: =#REF! -> #REF!
B73: TD SG R+8 | C73: =SUM(C74:C76) -> 0 | D73: =E73/C73 -> #DIV/0! | E73: =SUM(E74:E76) -> 0 | F73: =SUM(F74:F76) -> 0 | G73: =SUM(G74:G76) -> 0 | H73: =SUM(H74:H76) -> #REF! | I73: 0.8 | J73: =IF(F73=0,"",I73*F73) | K73: =IF(G73=0,"",G73*I73) | L73: =IF(F73=0,"",J73+(J73*L$14%)) | M73: =IF(G73=0,"",K73+(K73*L$14%))
B74: ECL | C74: ='ROOM DATA'!Y136 | D74: =IF(E74=0,0,E74/C74) -> 0 | E74: =SUM(F74:G74) -> 0 | F74: ='ROOM DATA'!AH136 | G74: ='ROOM DATA'!AI136
B75: PC/PT | C75: ='ROOM DATA'!AA136 | D75: =IF(E75=0,0,E75/C75) -> 0 | E75: =SUM(F75:G75) -> 0 | F75: ='ROOM DATA'!AJ136 | G75: ='ROOM DATA'!AK136 | H75: =#REF! -> #REF!
B76: FM | C76: ='ROOM DATA'!AD136 | D76: =IF(E76=0,0,E76/C76) -> 0 | E76: =SUM(F76:G76) -> 0 | F76: ='ROOM DATA'!AM136 | G76: ='ROOM DATA'!AN136 | H76: =#REF! -> #REF!
B78: TD SG R+9 | C78: =SUM(C79:C81) -> 3.569686 | D78: =E78/C78 -> 0.30277092 | E78: =SUM(E79:E81) -> 1.0807971 | F78: =SUM(F79:F81) -> 1.0807971 | G78: =SUM(G79:G81) -> 0 | H78: =SUM(H79:H81) -> #REF! | I78: 0.8 | J78: =IF(F78=0,"",I78*F78) -> 0.86463768 | K78: =IF(G78=0,"",G78*I78) | L78: =IF(F78=0,"",J78+(J78*L$14%)) -> 1.124029 | M78: =IF(G78=0,"",K78+(K78*L$14%))
B79: ECL | C79: ='ROOM DATA'!Y141 -> 0.014130435 | D79: =IF(E79=0,0,E79/C79) -> 1 | E79: =SUM(F79:G79) -> 0.014130435 | F79: ='ROOM DATA'!AH141 -> 0.014130435 | G79: ='ROOM DATA'!AI141
B80: PC/PT | C80: ='ROOM DATA'!AA141 -> 3.5555556 | D80: =IF(E80=0,0,E80/C80) -> 0.3 | E80: =SUM(F80:G80) -> 1.0666667 | F80: ='ROOM DATA'!AJ141 -> 1.0666667 | G80: ='ROOM DATA'!AK141 | H80: =#REF! -> #REF!
B81: FM | C81: ='ROOM DATA'!AD141 | D81: =IF(E81=0,0,E81/C81) -> 0 | E81: =SUM(F81:G81) -> 0 | F81: ='ROOM DATA'!AM141 | G81: ='ROOM DATA'!AN141 | H81: =#REF! -> #REF!
B112: Total : | C112: =SUM(C34:C73)/2 -> 45.313744 | D112: =E112/C112 -> 0.31730303 | E112: =SUM(E34:E73)/2 -> 14.378188 | F112: =SUM(F34:F73)/2 -> 14.378188 | G112: =SUM(G34:G73)/2 -> 0 | H112: =SUM(H34:H73)/2 -> #REF! | J112: =SUM(J34:J73) -> 0.25298551 | K112: =SUM(K34:K73) -> 0 | L112: =SUM(L34:L73) -> 0.32888116 | M112: =IF(K112=0,"",K112+(K112*L$14%))

Sheet Recap ONDULEURS
B12: RECAPITULATIF ONDULEURS
B14: TD | C14: Puissance Installée | D14: Puissance Foisonnée (K1)
C15: Puissance Installée Par Element | D15: Foisonnement par Elément (K1) | E15: Total Puissance Foisonnée par Elément | F15: Puissance Réseau OND
B18: OND1 - SG | C18: =SUM(C19:C20) -> 0 | D18: =E18/C18 -> #DIV/0! | E18: =SUM(E19:E20) -> 0 | F18: =SUM(F19:F20) -> 0
B19: PC/PT | C19: ='ROOM DATA'!AC601 -> 0 | D19: =IF(E19=0,0,E19/C19) -> 0 | E19: =SUM(F19:F19) -> 0 | F19: ='ROOM DATA'!AL601 -> 0
B20: FM | C20: ='ROOM DATA'!AF601 -> 0 | D20: =IF(E20=0,0,E20/C20) -> 0 | E20: =SUM(F20:F20) -> 0 | F20: ='ROOM DATA'!AO601 -> 0
B22: OND2 - COLLECTIVITE | C22: =SUM(C23:C24) -> 0 | D22: =E22/C22 -> #DIV/0! | E22: =SUM(E23:E24) -> 0 | F22: =SUM(F23:F24) -> 0
B23: PC/PT | C23: ='ROOM DATA'!AC603 -> 0 | D23: =IF(E23=0,0,E23/C23) -> 0 | E23: =SUM(F23:F23) -> 0 | F23: ='ROOM DATA'!AL603 -> 0
B24: FM | C24: ='ROOM DATA'!AF603 -> 0 | D24: =IF(E24=0,0,E24/C24) -> 0 | E24: =SUM(F24:F24) -> 0 | F24: ='ROOM DATA'!AO603 -> 0
B31: Total : | C31: =SUM(C17:C30)/2 -> 0 | D31: =E31/C31 -> #DIV/0! | E31: =SUM(E17:E30)/2 -> 0 | F31: =SUM(F17:F30)/2 -> 0
