Workbook
Name table: VT!$B$21:$AG$76
Name tableddd: [1]VT!$B$21:$AG$77
Name titre: #REF!

Sheet VT
D2: Imputation analytique : | I2: Date de parution : | Q2: version :
D3: Titre : | I3: Mois facial : | Q3: édité le :
D4: N° : | I4: Année faciale : | Q4: =DATE(YEAR(K3&" "&K4),MONTH(K3&" "&K4),DAY(K3&" "&K4)) -> #VALUE!
D5: Prestation : | I5: Temps SR :
I6: Temps MEP :
G8: COMMENTAIRES
B14: >>> R E V U E
B15: ="cahier "&$K$16 -> cahier 1 | C15: 4 | D15: ="cahier "&$K$16+4 -> cahier 5 | G15: ="cahier "&$K$16+8 -> cahier 9 | I15: Façonnage | K15: Dos piqué
B16: ="cahier "&$K$16+1 -> cahier 2 | C16: 16 | D16: ="cahier "&$K$16+5 -> cahier 6 | G16: ="cahier "&$K$16+9 -> cahier 10 | I16: Couverture isolée ou non | K16: 1 | Q16: Pages :
B17: ="cahier "&$K$16+2 -> cahier 3 | C17: 16 | D17: ="cahier "&$K$16+6 -> cahier 7 | G17: ="cahier "&$K$16+10 -> cahier 11 | I17: # de cahiers (yc couv.) | K17: =COUNTIF($C15:$C18,"<>")+COUNTIF($E15:$E18,"<>")+COUNTIF($H15:$H18,"<>") -> 4 | Q17: Heures :
B18: ="cahier "&$K$16+3 -> cahier 4 | C18: 16 | D18: ="cahier "&$K$16+7 -> cahier 8 | G18: ="cahier "&$K$16+11 -> cahier 12 | I18: # de pages | K18: =SUM($C15:$C18,$E15:$E18,$H15:$H18) -> 52 | AG18: PUBLICITE | AO18: REDAC.
A21: =COUNTA(C15:C18,E15:E18,H15:H18) -> 4 | B21: Page | D21: Cahier | G21: Rubrique | I21: Sujet | K21: Article | M21: Journaliste | O21: Commentaire | Q21: PUB | S21: REC | U21: MEP | W21: SR | Y21: BAT | AA21: Spéc. | AC21: Option | AE21: Encart | AG21: =IF($G$2="ABA","MOD","PUB") -> PUB | AI21: REP | AK21: =IF($G$2="ABA","PAN","OTO") -> OTO | AM21: REO | AO21: RED | AQ21: REA
S22: =COUNTA(S23:S135) -> 52 | U22: =COUNTA(U23:U135) -> 52 | W22: =COUNTA(W23:W135) -> 52 | Y22: =COUNTA(Y23:Y135) -> 52 | AC22: op | AD22: en | AE22: en | AG22: =SUM(AG23:AG76) -> 11.25 | AI22: =IF(COUNTIF($G$23:$Q$136,"<>"),SUM(AI23:AI136),0) -> 0 | AK22: =IF(COUNTIF($G$23:$Q$136,"<>"),SUM(AK23:AK136),0) -> 3.5 | AM22: =IF(COUNTIF($G$23:$Q$136,"<>"),SUM(AM23:AM136),0) -> 0 | AO22: =IF(COUNTIF($G$23:$Q$136,"<>"),SUM(AO23:AO136),0) -> 35.25 | AQ22: =IF(COUNTIF($G$23:$Q$136,"<>"),SUM(AQ23:AQ136),0) -> 2
A23: =IF(B23>BRD!$M$1,VLOOKUP(B23,BRD!H:I,2,FALSE),VLOOKUP(B23,BRD!G:I,3,FALSE)) -> #N/A | D23: =IF(B23="","",$G$2&"C"&A23)
A24: =IF(B24>BRD!$M$1,VLOOKUP(B24,BRD!H:I,2,FALSE),VLOOKUP(B24,BRD!G:I,3,FALSE)) -> #N/A | D24: =IF(B24="","",$G$2&"C"&A24)
A25: =IF(B25>BRD!$M$1,VLOOKUP(B25,BRD!H:I,2,FALSE),VLOOKUP(B25,BRD!G:I,3,FALSE)) -> 1 | B25: =IF(ISERROR(IF(B24+1<=$K$18,B24+1,""))=TRUE,"",IF(B24+1<=$K$18,B24+1,"")) -> 1 | D25: =IF(B25="","",$G$2&"C"&A25) -> C1 | G25: Couverture | I25: UNE | S25: é | U25: é | W25: é | Y25: é | AA25: ré | AO25: =IF(B25<>"",1-AG25-AI25-AK25-AM25-AQ25,"") -> 1
A26: =IF(B26>BRD!$M$1,VLOOKUP(B26,BRD!H:I,2,FALSE),VLOOKUP(B26,BRD!G:I,3,FALSE)) -> 1 | B26: =IF(ISERROR(IF(B25+1<=$K$18,B25+1,""))=TRUE,"",IF(B25+1<=$K$18,B25+1,"")) -> 2 | D26: =IF(B26="","",$G$2&"C"&A26) -> C1 | Q26: INFACO | S26: é | U26: é | W26: é | Y26: é | AA26: rb | AG26: 1 | AO26: =IF(B26<>"",1-AG26-AI26-AK26-AM26-AQ26,"") -> 0
A27: =IF(B27>BRD!$M$1,VLOOKUP(B27,BRD!H:I,2,FALSE),VLOOKUP(B27,BRD!G:I,3,FALSE)) -> 2 | B27: =IF(ISERROR(IF(B26+1<=$K$18,B26+1,""))=TRUE,"",IF(B26+1<=$K$18,B26+1,"")) -> 3 | D27: =IF(B27="","",$G$2&"C"&A27) -> C2 | I27: ÉDITO | K27: 39298 | S27: é | U27: é | W27: é | Y27: é | AA27: rb | AO27: =IF(B27<>"",1-AG27-AI27-AK27-AM27-AQ27,"") -> 1
A28: =IF(B28>BRD!$M$1,VLOOKUP(B28,BRD!H:I,2,FALSE),VLOOKUP(B28,BRD!G:I,3,FALSE)) -> 2 | B28: =IF(ISERROR(IF(B27+1<=$K$18,B27+1,""))=TRUE,"",IF(B27+1<=$K$18,B27+1,"")) -> 4 | D28: =IF(B28="","",$G$2&"C"&A28) -> C2 | I28: SOMMAIRE | S28: é | U28: é | W28: é | Y28: é | AA28: rb | AO28: 1
A29: =IF(B29>BRD!$M$1,VLOOKUP(B29,BRD!H:I,2,FALSE),VLOOKUP(B29,BRD!G:I,3,FALSE)) -> 2 | B29: =IF(ISERROR(IF(B28+1<=$K$18,B28+1,""))=TRUE,"",IF(B28+1<=$K$18,B28+1,"")) -> 5 | D29: =IF(B29="","",$G$2&"C"&A29) -> C2 | Q29: CORTEVA | S29: é | U29: é | W29: é | Y29: é | AA29: rb | AG29: 1 | AO29: 0
A30: =IF(B30>BRD!$M$1,VLOOKUP(B30,BRD!H:I,2,FALSE),VLOOKUP(B30,BRD!G:I,3,FALSE)) -> 2 | B30: =IF(ISERROR(IF(B29+1<=$K$18,B29+1,""))=TRUE,"",IF(B29+1<=$K$18,B29+1,"")) -> 6 | D30: =IF(B30="","",$G$2&"C"&A30) -> C2 | G30: S'INFORMER | I30: Actus nationales | K30: 39299 | S30: é | U30: é | W30: é | Y30: é | AA30: rb | AO30: =IF(B30<>"",1-AG30-AI30-AK30-AM30-AQ30,"") -> 1
A31: =IF(B31>BRD!$M$1,VLOOKUP(B31,BRD!H:I,2,FALSE),VLOOKUP(B31,BRD!G:I,3,FALSE)) -> 2 | B31: =IF(ISERROR(IF(B30+1<=$K$18,B30+1,""))=TRUE,"",IF(B30+1<=$K$18,B30+1,"")) -> 7 | D31: =IF(B31="","",$G$2&"C"&A31) -> C2 | Q31: CORTEVA | S31: é | U31: é | W31: é | Y31: é | AA31: rb | AG31: 1 | AO31: =IF(B31<>"",1-AG31-AI31-AK31-AM31-AQ31,"") -> 0
A32: =IF(B32>BRD!$M$1,VLOOKUP(B32,BRD!H:I,2,FALSE),VLOOKUP(B32,BRD!G:I,3,FALSE)) -> 2 | B32: =IF(ISERROR(IF(B31+1<=$K$18,B31+1,""))=TRUE,"",IF(B31+1<=$K$18,B31+1,"")) -> 8 | D32: =IF(B32="","",$G$2&"C"&A32) -> C2 | I32: Actu nationales | S32: é | U32: é | W32: é | Y32: é | AA32: rb | AO32: =IF(B32<>"",1-AG32-AI32-AK32-AM32-AQ32,"") -> 1
A33: =IF(B33>BRD!$M$1,VLOOKUP(B33,BRD!H:I,2,FALSE),VLOOKUP(B33,BRD!G:I,3,FALSE)) -> 2 | B33: =IF(ISERROR(IF(B32+1<=$K$18,B32+1,""))=TRUE,"",IF(B32+1<=$K$18,B32+1,"")) -> 9 | D33: =IF(B33="","",$G$2&"C"&A33) -> C2 | Q33: AP ABO LEADERS | S33: é | U33: é | W33: é | Y33: é | AA33: rb | AK33: 1 | AO33: 0.75
A34: =IF(B34>BRD!$M$1,VLOOKUP(B34,BRD!H:I,2,FALSE),VLOOKUP(B34,BRD!G:I,3,FALSE)) -> 2 | B34: =IF(ISERROR(IF(B33+1<=$K$18,B33+1,""))=TRUE,"",IF(B33+1<=$K$18,B33+1,"")) -> 10 | D34: =IF(B34="","",$G$2&"C"&A34) -> C2 | I34: Actu nationales | Q34: 1/4 ABO (VITI National) et 1/4 AP Twitter (VITI Leaders) NE PAS BOUGER | S34: é | U34: é | W34: é | Y34: é | AA34: ré | AK34: 0.25 | AO34: =IF(B34<>"",1-AG34-AI34-AK34-AM34-AQ34,"") -> 0.75
A35: =IF(B35>BRD!$M$1,VLOOKUP(B35,BRD!H:I,2,FALSE),VLOOKUP(B35,BRD!G:I,3,FALSE)) -> 3 | B35: =IF(ISERROR(IF(B34+1<=$K$18,B34+1,""))=TRUE,"",IF(B34+1<=$K$18,B34+1,"")) -> 11 | D35: =IF(B35="","",$G$2&"C"&A35) -> C3 | Q35: AP Site | S35: é | U35: é | W35: é | Y35: é | AG35: 1 | AO35: 0
A36: =IF(B36>BRD!$M$1,VLOOKUP(B36,BRD!H:I,2,FALSE),VLOOKUP(B36,BRD!G:I,3,FALSE)) -> 3 | B36: =IF(ISERROR(IF(B35+1<=$K$18,B35+1,""))=TRUE,"",IF(B35+1<=$K$18,B35+1,"")) -> 12 | D36: =IF(B36="","",$G$2&"C"&A36) -> C3 | G36: VITICULTURE | I36: Ouverture : Trouvelot | K36: 39301 | S36: é | U36: é | W36: é | Y36: é | AO36: =IF(B36<>"",1-AG36-AI36-AK36-AM36-AQ36,"") -> 1
A37: =IF(B37>BRD!$M$1,VLOOKUP(B37,BRD!H:I,2,FALSE),VLOOKUP(B37,BRD!G:I,3,FALSE)) -> 3 | B37: =IF(ISERROR(IF(B36+1<=$K$18,B36+1,""))=TRUE,"",IF(B36+1<=$K$18,B36+1,"")) -> 13 | D37: =IF(B37="","",$G$2&"C"&A37) -> C3 | I37: Trouvelot | S37: é | U37: é | W37: é | Y37: é | AO37: =IF(B37<>"",1-AG37-AI37-AK37-AM37-AQ37,"") -> 1
A38: =IF(B38>BRD!$M$1,VLOOKUP(B38,BRD!H:I,2,FALSE),VLOOKUP(B38,BRD!G:I,3,FALSE)) -> 3 | B38: =IF(ISERROR(IF(B37+1<=$K$18,B37+1,""))=TRUE,"",IF(B37+1<=$K$18,B37+1,"")) -> 14 | D38: =IF(B38="","",$G$2&"C"&A38) -> C3 | I38: Trouvelot | S38: é | U38: é | W38: é | Y38: é | AO38: =IF(B38<>"",1-AG38-AI38-AK38-AM38-AQ38,"") -> 1
A39: =IF(B39>BRD!$M$1,VLOOKUP(B39,BRD!H:I,2,FALSE),VLOOKUP(B39,BRD!G:I,3,FALSE)) -> 3 | B39: =IF(ISERROR(IF(B38+1<=$K$18,B38+1,""))=TRUE,"",IF(B38+1<=$K$18,B38+1,"")) -> 15 | D39: =IF(B39="","",$G$2&"C"&A39) -> C3 | Q39: OPTION DE SANGOSSE | S39: é | U39: é | W39: é | Y39: é | AG39: 1 | AO39: 0.5
A40: =IF(B40>BRD!$M$1,VLOOKUP(B40,BRD!H:I,2,FALSE),VLOOKUP(B40,BRD!G:I,3,FALSE)) -> 3 | B40: =IF(ISERROR(IF(B39+1<=$K$18,B39+1,""))=TRUE,"",IF(B39+1<=$K$18,B39+1,"")) -> 16 | D40: =IF(B40="","",$G$2&"C"&A40) -> C3 | I40: Cuivre et mildiou | K40: 39302 | S40: é | U40: é | W40: é | Y40: é | AO40: =IF(B40<>"",1-AG40-AI40-AK40-AM40-AQ40,"") -> 1
A41: =IF(B41>BRD!$M$1,VLOOKUP(B41,BRD!H:I,2,FALSE),VLOOKUP(B41,BRD!G:I,3,FALSE)) -> 3 | B41: =IF(ISERROR(IF(B40+1<=$K$18,B40+1,""))=TRUE,"",IF(B40+1<=$K$18,B40+1,"")) -> 17 | D41: =IF(B41="","",$G$2&"C"&A41) -> C3 | I41: Cuivre et mildiou | S41: é | U41: é | W41: é | Y41: é | AO41: =IF(B41<>"",1-AG41-AI41-AK41-AM41-AQ41,"") -> 1
A42: =IF(B42>BRD!$M$1,VLOOKUP(B42,BRD!H:I,2,FALSE),VLOOKUP(B42,BRD!G:I,3,FALSE)) -> 3 | B42: =IF(ISERROR(IF(B41+1<=$K$18,B41+1,""))=TRUE,"",IF(B41+1<=$K$18,B41+1,"")) -> 18 | D42: =IF(B42="","",$G$2&"C"&A42) -> C3 | I42: Château Latour | K42: 39303 | S42: é | U42: é | W42: é | Y42: é | AO42: =IF(B42<>"",1-AG42-AI42-AK42-AM42-AQ42,"") -> 1
A43: =IF(B43>BRD!$M$1,VLOOKUP(B43,BRD!H:I,2,FALSE),VLOOKUP(B43,BRD!G:I,3,FALSE)) -> 4 | B43: =IF(ISERROR(IF(B42+1<=$K$18,B42+1,""))=TRUE,"",IF(B42+1<=$K$18,B42+1,"")) -> 19 | D43: =IF(B43="","",$G$2&"C"&A43) -> C4 | I43: Château Latour | S43: é | U43: é | W43: é | Y43: é | AO43: =IF(B43<>"",1-AG43-AI43-AK43-AM43-AQ43,"") -> 1
A44: =IF(B44>BRD!$M$1,VLOOKUP(B44,BRD!H:I,2,FALSE),VLOOKUP(B44,BRD!G:I,3,FALSE)) -> 4 | B44: =IF(ISERROR(IF(B43+1<=$K$18,B43+1,""))=TRUE,"",IF(B43+1<=$K$18,B43+1,"")) -> 20 | D44: =IF(B44="","",$G$2&"C"&A44) -> C4 | I44: Château Latour | S44: é | U44: é | W44: é | Y44: é | AO44: =IF(B44<>"",1-AG44-AI44-AK44-AM44-AQ44,"") -> 1
A45: =IF(B45>BRD!$M$1,VLOOKUP(B45,BRD!H:I,2,FALSE),VLOOKUP(B45,BRD!G:I,3,FALSE)) -> 4 | B45: =IF(ISERROR(IF(B44+1<=$K$18,B44+1,""))=TRUE,"",IF(B44+1<=$K$18,B44+1,"")) -> 21 | D45: =IF(B45="","",$G$2&"C"&A45) -> C4 | I45: Château Latour | S45: é | U45: é | W45: é | Y45: é | AO45: 1
A46: =IF(B46>BRD!$M$1,VLOOKUP(B46,BRD!H:I,2,FALSE),VLOOKUP(B46,BRD!G:I,3,FALSE)) -> 4 | B46: =IF(ISERROR(IF(B45+1<=$K$18,B45+1,""))=TRUE,"",IF(B45+1<=$K$18,B45+1,"")) -> 22 | D46: =IF(B46="","",$G$2&"C"&A46) -> C4 | I46: Terra Vitis et AB | K46: 39304 | S46: é | U46: é | W46: é | Y46: é | AO46: =IF(B46<>"",1-AG46-AI46-AK46-AM46-AQ46,"") -> 1
A47: =IF(B47>BRD!$M$1,VLOOKUP(B47,BRD!H:I,2,FALSE),VLOOKUP(B47,BRD!G:I,3,FALSE)) -> 4 | B47: =IF(ISERROR(IF(B46+1<=$K$18,B46+1,""))=TRUE,"",IF(B46+1<=$K$18,B46+1,"")) -> 23 | D47: =IF(B47="","",$G$2&"C"&A47) -> C4 | I47: Terra Vitis et AB | S47: é | U47: é | W47: é | Y47: é | AO47: =IF(B47<>"",1-AG47-AI47-AK47-AM47-AQ47,"") -> 1
A48: =IF(B48>BRD!$M$1,VLOOKUP(B48,BRD!H:I,2,FALSE),VLOOKUP(B48,BRD!G:I,3,FALSE)) -> 4 | B48: =IF(ISERROR(IF(B47+1<=$K$18,B47+1,""))=TRUE,"",IF(B47+1<=$K$18,B47+1,"")) -> 24 | D48: =IF(B48="","",$G$2&"C"&A48) -> C4 | I48: Cuivre | K48: 39305 | S48: é | U48: é | W48: é | Y48: é | AO48: =IF(B48<>"",1-AG48-AI48-AK48-AM48-AQ48,"") -> 1
A49: =IF(B49>BRD!$M$1,VLOOKUP(B49,BRD!H:I,2,FALSE),VLOOKUP(B49,BRD!G:I,3,FALSE)) -> 4 | B49: =IF(ISERROR(IF(B48+1<=$K$18,B48+1,""))=TRUE,"",IF(B48+1<=$K$18,B48+1,"")) -> 25 | D49: =IF(B49="","",$G$2&"C"&A49) -> C4 | I49: Cuivre | Q49: 1/4 H PULVERISATION 21 | S49: é | U49: é | W49: é | Y49: é | AG49: 0.25 | AO49: 1
...

Sheet BRD
A1: AFRIQUE AGRICULTURE | B1: AGA | C1: STANDARDPLUS | D1: Pôle Afrique | E1: Antoine Hervé | G1: Page | H1: Pages inversées | I1: Cahier | J1: Itération | K1: cahier | L1: =SUM(L2:L13) -> 52 | M1: =SUM(M2:M13) -> 26 | O1: Prestation | P1: Nature | Q1: Temps SR | R1: Temps MEP
A2: AFRIQUE AGRICULTURE HORS SERIE | B2: AGH | C2: STANDARDPLUS | D2: Pôle Afrique | E2: Antoine Hervé | G2: =IF(M1>0,1,"") -> 1 | H2: =L1 -> 52 | I2: =IF(G2="","",K2) -> 1 | J2: =IF(G2="","",COUNTIF($I$2:I2,I2)) -> 1 | K2: 1 | L2: =VT!C15 -> 4 | M2: =L2/2 -> 2 | O2: BASIC | P2: presse papier | Q2: 0.4 | R2: 0.38
G3: =IF(OR(G2="",SUM(G2)+1>$M$1),"",G2+1) -> 2 | H3: =IF(OR(G2="",SUM(H2)-1<=$M$1),"",H2-1) -> 51 | I3: =IF(G3="","",IF(J2<VLOOKUP(I2,K:M,3,FALSE),I2,I2+1)) -> 1 | J3: =IF(G3="","",COUNTIF($I$2:I3,I3)) -> 2 | K3: 2 | L3: =VT!C16 -> 16 | M3: =L3/2 -> 8 | O3: BASICCLIENT | P3: presse papier | Q3: 0.67 | R3: 0.38
A4: BOVIN SANTE | B4: ZBS | C4: STANDARD | D4: Pôle Agricole | E4: Nathalie Ternois | G4: =IF(OR(G3="",SUM(G3)+1>$M$1),"",G3+1) -> 3 | H4: =IF(OR(G3="",SUM(H3)-1<=$M$1),"",H3-1) -> 50 | I4: =IF(G4="","",IF(J3<VLOOKUP(I3,K:M,3,FALSE),I3,I3+1)) -> 2 | J4: =IF(G4="","",COUNTIF($I$2:I4,I4)) -> 1 | K4: 3 | L4: =VT!C17 -> 16 | M4: =L4/2 -> 8 | O4: BASICPLUS | P4: presse papier | Q4: 0.78 | R4: 0.38
A5: CIRCUITS CULTURE | B5: ADI | C5: STANDARD | D5: Pôle Agricole | E5: Nathalie Ternois | G5: =IF(OR(G4="",SUM(G4)+1>$M$1),"",G4+1) -> 4 | H5: =IF(OR(G4="",SUM(H4)-1<=$M$1),"",H4-1) -> 49 | I5: =IF(G5="","",IF(J4<VLOOKUP(I4,K:M,3,FALSE),I4,I4+1)) -> 2 | J5: =IF(G5="","",COUNTIF($I$2:I5,I5)) -> 2 | K5: 4 | L5: =VT!C18 -> 16 | M5: =L5/2 -> 8 | O5: BASICSTUDIO | P5: presse papier | Q5: 0.25 | R5: 0.48
A6: LA LETTRE DE CIRCUITS CULTURE | B6: ADH | D6: Pôle Agricole | E6: Nathalie Ternois | G6: =IF(OR(G5="",SUM(G5)+1>$M$1),"",G5+1) -> 5 | H6: =IF(OR(G5="",SUM(H5)-1<=$M$1),"",H5-1) -> 48 | I6: =IF(G6="","",IF(J5<VLOOKUP(I5,K:M,3,FALSE),I5,I5+1)) -> 2 | J6: =IF(G6="","",COUNTIF($I$2:I6,I6)) -> 3 | K6: 5 | L6: =VT!E15 -> 0 | M6: =L6/2 -> 0 | O6: PURE STUDIO | P6: presse papier | Q6: 0 | R6: 0.73
A7: CULTIVAR ELEVAGE (C. COMMUN) | B7: AMT | D7: Pôle Agricole | E7: Nathalie Ternois | G7: =IF(OR(G6="",SUM(G6)+1>$M$1),"",G6+1) -> 6 | H7: =IF(OR(G6="",SUM(H6)-1<=$M$1),"",H6-1) -> 47 | I7: =IF(G7="","",IF(J6<VLOOKUP(I6,K:M,3,FALSE),I6,I6+1)) -> 2 | J7: =IF(G7="","",COUNTIF($I$2:I7,I7)) -> 4 | K7: 6 | L7: =VT!E16 -> 0 | M7: =L7/2 -> 0 | O7: STANDARD | P7: presse papier | Q7: 0.4 | R7: 0.49
A8: CULTIVAR ELEVAGE ALSACE | B8: AMA | C8: STANDARDPLUS | D8: Pôle Agricole | E8: Nathalie Ternois | G8: =IF(OR(G7="",SUM(G7)+1>$M$1),"",G7+1) -> 7 | H8: =IF(OR(G7="",SUM(H7)-1<=$M$1),"",H7-1) -> 46 | I8: =IF(G8="","",IF(J7<VLOOKUP(I7,K:M,3,FALSE),I7,I7+1)) -> 2 | J8: =IF(G8="","",COUNTIF($I$2:I8,I8)) -> 5 | K8: 7 | L8: =VT!E17 -> 0 | M8: =L8/2 -> 0 | O8: STANDARDSTUDIO | P8: presse papier | Q8: 0.25 | R8: 0.75
A9: CULTIVAR ÉLÉVAGE LORRAINE | B9: AML | C9: STANDARDPLUS | D9: Pôle Agricole | E9: Nathalie Ternois | G9: =IF(OR(G8="",SUM(G8)+1>$M$1),"",G8+1) -> 8 | H9: =IF(OR(G8="",SUM(H8)-1<=$M$1),"",H8-1) -> 45 | I9: =IF(G9="","",IF(J8<VLOOKUP(I8,K:M,3,FALSE),I8,I8+1)) -> 2 | J9: =IF(G9="","",COUNTIF($I$2:I9,I9)) -> 6 | K9: 8 | L9: =VT!E18 -> 0 | M9: =L9/2 -> 0 | O9: STANDARDCLIENT | P9: presse papier | Q9: 0.67 | R9: 0.49
A10: CULTIVAR ELEVAGE MONTBELIARDE | B10: AMF | C10: STANDARDPLUS | D10: Pôle Agricole | E10: Nathalie Ternois | G10: =IF(OR(G9="",SUM(G9)+1>$M$1),"",G9+1) -> 9 | H10: =IF(OR(G9="",SUM(H9)-1<=$M$1),"",H9-1) -> 44 | I10: =IF(G10="","",IF(J9<VLOOKUP(I9,K:M,3,FALSE),I9,I9+1)) -> 2 | J10: =IF(G10="","",COUNTIF($I$2:I10,I10)) -> 7 | K10: 9 | L10: =VT!H15 -> 0 | M10: =L10/2 -> 0 | O10: STANDARDPLUS | P10: presse papier | Q10: 0.78 | R10: 0.49
A11: CULTIVAR ELEVAGE OS | B11: AMO | D11: Pôle Agricole | E11: Nathalie Ternois | G11: =IF(OR(G10="",SUM(G10)+1>$M$1),"",G10+1) -> 10 | H11: =IF(OR(G10="",SUM(H10)-1<=$M$1),"",H10-1) -> 43 | I11: =IF(G11="","",IF(J10<VLOOKUP(I10,K:M,3,FALSE),I10,I10+1)) -> 2 | J11: =IF(G11="","",COUNTIF($I$2:I11,I11)) -> 8 | K11: 10 | L11: =VT!H16 -> 0 | M11: =L11/2 -> 0 | O11: PREMIUM | P11: presse papier | Q11: 0.57 | R11: 0.56
A12: CULTIVAR GDES CULTURES | B12: ACC | C12: STANDARD | D12: Pôle Agricole | E12: Nathalie Ternois | G12: =IF(OR(G11="",SUM(G11)+1>$M$1),"",G11+1) -> 11 | H12: =IF(OR(G11="",SUM(H11)-1<=$M$1),"",H11-1) -> 42 | I12: =IF(G12="","",IF(J11<VLOOKUP(I11,K:M,3,FALSE),I11,I11+1)) -> 3 | J12: =IF(G12="","",COUNTIF($I$2:I12,I12)) -> 1 | K12: 11 | L12: =VT!H17 -> 0 | M12: =L12/2 -> 0 | O12: PREMIUMSTUDIO | P12: presse papier | Q12: 0.25 | R12: 0.87
A13: CULTIVAR-HS (cahier gdes cultures) | B13: ACF | C13: STANDARD | D13: Pôle Agricole | E13: Nathalie Ternois | G13: =IF(OR(G12="",SUM(G12)+1>$M$1),"",G12+1) -> 12 | H13: =IF(OR(G12="",SUM(H12)-1<=$M$1),"",H12-1) -> 41 | I13: =IF(G13="","",IF(J12<VLOOKUP(I12,K:M,3,FALSE),I12,I12+1)) -> 3 | J13: =IF(G13="","",COUNTIF($I$2:I13,I13)) -> 2 | K13: 12 | L13: =VT!H18 -> 0 | M13: =L13/2 -> 0 | O13: PREMIUMCLIENT | P13: presse papier | Q13: 0.83 | R13: 0.56
A14: LES ENJEUX (CULTIVAR GC+VITI) | B14: AFC | C14: PREMIUM | D14: Pôle Agricole | E14: Nathalie Ternois | G14: =IF(OR(G13="",SUM(G13)+1>$L$1),"",G13+1) -> 13 | H14: =IF(OR(G13="",SUM(H13)-1<=$M$1),"",H13-1) -> 40 | I14: =IF(G14="","",IF(J13<VLOOKUP(I13,K:M,3,FALSE),I13,I13+1)) -> 3 | J14: =IF(G14="","",COUNTIF($I$2:I14,I14)) -> 3 | O14: PREMIUMPLUS | P14: presse papier | Q14: 0.95 | R14: 0.81
A15: CULTIVAR GDES CULTURES OS | B15: ACO | D15: Pôle Agricole | E15: Nathalie Ternois | G15: =IF(OR(G14="",SUM(G14)+1>$L$1),"",G14+1) -> 14 | H15: =IF(OR(G14="",SUM(H14)-1<1),"",H14-1) -> 39 | I15: =IF(G15="","",IF(J14<VLOOKUP(I14,K:M,3,FALSE),I14,I14+1)) -> 3 | J15: =IF(G15="","",COUNTIF($I$2:I15,I15)) -> 4 | O15: NOUVELLEFORMULE | P15: presse papier
A16: CULTIVAR LEADERS | B16: ACH | C16: STANDARD | D16: Pôle Agricole | E16: Nathalie Ternois | G16: =IF(OR(G15="",SUM(G15)+1>$L$1),"",G15+1) -> 15 | H16: =IF(OR(G15="",SUM(H15)-1<1),"",H15-1) -> 38 | I16: =IF(G16="","",IF(J15<VLOOKUP(I15,K:M,3,FALSE),I15,I15+1)) -> 3 | J16: =IF(G16="","",COUNTIF($I$2:I16,I16)) -> 5 | O16: WEBPREMIUM | P16: web éditorial | Q16: 0.75 | R16: 0.22
A17: CULTIVAR SEED BUSINESS | B17: ACG | C17: STANDARD | D17: Pôle Agricole | E17: Nathalie Ternois | G17: =IF(OR(G16="",SUM(G16)+1>$L$1),"",G16+1) -> 16 | H17: =IF(OR(G16="",SUM(H16)-1<1),"",H16-1) -> 37 | I17: =IF(G17="","",IF(J16<VLOOKUP(I16,K:M,3,FALSE),I16,I16+1)) -> 3 | J17: =IF(G17="","",COUNTIF($I$2:I17,I17)) -> 6 | O17: WEBSTANDARD | P17: web éditorial | Q17: 0.55 | R17: 0.22
A18: SUPPLÉMENT MAÏS | B18: ASM | D18: Pôle Agricole | E18: Nathalie Ternois | G18: =IF(OR(G17="",SUM(G17)+1>$L$1),"",G17+1) -> 17 | H18: =IF(OR(G17="",SUM(H17)-1<1),"",H17-1) -> 36 | I18: =IF(G18="","",IF(J17<VLOOKUP(I17,K:M,3,FALSE),I17,I17+1)) -> 3 | J18: =IF(G18="","",COUNTIF($I$2:I18,I18)) -> 7 | O18: GUIDE1000PLUS | P18: guide et annuaires | Q18: 0 | R18: 0.4
A19: CULTURE LÉGUMIÈRE | B19: AAK | C19: STANDARD | D19: Pôle Agricole | E19: Nathalie Ternois | G19: =IF(OR(G18="",SUM(G18)+1>$L$1),"",G18+1) -> 18 | H19: =IF(OR(G18="",SUM(H18)-1<1),"",H18-1) -> 35 | I19: =IF(G19="","",IF(J18<VLOOKUP(I18,K:M,3,FALSE),I18,I18+1)) -> 3 | J19: =IF(G19="","",COUNTIF($I$2:I19,I19)) -> 8 | O19: GUIDE300A1000 | P19: guide et annuaires | Q19: 0 | R19: 0.48
A20: CULTURE LÉGUMIÈRE HS | B20: AAL | D20: Pôle Agricole | E20: Nathalie Ternois | G20: =IF(OR(G19="",SUM(G19)+1>$L$1),"",G19+1) -> 19 | H20: =IF(OR(G19="",SUM(H19)-1<1),"",H19-1) -> 34 | I20: =IF(G20="","",IF(J19<VLOOKUP(I19,K:M,3,FALSE),I19,I19+1)) -> 4 | J20: =IF(G20="","",COUNTIF($I$2:I20,I20)) -> 1 | O20: GUIDEMOINS300 | P20: guide et annuaires | Q20: 0 | R20: 0.65
A21: CULTURE LÉGUMIÈRE OS | B21: AAP | D21: Pôle Agricole | E21: Nathalie Ternois | G21: =IF(OR(G20="",SUM(G20)+1>$L$1),"",G20+1) -> 20 | H21: =IF(OR(G20="",SUM(H20)-1<1),"",H20-1) -> 33 | I21: =IF(G21="","",IF(J20<VLOOKUP(I20,K:M,3,FALSE),I20,I20+1)) -> 4 | J21: =IF(G21="","",COUNTIF($I$2:I21,I21)) -> 2 | O21: GUIDEPREPROD | P21: guide et annuaires | Q21: 0 | R21: 0.7
A22: L'ARBORICULTURE FRUITIÈRE | B22: AAA | C22: STANDARD | D22: Pôle Agricole | E22: Nathalie Ternois | G22: =IF(OR(G21="",SUM(G21)+1>$L$1),"",G21+1) -> 21 | H22: =IF(OR(G21="",SUM(H21)-1<1),"",H21-1) -> 32 | I22: =IF(G22="","",IF(J21<VLOOKUP(I21,K:M,3,FALSE),I21,I21+1)) -> 4 | J22: =IF(G22="","",COUNTIF($I$2:I22,I22)) -> 3 | O22: AGENCE | P22: création autre que presse
A23: L'ARBORICULTURE FRUITIÈRE LES ENJEUX | B23: AAB | C23: STANDARD | D23: Pôle Agricole | E23: Nathalie Ternois | G23: =IF(OR(G22="",SUM(G22)+1>$L$1),"",G22+1) -> 22 | H23: =IF(OR(G22="",SUM(H22)-1<1),"",H22-1) -> 31 | I23: =IF(G23="","",IF(J22<VLOOKUP(I22,K:M,3,FALSE),I22,I22+1)) -> 4 | J23: =IF(G23="","",COUNTIF($I$2:I23,I23)) -> 4 | O23: PROMOPUBREPASSE | P23: création autre que presse | Q23: 0 | R23: 0.38
A24: L'ARBORICULTURE FRUITIERE OS | B24: AAO | D24: Pôle Agricole | E24: Nathalie Ternois | G24: =IF(OR(G23="",SUM(G23)+1>$L$1),"",G23+1) -> 23 | H24: =IF(OR(G23="",SUM(H23)-1<1),"",H23-1) -> 30 | I24: =IF(G24="","",IF(J23<VLOOKUP(I23,K:M,3,FALSE),I23,I23+1)) -> 4 | J24: =IF(G24="","",COUNTIF($I$2:I24,I24)) -> 5 | O24: PAD | P24: certifications techniques | Q24: 0 | R24: 0.17
A25: RELATIONS CULTURE | B25: ADR | C25: STANDARD | D25: Pôle Agricole | E25: Nathalie Ternois | G25: =IF(OR(G24="",SUM(G24)+1>$L$1),"",G24+1) -> 24 | H25: =IF(OR(G24="",SUM(H24)-1<1),"",H24-1) -> 29 | I25: =IF(G25="","",IF(J24<VLOOKUP(I24,K:M,3,FALSE),I24,I24+1)) -> 4 | J25: =IF(G25="","",COUNTIF($I$2:I25,I25)) -> 6 | O25: Traitement pub | P25: certifications techniques
A26: TCS | B26: ACS | C26: PREMIUMPLUS | D26: Pôle Agricole | E26: Nathalie Ternois | G26: =IF(OR(G25="",SUM(G25)+1>$L$1),"",G25+1) -> 25 | H26: =IF(OR(G25="",SUM(H25)-1<1),"",H25-1) -> 28 | I26: =IF(G26="","",IF(J25<VLOOKUP(I25,K:M,3,FALSE),I25,I25+1)) -> 4 | J26: =IF(G26="","",COUNTIF($I$2:I26,I26)) -> 7
A27: VITI TOUTES ÉDITIONS | B27: AVT | C27: STANDARD | D27: Pôle Agricole | E27: Nathalie Ternois | G27: =IF(OR(G26="",SUM(G26)+1>$L$1),"",G26+1) -> 26 | H27: =IF(OR(G26="",SUM(H26)-1<1),"",H26-1) -> 27 | I27: =IF(G27="","",IF(J26<VLOOKUP(I26,K:M,3,FALSE),I26,I26+1)) -> 4 | J27: =IF(G27="","",COUNTIF($I$2:I27,I27)) -> 8
A28: VITI ALSACE | B28: AVA | C28: STANDARD | D28: Pôle Agricole | E28: Nathalie Ternois | G28: =IF(OR(G27="",SUM(G27)+1>$L$1),"",G27+1) -> 27 | H28: =IF(OR(G27="",SUM(H27)-1<1),"",H27-1) -> 26 | I28: =IF(G28="","",IF(J27<VLOOKUP(I27,K:M,3,FALSE),I27,I27+1)) -> 5 | J28: =IF(G28="","",COUNTIF($I$2:I28,I28)) -> 1
A29: VITI LEADERS | B29: AVL | C29: STANDARD | D29: Pôle Agricole | E29: Nathalie Ternois | G29: =IF(OR(G28="",SUM(G28)+1>$L$1),"",G28+1) -> 28 | H29: =IF(OR(G28="",SUM(H28)-1<1),"",H28-1) -> 25 | I29: =IF(G29="","",IF(J28<VLOOKUP(I28,K:M,3,FALSE),I28,I28+1)) -> 6 | J29: =IF(G29="","",COUNTIF($I$2:I29,I29)) -> 1
A30: VITI HS | B30: AVH | D30: Pôle Agricole | E30: Nathalie Ternois | G30: =IF(OR(G29="",SUM(G29)+1>$L$1),"",G29+1) -> 29 | H30: =IF(OR(G29="",SUM(H29)-1<1),"",H29-1) -> 24 | I30: =IF(G30="","",IF(J29<VLOOKUP(I29,K:M,3,FALSE),I29,I29+1)) -> 7 | J30: =IF(G30="","",COUNTIF($I$2:I30,I30)) -> 1
A31: VITI OS | B31: AVO | D31: Pôle Agricole | E31: Nathalie Ternois | G31: =IF(OR(G30="",SUM(G30)+1>$L$1),"",G30+1) -> 30 | H31: =IF(OR(G30="",SUM(H30)-1<1),"",H30-1) -> 23 | I31: =IF(G31="","",IF(J30<VLOOKUP(I30,K:M,3,FALSE),I30,I30+1)) -> 8 | J31: =IF(G31="","",COUNTIF($I$2:I31,I31)) -> 1
A32: VITI SUPPLEMENT BOIS | B32: ASV | D32: Pôle Agricole | E32: Nathalie Ternois | G32: =IF(OR(G31="",SUM(G31)+1>$L$1),"",G31+1) -> 31 | H32: =IF(OR(G31="",SUM(H31)-1<1),"",H31-1) -> 22 | I32: =IF(G32="","",IF(J31<VLOOKUP(I31,K:M,3,FALSE),I31,I31+1)) -> 9 | J32: =IF(G32="","",COUNTIF($I$2:I32,I32)) -> 1
A33: VITI VINS EFFERVESCENT | B33: AVZ | C33: STANDARD | D33: Pôle Agricole | E33: Nathalie Ternois | G33: =IF(OR(G32="",SUM(G32)+1>$L$1),"",G32+1) -> 32 | H33: =IF(OR(G32="",SUM(H32)-1<1),"",H32-1) -> 21 | I33: =IF(G33="","",IF(J32<VLOOKUP(I32,K:M,3,FALSE),I32,I32+1)) -> 10 | J33: =IF(G33="","",COUNTIF($I$2:I33,I33)) -> 1
G34: =IF(OR(G33="",SUM(G33)+1>$L$1),"",G33+1) -> 33 | H34: =IF(OR(G33="",SUM(H33)-1<1),"",H33-1) -> 20 | I34: =IF(G34="","",IF(J33<VLOOKUP(I33,K:M,3,FALSE),I33,I33+1)) -> 11 | J34: =IF(G34="","",COUNTIF($I$2:I34,I34)) -> 1
A35: CHASSEUR COTE D'OR | B35: CDB21 | C35: PREMIUMSTUDIO | D35: Pôle Artisanat & Econo. | E35: Stéphane Schmitt | G35: =IF(OR(G34="",SUM(G34)+1>$L$1),"",G34+1) -> 34 | H35: =IF(OR(G34="",SUM(H34)-1<1),"",H34-1) -> 19 | I35: =IF(G35="","",IF(J34<VLOOKUP(I34,K:M,3,FALSE),I34,I34+1)) -> 12 | J35: =IF(G35="","",COUNTIF($I$2:I35,I35)) -> 1
A36: CHASSEUR EST ED° MEURTHE | B36: CDE54 | C36: PREMIUMSTUDIO | D36: Pôle Artisanat & Econo. | E36: Stéphane Schmitt | G36: =IF(OR(G35="",SUM(G35)+1>$L$1),"",G35+1) -> 35 | H36: =IF(OR(G35="",SUM(H35)-1<1),"",H35-1) -> 18 | I36: =IF(G36="","",IF(J35<VLOOKUP(I35,K:M,3,FALSE),I35,I35+1)) -> 13 | J36: =IF(G36="","",COUNTIF($I$2:I36,I36)) -> 1
A37: CHASSEUR EST ED° MEUSE | B37: CDE55 | C37: PREMIUMSTUDIO | D37: Pôle Artisanat & Econo. | E37: Stéphane Schmitt | G37: =IF(OR(G36="",SUM(G36)+1>$L$1),"",G36+1) -> 36 | H37: =IF(OR(G36="",SUM(H36)-1<1),"",H36-1) -> 17 | I37: =IF(G37="","",IF(J36<VLOOKUP(I36,K:M,3,FALSE),I36,I36+1)) -> #N/A | J37: =IF(G37="","",COUNTIF($I$2:I37,I37)) -> 1
A38: CHASSEUR EST ED° VOSGES | B38: CDE88 | C38: PREMIUMSTUDIO | D38: Pôle Artisanat & Econo. | E38: Stéphane Schmitt | G38: =IF(OR(G37="",SUM(G37)+1>$L$1),"",G37+1) -> 37 | H38: =IF(OR(G37="",SUM(H37)-1<1),"",H37-1) -> 16 | I38: =IF(G38="","",IF(J37<VLOOKUP(I37,K:M,3,FALSE),I37,I37+1)) -> #N/A | J38: =IF(G38="","",COUNTIF($I$2:I38,I38)) -> 2
A39: CHASSEUR EST TOUTE ED° | B39: CDE | C39: PREMIUMSTUDIO | D39: Pôle Artisanat & Econo. | E39: Stéphane Schmitt | G39: =IF(OR(G38="",SUM(G38)+1>$L$1),"",G38+1) -> 38 | H39: =IF(OR(G38="",SUM(H38)-1<1),"",H38-1) -> 15 | I39: =IF(G39="","",IF(J38<VLOOKUP(I38,K:M,3,FALSE),I38,I38+1)) -> #N/A | J39: =IF(G39="","",COUNTIF($I$2:I39,I39)) -> 3
A40: CHASSEUR L'EST ED° MOSELLE | B40: CDE57 | C40: PREMIUMSTUDIO | D40: Pôle Artisanat & Econo. | E40: Stéphane Schmitt | G40: =IF(OR(G39="",SUM(G39)+1>$L$1),"",G39+1) -> 39 | H40: =IF(OR(G39="",SUM(H39)-1<1),"",H39-1) -> 14 | I40: =IF(G40="","",IF(J39<VLOOKUP(I39,K:M,3,FALSE),I39,I39+1)) -> #N/A | J40: =IF(G40="","",COUNTIF($I$2:I40,I40)) -> 4
...

Sheet VT VISUEL
U1: Page auto promo disposnible
R2: Chemin de fer VITI DATE JANVIER n°457 | U2: ABO VITI Leader
R3: Date de BAT / bouclage | U3: Page site web VITI
R4: Date pli imprimeur
A5: Rubrique | D5: =IF(ISBLANK(D9),"",IF(VLOOKUP(D9,table,6,0)=0,"",(VLOOKUP(D9,table,6,0)))) -> Couverture | E5: =IF(ISBLANK(E9),"",IF(VLOOKUP(E9,table,6,0)=0,"",(VLOOKUP(E9,table,6,0)))) | F5: =IF(ISBLANK(F9),"",IF(VLOOKUP(F9,table,6,0)=0,"",(VLOOKUP(F9,table,6,0)))) | G5: =IF(ISBLANK(G9),"",IF(VLOOKUP(G9,table,6,0)=0,"",(VLOOKUP(G9,table,6,0)))) | H5: =IF(ISBLANK(H9),"",IF(VLOOKUP(H9,table,6,0)=0,"",(VLOOKUP(H9,table,6,0)))) | I5: =IF(ISBLANK(I9),"",IF(VLOOKUP(I9,table,6,0)=0,"",(VLOOKUP(I9,table,6,0)))) | J5: =IF(ISBLANK(J9),"",IF(VLOOKUP(J9,table,6,0)=0,"",(VLOOKUP(J9,table,6,0)))) | K5: =IF(ISBLANK(K9),"",IF(VLOOKUP(K9,table,6,0)=0,"",(VLOOKUP(K9,table,6,0)))) | L5: =IF(ISBLANK(L9),"",IF(VLOOKUP(L9,table,6,0)=0,"",(VLOOKUP(L9,table,6,0))))
A6: Sujet | D6: =IF(ISBLANK(D9),"",IF(VLOOKUP(D9,table,8,0)=0,"",(VLOOKUP(D9,table,8,0)))) -> UNE | E6: =IF(ISBLANK(E9),"",IF(VLOOKUP(E9,table,8,0)=0,"",(VLOOKUP(E9,table,8,0)))) | F6: =IF(ISBLANK(F9),"",IF(VLOOKUP(F9,table,8,0)=0,"",(VLOOKUP(F9,table,8,0)))) | G6: =IF(ISBLANK(G9),"",IF(VLOOKUP(G9,table,8,0)=0,"",(VLOOKUP(G9,table,8,0)))) | H6: =IF(ISBLANK(H9),"",IF(VLOOKUP(H9,table,8,0)=0,"",(VLOOKUP(H9,table,8,0)))) -> ÉDITO | I6: =IF(ISBLANK(I9),"",IF(VLOOKUP(I9,table,8,0)=0,"",(VLOOKUP(I9,table,8,0)))) | J6: =IF(ISBLANK(J9),"",IF(VLOOKUP(J9,table,8,0)=0,"",(VLOOKUP(J9,table,8,0)))) | K6: =IF(ISBLANK(K9),"",IF(VLOOKUP(K9,table,8,0)=0,"",(VLOOKUP(K9,table,8,0)))) | L6: =IF(ISBLANK(L9),"",IF(VLOOKUP(L9,table,8,0)=0,"",(VLOOKUP(L9,table,8,0)))) | W6: couleurs | X6: blanc | Y6: redac
A7: Pub | D7: =IF(ISBLANK(D9),"",IF(VLOOKUP(D9,table,16,0)=0,"",(VLOOKUP(D9,table,16,0)))) | E7: =IF(ISBLANK(E9),"",IF(VLOOKUP(E9,table,16,0)=0,"",(VLOOKUP(E9,table,16,0)))) | F7: =IF(ISBLANK(F9),"",IF(VLOOKUP(F9,table,16,0)=0,"",(VLOOKUP(F9,table,16,0)))) -> INFACO | G7: =IF(ISBLANK(G9),"",IF(VLOOKUP(G9,table,16,0)=0,"",(VLOOKUP(G9,table,16,0)))) | H7: =IF(ISBLANK(H9),"",IF(VLOOKUP(H9,table,16,0)=0,"",(VLOOKUP(H9,table,16,0)))) | I7: =IF(ISBLANK(I9),"",IF(VLOOKUP(I9,table,16,0)=0,"",(VLOOKUP(I9,table,16,0)))) | J7: =IF(ISBLANK(J9),"",IF(VLOOKUP(J9,table,16,0)=0,"",(VLOOKUP(J9,table,16,0)))) -> NUFARM | K7: =IF(ISBLANK(K9),"",IF(VLOOKUP(K9,table,16,0)=0,"",(VLOOKUP(K9,table,16,0)))) | L7: =IF(ISBLANK(L9),"",IF(VLOOKUP(L9,table,16,0)=0,"",(VLOOKUP(L9,table,16,0)))) -> PELLENC | X7: gris | Y7: pub
A8: AG | D8: =IF(ISBLANK(D9),"",IF(VLOOKUP(D9,table,32,0)=0,"",(VLOOKUP(D9,table,32,0)))) | E8: =IF(ISBLANK(E9),"",IF(VLOOKUP(E9,table,32,0)=0,"",(VLOOKUP(E9,table,32,0)))) | F8: =IF(ISBLANK(F9),"",IF(VLOOKUP(F9,table,32,0)=0,"",(VLOOKUP(F9,table,32,0)))) -> 1 | G8: =IF(ISBLANK(G9),"",IF(VLOOKUP(G9,table,32,0)=0,"",(VLOOKUP(G9,table,32,0)))) | H8: =IF(ISBLANK(H9),"",IF(VLOOKUP(H9,table,32,0)=0,"",(VLOOKUP(H9,table,32,0)))) | I8: =IF(ISBLANK(I9),"",IF(VLOOKUP(I9,table,32,0)=0,"",(VLOOKUP(I9,table,32,0)))) | J8: =IF(ISBLANK(J9),"",IF(VLOOKUP(J9,table,32,0)=0,"",(VLOOKUP(J9,table,32,0)))) -> 1 | K8: =IF(ISBLANK(K9),"",IF(VLOOKUP(K9,table,32,0)=0,"",(VLOOKUP(K9,table,32,0)))) | L8: =IF(ISBLANK(L9),"",IF(VLOOKUP(L9,table,32,0)=0,"",(VLOOKUP(L9,table,32,0)))) -> 1 | X8: verte | Y8: rien
A9: N°Page | D9: 1 | F9: 2 | H9: 3 | J9: 51 | L9: 52
B14: =IF(ISBLANK(B18),"",IF(VLOOKUP(B18,table,6,0)=0,"",(VLOOKUP(B18,table,6,0)))) | C14: =IF(ISBLANK(C18),"",IF(VLOOKUP(C18,table,6,0)=0,"",(VLOOKUP(C18,table,6,0)))) | D14: =IF(ISBLANK(D18),"",IF(VLOOKUP(D18,table,6,0)=0,"",(VLOOKUP(D18,table,6,0)))) | E14: =IF(ISBLANK(E18),"",IF(VLOOKUP(E18,table,6,0)=0,"",(VLOOKUP(E18,table,6,0)))) | F14: =IF(ISBLANK(F18),"",IF(VLOOKUP(F18,table,6,0)=0,"",(VLOOKUP(F18,table,6,0)))) -> S'INFORMER | G14: =IF(ISBLANK(G18),"",IF(VLOOKUP(G18,table,6,0)=0,"",(VLOOKUP(G18,table,6,0)))) | H14: =IF(ISBLANK(H18),"",IF(VLOOKUP(H18,table,6,0)=0,"",(VLOOKUP(H18,table,6,0)))) | I14: =IF(ISBLANK(I18),"",IF(VLOOKUP(I18,table,6,0)=0,"",(VLOOKUP(I18,table,6,0)))) | ... AD14: =IF(ISBLANK(AD18),"",IF(VLOOKUP(AD18,table,6,0)=0,"",(VLOOKUP(AD18,table,6,0))))
B15: =IF(ISBLANK(B18),"",IF(VLOOKUP(B18,table,8,0)=0,"",(VLOOKUP(B18,table,8,0)))) -> SOMMAIRE | C15: =IF(ISBLANK(C18),"",IF(VLOOKUP(C18,table,8,0)=0,"",(VLOOKUP(C18,table,8,0)))) | D15: =IF(ISBLANK(D18),"",IF(VLOOKUP(D18,table,8,0)=0,"",(VLOOKUP(D18,table,8,0)))) | E15: =IF(ISBLANK(E18),"",IF(VLOOKUP(E18,table,8,0)=0,"",(VLOOKUP(E18,table,8,0)))) | F15: =IF(ISBLANK(F18),"",IF(VLOOKUP(F18,table,8,0)=0,"",(VLOOKUP(F18,table,8,0)))) -> Actus nationales | G15: =IF(ISBLANK(G18),"",IF(VLOOKUP(G18,table,8,0)=0,"",(VLOOKUP(G18,table,8,0)))) | H15: =IF(ISBLANK(H18),"",IF(VLOOKUP(H18,table,8,0)=0,"",(VLOOKUP(H18,table,8,0)))) | I15: =IF(ISBLANK(I18),"",IF(VLOOKUP(I18,table,8,0)=0,"",(VLOOKUP(I18,table,8,0)))) | ... AD15: =IF(ISBLANK(AD18),"",IF(VLOOKUP(AD18,table,8,0)=0,"",(VLOOKUP(AD18,table,8,0)))) -> Château Latour
B16: =IF(ISBLANK(B18),"",IF(VLOOKUP(B18,table,16,0)=0,"",(VLOOKUP(B18,table,16,0)))) | C16: =IF(ISBLANK(C18),"",IF(VLOOKUP(C18,table,16,0)=0,"",(VLOOKUP(C18,table,16,0)))) | D16: =IF(ISBLANK(D18),"",IF(VLOOKUP(D18,table,16,0)=0,"",(VLOOKUP(D18,table,16,0)))) -> CORTEVA | E16: =IF(ISBLANK(E18),"",IF(VLOOKUP(E18,table,16,0)=0,"",(VLOOKUP(E18,table,16,0)))) | F16: =IF(ISBLANK(F18),"",IF(VLOOKUP(F18,table,16,0)=0,"",(VLOOKUP(F18,table,16,0)))) | G16: =IF(ISBLANK(G18),"",IF(VLOOKUP(G18,table,16,0)=0,"",(VLOOKUP(G18,table,16,0)))) | H16: =IF(ISBLANK(H18),"",IF(VLOOKUP(H18,table,16,0)=0,"",(VLOOKUP(H18,table,16,0)))) -> CORTEVA | I16: =IF(ISBLANK(I18),"",IF(VLOOKUP(I18,table,16,0)=0,"",(VLOOKUP(I18,table,16,0)))) | ... AD16: =IF(ISBLANK(AD18),"",IF(VLOOKUP(AD18,table,16,0)=0,"",(VLOOKUP(AD18,table,16,0))))
B17: =IF(ISBLANK(B18),"",IF(VLOOKUP(B18,table,32,0)=0,"",(VLOOKUP(B18,table,32,0)))) | C17: =IF(ISBLANK(C18),"",IF(VLOOKUP(C18,table,32,0)=0,"",(VLOOKUP(C18,table,32,0)))) | D17: =IF(ISBLANK(D18),"",IF(VLOOKUP(D18,table,32,0)=0,"",(VLOOKUP(D18,table,32,0)))) -> 1 | E17: =IF(ISBLANK(E18),"",IF(VLOOKUP(E18,table,32,0)=0,"",(VLOOKUP(E18,table,32,0)))) | F17: =IF(ISBLANK(F18),"",IF(VLOOKUP(F18,table,32,0)=0,"",(VLOOKUP(F18,table,32,0)))) | G17: =IF(ISBLANK(G18),"",IF(VLOOKUP(G18,table,32,0)=0,"",(VLOOKUP(G18,table,32,0)))) | H17: =IF(ISBLANK(H18),"",IF(VLOOKUP(H18,table,32,0)=0,"",(VLOOKUP(H18,table,32,0)))) -> 1 | I17: =IF(ISBLANK(I18),"",IF(VLOOKUP(I18,table,32,0)=0,"",(VLOOKUP(I18,table,32,0)))) | ... AD17: =IF(ISBLANK(AD18),"",IF(VLOOKUP(AD18,table,32,0)=0,"",(VLOOKUP(AD18,table,32,0))))
B18: 4 | D18: 5 | F18: 6 | H18: 7 | J18: 8 | L18: 9 | N18: 10 | P18: 11 | R18: 12 | S18: 13 | U18: 14 | W18: 15 | Y18: 16 | AA18: 17 | AC18: 18 | AD18: 19
B20: =IF(ISBLANK(B24),"",IF(VLOOKUP(B24,table,6,0)=0,"",(VLOOKUP(B24,table,6,0)))) | C20: =IF(ISBLANK(C24),"",IF(VLOOKUP(C24,table,6,0)=0,"",(VLOOKUP(C24,table,6,0)))) | D20: =IF(ISBLANK(D24),"",IF(VLOOKUP(D24,table,6,0)=0,"",(VLOOKUP(D24,table,6,0)))) | E20: =IF(ISBLANK(E24),"",IF(VLOOKUP(E24,table,6,0)=0,"",(VLOOKUP(E24,table,6,0)))) | F20: =IF(ISBLANK(F24),"",IF(VLOOKUP(F24,table,6,0)=0,"",(VLOOKUP(F24,table,6,0)))) | G20: =IF(ISBLANK(G24),"",IF(VLOOKUP(G24,table,6,0)=0,"",(VLOOKUP(G24,table,6,0)))) | H20: =IF(ISBLANK(H24),"",IF(VLOOKUP(H24,table,6,0)=0,"",(VLOOKUP(H24,table,6,0)))) | I20: =IF(ISBLANK(I24),"",IF(VLOOKUP(I24,table,6,0)=0,"",(VLOOKUP(I24,table,6,0)))) | ... AD20: =IF(ISBLANK(AD24),"",IF(VLOOKUP(AD24,table,6,0)=0,"",(VLOOKUP(AD24,table,6,0))))
B21: =IF(ISBLANK(B24),"",IF(VLOOKUP(B24,table,8,0)=0,"",(VLOOKUP(B24,table,8,0)))) -> Château Latour | C21: =IF(ISBLANK(C24),"",IF(VLOOKUP(C24,table,8,0)=0,"",(VLOOKUP(C24,table,8,0)))) | D21: =IF(ISBLANK(D24),"",IF(VLOOKUP(D24,table,8,0)=0,"",(VLOOKUP(D24,table,8,0)))) -> Château Latour | E21: =IF(ISBLANK(E24),"",IF(VLOOKUP(E24,table,8,0)=0,"",(VLOOKUP(E24,table,8,0)))) | F21: =IF(ISBLANK(F24),"",IF(VLOOKUP(F24,table,8,0)=0,"",(VLOOKUP(F24,table,8,0)))) -> Terra Vitis et AB | G21: =IF(ISBLANK(G24),"",IF(VLOOKUP(G24,table,8,0)=0,"",(VLOOKUP(G24,table,8,0)))) | H21: =IF(ISBLANK(H24),"",IF(VLOOKUP(H24,table,8,0)=0,"",(VLOOKUP(H24,table,8,0)))) -> Terra Vitis et AB | I21: =IF(ISBLANK(I24),"",IF(VLOOKUP(I24,table,8,0)=0,"",(VLOOKUP(I24,table,8,0)))) | ... AD21: =IF(ISBLANK(AD24),"",IF(VLOOKUP(AD24,table,8,0)=0,"",(VLOOKUP(AD24,table,8,0))))
B22: =IF(ISBLANK(B24),"",IF(VLOOKUP(B24,table,16,0)=0,"",(VLOOKUP(B24,table,16,0)))) | C22: =IF(ISBLANK(C24),"",IF(VLOOKUP(C24,table,16,0)=0,"",(VLOOKUP(C24,table,16,0)))) | D22: =IF(ISBLANK(D24),"",IF(VLOOKUP(D24,table,16,0)=0,"",(VLOOKUP(D24,table,16,0)))) | E22: =IF(ISBLANK(E24),"",IF(VLOOKUP(E24,table,16,0)=0,"",(VLOOKUP(E24,table,16,0)))) | F22: =IF(ISBLANK(F24),"",IF(VLOOKUP(F24,table,16,0)=0,"",(VLOOKUP(F24,table,16,0)))) | G22: =IF(ISBLANK(G24),"",IF(VLOOKUP(G24,table,16,0)=0,"",(VLOOKUP(G24,table,16,0)))) | H22: =IF(ISBLANK(H24),"",IF(VLOOKUP(H24,table,16,0)=0,"",(VLOOKUP(H24,table,16,0)))) | I22: =IF(ISBLANK(I24),"",IF(VLOOKUP(I24,table,16,0)=0,"",(VLOOKUP(I24,table,16,0)))) | ... AD22: =IF(ISBLANK(AD24),"",IF(VLOOKUP(AD24,table,16,0)=0,"",(VLOOKUP(AD24,table,16,0)))) -> AP GTP
B23: =IF(ISBLANK(B24),"",IF(VLOOKUP(B24,table,32,0)=0,"",(VLOOKUP(B24,table,32,0)))) | C23: =IF(ISBLANK(C24),"",IF(VLOOKUP(C24,table,32,0)=0,"",(VLOOKUP(C24,table,32,0)))) | D23: =IF(ISBLANK(D24),"",IF(VLOOKUP(D24,table,32,0)=0,"",(VLOOKUP(D24,table,32,0)))) | E23: =IF(ISBLANK(E24),"",IF(VLOOKUP(E24,table,32,0)=0,"",(VLOOKUP(E24,table,32,0)))) | F23: =IF(ISBLANK(F24),"",IF(VLOOKUP(F24,table,32,0)=0,"",(VLOOKUP(F24,table,32,0)))) | G23: =IF(ISBLANK(G24),"",IF(VLOOKUP(G24,table,32,0)=0,"",(VLOOKUP(G24,table,32,0)))) | H23: =IF(ISBLANK(H24),"",IF(VLOOKUP(H24,table,32,0)=0,"",(VLOOKUP(H24,table,32,0)))) | I23: =IF(ISBLANK(I24),"",IF(VLOOKUP(I24,table,32,0)=0,"",(VLOOKUP(I24,table,32,0)))) | ... AD23: =IF(ISBLANK(AD24),"",IF(VLOOKUP(AD24,table,32,0)=0,"",(VLOOKUP(AD24,table,32,0))))
B24: 20 | D24: 21 | F24: 22 | H24: 23 | J24: 24 | L24: 25 | N24: 26 | P24: 27 | R24: 28 | S24: 29 | U24: 30 | W24: 31 | Y24: 32 | AA24: 33 | AC24: 34 | AD24: 35
B27: =IF(ISBLANK(B31),"",IF(VLOOKUP(B31,table,6,0)=0,"",(VLOOKUP(B31,table,6,0)))) -> DOSSIER | C27: =IF(ISBLANK(C31),"",IF(VLOOKUP(C31,table,6,0)=0,"",(VLOOKUP(C31,table,6,0)))) | D27: =IF(ISBLANK(D31),"",IF(VLOOKUP(D31,table,6,0)=0,"",(VLOOKUP(D31,table,6,0)))) | E27: =IF(ISBLANK(E31),"",IF(VLOOKUP(E31,table,6,0)=0,"",(VLOOKUP(E31,table,6,0)))) | F27: =IF(ISBLANK(F31),"",IF(VLOOKUP(F31,table,6,0)=0,"",(VLOOKUP(F31,table,6,0)))) | G27: =IF(ISBLANK(G31),"",IF(VLOOKUP(G31,table,6,0)=0,"",(VLOOKUP(G31,table,6,0)))) | H27: =IF(ISBLANK(H31),"",IF(VLOOKUP(H31,table,6,0)=0,"",(VLOOKUP(H31,table,6,0)))) | I27: =IF(ISBLANK(I31),"",IF(VLOOKUP(I31,table,6,0)=0,"",(VLOOKUP(I31,table,6,0)))) | ... AC27: =IF(ISBLANK(AC31),"",IF(VLOOKUP(AC31,table,6,0)=0,"",(VLOOKUP(AC31,table,6,0)))) -> MODULES
B28: =IF(ISBLANK(B31),"",IF(VLOOKUP(B31,table,8,0)=0,"",(VLOOKUP(B31,table,8,0)))) -> Ouverture : Palmarès Vinitech | C28: =IF(ISBLANK(C31),"",IF(VLOOKUP(C31,table,8,0)=0,"",(VLOOKUP(C31,table,8,0)))) | D28: =IF(ISBLANK(D31),"",IF(VLOOKUP(D31,table,8,0)=0,"",(VLOOKUP(D31,table,8,0)))) -> Palmarès Vinitech | E28: =IF(ISBLANK(E31),"",IF(VLOOKUP(E31,table,8,0)=0,"",(VLOOKUP(E31,table,8,0)))) | F28: =IF(ISBLANK(F31),"",IF(VLOOKUP(F31,table,8,0)=0,"",(VLOOKUP(F31,table,8,0)))) -> Palmarès Vinitech | G28: =IF(ISBLANK(G31),"",IF(VLOOKUP(G31,table,8,0)=0,"",(VLOOKUP(G31,table,8,0)))) | H28: =IF(ISBLANK(H31),"",IF(VLOOKUP(H31,table,8,0)=0,"",(VLOOKUP(H31,table,8,0)))) -> Palmarès Vinitech | I28: =IF(ISBLANK(I31),"",IF(VLOOKUP(I31,table,8,0)=0,"",(VLOOKUP(I31,table,8,0)))) | ... AC28: =IF(ISBLANK(AC31),"",IF(VLOOKUP(AC31,table,8,0)=0,"",(VLOOKUP(AC31,table,8,0))))
B29: =IF(ISBLANK(B31),"",IF(VLOOKUP(B31,table,16,0)=0,"",(VLOOKUP(B31,table,16,0)))) | C29: =IF(ISBLANK(C31),"",IF(VLOOKUP(C31,table,16,0)=0,"",(VLOOKUP(C31,table,16,0)))) | D29: =IF(ISBLANK(D31),"",IF(VLOOKUP(D31,table,16,0)=0,"",(VLOOKUP(D31,table,16,0)))) | E29: =IF(ISBLANK(E31),"",IF(VLOOKUP(E31,table,16,0)=0,"",(VLOOKUP(E31,table,16,0)))) | F29: =IF(ISBLANK(F31),"",IF(VLOOKUP(F31,table,16,0)=0,"",(VLOOKUP(F31,table,16,0)))) | G29: =IF(ISBLANK(G31),"",IF(VLOOKUP(G31,table,16,0)=0,"",(VLOOKUP(G31,table,16,0)))) | H29: =IF(ISBLANK(H31),"",IF(VLOOKUP(H31,table,16,0)=0,"",(VLOOKUP(H31,table,16,0)))) | I29: =IF(ISBLANK(I31),"",IF(VLOOKUP(I31,table,16,0)=0,"",(VLOOKUP(I31,table,16,0)))) | ... AC29: =IF(ISBLANK(AC31),"",IF(VLOOKUP(AC31,table,16,0)=0,"",(VLOOKUP(AC31,table,16,0)))) -> Écho des fournisseurs
B30: =IF(ISBLANK(B31),"",IF(VLOOKUP(B31,table,32,0)=0,"",(VLOOKUP(B31,table,32,0)))) | C30: =IF(ISBLANK(C31),"",IF(VLOOKUP(C31,table,32,0)=0,"",(VLOOKUP(C31,table,32,0)))) | D30: =IF(ISBLANK(D31),"",IF(VLOOKUP(D31,table,32,0)=0,"",(VLOOKUP(D31,table,32,0)))) -> 1 | E30: =IF(ISBLANK(E31),"",IF(VLOOKUP(E31,table,32,0)=0,"",(VLOOKUP(E31,table,32,0)))) | F30: =IF(ISBLANK(F31),"",IF(VLOOKUP(F31,table,32,0)=0,"",(VLOOKUP(F31,table,32,0)))) | G30: =IF(ISBLANK(G31),"",IF(VLOOKUP(G31,table,32,0)=0,"",(VLOOKUP(G31,table,32,0)))) | H30: =IF(ISBLANK(H31),"",IF(VLOOKUP(H31,table,32,0)=0,"",(VLOOKUP(H31,table,32,0)))) -> 1 | I30: =IF(ISBLANK(I31),"",IF(VLOOKUP(I31,table,32,0)=0,"",(VLOOKUP(I31,table,32,0)))) | ... AC30: =IF(ISBLANK(AC31),"",IF(VLOOKUP(AC31,table,32,0)=0,"",(VLOOKUP(AC31,table,32,0))))
B31: 36 | D31: 37 | F31: 38 | H31: 39 | J31: 40 | L31: 41 | N31: 42 | P31: 43 | R31: 44 | S31: 45 | U31: 46 | W31: 47 | Y31: 48 | AA31: 49 | AC31: 50
