Workbook

Sheet Purchased
C1: 44129 | D1: 44160 | E1: 44187 | F1: 44221 | G1: 44252 | H1: 44280 | I1: 44309 | J1: 44341 | K1: 44369 | L1: 44400 | M1: 44433 | N1: 44464
C2: 5081000 | D2: 2919000 | E2: 3116000 | F2: 531000 | G2: 3700000 | H2: 2235000 | I2: 1748000 | J2: 1189000 | K2: 1333000 | L2: 1116000 | M2: 1399000 | N2: -564000
C3: 2919000 | D3: 2919000 | E3: -45000 | F3: -58000 | G3: -59000 | H3: -67000 | I3: -34000 | J3: -34000 | K3: -35000 | L3: -35000 | M3: -34000 | N3: -29000

Sheet To be purchased theo
C1: 44129 | D1: 44160 | E1: 44187 | F1: 44221 | G1: 44252 | H1: 44280 | I1: 44309 | J1: 44341 | K1: 44369 | L1: 44400 | M1: 44433 | N1: 44464
C2: 3064000 | D2: -3877000 | E2: 2128000 | F2: 1278000 | G2: 4341000 | H2: 3733000 | I2: 2526000 | J2: 1405000 | K2: 2244000 | L2: 2756000 | M2: 2308000 | N2: 1157000
C3: -3877000 | D3: -3877000 | E3: -43000 | F3: -48000 | G3: -33000 | H3: -46000 | I3: -28000 | J3: -30000 | K3: -23000 | L3: -27000 | M3: -29000 | N3: -21000

Sheet <<OUTPUT

Sheet To purchase
C1: 0.8 | D1: 0.8 | E1: 0.8 | F1: 0.8 | G1: 0.8 | H1: 0.8 | I1: 0.5 | J1: 0.5 | K1: 0.5 | L1: 0.5 | M1: 0.5 | N1: 0.5
C2: 44129 | D2: 44160 | E2: 44187 | F2: 44221 | G2: 44252 | H2: 44280 | I2: 44309 | J2: 44341 | K2: 44369 | L2: 44400 | M2: 44433 | N2: 44464
C3: =+IF(ABS('To be purchased theo'!C2)<ABS(Purchased!C2),'To be purchased theo'!C2/C$1-Purchased!C2,'To be purchased theo'!C2-Purchased!C2) -> -1251000 | D3: =+IF(ABS('To be purchased theo'!D2)<ABS(Purchased!D2),'To be purchased theo'!D2/D$1-Purchased!D2,'To be purchased theo'!D2-Purchased!D2) -> -6796000 | E3: =+IF(ABS('To be purchased theo'!E2)<ABS(Purchased!E2),'To be purchased theo'!E2/E$1-Purchased!E2,'To be purchased theo'!E2-Purchased!E2) -> -456000 | F3: =+IF(ABS('To be purchased theo'!F2)<ABS(Purchased!F2),'To be purchased theo'!F2/F$1-Purchased!F2,'To be purchased theo'!F2-Purchased!F2) -> 747000 | G3: =+IF(ABS('To be purchased theo'!G2)<ABS(Purchased!G2),'To be purchased theo'!G2/G$1-Purchased!G2,'To be purchased theo'!G2-Purchased!G2) -> 641000 | H3: =+IF(ABS('To be purchased theo'!H2)<ABS(Purchased!H2),'To be purchased theo'!H2/H$1-Purchased!H2,'To be purchased theo'!H2-Purchased!H2) -> 1498000 | I3: =+IF(ABS('To be purchased theo'!I2)<ABS(Purchased!I2),'To be purchased theo'!I2/I$1-Purchased!I2,'To be purchased theo'!I2-Purchased!I2) -> 778000 | J3: =+IF(ABS('To be purchased theo'!J2)<ABS(Purchased!J2),'To be purchased theo'!J2/J$1-Purchased!J2,'To be purchased theo'!J2-Purchased!J2) -> 216000 | ... N3: =+IF(ABS('To be purchased theo'!N2)<ABS(Purchased!N2),'To be purchased theo'!N2/N$1-Purchased!N2,'To be purchased theo'!N2-Purchased!N2) -> 1721000
C4: =+IF(ABS('To be purchased theo'!C3)<ABS(Purchased!C3),'To be purchased theo'!C3/C$1-Purchased!C3,'To be purchased theo'!C3-Purchased!C3) -> -6796000 | D4: =+IF(ABS('To be purchased theo'!D3)<ABS(Purchased!D3),'To be purchased theo'!D3/D$1-Purchased!D3,'To be purchased theo'!D3-Purchased!D3) -> -6796000 | E4: =+IF(ABS('To be purchased theo'!E3)<ABS(Purchased!E3),'To be purchased theo'!E3/E$1-Purchased!E3,'To be purchased theo'!E3-Purchased!E3) -> -8750 | F4: =+IF(ABS('To be purchased theo'!F3)<ABS(Purchased!F3),'To be purchased theo'!F3/F$1-Purchased!F3,'To be purchased theo'!F3-Purchased!F3) -> -2000 | G4: =+IF(ABS('To be purchased theo'!G3)<ABS(Purchased!G3),'To be purchased theo'!G3/G$1-Purchased!G3,'To be purchased theo'!G3-Purchased!G3) -> 17750 | H4: =+IF(ABS('To be purchased theo'!H3)<ABS(Purchased!H3),'To be purchased theo'!H3/H$1-Purchased!H3,'To be purchased theo'!H3-Purchased!H3) -> 9500 | I4: =+IF(ABS('To be purchased theo'!I3)<ABS(Purchased!I3),'To be purchased theo'!I3/I$1-Purchased!I3,'To be purchased theo'!I3-Purchased!I3) -> -22000 | J4: =+IF(ABS('To be purchased theo'!J3)<ABS(Purchased!J3),'To be purchased theo'!J3/J$1-Purchased!J3,'To be purchased theo'!J3-Purchased!J3) -> -26000 | ... N4: =+IF(ABS('To be purchased theo'!N3)<ABS(Purchased!N3),'To be purchased theo'!N3/N$1-Purchased!N3,'To be purchased theo'!N3-Purchased!N3) -> -13000
