Workbook
Name DatatTable: #REF!
Name r.1: #REF!
Name RowData: #REF!

Sheet Recopie incrémentée
B3: En D9 et en D10 j'obtiens C7 et D7 au lieu de C6 et D6
B7: CHRS Aqueduc | C7: ='Mes données à récuperer'!C4 -> M | D7: ='Mes données à récuperer'!C5 -> 25
B8: CHRS Aqueduc | C8: ='Mes données à récuperer'!D4 -> S | D8: ='Mes données à récuperer'!D5 -> 0
B9: CHS CAMARA | C9: ='Mes données à récuperer'!C6 -> 0 | D9: ='Mes données à récuperer'!C7 -> 0
B10: CHS CAMARA | C10: ='Mes données à récuperer'!D6 -> 0 | D10: ='Mes données à récuperer'!D7 -> 0
B11: CHU Chrysalide | C11: ='Mes données à récuperer'!C8 -> 7 | D11: ='Mes données à récuperer'!C9 -> 0
B12: CHU Chrysalide | C12: ='Mes données à récuperer'!D8 -> 0 | D12: ='Mes données à récuperer'!D9 -> 0
B13: Acceuil de jour Wilson(Barquette) | C13: ='Mes données à récuperer'!C10 -> 0 | D13: ='Mes données à récuperer'!C11 -> 0
B14: Acceuil de jour Wilson(Barquette) | C14: ='Mes données à récuperer'!D10 -> 0 | D14: ='Mes données à récuperer'!D11 -> 0
B15: CHRS Notre Dame (Barquette) | C15: ='Mes données à récuperer'!C12 -> 0 | D15: ='Mes données à récuperer'!C13 -> 0
B16: CHRS Notre Dame (Barquette) | C16: ='Mes données à récuperer'!D12 -> 0 | D16: ='Mes données à récuperer'!D13 -> 20
B17: CHRS Mortemets (Barquette) | C17: ='Mes données à récuperer'!C14 -> 0 | D17: ='Mes données à récuperer'!C15 -> 0
B18: CHRS Mortemets (Barquette) | C18: ='Mes données à récuperer'!D14 -> 35 | D18: ='Mes données à récuperer'!D15 -> 0
B19: CRHS Notre Dame | C19: ='Mes données à récuperer'!C16 -> 0 | D19: ='Mes données à récuperer'!C17 -> 87
B20: CRHS Notre Dame | C20: ='Mes données à récuperer'!D16 -> 0 | D20: ='Mes données à récuperer'!D17 -> 0
B21: CHRS L'Etape | C21: ='Mes données à récuperer'!C18 -> 0 | D21: ='Mes données à récuperer'!C19 -> 0
B22: CHRS L'Etape | C22: ='Mes données à récuperer'!D18 -> 0 | D22: ='Mes données à récuperer'!D19 -> 0
B23: CHRS Ozanam | C23: ='Mes données à récuperer'!C20 -> 0 | D23: ='Mes données à récuperer'!C21 -> 0
B24: CHRS Ozanam | C24: ='Mes données à récuperer'!D20 -> 0 | D24: ='Mes données à récuperer'!D21 -> 0
B25: CHRS Clagny | C25: ='Mes données à récuperer'!C22 -> 0 | D25: ='Mes données à récuperer'!C23 -> 0
B26: CHRS Clagny | C26: ='Mes données à récuperer'!D22 -> 0 | D26: ='Mes données à récuperer'!D23 -> 0
B27: CHU Les Matelots | C27: ='Mes données à récuperer'!C24 -> 0 | D27: ='Mes données à récuperer'!C25 -> 0
B28: CHU Les Matelots | C28: ='Mes données à récuperer'!D24 -> 0 | D28: ='Mes données à récuperer'!D25 -> 0
B29: Halte de nuits/Bridge | C29: ='Mes données à récuperer'!C26 -> 0 | D29: ='Mes données à récuperer'!C27 -> 0
B30: Halte de nuits/Bridge | C30: ='Mes données à récuperer'!D26 -> 0 | D30: ='Mes données à récuperer'!D27 -> 0

Sheet Mes données à récuperer
C3: Milanette
C4: M | D4: S
B5: CHRS Aqueduc | C5: 25
B6: CHS CAMARA
B7: CHU Chrysalide
B8: Acceuil de jour Wilson(Barquette) | C8: 7
B9: CHRS Notre Dame (Barquette)
B10: CHRS Mortemets (Barquette)
B11: CRHS Notre Dame
B12: CHRS L'Etape
B13: CHRS Ozanam | D13: 20
B14: CHRS Clagny | D14: 35
B15: CHU Les Matelots
B16: Halte de nuits/Bridge
B17: TOTAL PLAT | C17: =C5+D5+C6+D6+C7+D7+C8+D8+C9+D9+C10+D10+C11+D11+C12+D12+C13+D13+C14+D14+C15+D15+C16+D16 -> 87
