Workbook

Sheet 1000
B3: Feuille 1000 = feuille type
B4: Feuille 1001 et plus = formulaires
B5: Feuille Ne pas effacer = a été mise en place par mon prédécesseur lors de la création du classeur
B6: Feuille Rapport = bilan
B24: Formulaire page 1. | J24: Formulaire page 2. | R24: Formulaire page 3. | Z24: Formulaire page 4. | AH24: Formulaire page 5.
B40: Date du traitement du dossier
A59: Mois: | B59: =IF(A40="","",MONTH(A40))
A61: Type de construction | C61: =A65 -> Catégogie 1
A63: Section A | F63: Section B | L63: Section C | Q63: Section D
A64: Type 1 | F64: Type 3 | L64: Type 6 | Q64: Type 9
A65: Catégogie 1 | D65: =IF(AND($C$61=A65,$B$59<=3),"A",IF(AND($C$61=A65,$B$59<=6),"B",IF(AND($C$61=A65,$B$59<=9),"C",IF(AND($C$61=A65,$B$59<=12),"D","")))) | E65: =IF(AND($C$61=A65,$A$40<>""),1,"")
A66: Catégorie 2 | D66: =IF(AND($C$61=A66,$B$59<=3),"A",IF(AND($C$61=A66,$B$59<=6),"B",IF(AND($C$61=A66,$B$59<=9),"C",IF(AND($C$61=A66,$B$59<=12),"D","")))) | E66: =IF(AND($C$61=A66,$A$40<>""),1,"")
A67: Catégorie 3 | D67: =IF(AND($C$61=A67,$B$59<=3),"A",IF(AND($C$61=A67,$B$59<=6),"B",IF(AND($C$61=A67,$B$59<=9),"C",IF(AND($C$61=A67,$B$59<=12),"D","")))) | E67: =IF(AND($C$61=A67,$A$40<>""),1,"")
A68: Catégorie 4 | D68: =IF(AND($C$61=A68,$B$59<=3),"A",IF(AND($C$61=A68,$B$59<=6),"B",IF(AND($C$61=A68,$B$59<=9),"C",IF(AND($C$61=A68,$B$59<=12),"D","")))) | E68: =IF(AND($C$61=A68,$A$40<>""),1,"")
A69: Catégorie 5 | D69: =IF(AND($C$61=A69,$B$59<=3),"A",IF(AND($C$61=A69,$B$59<=6),"B",IF(AND($C$61=A69,$B$59<=9),"C",IF(AND($C$61=A69,$B$59<=12),"D","")))) | E69: =IF(AND($C$61=A69,$A$40<>""),1,"")
A70: Catégorie 6 | D70: =IF(AND($C$61=A70,$B$59<=3),"A",IF(AND($C$61=A70,$B$59<=6),"B",IF(AND($C$61=A70,$B$59<=9),"C",IF(AND($C$61=A70,$B$59<=12),"D","")))) | E70: =IF(AND($C$61=A70,$A$40<>""),1,"")
A72: Catégorie 7 | D72: =IF(AND($C$61=A72,$B$59<=3),"A",IF(AND($C$61=A72,$B$59<=6),"B",IF(AND($C$61=A72,$B$59<=9),"C",IF(AND($C$61=A72,$B$59<=12),"D","")))) | E72: =IF(AND($C$61=A72,$A$40<>""),1,"")
A73: Catégorie 8 | D73: =IF(AND($C$61=A73,$B$59<=3),"A",IF(AND($C$61=A73,$B$59<=6),"B",IF(AND($C$61=A73,$B$59<=9),"C",IF(AND($C$61=A73,$B$59<=12),"D","")))) | E73: =IF(AND($C$61=A73,$A$40<>""),1,"") | L73: Type 7
A74: Catégorie 9 | D74: =IF(AND($C$61=A74,$B$59<=3),"A",IF(AND($C$61=A74,$B$59<=6),"B",IF(AND($C$61=A74,$B$59<=9),"C",IF(AND($C$61=A74,$B$59<=12),"D","")))) | E74: =IF(AND($C$61=A74,$A$40<>""),1,"")
A75: Catégorie 10 | D75: =IF(AND($C$61=A75,$B$59<=3),"A",IF(AND($C$61=A75,$B$59<=6),"B",IF(AND($C$61=A75,$B$59<=9),"C",IF(AND($C$61=A75,$B$59<=12),"D","")))) | E75: =IF(AND($C$61=A75,$A$40<>""),1,"")
A76: Catégorie 11 | D76: =IF(AND($C$61=A76,$B$59<=3),"A",IF(AND($C$61=A76,$B$59<=6),"B",IF(AND($C$61=A76,$B$59<=9),"C",IF(AND($C$61=A76,$B$59<=12),"D","")))) | E76: =IF(AND($C$61=A76,$A$40<>""),1,"") | Q76: Type 10
A77: Catégorie 12 | D77: =IF(AND($C$61=A77,$B$59<=3),"A",IF(AND($C$61=A77,$B$59<=6),"B",IF(AND($C$61=A77,$B$59<=9),"C",IF(AND($C$61=A77,$B$59<=12),"D","")))) | E77: =IF(AND($C$61=A77,$A$40<>""),1,"")
A79: Catégorie 13 | D79: =IF(AND($C$61=A79,$B$59<=3),"A",IF(AND($C$61=A79,$B$59<=6),"B",IF(AND($C$61=A79,$B$59<=9),"C",IF(AND($C$61=A79,$B$59<=12),"D","")))) | E79: =IF(AND($C$61=A79,$A$40<>""),1,"")
A80: Catégorie 14 | D80: =IF(AND($C$61=A80,$B$59<=3),"A",IF(AND($C$61=A80,$B$59<=6),"B",IF(AND($C$61=A80,$B$59<=9),"C",IF(AND($C$61=A80,$B$59<=12),"D","")))) | E80: =IF(AND($C$61=A80,$A$40<>""),1,"")
A82: Catégorie 15 | D82: =IF(AND($C$61=A82,$B$59<=3),"A",IF(AND($C$61=A82,$B$59<=6),"B",IF(AND($C$61=A82,$B$59<=9),"C",IF(AND($C$61=A82,$B$59<=12),"D","")))) | E82: =IF(AND($C$61=A82,$A$40<>""),1,"")
A83: Catégorie 16 | D83: =IF(AND($C$61=A83,$B$59<=3),"A",IF(AND($C$61=A83,$B$59<=6),"B",IF(AND($C$61=A83,$B$59<=9),"C",IF(AND($C$61=A83,$B$59<=12),"D","")))) | E83: =IF(AND($C$61=A83,$A$40<>""),1,"") | Q83: Type 11
A85: Type 2
A86: Catégorie 17 | D86: =IF(AND($C$61=A86,$B$59<=3),"A",IF(AND($C$61=A86,$B$59<=6),"B",IF(AND($C$61=A86,$B$59<=9),"C",IF(AND($C$61=A86,$B$59<=12),"D","")))) | E86: =IF(AND($C$61=A86,$A$40<>""),1,"")
A87: Catégorie 18 | D87: =IF(AND($C$61=A87,$B$59<=3),"A",IF(AND($C$61=A87,$B$59<=6),"B",IF(AND($C$61=A87,$B$59<=9),"C",IF(AND($C$61=A87,$B$59<=12),"D","")))) | E87: =IF(AND($C$61=A87,$A$40<>""),1,"")
A88: Catégorie 19
A89: Catégorie 20 | D89: =IF(AND($C$61=A89,$B$59<=3),"A",IF(AND($C$61=A89,$B$59<=6),"B",IF(AND($C$61=A89,$B$59<=9),"C",IF(AND($C$61=A89,$B$59<=12),"D","")))) | E89: =IF(AND($C$61=A89,$A$40<>""),1,"") | L89: Type 8
A90: Catégorie 21 | D90: =IF(AND($C$61=A90,$B$59<=3),"A",IF(AND($C$61=A90,$B$59<=6),"B",IF(AND($C$61=A90,$B$59<=9),"C",IF(AND($C$61=A90,$B$59<=12),"D","")))) | E90: =IF(AND($C$61=A90,$A$40<>""),1,"")
F95: Type 4
F102: Type 5

Sheet 1001
B3: Feuille 1000 = feuille type
B4: Feuille 1001 et plus = formulaires
B5: Feuille Ne pas effacer = a été mise en place par mon prédécesseur lors de la création du classeur
B6: Feuille Rapport = bilan
B24: Formulaire page 1. | J24: Formulaire page 2. | R24: Formulaire page 3. | Z24: Formulaire page 4. | AH24: Formulaire page 5.
A40: 45017 | B40: Date du traitement du dossier
A59: Mois: | B59: =MONTH(A40) -> 4
A61: Type de construction | C61: =A65 -> Catégogie 1
A63: Section | F63: Section | L63: Section | Q63: Section
A64: Type 1 | F64: Type 3 | L64: Type 6 | Q64: Type 9
A65: Catégogie 1 | D65: =IF(AND($C$61=A65,$B$59<=3),"A",IF(AND($C$61=A65,$B$59<=6),"B",IF(AND($C$61=A65,$B$59<=9),"C",IF(AND($C$61=A65,$B$59<=12),"D","")))) -> B | E65: =IF(AND($C$61=A65,$A$40<>""),1,"") -> 1
A66: Catégorie 2 | D66: =IF(AND($C$61=A66,$B$59<=3),"A",IF(AND($C$61=A66,$B$59<=6),"B",IF(AND($C$61=A66,$B$59<=9),"C",IF(AND($C$61=A66,$B$59<=12),"D","")))) | E66: =IF(AND($C$61=A66,$A$40<>""),1,"")
A67: Catégorie 3 | D67: =IF(AND($C$61=A67,$B$59<=3),"A",IF(AND($C$61=A67,$B$59<=6),"B",IF(AND($C$61=A67,$B$59<=9),"C",IF(AND($C$61=A67,$B$59<=12),"D","")))) | E67: =IF(AND($C$61=A67,$A$40<>""),1,"")
A68: Catégorie 4 | D68: =IF(AND($C$61=A68,$B$59<=3),"A",IF(AND($C$61=A68,$B$59<=6),"B",IF(AND($C$61=A68,$B$59<=9),"C",IF(AND($C$61=A68,$B$59<=12),"D","")))) | E68: =IF(AND($C$61=A68,$A$40<>""),1,"")
A69: Catégorie 5 | D69: =IF(AND($C$61=A69,$B$59<=3),"A",IF(AND($C$61=A69,$B$59<=6),"B",IF(AND($C$61=A69,$B$59<=9),"C",IF(AND($C$61=A69,$B$59<=12),"D","")))) | E69: =IF(AND($C$61=A69,$A$40<>""),1,"")
A70: Catégorie 6 | D70: =IF(AND($C$61=A70,$B$59<=3),"A",IF(AND($C$61=A70,$B$59<=6),"B",IF(AND($C$61=A70,$B$59<=9),"C",IF(AND($C$61=A70,$B$59<=12),"D","")))) | E70: =IF(AND($C$61=A70,$A$40<>""),1,"")
A72: Catégorie 7 | D72: =IF(AND($C$61=A72,$B$59<=3),"A",IF(AND($C$61=A72,$B$59<=6),"B",IF(AND($C$61=A72,$B$59<=9),"C",IF(AND($C$61=A72,$B$59<=12),"D","")))) | E72: =IF(AND($C$61=A72,$A$40<>""),1,"")
A73: Catégorie 8 | D73: =IF(AND($C$61=A73,$B$59<=3),"A",IF(AND($C$61=A73,$B$59<=6),"B",IF(AND($C$61=A73,$B$59<=9),"C",IF(AND($C$61=A73,$B$59<=12),"D","")))) | E73: =IF(AND($C$61=A73,$A$40<>""),1,"") | L73: Type 7
A74: Catégorie 9 | D74: =IF(AND($C$61=A74,$B$59<=3),"A",IF(AND($C$61=A74,$B$59<=6),"B",IF(AND($C$61=A74,$B$59<=9),"C",IF(AND($C$61=A74,$B$59<=12),"D","")))) | E74: =IF(AND($C$61=A74,$A$40<>""),1,"")
A75: Catégorie 10 | D75: =IF(AND($C$61=A75,$B$59<=3),"A",IF(AND($C$61=A75,$B$59<=6),"B",IF(AND($C$61=A75,$B$59<=9),"C",IF(AND($C$61=A75,$B$59<=12),"D","")))) | E75: =IF(AND($C$61=A75,$A$40<>""),1,"")
A76: Catégorie 11 | D76: =IF(AND($C$61=A76,$B$59<=3),"A",IF(AND($C$61=A76,$B$59<=6),"B",IF(AND($C$61=A76,$B$59<=9),"C",IF(AND($C$61=A76,$B$59<=12),"D","")))) | E76: =IF(AND($C$61=A76,$A$40<>""),1,"") | Q76: Type 10
A77: Catégorie 12 | D77: =IF(AND($C$61=A77,$B$59<=3),"A",IF(AND($C$61=A77,$B$59<=6),"B",IF(AND($C$61=A77,$B$59<=9),"C",IF(AND($C$61=A77,$B$59<=12),"D","")))) | E77: =IF(AND($C$61=A77,$A$40<>""),1,"")
A79: Catégorie 13 | D79: =IF(AND($C$61=A79,$B$59<=3),"A",IF(AND($C$61=A79,$B$59<=6),"B",IF(AND($C$61=A79,$B$59<=9),"C",IF(AND($C$61=A79,$B$59<=12),"D","")))) | E79: =IF(AND($C$61=A79,$A$40<>""),1,"")
A80: Catégorie 14 | D80: =IF(AND($C$61=A80,$B$59<=3),"A",IF(AND($C$61=A80,$B$59<=6),"B",IF(AND($C$61=A80,$B$59<=9),"C",IF(AND($C$61=A80,$B$59<=12),"D","")))) | E80: =IF(AND($C$61=A80,$A$40<>""),1,"")
A82: Catégorie 15 | D82: =IF(AND($C$61=A82,$B$59<=3),"A",IF(AND($C$61=A82,$B$59<=6),"B",IF(AND($C$61=A82,$B$59<=9),"C",IF(AND($C$61=A82,$B$59<=12),"D","")))) | E82: =IF(AND($C$61=A82,$A$40<>""),1,"")
A83: Catégorie 16 | D83: =IF(AND($C$61=A83,$B$59<=3),"A",IF(AND($C$61=A83,$B$59<=6),"B",IF(AND($C$61=A83,$B$59<=9),"C",IF(AND($C$61=A83,$B$59<=12),"D","")))) | E83: =IF(AND($C$61=A83,$A$40<>""),1,"") | Q83: Type 11
A85: Type 2
A86: Catégorie 17 | D86: =IF(AND($C$61=A86,$B$59<=3),"A",IF(AND($C$61=A86,$B$59<=6),"B",IF(AND($C$61=A86,$B$59<=9),"C",IF(AND($C$61=A86,$B$59<=12),"D","")))) | E86: =IF(AND($C$61=A86,$A$40<>""),1,"")
A87: Catégorie 18 | D87: =IF(AND($C$61=A87,$B$59<=3),"A",IF(AND($C$61=A87,$B$59<=6),"B",IF(AND($C$61=A87,$B$59<=9),"C",IF(AND($C$61=A87,$B$59<=12),"D","")))) | E87: =IF(AND($C$61=A87,$A$40<>""),1,"")
A88: Catégorie 19
A89: Catégorie 20 | D89: =IF(AND($C$61=A89,$B$59<=3),"A",IF(AND($C$61=A89,$B$59<=6),"B",IF(AND($C$61=A89,$B$59<=9),"C",IF(AND($C$61=A89,$B$59<=12),"D","")))) | E89: =IF(AND($C$61=A89,$A$40<>""),1,"") | L89: Type 8
A90: Catégorie 21 | D90: =IF(AND($C$61=A90,$B$59<=3),"A",IF(AND($C$61=A90,$B$59<=6),"B",IF(AND($C$61=A90,$B$59<=9),"C",IF(AND($C$61=A90,$B$59<=12),"D","")))) | E90: =IF(AND($C$61=A90,$A$40<>""),1,"")
F95: Type 4
F102: Type 5

Sheet 1002
B24: Formulaire page 1. | J24: Formulaire page 2. | R24: Formulaire page 3. | Z24: Formulaire page 4. | AH24: Formulaire page 5.
A40: 45099 | B40: Date du traitement du dossier
A59: Mois: | B59: =MONTH(A40) -> 6
A61: Type de construction | C61: =A69 -> Catégorie 5
A63: Section | F63: Section | L63: Section | Q63: Section
A64: Type 1 | F64: Type 3 | L64: Type 6 | Q64: Type 9
A65: Catégogie 1 | D65: =IF(AND($C$61=A65,$B$59<=3),"A",IF(AND($C$61=A65,$B$59<=6),"B",IF(AND($C$61=A65,$B$59<=9),"C",IF(AND($C$61=A65,$B$59<=12),"D","")))) | E65: =IF(AND($C$61=A65,$A$40<>""),1,"")
A66: Catégorie 2 | D66: =IF(AND($C$61=A66,$B$59<=3),"A",IF(AND($C$61=A66,$B$59<=6),"B",IF(AND($C$61=A66,$B$59<=9),"C",IF(AND($C$61=A66,$B$59<=12),"D","")))) | E66: =IF(AND($C$61=A66,$A$40<>""),1,"")
A67: Catégorie 3 | D67: =IF(AND($C$61=A67,$B$59<=3),"A",IF(AND($C$61=A67,$B$59<=6),"B",IF(AND($C$61=A67,$B$59<=9),"C",IF(AND($C$61=A67,$B$59<=12),"D","")))) | E67: =IF(AND($C$61=A67,$A$40<>""),1,"")
A68: Catégorie 4 | D68: =IF(AND($C$61=A68,$B$59<=3),"A",IF(AND($C$61=A68,$B$59<=6),"B",IF(AND($C$61=A68,$B$59<=9),"C",IF(AND($C$61=A68,$B$59<=12),"D","")))) | E68: =IF(AND($C$61=A68,$A$40<>""),1,"")
A69: Catégorie 5 | D69: =IF(AND($C$61=A69,$B$59<=3),"A",IF(AND($C$61=A69,$B$59<=6),"B",IF(AND($C$61=A69,$B$59<=9),"C",IF(AND($C$61=A69,$B$59<=12),"D","")))) -> B | E69: =IF(AND($C$61=A69,$A$40<>""),1,"") -> 1
A70: Catégorie 6 | D70: =IF(AND($C$61=A70,$B$59<=3),"A",IF(AND($C$61=A70,$B$59<=6),"B",IF(AND($C$61=A70,$B$59<=9),"C",IF(AND($C$61=A70,$B$59<=12),"D","")))) | E70: =IF(AND($C$61=A70,$A$40<>""),1,"")
A72: Catégorie 7 | D72: =IF(AND($C$61=A72,$B$59<=3),"A",IF(AND($C$61=A72,$B$59<=6),"B",IF(AND($C$61=A72,$B$59<=9),"C",IF(AND($C$61=A72,$B$59<=12),"D","")))) | E72: =IF(AND($C$61=A72,$A$40<>""),1,"")
A73: Catégorie 8 | D73: =IF(AND($C$61=A73,$B$59<=3),"A",IF(AND($C$61=A73,$B$59<=6),"B",IF(AND($C$61=A73,$B$59<=9),"C",IF(AND($C$61=A73,$B$59<=12),"D","")))) | E73: =IF(AND($C$61=A73,$A$40<>""),1,"") | L73: Type 7
A74: Catégorie 9 | D74: =IF(AND($C$61=A74,$B$59<=3),"A",IF(AND($C$61=A74,$B$59<=6),"B",IF(AND($C$61=A74,$B$59<=9),"C",IF(AND($C$61=A74,$B$59<=12),"D","")))) | E74: =IF(AND($C$61=A74,$A$40<>""),1,"")
A75: Catégorie 10 | D75: =IF(AND($C$61=A75,$B$59<=3),"A",IF(AND($C$61=A75,$B$59<=6),"B",IF(AND($C$61=A75,$B$59<=9),"C",IF(AND($C$61=A75,$B$59<=12),"D","")))) | E75: =IF(AND($C$61=A75,$A$40<>""),1,"")
A76: Catégorie 11 | D76: =IF(AND($C$61=A76,$B$59<=3),"A",IF(AND($C$61=A76,$B$59<=6),"B",IF(AND($C$61=A76,$B$59<=9),"C",IF(AND($C$61=A76,$B$59<=12),"D","")))) | E76: =IF(AND($C$61=A76,$A$40<>""),1,"") | Q76: Type 10
A77: Catégorie 12 | D77: =IF(AND($C$61=A77,$B$59<=3),"A",IF(AND($C$61=A77,$B$59<=6),"B",IF(AND($C$61=A77,$B$59<=9),"C",IF(AND($C$61=A77,$B$59<=12),"D","")))) | E77: =IF(AND($C$61=A77,$A$40<>""),1,"")
A79: Catégorie 13 | D79: =IF(AND($C$61=A79,$B$59<=3),"A",IF(AND($C$61=A79,$B$59<=6),"B",IF(AND($C$61=A79,$B$59<=9),"C",IF(AND($C$61=A79,$B$59<=12),"D","")))) | E79: =IF(AND($C$61=A79,$A$40<>""),1,"")
A80: Catégorie 14 | D80: =IF(AND($C$61=A80,$B$59<=3),"A",IF(AND($C$61=A80,$B$59<=6),"B",IF(AND($C$61=A80,$B$59<=9),"C",IF(AND($C$61=A80,$B$59<=12),"D","")))) | E80: =IF(AND($C$61=A80,$A$40<>""),1,"")
A82: Catégorie 15 | D82: =IF(AND($C$61=A82,$B$59<=3),"A",IF(AND($C$61=A82,$B$59<=6),"B",IF(AND($C$61=A82,$B$59<=9),"C",IF(AND($C$61=A82,$B$59<=12),"D","")))) | E82: =IF(AND($C$61=A82,$A$40<>""),1,"")
A83: Catégorie 16 | D83: =IF(AND($C$61=A83,$B$59<=3),"A",IF(AND($C$61=A83,$B$59<=6),"B",IF(AND($C$61=A83,$B$59<=9),"C",IF(AND($C$61=A83,$B$59<=12),"D","")))) | E83: =IF(AND($C$61=A83,$A$40<>""),1,"") | Q83: Type 11
A85: Type 2
A86: Catégorie 17 | D86: =IF(AND($C$61=A86,$B$59<=3),"A",IF(AND($C$61=A86,$B$59<=6),"B",IF(AND($C$61=A86,$B$59<=9),"C",IF(AND($C$61=A86,$B$59<=12),"D","")))) | E86: =IF(AND($C$61=A86,$A$40<>""),1,"")
A87: Catégorie 18 | D87: =IF(AND($C$61=A87,$B$59<=3),"A",IF(AND($C$61=A87,$B$59<=6),"B",IF(AND($C$61=A87,$B$59<=9),"C",IF(AND($C$61=A87,$B$59<=12),"D","")))) | E87: =IF(AND($C$61=A87,$A$40<>""),1,"")
A88: Catégorie 19
A89: Catégorie 20 | D89: =IF(AND($C$61=A89,$B$59<=3),"A",IF(AND($C$61=A89,$B$59<=6),"B",IF(AND($C$61=A89,$B$59<=9),"C",IF(AND($C$61=A89,$B$59<=12),"D","")))) | E89: =IF(AND($C$61=A89,$A$40<>""),1,"") | L89: Type 8
A90: Catégorie 21 | D90: =IF(AND($C$61=A90,$B$59<=3),"A",IF(AND($C$61=A90,$B$59<=6),"B",IF(AND($C$61=A90,$B$59<=9),"C",IF(AND($C$61=A90,$B$59<=12),"D","")))) | E90: =IF(AND($C$61=A90,$A$40<>""),1,"")
F95: Type 4
F102: Type 5

Sheet 1003
B24: Formulaire page 1. | J24: Formulaire page 2. | R24: Formulaire page 3. | Z24: Formulaire page 4. | AH24: Formulaire page 5.
A40: 45078 | B40: Date du traitement du dossier
A59: Mois: | B59: =MONTH(A40) -> 6
A61: Type de construction | C61: =A77 -> Catégorie 12
A63: Section | F63: Section | L63: Section | Q63: Section
A64: Type 1 | F64: Type 3 | L64: Type 6 | Q64: Type 9
A65: Catégogie 1 | D65: =IF(AND($C$61=A65,$B$59<=3),"A",IF(AND($C$61=A65,$B$59<=6),"B",IF(AND($C$61=A65,$B$59<=9),"C",IF(AND($C$61=A65,$B$59<=12),"D","")))) | E65: =IF(AND($C$61=A65,$A$40<>""),1,"")
A66: Catégorie 2 | D66: =IF(AND($C$61=A66,$B$59<=3),"A",IF(AND($C$61=A66,$B$59<=6),"B",IF(AND($C$61=A66,$B$59<=9),"C",IF(AND($C$61=A66,$B$59<=12),"D","")))) | E66: =IF(AND($C$61=A66,$A$40<>""),1,"")
A67: Catégorie 3 | D67: =IF(AND($C$61=A67,$B$59<=3),"A",IF(AND($C$61=A67,$B$59<=6),"B",IF(AND($C$61=A67,$B$59<=9),"C",IF(AND($C$61=A67,$B$59<=12),"D","")))) | E67: =IF(AND($C$61=A67,$A$40<>""),1,"")
A68: Catégorie 4 | D68: =IF(AND($C$61=A68,$B$59<=3),"A",IF(AND($C$61=A68,$B$59<=6),"B",IF(AND($C$61=A68,$B$59<=9),"C",IF(AND($C$61=A68,$B$59<=12),"D","")))) | E68: =IF(AND($C$61=A68,$A$40<>""),1,"")
A69: Catégorie 5 | D69: =IF(AND($C$61=A69,$B$59<=3),"A",IF(AND($C$61=A69,$B$59<=6),"B",IF(AND($C$61=A69,$B$59<=9),"C",IF(AND($C$61=A69,$B$59<=12),"D","")))) | E69: =IF(AND($C$61=A69,$A$40<>""),1,"")
A70: Catégorie 6 | D70: =IF(AND($C$61=A70,$B$59<=3),"A",IF(AND($C$61=A70,$B$59<=6),"B",IF(AND($C$61=A70,$B$59<=9),"C",IF(AND($C$61=A70,$B$59<=12),"D","")))) | E70: =IF(AND($C$61=A70,$A$40<>""),1,"")
A72: Catégorie 7 | D72: =IF(AND($C$61=A72,$B$59<=3),"A",IF(AND($C$61=A72,$B$59<=6),"B",IF(AND($C$61=A72,$B$59<=9),"C",IF(AND($C$61=A72,$B$59<=12),"D","")))) | E72: =IF(AND($C$61=A72,$A$40<>""),1,"")
A73: Catégorie 8 | D73: =IF(AND($C$61=A73,$B$59<=3),"A",IF(AND($C$61=A73,$B$59<=6),"B",IF(AND($C$61=A73,$B$59<=9),"C",IF(AND($C$61=A73,$B$59<=12),"D","")))) | E73: =IF(AND($C$61=A73,$A$40<>""),1,"") | L73: Type 7
A74: Catégorie 9 | D74: =IF(AND($C$61=A74,$B$59<=3),"A",IF(AND($C$61=A74,$B$59<=6),"B",IF(AND($C$61=A74,$B$59<=9),"C",IF(AND($C$61=A74,$B$59<=12),"D","")))) | E74: =IF(AND($C$61=A74,$A$40<>""),1,"")
A75: Catégorie 10 | D75: =IF(AND($C$61=A75,$B$59<=3),"A",IF(AND($C$61=A75,$B$59<=6),"B",IF(AND($C$61=A75,$B$59<=9),"C",IF(AND($C$61=A75,$B$59<=12),"D","")))) | E75: =IF(AND($C$61=A75,$A$40<>""),1,"")
A76: Catégorie 11 | D76: =IF(AND($C$61=A76,$B$59<=3),"A",IF(AND($C$61=A76,$B$59<=6),"B",IF(AND($C$61=A76,$B$59<=9),"C",IF(AND($C$61=A76,$B$59<=12),"D","")))) | E76: =IF(AND($C$61=A76,$A$40<>""),1,"") | Q76: Type 10
A77: Catégorie 12 | D77: =IF(AND($C$61=A77,$B$59<=3),"A",IF(AND($C$61=A77,$B$59<=6),"B",IF(AND($C$61=A77,$B$59<=9),"C",IF(AND($C$61=A77,$B$59<=12),"D","")))) -> B | E77: =IF(AND($C$61=A77,$A$40<>""),1,"") -> 1
A79: Catégorie 13 | D79: =IF(AND($C$61=A79,$B$59<=3),"A",IF(AND($C$61=A79,$B$59<=6),"B",IF(AND($C$61=A79,$B$59<=9),"C",IF(AND($C$61=A79,$B$59<=12),"D","")))) | E79: =IF(AND($C$61=A79,$A$40<>""),1,"")
A80: Catégorie 14 | D80: =IF(AND($C$61=A80,$B$59<=3),"A",IF(AND($C$61=A80,$B$59<=6),"B",IF(AND($C$61=A80,$B$59<=9),"C",IF(AND($C$61=A80,$B$59<=12),"D","")))) | E80: =IF(AND($C$61=A80,$A$40<>""),1,"")
A82: Catégorie 15 | D82: =IF(AND($C$61=A82,$B$59<=3),"A",IF(AND($C$61=A82,$B$59<=6),"B",IF(AND($C$61=A82,$B$59<=9),"C",IF(AND($C$61=A82,$B$59<=12),"D","")))) | E82: =IF(AND($C$61=A82,$A$40<>""),1,"")
A83: Catégorie 16 | D83: =IF(AND($C$61=A83,$B$59<=3),"A",IF(AND($C$61=A83,$B$59<=6),"B",IF(AND($C$61=A83,$B$59<=9),"C",IF(AND($C$61=A83,$B$59<=12),"D","")))) | E83: =IF(AND($C$61=A83,$A$40<>""),1,"") | Q83: Type 11
A85: Type 2
A86: Catégorie 17 | D86: =IF(AND($C$61=A86,$B$59<=3),"A",IF(AND($C$61=A86,$B$59<=6),"B",IF(AND($C$61=A86,$B$59<=9),"C",IF(AND($C$61=A86,$B$59<=12),"D","")))) | E86: =IF(AND($C$61=A86,$A$40<>""),1,"")
A87: Catégorie 18 | D87: =IF(AND($C$61=A87,$B$59<=3),"A",IF(AND($C$61=A87,$B$59<=6),"B",IF(AND($C$61=A87,$B$59<=9),"C",IF(AND($C$61=A87,$B$59<=12),"D","")))) | E87: =IF(AND($C$61=A87,$A$40<>""),1,"")
A88: Catégorie 19
A89: Catégorie 20 | D89: =IF(AND($C$61=A89,$B$59<=3),"A",IF(AND($C$61=A89,$B$59<=6),"B",IF(AND($C$61=A89,$B$59<=9),"C",IF(AND($C$61=A89,$B$59<=12),"D","")))) | E89: =IF(AND($C$61=A89,$A$40<>""),1,"") | L89: Type 8
A90: Catégorie 21 | D90: =IF(AND($C$61=A90,$B$59<=3),"A",IF(AND($C$61=A90,$B$59<=6),"B",IF(AND($C$61=A90,$B$59<=9),"C",IF(AND($C$61=A90,$B$59<=12),"D","")))) | E90: =IF(AND($C$61=A90,$A$40<>""),1,"")
F95: Type 4
F102: Type 5

Sheet 1004
B24: Formulaire page 1. | J24: Formulaire page 2. | R24: Formulaire page 3. | Z24: Formulaire page 4. | AH24: Formulaire page 5.
A40: 44959 | B40: Date du traitement du dossier
A59: Mois: | B59: =MONTH(A40) -> 2
A61: Type de construction | C61: =A65 -> Catégogie 1
A63: Section | F63: Section | L63: Section | Q63: Section
A64: Type 1 | F64: Type 3 | L64: Type 6 | Q64: Type 9
A65: Catégogie 1 | D65: =IF(AND($C$61=A65,$B$59<=3),"A",IF(AND($C$61=A65,$B$59<=6),"B",IF(AND($C$61=A65,$B$59<=9),"C",IF(AND($C$61=A65,$B$59<=12),"D","")))) -> A | E65: =IF(AND($C$61=A65,$A$40<>""),1,"") -> 1
A66: Catégorie 2 | D66: =IF(AND($C$61=A66,$B$59<=3),"A",IF(AND($C$61=A66,$B$59<=6),"B",IF(AND($C$61=A66,$B$59<=9),"C",IF(AND($C$61=A66,$B$59<=12),"D","")))) | E66: =IF(AND($C$61=A66,$A$40<>""),1,"")
A67: Catégorie 3 | D67: =IF(AND($C$61=A67,$B$59<=3),"A",IF(AND($C$61=A67,$B$59<=6),"B",IF(AND($C$61=A67,$B$59<=9),"C",IF(AND($C$61=A67,$B$59<=12),"D","")))) | E67: =IF(AND($C$61=A67,$A$40<>""),1,"")
A68: Catégorie 4 | D68: =IF(AND($C$61=A68,$B$59<=3),"A",IF(AND($C$61=A68,$B$59<=6),"B",IF(AND($C$61=A68,$B$59<=9),"C",IF(AND($C$61=A68,$B$59<=12),"D","")))) | E68: =IF(AND($C$61=A68,$A$40<>""),1,"")
A69: Catégorie 5 | D69: =IF(AND($C$61=A69,$B$59<=3),"A",IF(AND($C$61=A69,$B$59<=6),"B",IF(AND($C$61=A69,$B$59<=9),"C",IF(AND($C$61=A69,$B$59<=12),"D","")))) | E69: =IF(AND($C$61=A69,$A$40<>""),1,"")
A70: Catégorie 6 | D70: =IF(AND($C$61=A70,$B$59<=3),"A",IF(AND($C$61=A70,$B$59<=6),"B",IF(AND($C$61=A70,$B$59<=9),"C",IF(AND($C$61=A70,$B$59<=12),"D","")))) | E70: =IF(AND($C$61=A70,$A$40<>""),1,"")
A72: Catégorie 7 | D72: =IF(AND($C$61=A72,$B$59<=3),"A",IF(AND($C$61=A72,$B$59<=6),"B",IF(AND($C$61=A72,$B$59<=9),"C",IF(AND($C$61=A72,$B$59<=12),"D","")))) | E72: =IF(AND($C$61=A72,$A$40<>""),1,"")
A73: Catégorie 8 | D73: =IF(AND($C$61=A73,$B$59<=3),"A",IF(AND($C$61=A73,$B$59<=6),"B",IF(AND($C$61=A73,$B$59<=9),"C",IF(AND($C$61=A73,$B$59<=12),"D","")))) | E73: =IF(AND($C$61=A73,$A$40<>""),1,"") | L73: Type 7
A74: Catégorie 9 | D74: =IF(AND($C$61=A74,$B$59<=3),"A",IF(AND($C$61=A74,$B$59<=6),"B",IF(AND($C$61=A74,$B$59<=9),"C",IF(AND($C$61=A74,$B$59<=12),"D","")))) | E74: =IF(AND($C$61=A74,$A$40<>""),1,"")
A75: Catégorie 10 | D75: =IF(AND($C$61=A75,$B$59<=3),"A",IF(AND($C$61=A75,$B$59<=6),"B",IF(AND($C$61=A75,$B$59<=9),"C",IF(AND($C$61=A75,$B$59<=12),"D","")))) | E75: =IF(AND($C$61=A75,$A$40<>""),1,"")
A76: Catégorie 11 | D76: =IF(AND($C$61=A76,$B$59<=3),"A",IF(AND($C$61=A76,$B$59<=6),"B",IF(AND($C$61=A76,$B$59<=9),"C",IF(AND($C$61=A76,$B$59<=12),"D","")))) | E76: =IF(AND($C$61=A76,$A$40<>""),1,"") | Q76: Type 10
A77: Catégorie 12 | D77: =IF(AND($C$61=A77,$B$59<=3),"A",IF(AND($C$61=A77,$B$59<=6),"B",IF(AND($C$61=A77,$B$59<=9),"C",IF(AND($C$61=A77,$B$59<=12),"D","")))) | E77: =IF(AND($C$61=A77,$A$40<>""),1,"")
A79: Catégorie 13 | D79: =IF(AND($C$61=A79,$B$59<=3),"A",IF(AND($C$61=A79,$B$59<=6),"B",IF(AND($C$61=A79,$B$59<=9),"C",IF(AND($C$61=A79,$B$59<=12),"D","")))) | E79: =IF(AND($C$61=A79,$A$40<>""),1,"")
A80: Catégorie 14 | D80: =IF(AND($C$61=A80,$B$59<=3),"A",IF(AND($C$61=A80,$B$59<=6),"B",IF(AND($C$61=A80,$B$59<=9),"C",IF(AND($C$61=A80,$B$59<=12),"D","")))) | E80: =IF(AND($C$61=A80,$A$40<>""),1,"")
A82: Catégorie 15 | D82: =IF(AND($C$61=A82,$B$59<=3),"A",IF(AND($C$61=A82,$B$59<=6),"B",IF(AND($C$61=A82,$B$59<=9),"C",IF(AND($C$61=A82,$B$59<=12),"D","")))) | E82: =IF(AND($C$61=A82,$A$40<>""),1,"")
A83: Catégorie 16 | D83: =IF(AND($C$61=A83,$B$59<=3),"A",IF(AND($C$61=A83,$B$59<=6),"B",IF(AND($C$61=A83,$B$59<=9),"C",IF(AND($C$61=A83,$B$59<=12),"D","")))) | E83: =IF(AND($C$61=A83,$A$40<>""),1,"") | Q83: Type 11
A85: Type 2
A86: Catégorie 17 | D86: =IF(AND($C$61=A86,$B$59<=3),"A",IF(AND($C$61=A86,$B$59<=6),"B",IF(AND($C$61=A86,$B$59<=9),"C",IF(AND($C$61=A86,$B$59<=12),"D","")))) | E86: =IF(AND($C$61=A86,$A$40<>""),1,"")
A87: Catégorie 18 | D87: =IF(AND($C$61=A87,$B$59<=3),"A",IF(AND($C$61=A87,$B$59<=6),"B",IF(AND($C$61=A87,$B$59<=9),"C",IF(AND($C$61=A87,$B$59<=12),"D","")))) | E87: =IF(AND($C$61=A87,$A$40<>""),1,"")
A88: Catégorie 19
A89: Catégorie 20 | D89: =IF(AND($C$61=A89,$B$59<=3),"A",IF(AND($C$61=A89,$B$59<=6),"B",IF(AND($C$61=A89,$B$59<=9),"C",IF(AND($C$61=A89,$B$59<=12),"D","")))) | E89: =IF(AND($C$61=A89,$A$40<>""),1,"") | L89: Type 8
A90: Catégorie 21 | D90: =IF(AND($C$61=A90,$B$59<=3),"A",IF(AND($C$61=A90,$B$59<=6),"B",IF(AND($C$61=A90,$B$59<=9),"C",IF(AND($C$61=A90,$B$59<=12),"D","")))) | E90: =IF(AND($C$61=A90,$A$40<>""),1,"")
F95: Type 4
F102: Type 5

Sheet Ne pas effacer 

Sheet Rapport
B2: ='1000'!A7 -> 0
E3: J-F-M | F3: A-M-J | G3: J-A-S- | H3: O-N-D
B4: ='1000'!A63 -> Section A | J4: ='1000'!F63 -> Section B | P4: ='1000'!L63 -> Section C | U4: ='1000'!Q63 -> Section D
B5: ='1000'!A64 -> Type 1 | J5: ='1000'!F64 -> Type 3 | P5: ='1000'!L64 -> Type 6 | U5: ='1000'!Q64 -> Type 9 | Z5: Cette feuille est protégée.
B6: ='1000'!A65 -> Catégogie 1 | E6: =SUMPRODUCT(SUMIFS('1000:Ne pas effacer '!E65,'1000:Ne pas effacer '!D65,"A")) -> #VALUE! | F6: =SUMPRODUCT(SUMIFS('1000:Ne pas effacer '!E65,'1000:Ne pas effacer '!D65,"B")) -> #VALUE! | G6: =SUMPRODUCT(SUMIFS('1000:Ne pas effacer '!E65,'1000:Ne pas effacer '!D65,"C")) -> #VALUE! | H6: =SUMPRODUCT(SUMIFS('1000:Ne pas effacer '!E65,'1000:Ne pas effacer '!D65,"D")) -> #VALUE! | J6: ='1000'!F65 -> 0 | P6: ='1000'!L65 -> 0 | U6: ='1000'!Q65 -> 0 | Z6: Pour désactiver la protection, il faut :
B7: ='1000'!A66 -> Catégorie 2 | J7: ='1000'!F66 -> 0 | P7: ='1000'!L66 -> 0 | U7: ='1000'!Q66 -> 0 | Z7: Bouton de droite sur l'onglet et choisir
B8: ='1000'!A67 -> Catégorie 3 | J8: ='1000'!F67 -> 0 | P8: ='1000'!L67 -> 0 | U8: ='1000'!Q67 -> 0 | Z8: "Ôter la protection de la feuille"
B9: ='1000'!A68 -> Catégorie 4 | J9: ='1000'!F68 -> 0 | P9: ='1000'!L68 -> 0 | U9: ='1000'!Q68 -> 0
B10: ='1000'!A69 -> Catégorie 5 | J10: ='1000'!F69 -> 0 | P10: ='1000'!L69 -> 0 | U10: ='1000'!Q69 -> 0
B11: ='1000'!A70 -> Catégorie 6 | J11: ='1000'!F70 -> 0 | P11: ='1000'!L70 -> 0 | U11: ='1000'!Q70 -> 0 | Z11: Le texte est en lien avec la feuille 1000
B12: ='1000'!A71 -> 0 | J12: ='1000'!F71 -> 0 | P12: ='1000'!L71 -> 0 | U12: ='1000'!Q71 -> 0
B13: ='1000'!A72 -> Catégorie 7 | J13: ='1000'!F72 -> 0 | P13: ='1000'!L72 -> 0 | U13: ='1000'!Q72 -> 0
B14: ='1000'!A73 -> Catégorie 8 | J14: ='1000'!F73 -> 0 | P14: ='1000'!L73 -> Type 7 | U14: ='1000'!Q73 -> 0
B15: ='1000'!A74 -> Catégorie 9 | J15: ='1000'!F74 -> 0 | P15: ='1000'!L74 -> 0 | U15: ='1000'!Q74 -> 0
B16: ='1000'!A75 -> Catégorie 10 | J16: ='1000'!F75 -> 0 | P16: ='1000'!L75 -> 0 | U16: ='1000'!Q75 -> 0
B17: ='1000'!A76 -> Catégorie 11 | J17: ='1000'!F76 -> 0 | P17: ='1000'!L76 -> 0 | U17: ='1000'!Q76 -> Type 10
B18: ='1000'!A77 -> Catégorie 12 | J18: ='1000'!F77 -> 0 | P18: ='1000'!L77 -> 0 | U18: ='1000'!Q77 -> 0
B19: ='1000'!A78 -> 0 | J19: ='1000'!F78 -> 0 | P19: ='1000'!L78 -> 0 | U19: ='1000'!Q78 -> 0
B20: ='1000'!A79 -> Catégorie 13 | J20: ='1000'!F79 -> 0 | P20: ='1000'!L79 -> 0 | U20: ='1000'!Q79 -> 0
B21: ='1000'!A80 -> Catégorie 14 | J21: ='1000'!F80 -> 0 | P21: ='1000'!L80 -> 0 | U21: ='1000'!Q80 -> 0
B22: ='1000'!A81 -> 0 | J22: ='1000'!F81 -> 0 | P22: ='1000'!L81 -> 0 | U22: ='1000'!Q81 -> 0
B23: ='1000'!A82 -> Catégorie 15 | J23: ='1000'!F82 -> 0 | P23: ='1000'!L82 -> 0 | U23: ='1000'!Q82 -> 0
... B32: ='1000'!A91 -> 0 | J32: ='1000'!F91 -> 0 | P32: ='1000'!L91 -> 0 | U32: ='1000'!Q91 -> 0
B33: ='1000'!A92 -> 0 | J33: ='1000'!F92 -> 0 | P33: ='1000'!L92 -> 0 | U33: Total des permis | Y33: J-F-M | Z33: A-M-J | AA33: J-A-S- | AB33: O-N-D | AC33: Total
B34: ='1000'!A93 -> 0 | J34: ='1000'!F93 -> 0 | P34: ='1000'!L93 -> 0 | U34: =B4 -> Section A | Y34: =SUM(E5:E46) -> #VALUE! | Z34: =SUM(F5:F46) -> #VALUE! | AA34: =SUM(G5:G46) -> #VALUE! | AB34: =SUM(H5:H46) -> #VALUE! | AC34: =SUM(Y34:AB34) -> #VALUE!
B35: ='1000'!A94 -> 0 | J35: ='1000'!F94 -> 0 | P35: ='1000'!L94 -> 0 | U35: =J4 -> Section B
B36: ='1000'!A95 -> 0 | J36: ='1000'!F95 -> Type 4 | P36: ='1000'!L95 -> 0 | U36: =P4 -> Section C
B37: ='1000'!A96 -> 0 | J37: ='1000'!F96 -> 0 | P37: ='1000'!L96 -> 0 | U37: =U4 -> Section D
B38: Autres travaux | J38: ='1000'!F97 -> 0 | P38: ='1000'!L97 -> 0
B39: ='1000'!A98 -> 0 | J39: ='1000'!F98 -> 0 | P39: ='1000'!L98 -> 0
B40: ='1000'!A99 -> 0 | J40: ='1000'!F99 -> 0 | P40: ='1000'!L99 -> 0 | U40: Section E
J41: ='1000'!F100 -> 0 | P41: ='1000'!L100 -> 0 | U41: Section F
J42: ='1000'!F101 -> 0 | P42: ='1000'!L101 -> 0 | U42: Section G
J43: ='1000'!F102 -> Type 5 | P43: ='1000'!L102 -> 0 | U43: Section H
J44: ='1000'!F103 -> 0 | P44: ='1000'!L103 -> 0 | U44: Section I
J45: ='1000'!F104 -> 0 | P45: ='1000'!L104 -> 0 | U45: Section J
