Workbook

Sheet Résumé
B3: Date de la nouelle année | C3: 42735
B5: Durée de travail hebdomadaire | C5: 1.6666667 | D5: <<< Indiquez ici votre temps de travail hebdomadaire. | K5: Informations pour utiliser correctement ce modèle
K6: La durée du travail, les heures supplémentaires, le début du travail, la fin du travail, les pauses doivent être saisis dans le format hh:mm.
B7: Heures supplémentaires de l'année précédente | C7: 0 | D7: <<< Indiquez ici vos heures supplémentaires de l'année précédente. | K7: Les heures supplémentaires / heures manquantes sont automatiquement calculées en fonction de la durée hebdomadaire du travail.
K8: Le champ Vacances/Férié/Maladie/Congé est défini dans une liste déroulante, la valeur par défaut est sur Travail.
B9: Total des congés : | C9: 16.5 | D9: <<< Indiquez ici vos jours de congés
B11: Congés restants de l'année précédente : | C11: 0 | D11: <<< Indiquez ici le nombre de congés restants de l'année précédente
C14: Heures supplémentaires/Heures manquantes | D14: Jours arrêt maladie | E14: Jours de vacances
B15: Janvier | C15: =Janvier!L3 -> #REF! | D15: =Janvier!L7 -> 0 | E15: =Janvier!L11 -> 0
B16: Février | C16: =#REF! -> #REF! | D16: =#REF! -> #REF! | E16: =#REF! -> #REF!
B17: Mars | C17: =#REF! -> #REF! | D17: =#REF! -> #REF! | E17: =#REF! -> #REF!
B18: Avril | C18: =#REF! -> #REF! | D18: =#REF! -> #REF! | E18: =#REF! -> #REF!
B19: Mai | C19: =#REF! -> #REF! | D19: =#REF! -> #REF! | E19: =#REF! -> #REF!
B20: Juin | C20: =#REF! -> #REF! | D20: =#REF! -> #REF! | E20: =#REF! -> #REF!
B21: Juillet | C21: =#REF! -> #REF! | D21: =#REF! -> #REF! | E21: =#REF! -> #REF!
B22: Août | C22: =#REF! -> #REF! | D22: =#REF! -> #REF! | E22: =#REF! -> #REF!
B23: Septembre | C23: =#REF! -> #REF! | D23: =#REF! -> #REF! | E23: =#REF! -> #REF!
B24: Octobre | C24: =#REF! -> #REF! | D24: =#REF! -> #REF! | E24: =#REF! -> #REF!
B25: Novembre | C25: =#REF! -> #REF! | D25: =#REF! -> #REF! | E25: =#REF! -> #REF!
B26: Décembre | C26: =#REF! -> #REF! | D26: =#REF! -> #REF! | E26: =#REF! -> #REF!
B28: Total | C28: =SUM(C15:C26)+C7 -> #REF! | D28: =SUM(D15:D26) -> #REF! | E28: =SUM(E15:E26) -> #REF!
B29: Congés restants | E29: =C9+C11-E28 -> #REF!

Sheet Janvier
B1: Date | C1: Jour | D1: Vacances/Férié/Maladie/Congé | E1: Début du travail | F1: Fin du travail | G1: Pause | H1: Temps de travail | I1: Heures supplémentaires / heures manquantes | K1: Durée hebdomadaire du travail | L1: =Résumé!C5 -> 1.6666667
B2: =Résumé!C3 -> 42735 | C2: =TEXT(B2,"[$-40C]JJJJ") -> vendredi | D2: Férié | H2: =IF(C2="Samedi","",IF(C2="Dimanche","",IF(D2="Férié","",IF(D2="Congé","",IF(D2="Maladie","",IF(D2="Vacances","",SUM(F2-G2-E2))))))) | I2: =IF(C2="samedi","",IF(C2="dimanche","",IF(C2="lundi","",IF(C2="mardi","",IF(C2="mercredi","",IF(C2="jeudi","",SUM(OFFSET(#REF!,(ROW()-4)*5,0,5,1)))))))) -> #REF! | O2: Travail
B3: =B2+1 -> 42736 | C3: =TEXT(B3,"[$-40C]JJJJ") -> samedi | D3: =IF(C3="Samedi","",IF(C3="Dimanche","","Travail")) | H3: =IF(C3="Samedi","",IF(C3="Dimanche","",IF(D3="Férié","",IF(D3="Congé","",IF(D3="Maladie","",IF(D3="Vacances","",SUM(F3-G3-E3))))))) | I3: =IF(C3="samedi","",IF(C3="dimanche","",IF(C3="lundi","",IF(C3="mardi","",IF(C3="mercredi","",IF(C3="jeudi","",SUM(OFFSET(#REF!,(ROW()-4)*5,0,5,1)))))))) | K3: Heures supplémentaires / heures manquantes mensuelles | L3: =I34 -> #REF! | O3: Férié
B4: =B3+1 -> 42737 | C4: =TEXT(B4,"[$-40C]JJJJ") -> dimanche | D4: =IF(C4="Samedi","",IF(C4="Dimanche","","Travail")) | H4: =IF(C4="Samedi","",IF(C4="Dimanche","",IF(D4="Férié","",IF(D4="Congé","",IF(D4="Maladie","",IF(D4="Vacances","",SUM(F4-G4-E4))))))) | I4: =IF(C4="samedi","",IF(C4="dimanche","",IF(C4="lundi","",IF(C4="mardi","",IF(C4="mercredi","",IF(C4="jeudi","",SUM(OFFSET(#REF!,(ROW()-4)*5,0,5,1)))))))) | O4: Congé
B5: =B4+1 -> 42738 | C5: =TEXT(B5,"[$-40C]JJJJ") -> lundi | D5: =IF(C5="Samedi","",IF(C5="Dimanche","","Travail")) -> Travail | E5: 0.27083333 | F5: 0.66666667 | G5: 0.020833333 | H5: =IF(C5="Samedi","",IF(C5="Dimanche","",IF(D5="Férié","",IF(D5="Congé","",IF(D5="Maladie","",IF(D5="Vacances","",SUM(F5-G5-E5))))))) -> 0.375 | I5: =IF(C5="samedi","",IF(C5="dimanche","",IF(C5="lundi","",IF(C5="mardi","",IF(C5="mercredi","",IF(C5="jeudi","",SUM(OFFSET(H1,(ROW()-4)*5,0,5,1)))))))) | K5: Total des heures supplémentaires : | L5: =Résumé!C28 -> #REF! | O5: Maladie
B6: =B5+1 -> 42739 | C6: =TEXT(B6,"[$-40C]JJJJ") -> mardi | D6: =IF(C6="Samedi","",IF(C6="Dimanche","","Travail")) -> Travail | H6: =IF(C6="Samedi","",IF(C6="Dimanche","",IF(D6="Férié","",IF(D6="Congé","",IF(D6="Maladie","",IF(D6="Vacances","",SUM(F6-G6-E6))))))) -> 0 | I6: =IF(C6="samedi","",IF(C6="dimanche","",IF(C6="lundi","",IF(C6="mardi","",IF(C6="mercredi","",IF(C6="jeudi","",SUM(OFFSET(H2,(ROW()-4)*5,0,5,1)))))))) | O6: Vacances
B7: =B6+1 -> 42740 | C7: =TEXT(B7,"[$-40C]JJJJ") -> mercredi | D7: =IF(C7="Samedi","",IF(C7="Dimanche","","Travail")) -> Travail | H7: =IF(C7="Samedi","",IF(C7="Dimanche","",IF(D7="Férié","",IF(D7="Congé","",IF(D7="Maladie","",IF(D7="Vacances","",SUM(F7-G7-E7))))))) -> 0 | I7: =IF(C7="samedi","",IF(C7="dimanche","",IF(C7="lundi","",IF(C7="mardi","",IF(C7="mercredi","",IF(C7="jeudi","",SUM(OFFSET(H3,(ROW()-4)*5,0,5,1)))))))) | K7: Jours de maladie mensuels : | L7: =COUNTIF(D3:D32,"*Maladie*") -> 0 | O7: -
B8: =B7+1 -> 42741 | C8: =TEXT(B8,"[$-40C]JJJJ") -> jeudi | D8: =IF(C8="Samedi","",IF(C8="Dimanche","","Travail")) -> Travail | H8: =IF(C8="Samedi","",IF(C8="Dimanche","",IF(D8="Férié","",IF(D8="Congé","",IF(D8="Maladie","",IF(D8="Vacances","",SUM(F8-G8-E8))))))) -> 0 | I8: =IF(C8="samedi","",IF(C8="dimanche","",IF(C8="lundi","",IF(C8="mardi","",IF(C8="mercredi","",IF(C8="jeudi","",SUM(OFFSET(H4,(ROW()-4)*5,0,5,1))))))))
B9: =B8+1 -> 42742 | C9: =TEXT(B9,"[$-40C]JJJJ") -> vendredi | D9: =IF(C9="Samedi","",IF(C9="Dimanche","","Travail")) -> Travail | H9: =IF(C9="Samedi","",IF(C9="Dimanche","",IF(D9="Férié","",IF(D9="Congé","",IF(D9="Maladie","",IF(D9="Vacances","",SUM(F9-G9-E9))))))) -> 0 | I9: =IF(C9="samedi","",IF(C9="dimanche","",IF(C9="lundi","",IF(C9="mardi","",IF(C9="mercredi","",IF(C9="jeudi","",SUM(OFFSET(H5,(ROW()-4)*5,0,5,1)))))))) -> 0.375 | K9: Total des jours de maladie | L9: =L7 -> 0
B10: =B9+1 -> 42743 | C10: =TEXT(B10,"[$-40C]JJJJ") -> samedi | D10: =IF(C10="Samedi","",IF(C10="Dimanche","","Travail")) | H10: =IF(C10="Samedi","",IF(C10="Dimanche","",IF(D10="Férié","",IF(D10="Congé","",IF(D10="Maladie","",IF(D10="Vacances","",SUM(F10-G10-E10))))))) | I10: =IF(C10="samedi","",IF(C10="dimanche","",IF(C10="lundi","",IF(C10="mardi","",IF(C10="mercredi","",IF(C10="jeudi","",SUM(OFFSET(#REF!,(ROW()-4)*5,0,5,1))))))))
B11: =B10+1 -> 42744 | C11: =TEXT(B11,"[$-40C]JJJJ") -> dimanche | D11: =IF(C11="Samedi","",IF(C11="Dimanche","","Travail")) | H11: =IF(C11="Samedi","",IF(C11="Dimanche","",IF(D11="Férié","",IF(D11="Congé","",IF(D11="Maladie","",IF(D11="Vacances","",SUM(F11-G11-E11))))))) | I11: =IF(C11="samedi","",IF(C11="dimanche","",IF(C11="lundi","",IF(C11="mardi","",IF(C11="mercredi","",IF(C11="jeudi","",SUM(OFFSET(#REF!,(ROW()-4)*5,0,5,1)))))))) | K11: Jours de vacances mensuels : | L11: =COUNTIF(D3:D32,"Vacances") -> 0
B12: =B11+1 -> 42745 | C12: =TEXT(B12,"[$-40C]JJJJ") -> lundi | D12: =IF(C12="Samedi","",IF(C12="Dimanche","","Travail")) -> Travail | H12: =IF(C12="Samedi","",IF(C12="Dimanche","",IF(D12="Férié","",IF(D12="Congé","",IF(D12="Maladie","",IF(D12="Vacances","",SUM(F12-G12-E12))))))) -> 0 | I12: =IF(C12="samedi","",IF(C12="dimanche","",IF(C12="lundi","",IF(C12="mardi","",IF(C12="mercredi","",IF(C12="jeudi","",SUM(OFFSET(#REF!,(ROW()-4)*5,0,5,1))))))))
B13: =B12+1 -> 42746 | C13: =TEXT(B13,"[$-40C]JJJJ") -> mardi | D13: =IF(C13="Samedi","",IF(C13="Dimanche","","Travail")) -> Travail | H13: =IF(C13="Samedi","",IF(C13="Dimanche","",IF(D13="Férié","",IF(D13="Congé","",IF(D13="Maladie","",IF(D13="Vacances","",SUM(F13-G13-E13))))))) -> 0 | I13: =IF(C13="samedi","",IF(C13="dimanche","",IF(C13="lundi","",IF(C13="mardi","",IF(C13="mercredi","",IF(C13="jeudi","",SUM(OFFSET(H9,(ROW()-4)*5,0,5,1)))))))) | K13: Congés restants : | L13: =Résumé!E29 -> #REF!
B14: =B13+1 -> 42747 | C14: =TEXT(B14,"[$-40C]JJJJ") -> mercredi | D14: =IF(C14="Samedi","",IF(C14="Dimanche","","Travail")) -> Travail | H14: =IF(C14="Samedi","",IF(C14="Dimanche","",IF(D14="Férié","",IF(D14="Congé","",IF(D14="Maladie","",IF(D14="Vacances","",SUM(F14-G14-E14))))))) -> 0 | I14: =IF(C14="samedi","",IF(C14="dimanche","",IF(C14="lundi","",IF(C14="mardi","",IF(C14="mercredi","",IF(C14="jeudi","",SUM(OFFSET(H10,(ROW()-4)*5,0,5,1))))))))
B15: =B14+1 -> 42748 | C15: =TEXT(B15,"[$-40C]JJJJ") -> jeudi | D15: =IF(C15="Samedi","",IF(C15="Dimanche","","Travail")) -> Travail | H15: =IF(C15="Samedi","",IF(C15="Dimanche","",IF(D15="Férié","",IF(D15="Congé","",IF(D15="Maladie","",IF(D15="Vacances","",SUM(F15-G15-E15))))))) -> 0 | I15: =IF(C15="samedi","",IF(C15="dimanche","",IF(C15="lundi","",IF(C15="mardi","",IF(C15="mercredi","",IF(C15="jeudi","",SUM(OFFSET(H11,(ROW()-4)*5,0,5,1))))))))
B16: =B15+1 -> 42749 | C16: =TEXT(B16,"[$-40C]JJJJ") -> vendredi | D16: =IF(C16="Samedi","",IF(C16="Dimanche","","Travail")) -> Travail | H16: =IF(C16="Samedi","",IF(C16="Dimanche","",IF(D16="Férié","",IF(D16="Congé","",IF(D16="Maladie","",IF(D16="Vacances","",SUM(F16-G16-E16))))))) -> 0 | I16: =IF(C16="samedi","",IF(C16="dimanche","",IF(C16="lundi","",IF(C16="mardi","",IF(C16="mercredi","",IF(C16="jeudi","",SUM(OFFSET(H12,(ROW()-4)*5,0,5,1)))))))) -> 0
B17: =B16+1 -> 42750 | C17: =TEXT(B17,"[$-40C]JJJJ") -> samedi | D17: =IF(C17="Samedi","",IF(C17="Dimanche","","Travail")) | H17: =IF(C17="Samedi","",IF(C17="Dimanche","",IF(D17="Férié","",IF(D17="Congé","",IF(D17="Maladie","",IF(D17="Vacances","",SUM(F17-G17-E17))))))) | I17: =IF(C17="samedi","",IF(C17="dimanche","",IF(C17="lundi","",IF(C17="mardi","",IF(C17="mercredi","",IF(C17="jeudi","",SUM(OFFSET(H13,(ROW()-4)*5,0,5,1))))))))
B18: =B17+1 -> 42751 | C18: =TEXT(B18,"[$-40C]JJJJ") -> dimanche | D18: =IF(C18="Samedi","",IF(C18="Dimanche","","Travail")) | H18: =IF(C18="Samedi","",IF(C18="Dimanche","",IF(D18="Férié","",IF(D18="Congé","",IF(D18="Maladie","",IF(D18="Vacances","",SUM(F18-G18-E18))))))) | I18: =IF(C18="samedi","",IF(C18="dimanche","",IF(C18="lundi","",IF(C18="mardi","",IF(C18="mercredi","",IF(C18="jeudi","",SUM(OFFSET(#REF!,(ROW()-4)*5,0,5,1))))))))
B19: =B18+1 -> 42752 | C19: =TEXT(B19,"[$-40C]JJJJ") -> lundi | D19: =IF(C19="Samedi","",IF(C19="Dimanche","","Travail")) -> Travail | H19: =IF(C19="Samedi","",IF(C19="Dimanche","",IF(D19="Férié","",IF(D19="Congé","",IF(D19="Maladie","",IF(D19="Vacances","",SUM(F19-G19-E19))))))) -> 0 | I19: =IF(C19="samedi","",IF(C19="dimanche","",IF(C19="lundi","",IF(C19="mardi","",IF(C19="mercredi","",IF(C19="jeudi","",SUM(OFFSET(#REF!,(ROW()-4)*5,0,5,1))))))))
B20: =B19+1 -> 42753 | C20: =TEXT(B20,"[$-40C]JJJJ") -> mardi | D20: =IF(C20="Samedi","",IF(C20="Dimanche","","Travail")) -> Travail | H20: =IF(C20="Samedi","",IF(C20="Dimanche","",IF(D20="Férié","",IF(D20="Congé","",IF(D20="Maladie","",IF(D20="Vacances","",SUM(F20-G20-E20))))))) -> 0 | I20: =IF(C20="samedi","",IF(C20="dimanche","",IF(C20="lundi","",IF(C20="mardi","",IF(C20="mercredi","",IF(C20="jeudi","",SUM(OFFSET(#REF!,(ROW()-4)*5,0,5,1))))))))
B21: =B20+1 -> 42754 | C21: =TEXT(B21,"[$-40C]JJJJ") -> mercredi | D21: =IF(C21="Samedi","",IF(C21="Dimanche","","Travail")) -> Travail | H21: =IF(C21="Samedi","",IF(C21="Dimanche","",IF(D21="Férié","",IF(D21="Congé","",IF(D21="Maladie","",IF(D21="Vacances","",SUM(F21-G21-E21))))))) -> 0 | I21: =IF(C21="samedi","",IF(C21="dimanche","",IF(C21="lundi","",IF(C21="mardi","",IF(C21="mercredi","",IF(C21="jeudi","",SUM(OFFSET(H17,(ROW()-4)*5,0,5,1))))))))
B22: =B21+1 -> 42755 | C22: =TEXT(B22,"[$-40C]JJJJ") -> jeudi | D22: =IF(C22="Samedi","",IF(C22="Dimanche","","Travail")) -> Travail | H22: =IF(C22="Samedi","",IF(C22="Dimanche","",IF(D22="Férié","",IF(D22="Congé","",IF(D22="Maladie","",IF(D22="Vacances","",SUM(F22-G22-E22))))))) -> 0 | I22: =IF(C22="samedi","",IF(C22="dimanche","",IF(C22="lundi","",IF(C22="mardi","",IF(C22="mercredi","",IF(C22="jeudi","",SUM(OFFSET(H18,(ROW()-4)*5,0,5,1))))))))
B23: =B22+1 -> 42756 | C23: =TEXT(B23,"[$-40C]JJJJ") -> vendredi | D23: =IF(C23="Samedi","",IF(C23="Dimanche","","Travail")) -> Travail | H23: =IF(C23="Samedi","",IF(C23="Dimanche","",IF(D23="Férié","",IF(D23="Congé","",IF(D23="Maladie","",IF(D23="Vacances","",SUM(F23-G23-E23))))))) -> 0 | I23: =IF(C23="samedi","",IF(C23="dimanche","",IF(C23="lundi","",IF(C23="mardi","",IF(C23="mercredi","",IF(C23="jeudi","",SUM(OFFSET(H19,(ROW()-4)*5,0,5,1)))))))) -> 0
B24: =B23+1 -> 42757 | C24: =TEXT(B24,"[$-40C]JJJJ") -> samedi | D24: =IF(C24="Samedi","",IF(C24="Dimanche","","Travail")) | H24: =IF(C24="Samedi","",IF(C24="Dimanche","",IF(D24="Férié","",IF(D24="Congé","",IF(D24="Maladie","",IF(D24="Vacances","",SUM(F24-G24-E24))))))) | I24: =IF(C24="samedi","",IF(C24="dimanche","",IF(C24="lundi","",IF(C24="mardi","",IF(C24="mercredi","",IF(C24="jeudi","",SUM(OFFSET(H20,(ROW()-4)*5,0,5,1))))))))
B25: =B24+1 -> 42758 | C25: =TEXT(B25,"[$-40C]JJJJ") -> dimanche | D25: =IF(C25="Samedi","",IF(C25="Dimanche","","Travail")) | H25: =IF(C25="Samedi","",IF(C25="Dimanche","",IF(D25="Férié","",IF(D25="Congé","",IF(D25="Maladie","",IF(D25="Vacances","",SUM(F25-G25-E25))))))) | I25: =IF(C25="samedi","",IF(C25="dimanche","",IF(C25="lundi","",IF(C25="mardi","",IF(C25="mercredi","",IF(C25="jeudi","",SUM(OFFSET(H21,(ROW()-4)*5,0,5,1))))))))
B26: =B25+1 -> 42759 | C26: =TEXT(B26,"[$-40C]JJJJ") -> lundi | D26: =IF(C26="Samedi","",IF(C26="Dimanche","","Travail")) -> Travail | H26: =IF(C26="Samedi","",IF(C26="Dimanche","",IF(D26="Férié","",IF(D26="Congé","",IF(D26="Maladie","",IF(D26="Vacances","",SUM(F26-G26-E26))))))) -> 0 | I26: =IF(C26="samedi","",IF(C26="dimanche","",IF(C26="lundi","",IF(C26="mardi","",IF(C26="mercredi","",IF(C26="jeudi","",SUM(OFFSET(#REF!,(ROW()-4)*5,0,5,1))))))))
B27: =B26+1 -> 42760 | C27: =TEXT(B27,"[$-40C]JJJJ") -> mardi | D27: =IF(C27="Samedi","",IF(C27="Dimanche","","Travail")) -> Travail | H27: =IF(C27="Samedi","",IF(C27="Dimanche","",IF(D27="Férié","",IF(D27="Congé","",IF(D27="Maladie","",IF(D27="Vacances","",SUM(F27-G27-E27))))))) -> 0 | I27: =IF(C27="samedi","",IF(C27="dimanche","",IF(C27="lundi","",IF(C27="mardi","",IF(C27="mercredi","",IF(C27="jeudi","",SUM(OFFSET(#REF!,(ROW()-4)*5,0,5,1))))))))
B28: =B27+1 -> 42761 | C28: =TEXT(B28,"[$-40C]JJJJ") -> mercredi | D28: =IF(C28="Samedi","",IF(C28="Dimanche","","Travail")) -> Travail | H28: =IF(C28="Samedi","",IF(C28="Dimanche","",IF(D28="Férié","",IF(D28="Congé","",IF(D28="Maladie","",IF(D28="Vacances","",SUM(F28-G28-E28))))))) -> 0 | I28: =IF(C28="samedi","",IF(C28="dimanche","",IF(C28="lundi","",IF(C28="mardi","",IF(C28="mercredi","",IF(C28="jeudi","",SUM(OFFSET(#REF!,(ROW()-4)*5,0,5,1))))))))
B29: =B28+1 -> 42762 | C29: =TEXT(B29,"[$-40C]JJJJ") -> jeudi | D29: =IF(C29="Samedi","",IF(C29="Dimanche","","Travail")) -> Travail | H29: =IF(C29="Samedi","",IF(C29="Dimanche","",IF(D29="Férié","",IF(D29="Congé","",IF(D29="Maladie","",IF(D29="Vacances","",SUM(F29-G29-E29))))))) -> 0 | I29: =IF(C29="samedi","",IF(C29="dimanche","",IF(C29="lundi","",IF(C29="mardi","",IF(C29="mercredi","",IF(C29="jeudi","",SUM(OFFSET(H25,(ROW()-4)*5,0,5,1))))))))
B30: =B29+1 -> 42763 | C30: =TEXT(B30,"[$-40C]JJJJ") -> vendredi | D30: =IF(C30="Samedi","",IF(C30="Dimanche","","Travail")) -> Travail | H30: =IF(C30="Samedi","",IF(C30="Dimanche","",IF(D30="Férié","",IF(D30="Congé","",IF(D30="Maladie","",IF(D30="Vacances","",SUM(F30-G30-E30))))))) -> 0 | I30: =IF(C30="samedi","",IF(C30="dimanche","",IF(C30="lundi","",IF(C30="mardi","",IF(C30="mercredi","",IF(C30="jeudi","",SUM(OFFSET(H26,(ROW()-4)*5,0,5,1)))))))) -> 0
B31: =B30+1 -> 42764 | C31: =TEXT(B31,"[$-40C]JJJJ") -> samedi | D31: =IF(C31="Samedi","",IF(C31="Dimanche","","Travail")) | H31: =IF(C31="Samedi","",IF(C31="Dimanche","",IF(D31="Férié","",IF(D31="Congé","",IF(D31="Maladie","",IF(D31="Vacances","",SUM(F31-G31-E31))))))) | I31: =IF(C31="samedi","",IF(C31="dimanche","",IF(C31="lundi","",IF(C31="mardi","",IF(C31="mercredi","",IF(C31="jeudi","",SUM(OFFSET(H27,(ROW()-4)*5,0,5,1))))))))
B32: =B31+1 -> 42765 | C32: =TEXT(B32,"[$-40C]JJJJ") -> dimanche | D32: =IF(C32="Samedi","",IF(C32="Dimanche","","Travail")) | H32: =IF(C32="Samedi","",IF(C32="Dimanche","",IF(D32="Férié","",IF(D32="Congé","",IF(D32="Maladie","",IF(D32="Vacances","",SUM(F32-G32-E32))))))) | I32: =IF(C32="samedi","",IF(C32="dimanche","",IF(C32="lundi","",IF(C32="mardi","",IF(C32="mercredi","",IF(C32="jeudi","",SUM(OFFSET(H28,(ROW()-4)*5,0,5,1))))))))
G34: =SUM(G2:G32) -> 0.020833333 | H34: =SUM(H2:H32) -> 0.375 | I34: =SUM(I2:I32) -> #REF!
