Workbook

Sheet Saisie
A1: Date | B1: Nom | C1: Prénom | D1: Mission | E1: Durée
H7: FORMULAIRE A CRÉER
H11: DATE
H12: NOM
H13: PRENOM
H14: MISSION
H15: DUREE
H17: VALIDER

Sheet Récap
A1: Date | B1: Nom | C1: Prénom | D1: Mission | E1: Durée | F1: VALIDATION
A2: =Saisie!A2 -> 0 | B2: =Saisie!B2 -> 0 | C2: =Saisie!C2 -> 0 | D2: =Saisie!D2 -> 0 | E2: =Saisie!E2 -> 0
A3: =Saisie!A3 -> 0 | B3: =Saisie!B3 -> 0 | C3: =Saisie!C3 -> 0 | D3: =Saisie!D3 -> 0 | E3: =Saisie!E3 -> 0
A4: =Saisie!A4 -> 0 | B4: =Saisie!B4 -> 0 | C4: =Saisie!C4 -> 0 | D4: =Saisie!D4 -> 0 | E4: =Saisie!E4 -> 0
A5: =Saisie!A5 -> 0 | B5: =Saisie!B5 -> 0 | C5: =Saisie!C5 -> 0 | D5: =Saisie!D5 -> 0 | E5: =Saisie!E5 -> 0
A6: =Saisie!A6 -> 0 | B6: =Saisie!B6 -> 0 | C6: =Saisie!C6 -> 0 | D6: =Saisie!D6 -> 0 | E6: =Saisie!E6 -> 0
A7: =Saisie!A7 -> 0 | B7: =Saisie!B7 -> 0 | C7: =Saisie!C7 -> 0 | D7: =Saisie!D7 -> 0 | E7: =Saisie!E7 -> 0
A8: =Saisie!A8 -> 0 | B8: =Saisie!B8 -> 0 | C8: =Saisie!C8 -> 0 | D8: =Saisie!D8 -> 0 | E8: =Saisie!E8 -> 0
A9: =Saisie!A9 -> 0 | B9: =Saisie!B9 -> 0 | C9: =Saisie!C9 -> 0 | D9: =Saisie!D9 -> 0 | E9: =Saisie!E9 -> 0
A10: =Saisie!A10 -> 0 | B10: =Saisie!B10 -> 0 | C10: =Saisie!C10 -> 0 | D10: =Saisie!D10 -> 0 | E10: =Saisie!E10 -> 0
A11: =Saisie!A11 -> 0 | B11: =Saisie!B11 -> 0 | C11: =Saisie!C11 -> 0 | D11: =Saisie!D11 -> 0 | E11: =Saisie!E11 -> 0
A12: =Saisie!A12 -> 0 | B12: =Saisie!B12 -> 0 | C12: =Saisie!C12 -> 0 | D12: =Saisie!D12 -> 0 | E12: =Saisie!E12 -> 0
A13: =Saisie!A13 -> 0 | B13: =Saisie!B13 -> 0 | C13: =Saisie!C13 -> 0 | D13: =Saisie!D13 -> 0 | E13: =Saisie!E13 -> 0
... A33: =Saisie!A33 -> 0 | B33: =Saisie!B33 -> 0 | C33: =Saisie!C33 -> 0 | D33: =Saisie!D33 -> 0 | E33: =Saisie!E33 -> 0
