Workbook
Name Indice1: Tableau!$E$2:$E$2
Name Indice2: Tableau!$F$2:$F$2

Sheet Tableau
C1: ENSEIGNE | G1: ENSEIGNE B
A2: Ville | B2: Indice moyen | C2: Nombre de magasin | D2: Panier moyen par visite ville (€) | E2: Indice nombre de magasins vs Enseigne B | F2: Indice panier moyen vs Enseigne B | G2: Nombre de magasin2 | H2: Panier moyen par visite ville (€)3
A3: Ville 1 | B3: =(Tableau!E3*Paramètres!$B$2)+(Tableau!F3*Paramètres!$B$3) -> 122.2973 | C3: 3 | D3: 35 | E3: =(C3/G3)*100 -> 150 | F3: =(D3/H3)*100 -> 94.594595 | G3: 2 | H3: 37
A4: Ville 2 | B4: =(Tableau!E4*Paramètres!$B$2)+(Tableau!F4*Paramètres!$B$3) -> 57.058824 | C4: 1 | D4: 32 | E4: =(C4/G4)*100 -> 20 | F4: =(D4/H4)*100 -> 94.117647 | G4: 5 | H4: 34
A5: Ville 3 | B5: =(Tableau!E5*Paramètres!$B$2)+(Tableau!F5*Paramètres!$B$3) -> 78.571429 | C5: 3 | D5: 12 | E5: =(C5/G5)*100 -> 100 | F5: =(D5/H5)*100 -> 57.142857 | G5: 3 | H5: 21
A6: Ville 4 | B6: =(Tableau!E6*Paramètres!$B$2)+(Tableau!F6*Paramètres!$B$3) -> 95.128205 | C6: 4 | D6: 37 | E6: =(C6/G6)*100 -> 133.33333 | F6: =(D6/H6)*100 -> 56.923077 | G6: 3 | H6: 65
A7: Ville 5 | B7: =(Tableau!E7*Paramètres!$B$2)+(Tableau!F7*Paramètres!$B$3) -> 144.59459 | C7: 4 | D7: 33 | E7: =(C7/G7)*100 -> 200 | F7: =(D7/H7)*100 -> 89.189189 | G7: 2 | H7: 37
A8: Ville 6 | B8: =(Tableau!E8*Paramètres!$B$2)+(Tableau!F8*Paramètres!$B$3) -> 160.34483 | C8: 3 | D8: 12 | E8: =(C8/G8)*100 -> 300 | F8: =(D8/H8)*100 -> 20.689655 | G8: 1 | H8: 58
A9: Ville 7 | B9: =(Tableau!E9*Paramètres!$B$2)+(Tableau!F9*Paramètres!$B$3) -> 119.79167 | C9: 4 | D9: 34 | E9: =(C9/G9)*100 -> 133.33333 | F9: =(D9/H9)*100 -> 106.25 | G9: 3 | H9: 32
A10: Ville 8 | B10: =(Tableau!E10*Paramètres!$B$2)+(Tableau!F10*Paramètres!$B$3) -> 100.45455 | C10: 3 | D10: 31 | E10: =(C10/G10)*100 -> 60 | F10: =(D10/H10)*100 -> 140.90909 | G10: 5 | H10: 22
A11: Ville 9 | B11: =(Tableau!E11*Paramètres!$B$2)+(Tableau!F11*Paramètres!$B$3) -> 59.210526 | C11: 2 | D11: 13 | E11: =(C11/G11)*100 -> 50 | F11: =(D11/H11)*100 -> 68.421053 | G11: 4 | H11: 19
A12: Ville 10 | B12: =(Tableau!E12*Paramètres!$B$2)+(Tableau!F12*Paramètres!$B$3) -> 122.91667 | C12: 2 | D12: 43 | E12: =(C12/G12)*100 -> 66.666667 | F12: =(D12/H12)*100 -> 179.16667 | G12: 3 | H12: 24
A13: Ville 11 | B13: =(Tableau!E13*Paramètres!$B$2)+(Tableau!F13*Paramètres!$B$3) -> 151.78571 | C13: 1 | D13: 57 | E13: =(C13/G13)*100 -> 100 | F13: =(D13/H13)*100 -> 203.57143 | G13: 1 | H13: 28
A14: Ville 12 | B14: =(Tableau!E14*Paramètres!$B$2)+(Tableau!F14*Paramètres!$B$3) -> 105 | C14: 3 | D14: 54 | E14: =(C14/G14)*100 -> 60 | F14: =(D14/H14)*100 -> 150 | G14: 5 | H14: 36
... A19: Ville 17 | B19: =(Tableau!E19*Paramètres!$B$2)+(Tableau!F19*Paramètres!$B$3) -> 126.66667 | C19: 2 | D19: 28 | E19: =(C19/G19)*100 -> 66.666667 | F19: =(D19/H19)*100 -> 186.66667 | G19: 3 | H19: 15

Sheet Paramètres
B1: Coefficient de pondération
A2: Indice nombre de magasins vs Enseigne B | B2: 0.5
A3: Indice panier moyen vs Enseigne B | B3: 0.5
