Workbook

Sheet liste clubs
A1: BNS | B1: Ballet Nautique de Strasbourg
A2: PAN | B2: pays d'Aix Natation
A3: LUC | B3: Lille Université Club
A4: EAC | B4: Erstein Aquatic Club
A5: SRC | B5: Sports Reunis Club
A6: MOC | B6: Monaco

Sheet recap points
A1: Ebauche Classement National des Clubs Masters Natation Artistique 2022
A2: Place | B2: Solo ( Tech + Libre) | C2: Duo ( Tech + Libre) | D2: Equipe ( Tech + Libre) | E2: Combo
A3: 1 | B3: 20 | C3: 40 | D3: 60 | E3: 60
A4: 2 | B4: 19 | C4: 38 | D4: 50 | E4: 50
A5: 3 | B5: 18 | C5: 36 | D5: 30 | E5: 30
A6: 4 | B6: 17 | C6: 34 | D6: 20 | E6: 20
A7: 5 | B7: 16 | C7: 32 | D7: 15 | E7: 15
A8: 6 | B8: 15 | C8: 30 | D8: 10 | E8: 10
A9: 7 | B9: 14 | C9: 28 | D9: 5 | E9: 5
A10: 8 | B10: 13 | C10: 26 | D10: 0 | E10: 0
A11: 9 | B11: 12 | C11: 24 | D11: 0 | E11: 0
A12: 10 | B12: 11 | C12: 22 | D12: 0 | E12: 0
A13: 11 | B13: 10 | C13: 20 | D13: 0 | E13: 0
A14: 12 | B14: 9 | C14: 18 | D14: 0 | E14: 0
... A22: 20 | B22: 1 | C22: 2 | D22: 0 | E22: 0
A32: PS doc USA 2022
B33: )

Sheet Feuil1
A1: Place | B1: Équipe | C1: Solo Tech | D1: Équipe | E1: Solo Libre | F1: Équipe | G1: Duo Tech | H1: Équipe | I1: Duo Libre | J1: Équipe | K1: Équipe Tech | L1: Équipe | M1: Équipe Libre | N1: Équipe | O1: Combo | R1: RANG | S1: ÉQUIPE | T1: Solo Tech | U1: Solo Libre | V1: Duo Tech | W1: Duo Libre | X1: Équipe Tech | Y1: Équipe Libre | Z1: Combo | AA1: TOTAL
A2: 1 | B2: BNS | C2: 20 | D2: LUC | E2: 20 | F2: MOC | G2: 40 | H2: MOC | I2: 40 | J2: LUC | K2: 60 | L2: LUC | M2: 60 | N2: MOC | O2: 60 | R2: 1 | S2: EAC | T2: =SUMIF($B$2:$C$21,$S2,$C$2:$C$21) -> 17 | U2: =SUMIF($D$2:$E$21,$S2,$E$2:$E$21) -> 33 | V2: =SUMIF($F$2:$G$21,$S2,$G$2:$G$21) -> 68 | W2: =SUMIF($H$2:$I$21,$S2,$I$2:$I$21) -> 68 | X2: =SUMIF($J$2:$K$21,$S2,$K$2:$K$21) -> 50 | Y2: =SUMIF($L$2:$M$21,$S2,$M$2:$M$21) -> 50 | Z2: =SUMIF($N$2:$O$21,$S2,$O$2:$O$21) -> 50 | AA2: =SUM(T2:Z2) -> 336
A3: 2 | B3: LUC | C3: 19 | D3: EAC | E3: 19 | F3: EAC | G3: 38 | H3: EAC | I3: 38 | J3: EAC | K3: 50 | L3: EAC | M3: 50 | N3: EAC | O3: 50 | R3: 2 | S3: LUC | T3: =SUMIF($B$2:$C$21,$S3,$C$2:$C$21) -> 19 | U3: =SUMIF($D$2:$E$21,$S3,$E$2:$E$21) -> 45 | V3: =SUMIF($F$2:$G$21,$S3,$G$2:$G$21) -> 58 | W3: =SUMIF($H$2:$I$21,$S3,$I$2:$I$21) -> 58 | X3: =SUMIF($J$2:$K$21,$S3,$K$2:$K$21) -> 60 | Y3: =SUMIF($L$2:$M$21,$S3,$M$2:$M$21) -> 60 | Z3: =SUMIF($N$2:$O$21,$S3,$O$2:$O$21) -> 30 | AA3: =SUM(T3:Z3) -> 330
A4: 3 | B4: MOC | C4: 18 | D4: MOC | E4: 18 | F4: BNS | G4: 36 | H4: BNS | I4: 36 | J4: MOC | K4: 30 | L4: MOC | M4: 30 | N4: LUC | O4: 30 | R4: 3 | S4: MOC | T4: =SUMIF($B$2:$C$21,$S4,$C$2:$C$21) -> 43 | U4: =SUMIF($D$2:$E$21,$S4,$E$2:$E$21) -> 18 | V4: =SUMIF($F$2:$G$21,$S4,$G$2:$G$21) -> 74 | W4: =SUMIF($H$2:$I$21,$S4,$I$2:$I$21) -> 74 | X4: =SUMIF($J$2:$K$21,$S4,$K$2:$K$21) -> 30 | Y4: =SUMIF($L$2:$M$21,$S4,$M$2:$M$21) -> 30 | Z4: =SUMIF($N$2:$O$21,$S4,$O$2:$O$21) -> 60 | AA4: =SUM(T4:Z4) -> 329
A5: 4 | B5: EAC | C5: 17 | D5: SRC | E5: 17 | F5: MOC | G5: 34 | H5: MOC | I5: 34 | J5: BNS | K5: 20 | L5: BNS | M5: 20 | N5: BNS | O5: 20 | R5: 4 | S5: BNS | T5: =SUMIF($B$2:$C$21,$S5,$C$2:$C$21) -> 34 | U5: =SUMIF($D$2:$E$21,$S5,$E$2:$E$21) -> 31 | V5: =SUMIF($F$2:$G$21,$S5,$G$2:$G$21) -> 64 | W5: =SUMIF($H$2:$I$21,$S5,$I$2:$I$21) -> 64 | X5: =SUMIF($J$2:$K$21,$S5,$K$2:$K$21) -> 20 | Y5: =SUMIF($L$2:$M$21,$S5,$M$2:$M$21) -> 20 | Z5: =SUMIF($N$2:$O$21,$S5,$O$2:$O$21) -> 20 | AA5: =SUM(T5:Z5) -> 253
A6: 5 | B6: SRC | C6: 16 | D6: BNS | E6: 16 | F6: LUC | G6: 32 | H6: LUC | I6: 32 | K6: 15 | M6: 15 | O6: 15 | R6: 5 | S6: SRC | T6: =SUMIF($B$2:$C$21,$S6,$C$2:$C$21) -> 31 | U6: =SUMIF($D$2:$E$21,$S6,$E$2:$E$21) -> 17 | V6: =SUMIF($F$2:$G$21,$S6,$G$2:$G$21) -> 0 | W6: =SUMIF($H$2:$I$21,$S6,$I$2:$I$21) -> 0 | X6: =SUMIF($J$2:$K$21,$S6,$K$2:$K$21) -> 0 | Y6: =SUMIF($L$2:$M$21,$S6,$M$2:$M$21) -> 0 | Z6: =SUMIF($N$2:$O$21,$S6,$O$2:$O$21) -> 0 | AA6: =SUM(T6:Z6) -> 48
A7: 6 | B7: SRC | C7: 15 | D7: BNS | E7: 15 | F7: EAC | G7: 30 | H7: EAC | I7: 30 | K7: 10 | M7: 10 | O7: 10 | R7: 6 | S7: PAN | T7: =SUMIF($B$2:$C$21,$S7,$C$2:$C$21) -> 0 | U7: =SUMIF($D$2:$E$21,$S7,$E$2:$E$21) -> 0 | V7: =SUMIF($F$2:$G$21,$S7,$G$2:$G$21) -> 0 | W7: =SUMIF($H$2:$I$21,$S7,$I$2:$I$21) -> 0 | X7: =SUMIF($J$2:$K$21,$S7,$K$2:$K$21) -> 0 | Y7: =SUMIF($L$2:$M$21,$S7,$M$2:$M$21) -> 0 | Z7: =SUMIF($N$2:$O$21,$S7,$O$2:$O$21) -> 0 | AA7: =SUM(T7:Z7) -> 0
A8: 7 | B8: BNS | C8: 14 | D8: EAC | E8: 14 | F8: BNS | G8: 28 | H8: BNS | I8: 28 | K8: 5 | M8: 5 | O8: 5
A9: 8 | B9: MOC | C9: 13 | D9: LUC | E9: 13 | F9: LUC | G9: 26 | H9: LUC | I9: 26 | K9: 0 | M9: 0 | O9: 0
A10: 9 | B10: MOC | C10: 12 | D10: LUC | E10: 12 | G10: 24 | I10: 24 | K10: 0 | M10: 0 | O10: 0
A11: 10 | C11: 11 | E11: 11 | G11: 22 | I11: 22 | K11: 0 | M11: 0 | O11: 0
A12: 11 | C12: 10 | E12: 10 | G12: 20 | I12: 20 | K12: 0 | M12: 0 | O12: 0
A13: 12 | C13: 9 | E13: 9 | G13: 18 | I13: 18 | K13: 0 | M13: 0 | O13: 0
A14: 13 | C14: 8 | E14: 8 | G14: 16 | I14: 16 | K14: 0 | M14: 0 | O14: 0
A15: 14 | C15: 7 | E15: 7 | G15: 14 | I15: 14 | K15: 0 | M15: 0 | O15: 0
A16: 15 | C16: 6 | E16: 6 | G16: 12 | I16: 12 | K16: 0 | M16: 0 | O16: 0
A17: 16 | C17: 5 | E17: 5 | G17: 10 | I17: 10 | K17: 0 | M17: 0 | O17: 0
A18: 17 | C18: 4 | E18: 4 | G18: 8 | I18: 8 | K18: 0 | M18: 0 | O18: 0
A19: 18 | C19: 3 | E19: 3 | G19: 6 | I19: 6 | K19: 0 | M19: 0 | O19: 0
A20: 19 | C20: 2 | E20: 2 | G20: 4 | I20: 4 | K20: 0 | M20: 0 | O20: 0
A21: 20 | C21: 1 | E21: 1 | G21: 2 | I21: 2 | K21: 0 | M21: 0 | O21: 0

Sheet Solo
A2: Place | B2: Solo ( Tech + Libre) | C2: Solo ( Tech + Libre) | D2: Solo ( Tech) | E2: Solo (Libre)
A3: 1 | B3: ='recap points'!B3 -> 20 | C3: ='recap points'!B3 -> 20 | D3: BNS | E3: LUC
A4: 2 | B4: ='recap points'!B4 -> 19 | C4: ='recap points'!B4 -> 19 | D4: LUC | E4: EAC
A5: 3 | B5: ='recap points'!B5 -> 18 | C5: ='recap points'!B5 -> 18 | D5: MOC | E5: MOC
A6: 4 | B6: ='recap points'!B6 -> 17 | C6: ='recap points'!B6 -> 17 | D6: EAC | E6: SRC
A7: 5 | B7: ='recap points'!B7 -> 16 | C7: ='recap points'!B7 -> 16 | D7: SRC | E7: BNS
A8: 6 | B8: ='recap points'!B8 -> 15 | C8: ='recap points'!B8 -> 15 | D8: SRC | E8: BNS
A9: 7 | B9: ='recap points'!B9 -> 14 | C9: ='recap points'!B9 -> 14 | D9: BNS | E9: EAC
A10: 8 | B10: ='recap points'!B10 -> 13 | C10: ='recap points'!B10 -> 13 | D10: MOC | E10: LUC
A11: 9 | B11: ='recap points'!B11 -> 12 | C11: ='recap points'!B11 -> 12 | D11: MOC | E11: LUC
A12: 10 | B12: ='recap points'!B12 -> 11 | C12: ='recap points'!B12 -> 11
A13: 11 | B13: ='recap points'!B13 -> 10 | C13: ='recap points'!B13 -> 10
A14: 12 | B14: ='recap points'!B14 -> 9 | C14: ='recap points'!B14 -> 9
A15: 13 | B15: ='recap points'!B15 -> 8 | C15: ='recap points'!B15 -> 8
A16: 14 | B16: ='recap points'!B16 -> 7 | C16: ='recap points'!B16 -> 7
A17: 15 | B17: ='recap points'!B17 -> 6 | C17: ='recap points'!B17 -> 6
A18: 16 | B18: ='recap points'!B18 -> 5 | C18: ='recap points'!B18 -> 5
A19: 17 | B19: ='recap points'!B19 -> 4 | C19: ='recap points'!B19 -> 4
A20: 18 | B20: ='recap points'!B20 -> 3 | C20: ='recap points'!B20 -> 3
A21: 19 | B21: ='recap points'!B21 -> 2 | C21: ='recap points'!B21 -> 2
A22: 20 | B22: ='recap points'!B22 -> 1 | C22: ='recap points'!B22 -> 1

Sheet Duo
A1: Place | B1: Duo ( Tech + Libre)
A2: 1 | B2: MOC
A3: 2 | B3: EAC
A4: 3 | B4: BNS
A5: 4 | B5: MOC
A6: 5 | B6: LUC
A7: 6 | B7: EAC
A8: 7 | B8: BNS
A9: 8 | B9: LUC
A10: 9
A11: 10
A12: 11
A13: 12
A14: 13
A15: 14
A16: 15
A17: 16
A18: 17
A19: 18
A20: 19
A21: 20

Sheet Equipe
A1: Place | B1: Equipe ( Tech + Libre)
A2: 1 | B2: LUC
A3: 2 | B3: EAC
A4: 3 | B4: MOC
A5: 4 | B5: BNS
A6: 5
A7: 6
A8: 7

Sheet Combo
A1: Place | B1: Combo
A2: 1 | B2: MOC
A3: 2 | B3: EAC
A4: 3 | B4: LUC
A5: 4 | B5: BNS
A6: 5
A7: 6
A8: 7

Sheet Total
A1: Place | B1: Solo ( Tech + Libre) | C1: Solo ( Tech + Libre) | D1: Duo ( Tech + Libre) | E1: Duo ( Tech + Libre) | F1: Equipe ( Tech + Libre) | G1: Equipe ( Tech + Libre) | H1: Combo | I1: TOTAL
A2: Ballet Nautique de Strasbourg | B2: a1 | C2: a2 | D2: b1 | E2: b2 | F2: c1 | G2: c2 | H2: d | I2: a+b+c+d
A3: pays d'Aix Natation
A4: Lille Université Club
A5: Erstein Aquatic Club
A6: Sports Reunis Club
A7: Monaco
