Workbook

Sheet table
B2: LIBELLE DU CODE METIER | C2: INDICE Salarial conventionnel | D2: bulletin modèle | E2: groupe CCN | F2: groupe compta
A4: 9 | B4: CT DIRECTEUR classes et colos | C4: 300 | D4: LT - CDD AVEC BF | E4: D | F4: 150
A5: 10 | B5: CT DIRECTEUR familles accueil retraités | C5: 300 | D5: LT - CDD SANS BF | E5: D | F5: 150
A6: 11 | B6: CT ADJOINT classes et colos | C6: 280 | D6: LT - CDD AVEC BF | E6: C | F6: 150
A7: 12 | B7: CT ADJOINT familles accueil retraités | C7: 280 | D7: LT - CDD SANS BF | E7: C | F7: 150
A8: 13 | B8: CT ANIMATEUR classes et colos | C8: 260 | D8: LT - CDD AVEC BF | E8: B | F8: 150
A9: 14 | B9: CT ANIMATEUR SPEC | C9: 280 | D9: LT - CDD AVEC BF | E9: B | F9: 150
A10: 15 | B10: CT ANIMATEUR familles accueil retraités | C10: 260 | D10: LT - CDD SANS BF | E10: B | F10: 150
A11: 16 | B11: CT ANIMATEUR ENF H | C11: 260 | D11: LT - CDD AVEC BF | E11: B | F11: 150
A13: 18 | B13: CT CUISINIER | C13: 280 | D13: LT - CDD SANS BF | E13: C | F13: 155
A14: 19 | B14: CT COMMIS DE CUISINE | C14: 260 | D14: LT - CDD SANS BF | E14: B | F14: 155
A15: 22 | B15: CT CHAUFFEUR | C15: 260 | D15: LT - CDD SANS BF | E15: A | F15: 155
A16: 25 | B16: CT FACTOTUM | C16: 250 | D16: LT - CDD SANS BF | E16: A | F16: 155
... A25: 39 | B25: CT 75 COMMIS 25 PLONGEUR | C25: 260 | D25: LT - CDD SANS BF | E25: B | F25: 155
A26: 40 | B26: CE DIRECTEUR séj fixes et ling T1 | D26: LT - CEE AVEC BF | F26: 170
A27: 42 | B27: CE DIRECTEUR séj fixes et ling T2 | D27: LT - CEE AVEC BF | F27: 170
A28: 44 | B28: CE DIRECTEUR séj fixes et ling T3 | D28: LT - CEE AVEC BF | F28: 170
A29: 46 | B29: CE DIRECTEUR séj ITI et ETR | D29: LT - CEE AVEC BF | F29: 170
A30: 48 | B30: CE ADJOINT | D30: LT - CEE AVEC BF | F30: 170
A31: 49 | B31: CE ASSISTANT SANITAIRE | D31: LT - CEE AVEC BF | F31: 170
A32: 50 | B32: CE ANIMATEUR | D32: LT - CEE AVEC BF | F32: 170
A33: 51 | B33: CE ANIMATEUR INTERPRETE | D33: LT - CEE AVEC BF | F33: 170
A34: 52 | B34: CE ANIMATEUR SURV BAIGNADE | D34: LT - CEE AVEC BF | F34: 170
A35: 54 | B35: CE ANIMATEUR SURV BAIGNADE ITI | D35: LT - CEE AVEC BF | F35: 170
A36: 56 | B36: CE ANIMATEUR séj ITI | D36: LT - CEE AVEC BF | F36: 170
A37: 58 | B37: CE ANIMATEUR stagiaire | D37: LT - CEE AVEC BF | F37: 170
... A43: 68 | B43: CE ANIMATEUR BE équitation | D43: LT - CEE AVEC BF | F43: 170
A44: 70 | B44: RENF GARE ET CONVOYEUR | C44: 250 | D44: LT - CDD SANS BF | E44: A | F44: 150
A45: 78 | B45: FORMATEUR BAFA | D45: LT - CEE AVEC BF | F45: 170
A46: 79 | B46: RESPONSABLE FORMATION BAFA | D46: LT - CEE AVEC BF | F46: 170

Sheet Réponse au formulaire
A1: reprise de données signalétiques | E1: Infos société | P1: champs alimentés par une base de données
E2: LT
E3: 32
A5: SOUM_TAXE_TRAN | B5: TITR | C5: MATR | D5: NOM | E5: NOM_JEUN_FILL | F5: PREN | G5: ADRE | H5: COMP_ADRE | I5: CODE_POST | J5: COMU | K5: BURE_DIST | L5: ADRE_PAYS | M5: DATE_NAIS | N5: COMM_NAIS | O5: DEPA_NAIS | P5: NATI | Q5: PAYS_NAIS | R5: SITU_FAMI | S5: NUME_SECU_SOCI | T5: CLE_SECU_SOCI | U5: CODE_EMPL | V5: EMPL | W5: DATE_EMBA | X5: DATE_DEBU_CONT | Y5: DATE_FIN_CONT | Z5: CATE_PROF | AA5: MOTI_RECR_CDD | AB5: INDI | AC5: ID_MODBULL | AD5: MODE_PAIE | AE5: DATE_ANCI | AF5: E_MAIL | AG5: GROU_CONV | AH5: GROU_COMP | AI5: ID_ETAB | AJ5: TAUX_ACCI_TRAV | AK5: TELE_1 | AL5: CODE_MOTI_RECR_DISP_PUBL | AM5: NATU_CONT | AN5: AVAN_NOMB_PIEC_PRIN | AO5: TYPE_EMPL_INTE | AP5: CIPD
A6: Horodateur | B6: Titre | C6: Matricule société | D6: Nom | E6: Nom de jeune fille | F6: Prénom | G6: Adresse | H6: Complément d'adresse | I6: Code postal | J6: Commune | K6: Bureau distributeur | L6: Pays de résidance | M6: Date de naissance | N6: Commune de naissance | O6: Département de naissance | P6: Pays de nationalité | Q6: Pays de naissance | R6: Situation familiale | S6: Numéro de sécurité sociale (13 chiffres) | T6: Clé n° de sécurité sociale (2 chiffres) | U6: code emploi voir table | V6: libellé de l'Emploi qu'aura le salarié | W6: Date d'embauche | X6: Date de début de contrat | Y6: Date de fin de contrat | Z6: Catégorie professionelle | AA6: Motif de recrutement | AB6: Indice CCN | AC6: Bulletin modèle de paye | AD6: Mode de paiement | AE6: Date d'ancienneté | AF6: Adresse mail | AG6: Groupe CCN | AH6: Groupe comptable | AI6: Etablissement | AJ6: Taux AT | AK6: Coordonnées Téléphoniques | AL6: Dispositif de politique publique | AM6: Type de contrat | AN6: Av LGT NBRE | AO6: Type d'emploi intermittent | AP6: Code CIPDZ | AQ6: Déposez vos documents ici | AR6: Score
B7: M | C7: 17 | D7: AA | E7: ATTE | F7: FERT | J7: 95000 | U7: 18 | W7: 44686 | X7: 44688 | Y7: 44711
B8: Mme | C8: =IF(B8>0,C7+1,"") -> 18 | D8: AB | E8: ABVE | F8: GRET | J8: 75019 | U8: 50 | W8: 44688 | X8: 44691 | Y8: 44717
B9: M. | C9: =IF(B9>0,C8+1,"") -> 19 | D9: AC | E9: ATTE | F9: GTYU | J9: 60250 | U9: 18 | W9: 44688 | X9: 44691 | Y9: 44717
C10: =IF(B10>0,C9+1,"")
C11: =IF(B11>0,C10+1,"")
C12: =IF(B12>0,C11+1,"")
C13: =IF(B13>0,C12+1,"")
C14: =IF(B14>0,C13+1,"")
C15: =IF(B15>0,C14+1,"")
C16: =IF(B16>0,C15+1,"")
C17: =IF(B17>0,C16+1,"")
C18: =IF(B18>0,C17+1,"")
C19: =IF(B19>0,C18+1,"")
C20: =IF(B20>0,C19+1,"")
C21: =IF(B21>0,C20+1,"")
... C28: =IF(B28>0,C27+1,"")
AD30: =IF(B30>0,"chèque","") | AE30: =IF(W30>0,W30,"") | AI30: =IF(B30>0,"VACANCES VOYAGES LOISIRS","") | AJ30: =IF(B30>0,"2,26","") | AM30: =IF(AH30=150,"contrat d'usage",IF(AH30=155,"contrat d'usage",IF(AH30=170,"contrat d'engagement éducatif",IF(AH30=0,"",))))
AI31: =IF(B31>0,"VACANCES VOYAGES LOISIRS","")
AI32: =IF(B32>0,"VACANCES VOYAGES LOISIRS","")

Sheet COMPREHENSION
D2: Dans l'onglet réponse, je recois des informations d'une base de données
D3: Une fois les informations collectées, je souhaite avoir les formules suivantes dans les cellules indiquées ci-dessous.
D6: Cellule | E6: Les formules à avoir
D7: k7 | E7: =SI(J7>0;J7;"")
D8: L7 | E8: =SI(B7>0;"FRANCE";"")
D9: P7 | E9: =L7
D10: R7 | E10: =SI(B7>0;"célibataire";"")
D11: v7 | E11: =SI(U7=0;"";RECHERCHEV(U7;table!$A$4:$F$46;2;))
D12: z7 | E12: =SI(B7>0;"NON CADRE";"")
D13: aa7 | E13: =SI(AH7=150;"contrat d'usage";SI(AH7=155;"contrat d'usage";SI(AH7=170;"";SI(AH7=0;"";))))
D14: ab7 | E14: =SI(U7=0;"";RECHERCHEV(U7;table!$A$4:$F$46;3;))
D15: ac7 | E15: =SI(U7=0;"";RECHERCHEV(U7;table!$A$4:$F$46;4;))
D16: ad7 | E16: =SI(B7>0;"chèque";"")
D17: ae7 | E17: =SI(W7>0;W7;"")
... D26: ap7 | E26: =SI(B7>0;"I:Emploi intermittent";"")
D36: Puis avoir un bouton pour effacer les cellules cidessous sur les lignes 5 lignes utilisées

Sheet RESULTAT
A1: reprise de données signalétiques | E1: Infos société | P1: champs alimentés par une base de données
E2: LT
E3: 32
A5: SOUM_TAXE_TRAN | B5: TITR | C5: MATR | D5: NOM | E5: NOM_JEUN_FILL | F5: PREN | G5: ADRE | H5: COMP_ADRE | I5: CODE_POST | J5: COMU | K5: BURE_DIST | L5: ADRE_PAYS | M5: DATE_NAIS | N5: COMM_NAIS | O5: DEPA_NAIS | P5: NATI | Q5: PAYS_NAIS | R5: SITU_FAMI | S5: NUME_SECU_SOCI | T5: CLE_SECU_SOCI | U5: CODE_EMPL | V5: EMPL | W5: DATE_EMBA | X5: DATE_DEBU_CONT | Y5: DATE_FIN_CONT | Z5: CATE_PROF | AA5: MOTI_RECR_CDD | AB5: INDI | AC5: ID_MODBULL | AD5: MODE_PAIE | AE5: DATE_ANCI | AF5: E_MAIL | AG5: GROU_CONV | AH5: GROU_COMP | AI5: ID_ETAB | AJ5: TAUX_ACCI_TRAV | AK5: TELE_1 | AL5: CODE_MOTI_RECR_DISP_PUBL | AM5: NATU_CONT | AN5: AVAN_NOMB_PIEC_PRIN | AO5: TYPE_EMPL_INTE | AP5: CIPD
A6: Horodateur | B6: Titre | C6: Matricule société | D6: Nom | E6: Nom de jeune fille | F6: Prénom | G6: Adresse | H6: Complément d'adresse | I6: Code postal | J6: Commune | K6: Bureau distributeur | L6: Pays de résidance | M6: Date de naissance | N6: Commune de naissance | O6: Département de naissance | P6: Pays de nationalité | Q6: Pays de naissance | R6: Situation familiale | S6: Numéro de sécurité sociale (13 chiffres) | T6: Clé n° de sécurité sociale (2 chiffres) | U6: code emploi voir table | V6: libellé de l'Emploi qu'aura le salarié | W6: Date d'embauche | X6: Date de début de contrat | Y6: Date de fin de contrat | Z6: Catégorie professionelle | AA6: Motif de recrutement | AB6: Indice CCN | AC6: Bulletin modèle de paye | AD6: Mode de paiement | AE6: Date d'ancienneté | AF6: Adresse mail | AG6: Groupe CCN | AH6: Groupe comptable | AI6: Etablissement | AJ6: Taux AT | AK6: Coordonnées Téléphoniques | AL6: Dispositif de politique publique | AM6: Type de contrat | AN6: Av LGT NBRE | AO6: Type d'emploi intermittent | AP6: Code CIPDZ | AQ6: Déposez vos documents ici | AR6: Score
B7: M | C7: 17 | D7: AA | E7: ATTE | F7: FERT | J7: 95000 | K7: =IF(J7>0,J7,"") -> 95000 | L7: =IF(B7>0,"FRANCE","") -> FRANCE | P7: =L7 -> FRANCE | R7: =IF(B7>0,"célibataire","") -> célibataire | U7: 18 | V7: =IF(U7=0,"",VLOOKUP(U7,table!$A$4:$F$46,2,)) -> CT CUISINIER | W7: 44686 | X7: 44688 | Y7: 44711 | Z7: =IF(B7>0,"NON CADRE","") -> NON CADRE | AA7: =IF(AH7=150,"contrat d'usage",IF(AH7=155,"contrat d'usage",IF(AH7=170,"",IF(AH7=0,"",)))) -> contrat d'usage | AB7: =IF(U7=0,"",VLOOKUP(U7,table!$A$4:$F$46,3,)) -> 280 | AC7: =IF(U7=0,"",VLOOKUP(U7,table!$A$4:$F$46,4,)) -> LT - CDD SANS BF | AD7: =IF(B7>0,"chèque","") -> chèque | AE7: =IF(W7>0,W7,"") -> 44686 | AG7: =IF(AB7=250,"A",IF(AB7=260,"B",IF(AB7=280,"C",IF(AB7=300,"D","")))) -> C | AH7: =IF(U7=0,"",VLOOKUP(U7,table!$A$4:$F$46,6,)) -> 155 | AI7: =IF(B7>0,"LT","") -> LT | AJ7: =IF(B7>0,"2,26","") -> 2,26 | AL7: =IF(AH7=150,"non concerné",IF(AH7=155,"non concerné",IF(AH7=170,"",IF(AH7=0,"",)))) -> non concerné | AM7: =IF(AH7=150,"contrat d'usage",IF(AH7=155,"contrat d'usage",IF(AH7=170,"contrat d'engagement éducatif",IF(AH7=0,"",)))) -> contrat d'usage | AN7: =IF(AH7=150,"1",IF(AH7=155,"1",IF(AH7=170,"",IF(AH7=0,"",)))) -> 1 | AO7: =IF(B7>0,"technicien","") -> technicien | AP7: =IF(B7>0,"I:Emploi intermittent","") -> I:Emploi intermittent
B8: Mme | C8: =IF(B8>0,C7+1,"") -> 18 | D8: AB | E8: ABVE | F8: GRET | J8: 75019 | K8: =IF(J8>0,J8,"") -> 75019 | L8: =IF(B8>0,"FRANCE","") -> FRANCE | P8: =L8 -> FRANCE | R8: =IF(B8>0,"célibataire","") -> célibataire | U8: 50 | V8: =IF(U8=0,"",VLOOKUP(U8,table!$A$4:$F$46,2,)) -> CE ANIMATEUR | W8: 44688 | X8: 44691 | Y8: 44717 | Z8: =IF(B8>0,"NON CADRE","") -> NON CADRE | AA8: =IF(AH8=150,"contrat d'usage",IF(AH8=155,"contrat d'usage",IF(AH8=170,"",IF(AH8=0,"",)))) | AB8: =IF(U8=0,"",VLOOKUP(U8,table!$A$4:$F$46,3,)) -> 0 | AC8: =IF(U8=0,"",VLOOKUP(U8,table!$A$4:$F$46,4,)) -> LT - CEE AVEC BF | AD8: =IF(B8>0,"chèque","") -> chèque | AE8: =IF(W8>0,W8,"") -> 44688 | AG8: =IF(AB8=250,"A",IF(AB8=260,"B",IF(AB8=280,"C",IF(AB8=300,"D","")))) | AH8: =IF(U8=0,"",VLOOKUP(U8,table!$A$4:$F$46,6,)) -> 170 | AI8: =IF(B8>0,"LT","") -> LT | AJ8: =IF(B8>0,"2,26","") -> 2,26 | AL8: =IF(AH8=150,"non concerné",IF(AH8=155,"non concerné",IF(AH8=170,"",IF(AH8=0,"",)))) | AM8: =IF(AH8=150,"contrat d'usage",IF(AH8=155,"contrat d'usage",IF(AH8=170,"contrat d'engagement éducatif",IF(AH8=0,"",)))) -> contrat d'engagement éducatif | AN8: =IF(AH8=150,"1",IF(AH8=155,"1",IF(AH8=170,"",IF(AH8=0,"",)))) | AO8: =IF(B8>0,"technicien","") -> technicien | AP8: =IF(B8>0,"I:Emploi intermittent","") -> I:Emploi intermittent
B9: M. | C9: 19 | D9: AC | E9: ATTE | F9: GTYU | J9: 60250 | K9: =IF(J9>0,J9,"") -> 60250 | L9: =IF(B9>0,"FRANCE","") -> FRANCE | P9: =L9 -> FRANCE | R9: =IF(B9>0,"célibataire","") -> célibataire | U9: 18 | V9: =IF(U9=0,"",VLOOKUP(U9,table!$A$4:$F$46,2,)) -> CT CUISINIER | W9: 44688 | X9: 44691 | Y9: 44717 | Z9: =IF(B9>0,"NON CADRE","") -> NON CADRE | AA9: =IF(AH9=150,"contrat d'usage",IF(AH9=155,"contrat d'usage",IF(AH9=170,"",IF(AH9=0,"",)))) -> contrat d'usage | AB9: =IF(U9=0,"",VLOOKUP(U9,table!$A$4:$F$46,3,)) -> 280 | AC9: =IF(U9=0,"",VLOOKUP(U9,table!$A$4:$F$46,4,)) -> LT - CDD SANS BF | AD9: =IF(B9>0,"chèque","") -> chèque | AE9: =IF(W9>0,W9,"") -> 44688 | AG9: =IF(AB9=250,"A",IF(AB9=260,"B",IF(AB9=280,"C",IF(AB9=300,"D","")))) -> C | AH9: =IF(U9=0,"",VLOOKUP(U9,table!$A$4:$F$46,6,)) -> 155 | AI9: =IF(B9>0,"LT","") -> LT | AJ9: =IF(B9>0,"2,26","") -> 2,26 | AL9: =IF(AH9=150,"non concerné",IF(AH9=155,"non concerné",IF(AH9=170,"",IF(AH9=0,"",)))) -> non concerné | AM9: =IF(AH9=150,"contrat d'usage",IF(AH9=155,"contrat d'usage",IF(AH9=170,"contrat d'engagement éducatif",IF(AH9=0,"",)))) -> contrat d'usage | AN9: =IF(AH9=150,"1",IF(AH9=155,"1",IF(AH9=170,"",IF(AH9=0,"",)))) -> 1 | AO9: =IF(B9>0,"technicien","") -> technicien | AP9: =IF(B9>0,"I:Emploi intermittent","") -> I:Emploi intermittent
C13: =IF(B13>0,C12+1,"")
C14: =IF(B14>0,C13+1,"")
C15: =IF(B15>0,C14+1,"")
C16: =IF(B16>0,C15+1,"")
C17: =IF(B17>0,C16+1,"")
C18: =IF(B18>0,C17+1,"")
C19: =IF(B19>0,C18+1,"")
C20: =IF(B20>0,C19+1,"")
C21: =IF(B21>0,C20+1,"")
C22: =IF(B22>0,C21+1,"")
C23: =IF(B23>0,C22+1,"")
C24: =IF(B24>0,C23+1,"")
... C28: =IF(B28>0,C27+1,"")
AD30: =IF(B30>0,"chèque","") | AE30: =IF(W30>0,W30,"") | AI30: =IF(B30>0,"VACANCES VOYAGES LOISIRS","") | AJ30: =IF(B30>0,"2,26","") | AM30: =IF(AH30=150,"contrat d'usage",IF(AH30=155,"contrat d'usage",IF(AH30=170,"contrat d'engagement éducatif",IF(AH30=0,"",))))
AI31: =IF(B31>0,"VACANCES VOYAGES LOISIRS","")
AI32: =IF(B32>0,"VACANCES VOYAGES LOISIRS","")
