Workbook
Name abricot: 'Bdd liste deroulante'!$B$3
Name base: OFFSET(Jeaugeage!$A$1,,,COUNTA(Jeaugeage!$A:$A),COUNTA(Jeaugeage!$1:$1))
Name H.B: ' Evolution 104 (2)'!#REF!
Name H.B: ' Evolution 104'!$A$16
Name peche: 'Bdd liste deroulante'!$D$3:$D$16
Name poire: 'Bdd liste deroulante'!$C$3:$C$17
Name voiture: 'Bdd liste deroulante'!$A$3:$A$5

Sheet Jeaugeage
A1: Date | B1: Code | C1: xxx | D1: Sect | E1: chaussettes | F1: capitaine | G1: Arrivée Nbrs | H1: xxxx | I1: Vol | J1: Temps | K1: M3 /J | L1: xxxx | M1: Vol | N1: Temps | O1: M3 /J | P1: xxxx | Q1: Vol | R1: Temps | S1: M3 /J | T1: Total M3/J | U1: Mois | V1: Année | W1: Observations
A2: 34100 | B2: 825 | C2: =IF(ISNA(VLOOKUP(B2,Trier!$A$1:$E$32,2,FALSE)),"",VLOOKUP(B2,Trier!$A$1:$E$32,2,FALSE)) -> 925 | D2: =IF(ISNA(VLOOKUP(B2,Trier!$A$1:$E$32,3,FALSE)),"",VLOOKUP(B2,Trier!$A$1:$E$32,3,FALSE)) -> 104 | E2: =IF(ISNA(VLOOKUP(B2,Trier!$A$1:$E$32,4,FALSE)),"",VLOOKUP(B2,Trier!$A$1:$E$32,4,FALSE)) -> courgette1 | F2: =IF(ISNA(VLOOKUP(B2,Trier!$A$1:$E$32,5,FALSE)),"",VLOOKUP(B2,Trier!$A$1:$E$32,5,FALSE)) -> courgette | G2: =IF(ISERROR(VLOOKUP(B2,Trier!$A$1:$F$32,6,FALSE)),"",VLOOKUP(B2,Trier!$A$1:$F$32,6,FALSE)) -> 2 | H2: =IF(ISERROR(VLOOKUP(B2,Trier!$A$1:$G$32,7,FALSE)),"",VLOOKUP(B2,Trier!$A$1:$G$32,7,FALSE)) -> ly | I2: 25 | J2: 60 | K2: =IF(ISERROR(I2/J2*86.4),"",I2/J2*86.4) -> 36 | L2: =IF(ISERROR(VLOOKUP(B2,Trier!$A$1:$H$32,8,FALSE)),"",VLOOKUP(B2,Trier!$A$1:$H$32,8,FALSE)) -> xcbfd | M2: 20 | N2: 60 | O2: =IF(ISERROR(M2/N2*86.4),"",M2/N2*86.4) -> 28.8 | P2: =IF(ISERROR(VLOOKUP(B2,Trier!$A$1:$I$32,9,FALSE)),"",VLOOKUP(B2,Trier!$A$1:$I$32,9,FALSE)) -> 0 | S2: =IF(ISERROR(Q2/R2*86.4),"",Q2/R2*86.4) | T2: =IF(ISERROR(SUM(K2,O2,S2)),"",SUM(K2,O2,S2)) -> 64.8 | U2: =MONTH(A:A) -> 5 | V2: =YEAR(A:A) -> 1993
A3: 36417 | B3: 825 | C3: =IF(ISNA(VLOOKUP(B3,Trier!$A$1:$E$32,2,FALSE)),"",VLOOKUP(B3,Trier!$A$1:$E$32,2,FALSE)) -> 925 | D3: =IF(ISNA(VLOOKUP(B3,Trier!$A$1:$E$32,3,FALSE)),"",VLOOKUP(B3,Trier!$A$1:$E$32,3,FALSE)) -> 104 | E3: =IF(ISNA(VLOOKUP(B3,Trier!$A$1:$E$32,4,FALSE)),"",VLOOKUP(B3,Trier!$A$1:$E$32,4,FALSE)) -> courgette1 | F3: =IF(ISNA(VLOOKUP(B3,Trier!$A$1:$E$32,5,FALSE)),"",VLOOKUP(B3,Trier!$A$1:$E$32,5,FALSE)) -> courgette | G3: =IF(ISERROR(VLOOKUP(B3,Trier!$A$1:$F$32,6,FALSE)),"",VLOOKUP(B3,Trier!$A$1:$F$32,6,FALSE)) -> 2 | H3: =IF(ISERROR(VLOOKUP(B3,Trier!$A$1:$G$32,7,FALSE)),"",VLOOKUP(B3,Trier!$A$1:$G$32,7,FALSE)) -> ly | I3: 2 | J3: =60+27 -> 87 | K3: =IF(ISERROR(I3/J3*86.4),"",I3/J3*86.4) -> 1.9862069 | L3: =IF(ISERROR(VLOOKUP(B3,Trier!$A$1:$H$32,8,FALSE)),"",VLOOKUP(B3,Trier!$A$1:$H$32,8,FALSE)) -> xcbfd | O3: =IF(ISERROR(M3/N3*86.4),"",M3/N3*86.4) | P3: =IF(ISERROR(VLOOKUP(B3,Trier!$A$1:$I$32,9,FALSE)),"",VLOOKUP(B3,Trier!$A$1:$I$32,9,FALSE)) -> 0 | S3: =IF(ISERROR(Q3/R3*86.4),"",Q3/R3*86.4) | T3: =IF(ISERROR(SUM(K3,O3,S3)),"",SUM(K3,O3,S3)) -> 1.9862069 | U3: =MONTH(A:A) -> 9 | V3: =YEAR(A:A) -> 1999
A4: 37394 | B4: 811 | C4: =IF(ISNA(VLOOKUP(B4,Trier!$A$1:$E$32,2,FALSE)),"",VLOOKUP(B4,Trier!$A$1:$E$32,2,FALSE)) -> 911 | D4: =IF(ISNA(VLOOKUP(B4,Trier!$A$1:$E$32,3,FALSE)),"",VLOOKUP(B4,Trier!$A$1:$E$32,3,FALSE)) -> 104 | E4: =IF(ISNA(VLOOKUP(B4,Trier!$A$1:$E$32,4,FALSE)),"",VLOOKUP(B4,Trier!$A$1:$E$32,4,FALSE)) -> potiron1 | F4: =IF(ISNA(VLOOKUP(B4,Trier!$A$1:$E$32,5,FALSE)),"",VLOOKUP(B4,Trier!$A$1:$E$32,5,FALSE)) -> potiron | G4: =IF(ISERROR(VLOOKUP(B4,Trier!$A$1:$F$32,6,FALSE)),"",VLOOKUP(B4,Trier!$A$1:$F$32,6,FALSE)) -> 1 | H4: =IF(ISERROR(VLOOKUP(B4,Trier!$A$1:$G$32,7,FALSE)),"",VLOOKUP(B4,Trier!$A$1:$G$32,7,FALSE)) -> iku | I4: 12 | J4: 157 | K4: =IF(ISERROR(I4/J4*86.4),"",I4/J4*86.4) -> 6.6038217 | L4: =IF(ISERROR(VLOOKUP(B4,Trier!$A$1:$H$32,8,FALSE)),"",VLOOKUP(B4,Trier!$A$1:$H$32,8,FALSE)) -> srj,dnd | O4: =IF(ISERROR(M4/N4*86.4),"",M4/N4*86.4) | P4: =IF(ISERROR(VLOOKUP(B4,Trier!$A$1:$I$32,9,FALSE)),"",VLOOKUP(B4,Trier!$A$1:$I$32,9,FALSE)) -> 0 | S4: =IF(ISERROR(Q4/R4*86.4),"",Q4/R4*86.4) | T4: =IF(ISERROR(SUM(K4,O4,S4)),"",SUM(K4,O4,S4)) -> 6.6038217 | U4: =MONTH(A:A) -> 5 | V4: =YEAR(A:A) -> 2002
A5: 37798 | B5: 801 | C5: =IF(ISNA(VLOOKUP(B5,Trier!$A$1:$E$32,2,FALSE)),"",VLOOKUP(B5,Trier!$A$1:$E$32,2,FALSE)) -> 901 | D5: =IF(ISNA(VLOOKUP(B5,Trier!$A$1:$E$32,3,FALSE)),"",VLOOKUP(B5,Trier!$A$1:$E$32,3,FALSE)) -> 104 | E5: =IF(ISNA(VLOOKUP(B5,Trier!$A$1:$E$32,4,FALSE)),"",VLOOKUP(B5,Trier!$A$1:$E$32,4,FALSE)) -> melon1 | F5: =IF(ISNA(VLOOKUP(B5,Trier!$A$1:$E$32,5,FALSE)),"",VLOOKUP(B5,Trier!$A$1:$E$32,5,FALSE)) -> melon | G5: =IF(ISERROR(VLOOKUP(B5,Trier!$A$1:$F$32,6,FALSE)),"",VLOOKUP(B5,Trier!$A$1:$F$32,6,FALSE)) -> 2 | H5: =IF(ISERROR(VLOOKUP(B5,Trier!$A$1:$G$32,7,FALSE)),"",VLOOKUP(B5,Trier!$A$1:$G$32,7,FALSE)) -> bb | I5: 2 | J5: 17 | K5: =IF(ISERROR(I5/J5*86.4),"",I5/J5*86.4) -> 10.164706 | L5: =IF(ISERROR(VLOOKUP(B5,Trier!$A$1:$H$32,8,FALSE)),"",VLOOKUP(B5,Trier!$A$1:$H$32,8,FALSE)) -> nd, | M5: 2 | N5: 23 | O5: =IF(ISERROR(M5/N5*86.4),"",M5/N5*86.4) -> 7.5130435 | P5: =IF(ISERROR(VLOOKUP(B5,Trier!$A$1:$I$32,9,FALSE)),"",VLOOKUP(B5,Trier!$A$1:$I$32,9,FALSE)) -> 0 | S5: =IF(ISERROR(Q5/R5*86.4),"",Q5/R5*86.4) | T5: =IF(ISERROR(SUM(K5,O5,S5)),"",SUM(K5,O5,S5)) -> 17.677749 | U5: =MONTH(A:A) -> 6 | V5: =YEAR(A:A) -> 2003
A6: 37999 | B6: 812 | C6: =IF(ISNA(VLOOKUP(B6,Trier!$A$1:$E$32,2,FALSE)),"",VLOOKUP(B6,Trier!$A$1:$E$32,2,FALSE)) -> 912 | D6: =IF(ISNA(VLOOKUP(B6,Trier!$A$1:$E$32,3,FALSE)),"",VLOOKUP(B6,Trier!$A$1:$E$32,3,FALSE)) -> 104 | E6: =IF(ISNA(VLOOKUP(B6,Trier!$A$1:$E$32,4,FALSE)),"",VLOOKUP(B6,Trier!$A$1:$E$32,4,FALSE)) -> ratatouille1 | F6: =IF(ISNA(VLOOKUP(B6,Trier!$A$1:$E$32,5,FALSE)),"",VLOOKUP(B6,Trier!$A$1:$E$32,5,FALSE)) -> ratatouille | G6: =IF(ISERROR(VLOOKUP(B6,Trier!$A$1:$F$32,6,FALSE)),"",VLOOKUP(B6,Trier!$A$1:$F$32,6,FALSE)) -> 1 | H6: =IF(ISERROR(VLOOKUP(B6,Trier!$A$1:$G$32,7,FALSE)),"",VLOOKUP(B6,Trier!$A$1:$G$32,7,FALSE)) -> uy-z | I6: 10 | J6: 14 | K6: =IF(ISERROR(I6/J6*86.4),"",I6/J6*86.4) -> 61.714286 | L6: =IF(ISERROR(VLOOKUP(B6,Trier!$A$1:$H$32,8,FALSE)),"",VLOOKUP(B6,Trier!$A$1:$H$32,8,FALSE)) -> 0 | O6: =IF(ISERROR(M6/N6*86.4),"",M6/N6*86.4) | P6: =IF(ISERROR(VLOOKUP(B6,Trier!$A$1:$I$32,9,FALSE)),"",VLOOKUP(B6,Trier!$A$1:$I$32,9,FALSE)) -> 0 | S6: =IF(ISERROR(Q6/R6*86.4),"",Q6/R6*86.4) | T6: =IF(ISERROR(SUM(K6,O6,S6)),"",SUM(K6,O6,S6)) -> 61.714286 | U6: =MONTH(A:A) -> 1 | V6: =YEAR(A:A) -> 2004
A7: 38251 | B7: 823 | C7: =IF(ISNA(VLOOKUP(B7,Trier!$A$1:$E$32,2,FALSE)),"",VLOOKUP(B7,Trier!$A$1:$E$32,2,FALSE)) -> 923 | D7: =IF(ISNA(VLOOKUP(B7,Trier!$A$1:$E$32,3,FALSE)),"",VLOOKUP(B7,Trier!$A$1:$E$32,3,FALSE)) -> 104 | E7: =IF(ISNA(VLOOKUP(B7,Trier!$A$1:$E$32,4,FALSE)),"",VLOOKUP(B7,Trier!$A$1:$E$32,4,FALSE)) -> Osfond1 | F7: =IF(ISNA(VLOOKUP(B7,Trier!$A$1:$E$32,5,FALSE)),"",VLOOKUP(B7,Trier!$A$1:$E$32,5,FALSE)) -> noisette | G7: =IF(ISERROR(VLOOKUP(B7,Trier!$A$1:$F$32,6,FALSE)),"",VLOOKUP(B7,Trier!$A$1:$F$32,6,FALSE)) -> 1 | H7: =IF(ISERROR(VLOOKUP(B7,Trier!$A$1:$G$32,7,FALSE)),"",VLOOKUP(B7,Trier!$A$1:$G$32,7,FALSE)) -> om | I7: 10 | J7: 60 | K7: =IF(ISERROR(I7/J7*86.4),"",I7/J7*86.4) -> 14.4 | L7: =IF(ISERROR(VLOOKUP(B7,Trier!$A$1:$H$32,8,FALSE)),"",VLOOKUP(B7,Trier!$A$1:$H$32,8,FALSE)) -> 0 | O7: =IF(ISERROR(M7/N7*86.4),"",M7/N7*86.4) | P7: =IF(ISERROR(VLOOKUP(B7,Trier!$A$1:$I$32,9,FALSE)),"",VLOOKUP(B7,Trier!$A$1:$I$32,9,FALSE)) -> 0 | S7: =IF(ISERROR(Q7/R7*86.4),"",Q7/R7*86.4) | T7: =IF(ISERROR(SUM(K7,O7,S7)),"",SUM(K7,O7,S7)) -> 14.4 | U7: =MONTH(A:A) -> 9 | V7: =YEAR(A:A) -> 2004
A8: 38251 | B8: 824 | C8: =IF(ISNA(VLOOKUP(B8,Trier!$A$1:$E$32,2,FALSE)),"",VLOOKUP(B8,Trier!$A$1:$E$32,2,FALSE)) -> 924 | D8: =IF(ISNA(VLOOKUP(B8,Trier!$A$1:$E$32,3,FALSE)),"",VLOOKUP(B8,Trier!$A$1:$E$32,3,FALSE)) -> 104 | E8: =IF(ISNA(VLOOKUP(B8,Trier!$A$1:$E$32,4,FALSE)),"",VLOOKUP(B8,Trier!$A$1:$E$32,4,FALSE)) -> poreaux1 | F8: =IF(ISNA(VLOOKUP(B8,Trier!$A$1:$E$32,5,FALSE)),"",VLOOKUP(B8,Trier!$A$1:$E$32,5,FALSE)) -> poireaux | G8: =IF(ISERROR(VLOOKUP(B8,Trier!$A$1:$F$32,6,FALSE)),"",VLOOKUP(B8,Trier!$A$1:$F$32,6,FALSE)) -> 1 | H8: =IF(ISERROR(VLOOKUP(B8,Trier!$A$1:$G$32,7,FALSE)),"",VLOOKUP(B8,Trier!$A$1:$G$32,7,FALSE)) -> hghf | I8: 4 | J8: 60 | K8: =IF(ISERROR(I8/J8*86.4),"",I8/J8*86.4) -> 5.76 | L8: =IF(ISERROR(VLOOKUP(B8,Trier!$A$1:$H$32,8,FALSE)),"",VLOOKUP(B8,Trier!$A$1:$H$32,8,FALSE)) -> 0 | O8: =IF(ISERROR(M8/N8*86.4),"",M8/N8*86.4) | P8: =IF(ISERROR(VLOOKUP(B8,Trier!$A$1:$I$32,9,FALSE)),"",VLOOKUP(B8,Trier!$A$1:$I$32,9,FALSE)) -> 0 | S8: =IF(ISERROR(Q8/R8*86.4),"",Q8/R8*86.4) | T8: =IF(ISERROR(SUM(K8,O8,S8)),"",SUM(K8,O8,S8)) -> 5.76 | U8: =MONTH(A:A) -> 9 | V8: =YEAR(A:A) -> 2004
A9: 38426 | B9: 801 | C9: =IF(ISNA(VLOOKUP(B9,Trier!$A$1:$E$32,2,FALSE)),"",VLOOKUP(B9,Trier!$A$1:$E$32,2,FALSE)) -> 901 | D9: =IF(ISNA(VLOOKUP(B9,Trier!$A$1:$E$32,3,FALSE)),"",VLOOKUP(B9,Trier!$A$1:$E$32,3,FALSE)) -> 104 | E9: =IF(ISNA(VLOOKUP(B9,Trier!$A$1:$E$32,4,FALSE)),"",VLOOKUP(B9,Trier!$A$1:$E$32,4,FALSE)) -> melon1 | F9: =IF(ISNA(VLOOKUP(B9,Trier!$A$1:$E$32,5,FALSE)),"",VLOOKUP(B9,Trier!$A$1:$E$32,5,FALSE)) -> melon | G9: =IF(ISERROR(VLOOKUP(B9,Trier!$A$1:$F$32,6,FALSE)),"",VLOOKUP(B9,Trier!$A$1:$F$32,6,FALSE)) -> 2 | H9: =IF(ISERROR(VLOOKUP(B9,Trier!$A$1:$G$32,7,FALSE)),"",VLOOKUP(B9,Trier!$A$1:$G$32,7,FALSE)) -> bb | I9: 19 | J9: 60 | K9: =IF(ISERROR(I9/J9*86.4),"",I9/J9*86.4) -> 27.36 | L9: =IF(ISERROR(VLOOKUP(B9,Trier!$A$1:$H$32,8,FALSE)),"",VLOOKUP(B9,Trier!$A$1:$H$32,8,FALSE)) -> nd, | M9: 60 | N9: 60 | O9: =IF(ISERROR(M9/N9*86.4),"",M9/N9*86.4) -> 86.4 | P9: =IF(ISERROR(VLOOKUP(B9,Trier!$A$1:$I$32,9,FALSE)),"",VLOOKUP(B9,Trier!$A$1:$I$32,9,FALSE)) -> 0 | S9: =IF(ISERROR(Q9/R9*86.4),"",Q9/R9*86.4) | T9: =IF(ISERROR(SUM(K9,O9,S9)),"",SUM(K9,O9,S9)) -> 113.76 | U9: =MONTH(A:A) -> 3 | V9: =YEAR(A:A) -> 2005
A10: 38441 | B10: 801 | C10: =IF(ISNA(VLOOKUP(B10,Trier!$A$1:$E$32,2,FALSE)),"",VLOOKUP(B10,Trier!$A$1:$E$32,2,FALSE)) -> 901 | D10: =IF(ISNA(VLOOKUP(B10,Trier!$A$1:$E$32,3,FALSE)),"",VLOOKUP(B10,Trier!$A$1:$E$32,3,FALSE)) -> 104 | E10: =IF(ISNA(VLOOKUP(B10,Trier!$A$1:$E$32,4,FALSE)),"",VLOOKUP(B10,Trier!$A$1:$E$32,4,FALSE)) -> melon1 | F10: =IF(ISNA(VLOOKUP(B10,Trier!$A$1:$E$32,5,FALSE)),"",VLOOKUP(B10,Trier!$A$1:$E$32,5,FALSE)) -> melon | G10: =IF(ISERROR(VLOOKUP(B10,Trier!$A$1:$F$32,6,FALSE)),"",VLOOKUP(B10,Trier!$A$1:$F$32,6,FALSE)) -> 2 | H10: =IF(ISERROR(VLOOKUP(B10,Trier!$A$1:$G$32,7,FALSE)),"",VLOOKUP(B10,Trier!$A$1:$G$32,7,FALSE)) -> bb | I10: 16 | J10: 60 | K10: =IF(ISERROR(I10/J10*86.4),"",I10/J10*86.4) -> 23.04 | L10: =IF(ISERROR(VLOOKUP(B10,Trier!$A$1:$H$32,8,FALSE)),"",VLOOKUP(B10,Trier!$A$1:$H$32,8,FALSE)) -> nd, | M10: 74 | N10: 60 | O10: =IF(ISERROR(M10/N10*86.4),"",M10/N10*86.4) -> 106.56 | P10: =IF(ISERROR(VLOOKUP(B10,Trier!$A$1:$I$32,9,FALSE)),"",VLOOKUP(B10,Trier!$A$1:$I$32,9,FALSE)) -> 0 | S10: =IF(ISERROR(Q10/R10*86.4),"",Q10/R10*86.4) | T10: =IF(ISERROR(SUM(K10,O10,S10)),"",SUM(K10,O10,S10)) -> 129.6 | U10: =MONTH(A:A) -> 3 | V10: =YEAR(A:A) -> 2005
A11: 38757 | B11: 823 | C11: =IF(ISNA(VLOOKUP(B11,Trier!$A$1:$E$32,2,FALSE)),"",VLOOKUP(B11,Trier!$A$1:$E$32,2,FALSE)) -> 923 | D11: =IF(ISNA(VLOOKUP(B11,Trier!$A$1:$E$32,3,FALSE)),"",VLOOKUP(B11,Trier!$A$1:$E$32,3,FALSE)) -> 104 | E11: =IF(ISNA(VLOOKUP(B11,Trier!$A$1:$E$32,4,FALSE)),"",VLOOKUP(B11,Trier!$A$1:$E$32,4,FALSE)) -> Osfond1 | F11: =IF(ISNA(VLOOKUP(B11,Trier!$A$1:$E$32,5,FALSE)),"",VLOOKUP(B11,Trier!$A$1:$E$32,5,FALSE)) -> noisette | G11: =IF(ISERROR(VLOOKUP(B11,Trier!$A$1:$F$32,6,FALSE)),"",VLOOKUP(B11,Trier!$A$1:$F$32,6,FALSE)) -> 1 | H11: =IF(ISERROR(VLOOKUP(B11,Trier!$A$1:$G$32,7,FALSE)),"",VLOOKUP(B11,Trier!$A$1:$G$32,7,FALSE)) -> om | I11: 10 | J11: 40 | K11: =IF(ISERROR(I11/J11*86.4),"",I11/J11*86.4) -> 21.6 | L11: =IF(ISERROR(VLOOKUP(B11,Trier!$A$1:$H$32,8,FALSE)),"",VLOOKUP(B11,Trier!$A$1:$H$32,8,FALSE)) -> 0 | O11: =IF(ISERROR(M11/N11*86.4),"",M11/N11*86.4) | P11: =IF(ISERROR(VLOOKUP(B11,Trier!$A$1:$I$32,9,FALSE)),"",VLOOKUP(B11,Trier!$A$1:$I$32,9,FALSE)) -> 0 | S11: =IF(ISERROR(Q11/R11*86.4),"",Q11/R11*86.4) | T11: =IF(ISERROR(SUM(K11,O11,S11)),"",SUM(K11,O11,S11)) -> 21.6 | U11: =MONTH(A:A) -> 2 | V11: =YEAR(A:A) -> 2006
A12: 38779 | B12: 812 | C12: =IF(ISNA(VLOOKUP(B12,Trier!$A$1:$E$32,2,FALSE)),"",VLOOKUP(B12,Trier!$A$1:$E$32,2,FALSE)) -> 912 | D12: =IF(ISNA(VLOOKUP(B12,Trier!$A$1:$E$32,3,FALSE)),"",VLOOKUP(B12,Trier!$A$1:$E$32,3,FALSE)) -> 104 | E12: =IF(ISNA(VLOOKUP(B12,Trier!$A$1:$E$32,4,FALSE)),"",VLOOKUP(B12,Trier!$A$1:$E$32,4,FALSE)) -> ratatouille1 | F12: =IF(ISNA(VLOOKUP(B12,Trier!$A$1:$E$32,5,FALSE)),"",VLOOKUP(B12,Trier!$A$1:$E$32,5,FALSE)) -> ratatouille | G12: =IF(ISERROR(VLOOKUP(B12,Trier!$A$1:$F$32,6,FALSE)),"",VLOOKUP(B12,Trier!$A$1:$F$32,6,FALSE)) -> 1 | H12: =IF(ISERROR(VLOOKUP(B12,Trier!$A$1:$G$32,7,FALSE)),"",VLOOKUP(B12,Trier!$A$1:$G$32,7,FALSE)) -> uy-z | I12: 2 | J12: 75 | K12: =IF(ISERROR(I12/J12*86.4),"",I12/J12*86.4) -> 2.304 | L12: =IF(ISERROR(VLOOKUP(B12,Trier!$A$1:$H$32,8,FALSE)),"",VLOOKUP(B12,Trier!$A$1:$H$32,8,FALSE)) -> 0 | O12: =IF(ISERROR(M12/N12*86.4),"",M12/N12*86.4) | P12: =IF(ISERROR(VLOOKUP(B12,Trier!$A$1:$I$32,9,FALSE)),"",VLOOKUP(B12,Trier!$A$1:$I$32,9,FALSE)) -> 0 | S12: =IF(ISERROR(Q12/R12*86.4),"",Q12/R12*86.4) | T12: =IF(ISERROR(SUM(K12,O12,S12)),"",SUM(K12,O12,S12)) -> 2.304 | U12: =MONTH(A:A) -> 3 | V12: =YEAR(A:A) -> 2006
A13: 38779 | B13: 824 | C13: =IF(ISNA(VLOOKUP(B13,Trier!$A$1:$E$32,2,FALSE)),"",VLOOKUP(B13,Trier!$A$1:$E$32,2,FALSE)) -> 924 | D13: =IF(ISNA(VLOOKUP(B13,Trier!$A$1:$E$32,3,FALSE)),"",VLOOKUP(B13,Trier!$A$1:$E$32,3,FALSE)) -> 104 | E13: =IF(ISNA(VLOOKUP(B13,Trier!$A$1:$E$32,4,FALSE)),"",VLOOKUP(B13,Trier!$A$1:$E$32,4,FALSE)) -> poreaux1 | F13: =IF(ISNA(VLOOKUP(B13,Trier!$A$1:$E$32,5,FALSE)),"",VLOOKUP(B13,Trier!$A$1:$E$32,5,FALSE)) -> poireaux | G13: =IF(ISERROR(VLOOKUP(B13,Trier!$A$1:$F$32,6,FALSE)),"",VLOOKUP(B13,Trier!$A$1:$F$32,6,FALSE)) -> 1 | H13: =IF(ISERROR(VLOOKUP(B13,Trier!$A$1:$G$32,7,FALSE)),"",VLOOKUP(B13,Trier!$A$1:$G$32,7,FALSE)) -> hghf | I13: 2 | J13: 19 | K13: =IF(ISERROR(I13/J13*86.4),"",I13/J13*86.4) -> 9.0947368 | L13: =IF(ISERROR(VLOOKUP(B13,Trier!$A$1:$H$32,8,FALSE)),"",VLOOKUP(B13,Trier!$A$1:$H$32,8,FALSE)) -> 0 | O13: =IF(ISERROR(M13/N13*86.4),"",M13/N13*86.4) | P13: =IF(ISERROR(VLOOKUP(B13,Trier!$A$1:$I$32,9,FALSE)),"",VLOOKUP(B13,Trier!$A$1:$I$32,9,FALSE)) -> 0 | S13: =IF(ISERROR(Q13/R13*86.4),"",Q13/R13*86.4) | T13: =IF(ISERROR(SUM(K13,O13,S13)),"",SUM(K13,O13,S13)) -> 9.0947368 | U13: =MONTH(A:A) -> 3 | V13: =YEAR(A:A) -> 2006
A14: 39052 | B14: 824 | C14: =IF(ISNA(VLOOKUP(B14,Trier!$A$1:$E$32,2,FALSE)),"",VLOOKUP(B14,Trier!$A$1:$E$32,2,FALSE)) -> 924 | D14: =IF(ISNA(VLOOKUP(B14,Trier!$A$1:$E$32,3,FALSE)),"",VLOOKUP(B14,Trier!$A$1:$E$32,3,FALSE)) -> 104 | E14: =IF(ISNA(VLOOKUP(B14,Trier!$A$1:$E$32,4,FALSE)),"",VLOOKUP(B14,Trier!$A$1:$E$32,4,FALSE)) -> poreaux1 | F14: =IF(ISNA(VLOOKUP(B14,Trier!$A$1:$E$32,5,FALSE)),"",VLOOKUP(B14,Trier!$A$1:$E$32,5,FALSE)) -> poireaux | G14: =IF(ISERROR(VLOOKUP(B14,Trier!$A$1:$F$32,6,FALSE)),"",VLOOKUP(B14,Trier!$A$1:$F$32,6,FALSE)) -> 1 | H14: =IF(ISERROR(VLOOKUP(B14,Trier!$A$1:$G$32,7,FALSE)),"",VLOOKUP(B14,Trier!$A$1:$G$32,7,FALSE)) -> hghf | I14: 2 | J14: 11 | K14: =IF(ISERROR(I14/J14*86.4),"",I14/J14*86.4) -> 15.709091 | L14: =IF(ISERROR(VLOOKUP(B14,Trier!$A$1:$H$32,8,FALSE)),"",VLOOKUP(B14,Trier!$A$1:$H$32,8,FALSE)) -> 0 | O14: =IF(ISERROR(M14/N14*86.4),"",M14/N14*86.4) | P14: =IF(ISERROR(VLOOKUP(B14,Trier!$A$1:$I$32,9,FALSE)),"",VLOOKUP(B14,Trier!$A$1:$I$32,9,FALSE)) -> 0 | S14: =IF(ISERROR(Q14/R14*86.4),"",Q14/R14*86.4) | T14: =IF(ISERROR(SUM(K14,O14,S14)),"",SUM(K14,O14,S14)) -> 15.709091 | U14: =MONTH(A:A) -> 12 | V14: =YEAR(A:A) -> 2006
A15: 39059 | B15: 812 | C15: =IF(ISNA(VLOOKUP(B15,Trier!$A$1:$E$32,2,FALSE)),"",VLOOKUP(B15,Trier!$A$1:$E$32,2,FALSE)) -> 912 | D15: =IF(ISNA(VLOOKUP(B15,Trier!$A$1:$E$32,3,FALSE)),"",VLOOKUP(B15,Trier!$A$1:$E$32,3,FALSE)) -> 104 | E15: =IF(ISNA(VLOOKUP(B15,Trier!$A$1:$E$32,4,FALSE)),"",VLOOKUP(B15,Trier!$A$1:$E$32,4,FALSE)) -> ratatouille1 | F15: =IF(ISNA(VLOOKUP(B15,Trier!$A$1:$E$32,5,FALSE)),"",VLOOKUP(B15,Trier!$A$1:$E$32,5,FALSE)) -> ratatouille | G15: =IF(ISERROR(VLOOKUP(B15,Trier!$A$1:$F$32,6,FALSE)),"",VLOOKUP(B15,Trier!$A$1:$F$32,6,FALSE)) -> 1 | H15: =IF(ISERROR(VLOOKUP(B15,Trier!$A$1:$G$32,7,FALSE)),"",VLOOKUP(B15,Trier!$A$1:$G$32,7,FALSE)) -> uy-z | I15: 2 | J15: 30 | K15: =IF(ISERROR(I15/J15*86.4),"",I15/J15*86.4) -> 5.76 | L15: =IF(ISERROR(VLOOKUP(B15,Trier!$A$1:$H$32,8,FALSE)),"",VLOOKUP(B15,Trier!$A$1:$H$32,8,FALSE)) -> 0 | O15: =IF(ISERROR(M15/N15*86.4),"",M15/N15*86.4) | P15: =IF(ISERROR(VLOOKUP(B15,Trier!$A$1:$I$32,9,FALSE)),"",VLOOKUP(B15,Trier!$A$1:$I$32,9,FALSE)) -> 0 | S15: =IF(ISERROR(Q15/R15*86.4),"",Q15/R15*86.4) | T15: =IF(ISERROR(SUM(K15,O15,S15)),"",SUM(K15,O15,S15)) -> 5.76 | U15: =MONTH(A:A) -> 12 | V15: =YEAR(A:A) -> 2006
A16: 39064 | B16: 813 | C16: =IF(ISNA(VLOOKUP(B16,Trier!$A$1:$E$32,2,FALSE)),"",VLOOKUP(B16,Trier!$A$1:$E$32,2,FALSE)) -> 913 | D16: =IF(ISNA(VLOOKUP(B16,Trier!$A$1:$E$32,3,FALSE)),"",VLOOKUP(B16,Trier!$A$1:$E$32,3,FALSE)) -> 104 | E16: =IF(ISNA(VLOOKUP(B16,Trier!$A$1:$E$32,4,FALSE)),"",VLOOKUP(B16,Trier!$A$1:$E$32,4,FALSE)) -> cactus1 | F16: =IF(ISNA(VLOOKUP(B16,Trier!$A$1:$E$32,5,FALSE)),"",VLOOKUP(B16,Trier!$A$1:$E$32,5,FALSE)) -> cactus | G16: =IF(ISERROR(VLOOKUP(B16,Trier!$A$1:$F$32,6,FALSE)),"",VLOOKUP(B16,Trier!$A$1:$F$32,6,FALSE)) -> 1 | H16: =IF(ISERROR(VLOOKUP(B16,Trier!$A$1:$G$32,7,FALSE)),"",VLOOKUP(B16,Trier!$A$1:$G$32,7,FALSE)) -> uj | I16: 2 | J16: 44 | K16: =IF(ISERROR(I16/J16*86.4),"",I16/J16*86.4) -> 3.9272727 | L16: =IF(ISERROR(VLOOKUP(B16,Trier!$A$1:$H$32,8,FALSE)),"",VLOOKUP(B16,Trier!$A$1:$H$32,8,FALSE)) -> 0 | O16: =IF(ISERROR(M16/N16*86.4),"",M16/N16*86.4) | P16: =IF(ISERROR(VLOOKUP(B16,Trier!$A$1:$I$32,9,FALSE)),"",VLOOKUP(B16,Trier!$A$1:$I$32,9,FALSE)) -> 0 | S16: =IF(ISERROR(Q16/R16*86.4),"",Q16/R16*86.4) | T16: =IF(ISERROR(SUM(K16,O16,S16)),"",SUM(K16,O16,S16)) -> 3.9272727 | U16: =MONTH(A:A) -> 12 | V16: =YEAR(A:A) -> 2006
A17: 39064 | B17: 817 | C17: =IF(ISNA(VLOOKUP(B17,Trier!$A$1:$E$32,2,FALSE)),"",VLOOKUP(B17,Trier!$A$1:$E$32,2,FALSE)) -> 917 | D17: =IF(ISNA(VLOOKUP(B17,Trier!$A$1:$E$32,3,FALSE)),"",VLOOKUP(B17,Trier!$A$1:$E$32,3,FALSE)) -> 104 | E17: =IF(ISNA(VLOOKUP(B17,Trier!$A$1:$E$32,4,FALSE)),"",VLOOKUP(B17,Trier!$A$1:$E$32,4,FALSE)) -> fraise1 | F17: =IF(ISNA(VLOOKUP(B17,Trier!$A$1:$E$32,5,FALSE)),"",VLOOKUP(B17,Trier!$A$1:$E$32,5,FALSE)) -> fraise | G17: =IF(ISERROR(VLOOKUP(B17,Trier!$A$1:$F$32,6,FALSE)),"",VLOOKUP(B17,Trier!$A$1:$F$32,6,FALSE)) -> 2 | H17: =IF(ISERROR(VLOOKUP(B17,Trier!$A$1:$G$32,7,FALSE)),"",VLOOKUP(B17,Trier!$A$1:$G$32,7,FALSE)) -> kuy | I17: 2 | J17: 44 | K17: =IF(ISERROR(I17/J17*86.4),"",I17/J17*86.4) -> 3.9272727 | L17: =IF(ISERROR(VLOOKUP(B17,Trier!$A$1:$H$32,8,FALSE)),"",VLOOKUP(B17,Trier!$A$1:$H$32,8,FALSE)) -> gfshs | O17: =IF(ISERROR(M17/N17*86.4),"",M17/N17*86.4) | P17: =IF(ISERROR(VLOOKUP(B17,Trier!$A$1:$I$32,9,FALSE)),"",VLOOKUP(B17,Trier!$A$1:$I$32,9,FALSE)) -> 0 | S17: =IF(ISERROR(Q17/R17*86.4),"",Q17/R17*86.4) | T17: =IF(ISERROR(SUM(K17,O17,S17)),"",SUM(K17,O17,S17)) -> 3.9272727 | U17: =MONTH(A:A) -> 12 | V17: =YEAR(A:A) -> 2006
A18: 39111 | B18: 812 | C18: =IF(ISNA(VLOOKUP(B18,Trier!$A$1:$E$32,2,FALSE)),"",VLOOKUP(B18,Trier!$A$1:$E$32,2,FALSE)) -> 912 | D18: =IF(ISNA(VLOOKUP(B18,Trier!$A$1:$E$32,3,FALSE)),"",VLOOKUP(B18,Trier!$A$1:$E$32,3,FALSE)) -> 104 | E18: =IF(ISNA(VLOOKUP(B18,Trier!$A$1:$E$32,4,FALSE)),"",VLOOKUP(B18,Trier!$A$1:$E$32,4,FALSE)) -> ratatouille1 | F18: =IF(ISNA(VLOOKUP(B18,Trier!$A$1:$E$32,5,FALSE)),"",VLOOKUP(B18,Trier!$A$1:$E$32,5,FALSE)) -> ratatouille | G18: =IF(ISERROR(VLOOKUP(B18,Trier!$A$1:$F$32,6,FALSE)),"",VLOOKUP(B18,Trier!$A$1:$F$32,6,FALSE)) -> 1 | H18: =IF(ISERROR(VLOOKUP(B18,Trier!$A$1:$G$32,7,FALSE)),"",VLOOKUP(B18,Trier!$A$1:$G$32,7,FALSE)) -> uy-z | I18: 3 | J18: 60 | K18: =IF(ISERROR(I18/J18*86.4),"",I18/J18*86.4) -> 4.32 | L18: =IF(ISERROR(VLOOKUP(B18,Trier!$A$1:$H$32,8,FALSE)),"",VLOOKUP(B18,Trier!$A$1:$H$32,8,FALSE)) -> 0 | O18: =IF(ISERROR(M18/N18*86.4),"",M18/N18*86.4) | P18: =IF(ISERROR(VLOOKUP(B18,Trier!$A$1:$I$32,9,FALSE)),"",VLOOKUP(B18,Trier!$A$1:$I$32,9,FALSE)) -> 0 | S18: =IF(ISERROR(Q18/R18*86.4),"",Q18/R18*86.4) | T18: =IF(ISERROR(SUM(K18,O18,S18)),"",SUM(K18,O18,S18)) -> 4.32 | U18: =MONTH(A:A) -> 1 | V18: =YEAR(A:A) -> 2007
A19: 39111 | B19: 813 | C19: =IF(ISNA(VLOOKUP(B19,Trier!$A$1:$E$32,2,FALSE)),"",VLOOKUP(B19,Trier!$A$1:$E$32,2,FALSE)) -> 913 | D19: =IF(ISNA(VLOOKUP(B19,Trier!$A$1:$E$32,3,FALSE)),"",VLOOKUP(B19,Trier!$A$1:$E$32,3,FALSE)) -> 104 | E19: =IF(ISNA(VLOOKUP(B19,Trier!$A$1:$E$32,4,FALSE)),"",VLOOKUP(B19,Trier!$A$1:$E$32,4,FALSE)) -> cactus1 | F19: =IF(ISNA(VLOOKUP(B19,Trier!$A$1:$E$32,5,FALSE)),"",VLOOKUP(B19,Trier!$A$1:$E$32,5,FALSE)) -> cactus | G19: =IF(ISERROR(VLOOKUP(B19,Trier!$A$1:$F$32,6,FALSE)),"",VLOOKUP(B19,Trier!$A$1:$F$32,6,FALSE)) -> 1 | H19: =IF(ISERROR(VLOOKUP(B19,Trier!$A$1:$G$32,7,FALSE)),"",VLOOKUP(B19,Trier!$A$1:$G$32,7,FALSE)) -> uj | I19: 1.5 | J19: 60 | K19: =IF(ISERROR(I19/J19*86.4),"",I19/J19*86.4) -> 2.16 | L19: =IF(ISERROR(VLOOKUP(B19,Trier!$A$1:$H$32,8,FALSE)),"",VLOOKUP(B19,Trier!$A$1:$H$32,8,FALSE)) -> 0 | O19: =IF(ISERROR(M19/N19*86.4),"",M19/N19*86.4) | P19: =IF(ISERROR(VLOOKUP(B19,Trier!$A$1:$I$32,9,FALSE)),"",VLOOKUP(B19,Trier!$A$1:$I$32,9,FALSE)) -> 0 | S19: =IF(ISERROR(Q19/R19*86.4),"",Q19/R19*86.4) | T19: =IF(ISERROR(SUM(K19,O19,S19)),"",SUM(K19,O19,S19)) -> 2.16 | U19: =MONTH(A:A) -> 1 | V19: =YEAR(A:A) -> 2007
A20: 39111 | B20: 817 | C20: =IF(ISNA(VLOOKUP(B20,Trier!$A$1:$E$32,2,FALSE)),"",VLOOKUP(B20,Trier!$A$1:$E$32,2,FALSE)) -> 917 | D20: =IF(ISNA(VLOOKUP(B20,Trier!$A$1:$E$32,3,FALSE)),"",VLOOKUP(B20,Trier!$A$1:$E$32,3,FALSE)) -> 104 | E20: =IF(ISNA(VLOOKUP(B20,Trier!$A$1:$E$32,4,FALSE)),"",VLOOKUP(B20,Trier!$A$1:$E$32,4,FALSE)) -> fraise1 | F20: =IF(ISNA(VLOOKUP(B20,Trier!$A$1:$E$32,5,FALSE)),"",VLOOKUP(B20,Trier!$A$1:$E$32,5,FALSE)) -> fraise | G20: =IF(ISERROR(VLOOKUP(B20,Trier!$A$1:$F$32,6,FALSE)),"",VLOOKUP(B20,Trier!$A$1:$F$32,6,FALSE)) -> 2 | H20: =IF(ISERROR(VLOOKUP(B20,Trier!$A$1:$G$32,7,FALSE)),"",VLOOKUP(B20,Trier!$A$1:$G$32,7,FALSE)) -> kuy | I20: 1.5 | J20: 60 | K20: =IF(ISERROR(I20/J20*86.4),"",I20/J20*86.4) -> 2.16 | L20: =IF(ISERROR(VLOOKUP(B20,Trier!$A$1:$H$32,8,FALSE)),"",VLOOKUP(B20,Trier!$A$1:$H$32,8,FALSE)) -> gfshs | O20: =IF(ISERROR(M20/N20*86.4),"",M20/N20*86.4) | P20: =IF(ISERROR(VLOOKUP(B20,Trier!$A$1:$I$32,9,FALSE)),"",VLOOKUP(B20,Trier!$A$1:$I$32,9,FALSE)) -> 0 | S20: =IF(ISERROR(Q20/R20*86.4),"",Q20/R20*86.4) | T20: =IF(ISERROR(SUM(K20,O20,S20)),"",SUM(K20,O20,S20)) -> 2.16 | U20: =MONTH(A:A) -> 1 | V20: =YEAR(A:A) -> 2007
A21: 39146 | B21: 813 | C21: =IF(ISNA(VLOOKUP(B21,Trier!$A$1:$E$32,2,FALSE)),"",VLOOKUP(B21,Trier!$A$1:$E$32,2,FALSE)) -> 913 | D21: =IF(ISNA(VLOOKUP(B21,Trier!$A$1:$E$32,3,FALSE)),"",VLOOKUP(B21,Trier!$A$1:$E$32,3,FALSE)) -> 104 | E21: =IF(ISNA(VLOOKUP(B21,Trier!$A$1:$E$32,4,FALSE)),"",VLOOKUP(B21,Trier!$A$1:$E$32,4,FALSE)) -> cactus1 | F21: =IF(ISNA(VLOOKUP(B21,Trier!$A$1:$E$32,5,FALSE)),"",VLOOKUP(B21,Trier!$A$1:$E$32,5,FALSE)) -> cactus | G21: =IF(ISERROR(VLOOKUP(B21,Trier!$A$1:$F$32,6,FALSE)),"",VLOOKUP(B21,Trier!$A$1:$F$32,6,FALSE)) -> 1 | H21: =IF(ISERROR(VLOOKUP(B21,Trier!$A$1:$G$32,7,FALSE)),"",VLOOKUP(B21,Trier!$A$1:$G$32,7,FALSE)) -> uj | I21: 2 | J21: 9 | K21: =IF(ISERROR(I21/J21*86.4),"",I21/J21*86.4) -> 19.2 | L21: =IF(ISERROR(VLOOKUP(B21,Trier!$A$1:$H$32,8,FALSE)),"",VLOOKUP(B21,Trier!$A$1:$H$32,8,FALSE)) -> 0 | O21: =IF(ISERROR(M21/N21*86.4),"",M21/N21*86.4) | P21: =IF(ISERROR(VLOOKUP(B21,Trier!$A$1:$I$32,9,FALSE)),"",VLOOKUP(B21,Trier!$A$1:$I$32,9,FALSE)) -> 0 | S21: =IF(ISERROR(Q21/R21*86.4),"",Q21/R21*86.4) | T21: =IF(ISERROR(SUM(K21,O21,S21)),"",SUM(K21,O21,S21)) -> 19.2 | U21: =MONTH(A:A) -> 3 | V21: =YEAR(A:A) -> 2007
A22: 39197 | B22: 815 | C22: =IF(ISNA(VLOOKUP(B22,Trier!$A$1:$E$32,2,FALSE)),"",VLOOKUP(B22,Trier!$A$1:$E$32,2,FALSE)) -> 915 | D22: =IF(ISNA(VLOOKUP(B22,Trier!$A$1:$E$32,3,FALSE)),"",VLOOKUP(B22,Trier!$A$1:$E$32,3,FALSE)) -> 104 | E22: =IF(ISNA(VLOOKUP(B22,Trier!$A$1:$E$32,4,FALSE)),"",VLOOKUP(B22,Trier!$A$1:$E$32,4,FALSE)) -> groseille | F22: =IF(ISNA(VLOOKUP(B22,Trier!$A$1:$E$32,5,FALSE)),"",VLOOKUP(B22,Trier!$A$1:$E$32,5,FALSE)) -> groseille | G22: =IF(ISERROR(VLOOKUP(B22,Trier!$A$1:$F$32,6,FALSE)),"",VLOOKUP(B22,Trier!$A$1:$F$32,6,FALSE)) -> 3 | H22: =IF(ISERROR(VLOOKUP(B22,Trier!$A$1:$G$32,7,FALSE)),"",VLOOKUP(B22,Trier!$A$1:$G$32,7,FALSE)) -> yty | I22: 11 | J22: 32 | K22: =IF(ISERROR(I22/J22*86.4),"",I22/J22*86.4) -> 29.7 | L22: =IF(ISERROR(VLOOKUP(B22,Trier!$A$1:$H$32,8,FALSE)),"",VLOOKUP(B22,Trier!$A$1:$H$32,8,FALSE)) -> qgtysjh | O22: =IF(ISERROR(M22/N22*86.4),"",M22/N22*86.4) | P22: =IF(ISERROR(VLOOKUP(B22,Trier!$A$1:$I$32,9,FALSE)),"",VLOOKUP(B22,Trier!$A$1:$I$32,9,FALSE)) -> ;,hfc | S22: =IF(ISERROR(Q22/R22*86.4),"",Q22/R22*86.4) | T22: =IF(ISERROR(SUM(K22,O22,S22)),"",SUM(K22,O22,S22)) -> 29.7 | U22: =MONTH(A:A) -> 4 | V22: =YEAR(A:A) -> 2007
A23: 39197 | B23: 817 | C23: =IF(ISNA(VLOOKUP(B23,Trier!$A$1:$E$32,2,FALSE)),"",VLOOKUP(B23,Trier!$A$1:$E$32,2,FALSE)) -> 917 | D23: =IF(ISNA(VLOOKUP(B23,Trier!$A$1:$E$32,3,FALSE)),"",VLOOKUP(B23,Trier!$A$1:$E$32,3,FALSE)) -> 104 | E23: =IF(ISNA(VLOOKUP(B23,Trier!$A$1:$E$32,4,FALSE)),"",VLOOKUP(B23,Trier!$A$1:$E$32,4,FALSE)) -> fraise1 | F23: =IF(ISNA(VLOOKUP(B23,Trier!$A$1:$E$32,5,FALSE)),"",VLOOKUP(B23,Trier!$A$1:$E$32,5,FALSE)) -> fraise | G23: =IF(ISERROR(VLOOKUP(B23,Trier!$A$1:$F$32,6,FALSE)),"",VLOOKUP(B23,Trier!$A$1:$F$32,6,FALSE)) -> 2 | H23: =IF(ISERROR(VLOOKUP(B23,Trier!$A$1:$G$32,7,FALSE)),"",VLOOKUP(B23,Trier!$A$1:$G$32,7,FALSE)) -> kuy | I23: 6 | J23: 60 | K23: =IF(ISERROR(I23/J23*86.4),"",I23/J23*86.4) -> 8.64 | L23: =IF(ISERROR(VLOOKUP(B23,Trier!$A$1:$H$32,8,FALSE)),"",VLOOKUP(B23,Trier!$A$1:$H$32,8,FALSE)) -> gfshs | M23: 11 | N23: 31 | O23: =IF(ISERROR(M23/N23*86.4),"",M23/N23*86.4) -> 30.658065 | P23: =IF(ISERROR(VLOOKUP(B23,Trier!$A$1:$I$32,9,FALSE)),"",VLOOKUP(B23,Trier!$A$1:$I$32,9,FALSE)) -> 0 | S23: =IF(ISERROR(Q23/R23*86.4),"",Q23/R23*86.4) | T23: =IF(ISERROR(SUM(K23,O23,S23)),"",SUM(K23,O23,S23)) -> 39.298065 | U23: =MONTH(A:A) -> 4 | V23: =YEAR(A:A) -> 2007
A24: 39205 | B24: 824 | C24: =IF(ISNA(VLOOKUP(B24,Trier!$A$1:$E$32,2,FALSE)),"",VLOOKUP(B24,Trier!$A$1:$E$32,2,FALSE)) -> 924 | D24: =IF(ISNA(VLOOKUP(B24,Trier!$A$1:$E$32,3,FALSE)),"",VLOOKUP(B24,Trier!$A$1:$E$32,3,FALSE)) -> 104 | E24: =IF(ISNA(VLOOKUP(B24,Trier!$A$1:$E$32,4,FALSE)),"",VLOOKUP(B24,Trier!$A$1:$E$32,4,FALSE)) -> poreaux1 | F24: =IF(ISNA(VLOOKUP(B24,Trier!$A$1:$E$32,5,FALSE)),"",VLOOKUP(B24,Trier!$A$1:$E$32,5,FALSE)) -> poireaux | G24: =IF(ISERROR(VLOOKUP(B24,Trier!$A$1:$F$32,6,FALSE)),"",VLOOKUP(B24,Trier!$A$1:$F$32,6,FALSE)) -> 1 | H24: =IF(ISERROR(VLOOKUP(B24,Trier!$A$1:$G$32,7,FALSE)),"",VLOOKUP(B24,Trier!$A$1:$G$32,7,FALSE)) -> hghf | I24: 2 | J24: 16 | K24: =IF(ISERROR(I24/J24*86.4),"",I24/J24*86.4) -> 10.8 | L24: =IF(ISERROR(VLOOKUP(B24,Trier!$A$1:$H$32,8,FALSE)),"",VLOOKUP(B24,Trier!$A$1:$H$32,8,FALSE)) -> 0 | O24: =IF(ISERROR(M24/N24*86.4),"",M24/N24*86.4) | P24: =IF(ISERROR(VLOOKUP(B24,Trier!$A$1:$I$32,9,FALSE)),"",VLOOKUP(B24,Trier!$A$1:$I$32,9,FALSE)) -> 0 | S24: =IF(ISERROR(Q24/R24*86.4),"",Q24/R24*86.4) | T24: =IF(ISERROR(SUM(K24,O24,S24)),"",SUM(K24,O24,S24)) -> 10.8 | U24: =MONTH(A:A) -> 5 | V24: =YEAR(A:A) -> 2007
A25: 39213 | B25: 811 | C25: =IF(ISNA(VLOOKUP(B25,Trier!$A$1:$E$32,2,FALSE)),"",VLOOKUP(B25,Trier!$A$1:$E$32,2,FALSE)) -> 911 | D25: =IF(ISNA(VLOOKUP(B25,Trier!$A$1:$E$32,3,FALSE)),"",VLOOKUP(B25,Trier!$A$1:$E$32,3,FALSE)) -> 104 | E25: =IF(ISNA(VLOOKUP(B25,Trier!$A$1:$E$32,4,FALSE)),"",VLOOKUP(B25,Trier!$A$1:$E$32,4,FALSE)) -> potiron1 | F25: =IF(ISNA(VLOOKUP(B25,Trier!$A$1:$E$32,5,FALSE)),"",VLOOKUP(B25,Trier!$A$1:$E$32,5,FALSE)) -> potiron | G25: =IF(ISERROR(VLOOKUP(B25,Trier!$A$1:$F$32,6,FALSE)),"",VLOOKUP(B25,Trier!$A$1:$F$32,6,FALSE)) -> 1 | H25: =IF(ISERROR(VLOOKUP(B25,Trier!$A$1:$G$32,7,FALSE)),"",VLOOKUP(B25,Trier!$A$1:$G$32,7,FALSE)) -> iku | I25: 11 | J25: 83 | K25: =IF(ISERROR(I25/J25*86.4),"",I25/J25*86.4) -> 11.450602 | L25: =IF(ISERROR(VLOOKUP(B25,Trier!$A$1:$H$32,8,FALSE)),"",VLOOKUP(B25,Trier!$A$1:$H$32,8,FALSE)) -> srj,dnd | O25: =IF(ISERROR(M25/N25*86.4),"",M25/N25*86.4) | P25: =IF(ISERROR(VLOOKUP(B25,Trier!$A$1:$I$32,9,FALSE)),"",VLOOKUP(B25,Trier!$A$1:$I$32,9,FALSE)) -> 0 | S25: =IF(ISERROR(Q25/R25*86.4),"",Q25/R25*86.4) | T25: =IF(ISERROR(SUM(K25,O25,S25)),"",SUM(K25,O25,S25)) -> 11.450602 | U25: =MONTH(A:A) -> 5 | V25: =YEAR(A:A) -> 2007
A26: 39213 | B26: 823 | C26: =IF(ISNA(VLOOKUP(B26,Trier!$A$1:$E$32,2,FALSE)),"",VLOOKUP(B26,Trier!$A$1:$E$32,2,FALSE)) -> 923 | D26: =IF(ISNA(VLOOKUP(B26,Trier!$A$1:$E$32,3,FALSE)),"",VLOOKUP(B26,Trier!$A$1:$E$32,3,FALSE)) -> 104 | E26: =IF(ISNA(VLOOKUP(B26,Trier!$A$1:$E$32,4,FALSE)),"",VLOOKUP(B26,Trier!$A$1:$E$32,4,FALSE)) -> Osfond1 | F26: =IF(ISNA(VLOOKUP(B26,Trier!$A$1:$E$32,5,FALSE)),"",VLOOKUP(B26,Trier!$A$1:$E$32,5,FALSE)) -> noisette | G26: =IF(ISERROR(VLOOKUP(B26,Trier!$A$1:$F$32,6,FALSE)),"",VLOOKUP(B26,Trier!$A$1:$F$32,6,FALSE)) -> 1 | H26: =IF(ISERROR(VLOOKUP(B26,Trier!$A$1:$G$32,7,FALSE)),"",VLOOKUP(B26,Trier!$A$1:$G$32,7,FALSE)) -> om | I26: 11 | J26: 40 | K26: =IF(ISERROR(I26/J26*86.4),"",I26/J26*86.4) -> 23.76 | L26: =IF(ISERROR(VLOOKUP(B26,Trier!$A$1:$H$32,8,FALSE)),"",VLOOKUP(B26,Trier!$A$1:$H$32,8,FALSE)) -> 0 | O26: =IF(ISERROR(M26/N26*86.4),"",M26/N26*86.4) | P26: =IF(ISERROR(VLOOKUP(B26,Trier!$A$1:$I$32,9,FALSE)),"",VLOOKUP(B26,Trier!$A$1:$I$32,9,FALSE)) -> 0 | S26: =IF(ISERROR(Q26/R26*86.4),"",Q26/R26*86.4) | T26: =IF(ISERROR(SUM(K26,O26,S26)),"",SUM(K26,O26,S26)) -> 23.76 | U26: =MONTH(A:A) -> 5 | V26: =YEAR(A:A) -> 2007
A27: 39213 | B27: 824 | C27: =IF(ISNA(VLOOKUP(B27,Trier!$A$1:$E$32,2,FALSE)),"",VLOOKUP(B27,Trier!$A$1:$E$32,2,FALSE)) -> 924 | D27: =IF(ISNA(VLOOKUP(B27,Trier!$A$1:$E$32,3,FALSE)),"",VLOOKUP(B27,Trier!$A$1:$E$32,3,FALSE)) -> 104 | E27: =IF(ISNA(VLOOKUP(B27,Trier!$A$1:$E$32,4,FALSE)),"",VLOOKUP(B27,Trier!$A$1:$E$32,4,FALSE)) -> poreaux1 | F27: =IF(ISNA(VLOOKUP(B27,Trier!$A$1:$E$32,5,FALSE)),"",VLOOKUP(B27,Trier!$A$1:$E$32,5,FALSE)) -> poireaux | G27: =IF(ISERROR(VLOOKUP(B27,Trier!$A$1:$F$32,6,FALSE)),"",VLOOKUP(B27,Trier!$A$1:$F$32,6,FALSE)) -> 1 | H27: =IF(ISERROR(VLOOKUP(B27,Trier!$A$1:$G$32,7,FALSE)),"",VLOOKUP(B27,Trier!$A$1:$G$32,7,FALSE)) -> hghf | I27: 10 | J27: 95 | K27: =IF(ISERROR(I27/J27*86.4),"",I27/J27*86.4) -> 9.0947368 | L27: =IF(ISERROR(VLOOKUP(B27,Trier!$A$1:$H$32,8,FALSE)),"",VLOOKUP(B27,Trier!$A$1:$H$32,8,FALSE)) -> 0 | O27: =IF(ISERROR(M27/N27*86.4),"",M27/N27*86.4) | P27: =IF(ISERROR(VLOOKUP(B27,Trier!$A$1:$I$32,9,FALSE)),"",VLOOKUP(B27,Trier!$A$1:$I$32,9,FALSE)) -> 0 | S27: =IF(ISERROR(Q27/R27*86.4),"",Q27/R27*86.4) | T27: =IF(ISERROR(SUM(K27,O27,S27)),"",SUM(K27,O27,S27)) -> 9.0947368 | U27: =MONTH(A:A) -> 5 | V27: =YEAR(A:A) -> 2007
A28: 39231 | B28: 828 | C28: =IF(ISNA(VLOOKUP(B28,Trier!$A$1:$E$32,2,FALSE)),"",VLOOKUP(B28,Trier!$A$1:$E$32,2,FALSE)) -> 928 | D28: =IF(ISNA(VLOOKUP(B28,Trier!$A$1:$E$32,3,FALSE)),"",VLOOKUP(B28,Trier!$A$1:$E$32,3,FALSE)) -> 104 | E28: =IF(ISNA(VLOOKUP(B28,Trier!$A$1:$E$32,4,FALSE)),"",VLOOKUP(B28,Trier!$A$1:$E$32,4,FALSE)) -> Radis1 | F28: =IF(ISNA(VLOOKUP(B28,Trier!$A$1:$E$32,5,FALSE)),"",VLOOKUP(B28,Trier!$A$1:$E$32,5,FALSE)) -> Radis | G28: =IF(ISERROR(VLOOKUP(B28,Trier!$A$1:$F$32,6,FALSE)),"",VLOOKUP(B28,Trier!$A$1:$F$32,6,FALSE)) -> 1 | H28: =IF(ISERROR(VLOOKUP(B28,Trier!$A$1:$G$32,7,FALSE)),"",VLOOKUP(B28,Trier!$A$1:$G$32,7,FALSE)) -> ur | I28: 6 | J28: 13.5 | K28: =IF(ISERROR(I28/J28*86.4),"",I28/J28*86.4) -> 38.4 | L28: =IF(ISERROR(VLOOKUP(B28,Trier!$A$1:$H$32,8,FALSE)),"",VLOOKUP(B28,Trier!$A$1:$H$32,8,FALSE)) -> 0 | O28: =IF(ISERROR(M28/N28*86.4),"",M28/N28*86.4) | P28: =IF(ISERROR(VLOOKUP(B28,Trier!$A$1:$I$32,9,FALSE)),"",VLOOKUP(B28,Trier!$A$1:$I$32,9,FALSE)) -> 0 | S28: =IF(ISERROR(Q28/R28*86.4),"",Q28/R28*86.4) | T28: =IF(ISERROR(SUM(K28,O28,S28)),"",SUM(K28,O28,S28)) -> 38.4 | U28: =MONTH(A:A) -> 5 | V28: =YEAR(A:A) -> 2007
A29: 39252 | B29: 801 | C29: =IF(ISNA(VLOOKUP(B29,Trier!$A$1:$E$32,2,FALSE)),"",VLOOKUP(B29,Trier!$A$1:$E$32,2,FALSE)) -> 901 | D29: =IF(ISNA(VLOOKUP(B29,Trier!$A$1:$E$32,3,FALSE)),"",VLOOKUP(B29,Trier!$A$1:$E$32,3,FALSE)) -> 104 | E29: =IF(ISNA(VLOOKUP(B29,Trier!$A$1:$E$32,4,FALSE)),"",VLOOKUP(B29,Trier!$A$1:$E$32,4,FALSE)) -> melon1 | F29: =IF(ISNA(VLOOKUP(B29,Trier!$A$1:$E$32,5,FALSE)),"",VLOOKUP(B29,Trier!$A$1:$E$32,5,FALSE)) -> melon | G29: =IF(ISERROR(VLOOKUP(B29,Trier!$A$1:$F$32,6,FALSE)),"",VLOOKUP(B29,Trier!$A$1:$F$32,6,FALSE)) -> 2 | H29: =IF(ISERROR(VLOOKUP(B29,Trier!$A$1:$G$32,7,FALSE)),"",VLOOKUP(B29,Trier!$A$1:$G$32,7,FALSE)) -> bb | I29: 66 | J29: 60 | K29: =IF(ISERROR(I29/J29*86.4),"",I29/J29*86.4) -> 95.04 | L29: =IF(ISERROR(VLOOKUP(B29,Trier!$A$1:$H$32,8,FALSE)),"",VLOOKUP(B29,Trier!$A$1:$H$32,8,FALSE)) -> nd, | M29: 16 | N29: 60 | O29: =IF(ISERROR(M29/N29*86.4),"",M29/N29*86.4) -> 23.04 | P29: =IF(ISERROR(VLOOKUP(B29,Trier!$A$1:$I$32,9,FALSE)),"",VLOOKUP(B29,Trier!$A$1:$I$32,9,FALSE)) -> 0 | S29: =IF(ISERROR(Q29/R29*86.4),"",Q29/R29*86.4) | T29: =IF(ISERROR(SUM(K29,O29,S29)),"",SUM(K29,O29,S29)) -> 118.08 | U29: =MONTH(A:A) -> 6 | V29: =YEAR(A:A) -> 2007
A30: 39254 | B30: 810 | C30: =IF(ISNA(VLOOKUP(B30,Trier!$A$1:$E$32,2,FALSE)),"",VLOOKUP(B30,Trier!$A$1:$E$32,2,FALSE)) -> 910 | D30: =IF(ISNA(VLOOKUP(B30,Trier!$A$1:$E$32,3,FALSE)),"",VLOOKUP(B30,Trier!$A$1:$E$32,3,FALSE)) -> 104 | E30: =IF(ISNA(VLOOKUP(B30,Trier!$A$1:$E$32,4,FALSE)),"",VLOOKUP(B30,Trier!$A$1:$E$32,4,FALSE)) -> potimaron1 | F30: =IF(ISNA(VLOOKUP(B30,Trier!$A$1:$E$32,5,FALSE)),"",VLOOKUP(B30,Trier!$A$1:$E$32,5,FALSE)) -> potimaron | G30: =IF(ISERROR(VLOOKUP(B30,Trier!$A$1:$F$32,6,FALSE)),"",VLOOKUP(B30,Trier!$A$1:$F$32,6,FALSE)) -> 2 | H30: =IF(ISERROR(VLOOKUP(B30,Trier!$A$1:$G$32,7,FALSE)),"",VLOOKUP(B30,Trier!$A$1:$G$32,7,FALSE)) -> te | I30: 10 | J30: 57 | K30: =IF(ISERROR(I30/J30*86.4),"",I30/J30*86.4) -> 15.157895 | L30: =IF(ISERROR(VLOOKUP(B30,Trier!$A$1:$H$32,8,FALSE)),"",VLOOKUP(B30,Trier!$A$1:$H$32,8,FALSE)) -> tkjtdj | O30: =IF(ISERROR(M30/N30*86.4),"",M30/N30*86.4) | P30: =IF(ISERROR(VLOOKUP(B30,Trier!$A$1:$I$32,9,FALSE)),"",VLOOKUP(B30,Trier!$A$1:$I$32,9,FALSE)) -> 0 | S30: =IF(ISERROR(Q30/R30*86.4),"",Q30/R30*86.4) | T30: =IF(ISERROR(SUM(K30,O30,S30)),"",SUM(K30,O30,S30)) -> 15.157895 | U30: =MONTH(A:A) -> 6 | V30: =YEAR(A:A) -> 2007
A31: 39254 | B31: 809 | C31: =IF(ISNA(VLOOKUP(B31,Trier!$A$1:$E$32,2,FALSE)),"",VLOOKUP(B31,Trier!$A$1:$E$32,2,FALSE)) -> 909 | D31: =IF(ISNA(VLOOKUP(B31,Trier!$A$1:$E$32,3,FALSE)),"",VLOOKUP(B31,Trier!$A$1:$E$32,3,FALSE)) -> 104 | E31: =IF(ISNA(VLOOKUP(B31,Trier!$A$1:$E$32,4,FALSE)),"",VLOOKUP(B31,Trier!$A$1:$E$32,4,FALSE)) -> artichauts1 | F31: =IF(ISNA(VLOOKUP(B31,Trier!$A$1:$E$32,5,FALSE)),"",VLOOKUP(B31,Trier!$A$1:$E$32,5,FALSE)) -> artichauts | G31: =IF(ISERROR(VLOOKUP(B31,Trier!$A$1:$F$32,6,FALSE)),"",VLOOKUP(B31,Trier!$A$1:$F$32,6,FALSE)) -> 2 | H31: =IF(ISERROR(VLOOKUP(B31,Trier!$A$1:$G$32,7,FALSE)),"",VLOOKUP(B31,Trier!$A$1:$G$32,7,FALSE)) -> k | I31: 10 | J31: 20 | K31: =IF(ISERROR(I31/J31*86.4),"",I31/J31*86.4) -> 43.2 | L31: =IF(ISERROR(VLOOKUP(B31,Trier!$A$1:$H$32,8,FALSE)),"",VLOOKUP(B31,Trier!$A$1:$H$32,8,FALSE)) -> tjkedk, | O31: =IF(ISERROR(M31/N31*86.4),"",M31/N31*86.4) | P31: =IF(ISERROR(VLOOKUP(B31,Trier!$A$1:$I$32,9,FALSE)),"",VLOOKUP(B31,Trier!$A$1:$I$32,9,FALSE)) -> 0 | S31: =IF(ISERROR(Q31/R31*86.4),"",Q31/R31*86.4) | T31: =IF(ISERROR(SUM(K31,O31,S31)),"",SUM(K31,O31,S31)) -> 43.2 | U31: =MONTH(A:A) -> 6 | V31: =YEAR(A:A) -> 2007
A32: 39254 | B32: 828 | C32: =IF(ISNA(VLOOKUP(B32,Trier!$A$1:$E$32,2,FALSE)),"",VLOOKUP(B32,Trier!$A$1:$E$32,2,FALSE)) -> 928 | D32: =IF(ISNA(VLOOKUP(B32,Trier!$A$1:$E$32,3,FALSE)),"",VLOOKUP(B32,Trier!$A$1:$E$32,3,FALSE)) -> 104 | E32: =IF(ISNA(VLOOKUP(B32,Trier!$A$1:$E$32,4,FALSE)),"",VLOOKUP(B32,Trier!$A$1:$E$32,4,FALSE)) -> Radis1 | F32: =IF(ISNA(VLOOKUP(B32,Trier!$A$1:$E$32,5,FALSE)),"",VLOOKUP(B32,Trier!$A$1:$E$32,5,FALSE)) -> Radis | G32: =IF(ISERROR(VLOOKUP(B32,Trier!$A$1:$F$32,6,FALSE)),"",VLOOKUP(B32,Trier!$A$1:$F$32,6,FALSE)) -> 1 | H32: =IF(ISERROR(VLOOKUP(B32,Trier!$A$1:$G$32,7,FALSE)),"",VLOOKUP(B32,Trier!$A$1:$G$32,7,FALSE)) -> ur | I32: 10 | J32: 20 | K32: =IF(ISERROR(I32/J32*86.4),"",I32/J32*86.4) -> 43.2 | L32: =IF(ISERROR(VLOOKUP(B32,Trier!$A$1:$H$32,8,FALSE)),"",VLOOKUP(B32,Trier!$A$1:$H$32,8,FALSE)) -> 0 | O32: =IF(ISERROR(M32/N32*86.4),"",M32/N32*86.4) | P32: =IF(ISERROR(VLOOKUP(B32,Trier!$A$1:$I$32,9,FALSE)),"",VLOOKUP(B32,Trier!$A$1:$I$32,9,FALSE)) -> 0 | S32: =IF(ISERROR(Q32/R32*86.4),"",Q32/R32*86.4) | T32: =IF(ISERROR(SUM(K32,O32,S32)),"",SUM(K32,O32,S32)) -> 43.2 | U32: =MONTH(A:A) -> 6 | V32: =YEAR(A:A) -> 2007
A33: 39254 | B33: 817 | C33: =IF(ISNA(VLOOKUP(B33,Trier!$A$1:$E$32,2,FALSE)),"",VLOOKUP(B33,Trier!$A$1:$E$32,2,FALSE)) -> 917 | D33: =IF(ISNA(VLOOKUP(B33,Trier!$A$1:$E$32,3,FALSE)),"",VLOOKUP(B33,Trier!$A$1:$E$32,3,FALSE)) -> 104 | E33: =IF(ISNA(VLOOKUP(B33,Trier!$A$1:$E$32,4,FALSE)),"",VLOOKUP(B33,Trier!$A$1:$E$32,4,FALSE)) -> fraise1 | F33: =IF(ISNA(VLOOKUP(B33,Trier!$A$1:$E$32,5,FALSE)),"",VLOOKUP(B33,Trier!$A$1:$E$32,5,FALSE)) -> fraise | G33: =IF(ISERROR(VLOOKUP(B33,Trier!$A$1:$F$32,6,FALSE)),"",VLOOKUP(B33,Trier!$A$1:$F$32,6,FALSE)) -> 2 | H33: =IF(ISERROR(VLOOKUP(B33,Trier!$A$1:$G$32,7,FALSE)),"",VLOOKUP(B33,Trier!$A$1:$G$32,7,FALSE)) -> kuy | I33: 10 | J33: 26 | K33: =IF(ISERROR(I33/J33*86.4),"",I33/J33*86.4) -> 33.230769 | L33: =IF(ISERROR(VLOOKUP(B33,Trier!$A$1:$H$32,8,FALSE)),"",VLOOKUP(B33,Trier!$A$1:$H$32,8,FALSE)) -> gfshs | M33: 10 | N33: 10 | O33: =IF(ISERROR(M33/N33*86.4),"",M33/N33*86.4) -> 86.4 | P33: =IF(ISERROR(VLOOKUP(B33,Trier!$A$1:$I$32,9,FALSE)),"",VLOOKUP(B33,Trier!$A$1:$I$32,9,FALSE)) -> 0 | S33: =IF(ISERROR(Q33/R33*86.4),"",Q33/R33*86.4) | T33: =IF(ISERROR(SUM(K33,O33,S33)),"",SUM(K33,O33,S33)) -> 119.63077 | U33: =MONTH(A:A) -> 6 | V33: =YEAR(A:A) -> 2007
A34: 39261 | B34: 823 | C34: =IF(ISNA(VLOOKUP(B34,Trier!$A$1:$E$32,2,FALSE)),"",VLOOKUP(B34,Trier!$A$1:$E$32,2,FALSE)) -> 923 | D34: =IF(ISNA(VLOOKUP(B34,Trier!$A$1:$E$32,3,FALSE)),"",VLOOKUP(B34,Trier!$A$1:$E$32,3,FALSE)) -> 104 | E34: =IF(ISNA(VLOOKUP(B34,Trier!$A$1:$E$32,4,FALSE)),"",VLOOKUP(B34,Trier!$A$1:$E$32,4,FALSE)) -> Osfond1 | F34: =IF(ISNA(VLOOKUP(B34,Trier!$A$1:$E$32,5,FALSE)),"",VLOOKUP(B34,Trier!$A$1:$E$32,5,FALSE)) -> noisette | G34: =IF(ISERROR(VLOOKUP(B34,Trier!$A$1:$F$32,6,FALSE)),"",VLOOKUP(B34,Trier!$A$1:$F$32,6,FALSE)) -> 1 | H34: =IF(ISERROR(VLOOKUP(B34,Trier!$A$1:$G$32,7,FALSE)),"",VLOOKUP(B34,Trier!$A$1:$G$32,7,FALSE)) -> om | I34: 10 | J34: 20 | K34: =IF(ISERROR(I34/J34*86.4),"",I34/J34*86.4) -> 43.2 | L34: =IF(ISERROR(VLOOKUP(B34,Trier!$A$1:$H$32,8,FALSE)),"",VLOOKUP(B34,Trier!$A$1:$H$32,8,FALSE)) -> 0 | O34: =IF(ISERROR(M34/N34*86.4),"",M34/N34*86.4) | P34: =IF(ISERROR(VLOOKUP(B34,Trier!$A$1:$I$32,9,FALSE)),"",VLOOKUP(B34,Trier!$A$1:$I$32,9,FALSE)) -> 0 | S34: =IF(ISERROR(Q34/R34*86.4),"",Q34/R34*86.4) | T34: =IF(ISERROR(SUM(K34,O34,S34)),"",SUM(K34,O34,S34)) -> 43.2 | U34: =MONTH(A:A) -> 6 | V34: =YEAR(A:A) -> 2007
A35: 39266 | B35: 810 | C35: =IF(ISNA(VLOOKUP(B35,Trier!$A$1:$E$32,2,FALSE)),"",VLOOKUP(B35,Trier!$A$1:$E$32,2,FALSE)) -> 910 | D35: =IF(ISNA(VLOOKUP(B35,Trier!$A$1:$E$32,3,FALSE)),"",VLOOKUP(B35,Trier!$A$1:$E$32,3,FALSE)) -> 104 | E35: =IF(ISNA(VLOOKUP(B35,Trier!$A$1:$E$32,4,FALSE)),"",VLOOKUP(B35,Trier!$A$1:$E$32,4,FALSE)) -> potimaron1 | F35: =IF(ISNA(VLOOKUP(B35,Trier!$A$1:$E$32,5,FALSE)),"",VLOOKUP(B35,Trier!$A$1:$E$32,5,FALSE)) -> potimaron | G35: =IF(ISERROR(VLOOKUP(B35,Trier!$A$1:$F$32,6,FALSE)),"",VLOOKUP(B35,Trier!$A$1:$F$32,6,FALSE)) -> 2 | H35: =IF(ISERROR(VLOOKUP(B35,Trier!$A$1:$G$32,7,FALSE)),"",VLOOKUP(B35,Trier!$A$1:$G$32,7,FALSE)) -> te | I35: 10 | J35: 41 | K35: =IF(ISERROR(I35/J35*86.4),"",I35/J35*86.4) -> 21.073171 | L35: =IF(ISERROR(VLOOKUP(B35,Trier!$A$1:$H$32,8,FALSE)),"",VLOOKUP(B35,Trier!$A$1:$H$32,8,FALSE)) -> tkjtdj | O35: =IF(ISERROR(M35/N35*86.4),"",M35/N35*86.4) | P35: =IF(ISERROR(VLOOKUP(B35,Trier!$A$1:$I$32,9,FALSE)),"",VLOOKUP(B35,Trier!$A$1:$I$32,9,FALSE)) -> 0 | S35: =IF(ISERROR(Q35/R35*86.4),"",Q35/R35*86.4) | T35: =IF(ISERROR(SUM(K35,O35,S35)),"",SUM(K35,O35,S35)) -> 21.073171 | U35: =MONTH(A:A) -> 7 | V35: =YEAR(A:A) -> 2007
A36: 39266 | B36: 809 | C36: =IF(ISNA(VLOOKUP(B36,Trier!$A$1:$E$32,2,FALSE)),"",VLOOKUP(B36,Trier!$A$1:$E$32,2,FALSE)) -> 909 | D36: =IF(ISNA(VLOOKUP(B36,Trier!$A$1:$E$32,3,FALSE)),"",VLOOKUP(B36,Trier!$A$1:$E$32,3,FALSE)) -> 104 | E36: =IF(ISNA(VLOOKUP(B36,Trier!$A$1:$E$32,4,FALSE)),"",VLOOKUP(B36,Trier!$A$1:$E$32,4,FALSE)) -> artichauts1 | F36: =IF(ISNA(VLOOKUP(B36,Trier!$A$1:$E$32,5,FALSE)),"",VLOOKUP(B36,Trier!$A$1:$E$32,5,FALSE)) -> artichauts | G36: =IF(ISERROR(VLOOKUP(B36,Trier!$A$1:$F$32,6,FALSE)),"",VLOOKUP(B36,Trier!$A$1:$F$32,6,FALSE)) -> 2 | H36: =IF(ISERROR(VLOOKUP(B36,Trier!$A$1:$G$32,7,FALSE)),"",VLOOKUP(B36,Trier!$A$1:$G$32,7,FALSE)) -> k | I36: 10 | J36: 87 | K36: =IF(ISERROR(I36/J36*86.4),"",I36/J36*86.4) -> 9.9310345 | L36: =IF(ISERROR(VLOOKUP(B36,Trier!$A$1:$H$32,8,FALSE)),"",VLOOKUP(B36,Trier!$A$1:$H$32,8,FALSE)) -> tjkedk, | O36: =IF(ISERROR(M36/N36*86.4),"",M36/N36*86.4) | P36: =IF(ISERROR(VLOOKUP(B36,Trier!$A$1:$I$32,9,FALSE)),"",VLOOKUP(B36,Trier!$A$1:$I$32,9,FALSE)) -> 0 | S36: =IF(ISERROR(Q36/R36*86.4),"",Q36/R36*86.4) | T36: =IF(ISERROR(SUM(K36,O36,S36)),"",SUM(K36,O36,S36)) -> 9.9310345 | U36: =MONTH(A:A) -> 7 | V36: =YEAR(A:A) -> 2007
A37: 39266 | B37: 824 | C37: =IF(ISNA(VLOOKUP(B37,Trier!$A$1:$E$32,2,FALSE)),"",VLOOKUP(B37,Trier!$A$1:$E$32,2,FALSE)) -> 924 | D37: =IF(ISNA(VLOOKUP(B37,Trier!$A$1:$E$32,3,FALSE)),"",VLOOKUP(B37,Trier!$A$1:$E$32,3,FALSE)) -> 104 | E37: =IF(ISNA(VLOOKUP(B37,Trier!$A$1:$E$32,4,FALSE)),"",VLOOKUP(B37,Trier!$A$1:$E$32,4,FALSE)) -> poreaux1 | F37: =IF(ISNA(VLOOKUP(B37,Trier!$A$1:$E$32,5,FALSE)),"",VLOOKUP(B37,Trier!$A$1:$E$32,5,FALSE)) -> poireaux | G37: =IF(ISERROR(VLOOKUP(B37,Trier!$A$1:$F$32,6,FALSE)),"",VLOOKUP(B37,Trier!$A$1:$F$32,6,FALSE)) -> 1 | H37: =IF(ISERROR(VLOOKUP(B37,Trier!$A$1:$G$32,7,FALSE)),"",VLOOKUP(B37,Trier!$A$1:$G$32,7,FALSE)) -> hghf | I37: 10 | J37: 105 | K37: =IF(ISERROR(I37/J37*86.4),"",I37/J37*86.4) -> 8.2285714 | L37: =IF(ISERROR(VLOOKUP(B37,Trier!$A$1:$H$32,8,FALSE)),"",VLOOKUP(B37,Trier!$A$1:$H$32,8,FALSE)) -> 0 | O37: =IF(ISERROR(M37/N37*86.4),"",M37/N37*86.4) | P37: =IF(ISERROR(VLOOKUP(B37,Trier!$A$1:$I$32,9,FALSE)),"",VLOOKUP(B37,Trier!$A$1:$I$32,9,FALSE)) -> 0 | S37: =IF(ISERROR(Q37/R37*86.4),"",Q37/R37*86.4) | T37: =IF(ISERROR(SUM(K37,O37,S37)),"",SUM(K37,O37,S37)) -> 8.2285714 | U37: =MONTH(A:A) -> 7 | V37: =YEAR(A:A) -> 2007
A38: 39323 | B38: 812 | C38: =IF(ISNA(VLOOKUP(B38,Trier!$A$1:$E$32,2,FALSE)),"",VLOOKUP(B38,Trier!$A$1:$E$32,2,FALSE)) -> 912 | D38: =IF(ISNA(VLOOKUP(B38,Trier!$A$1:$E$32,3,FALSE)),"",VLOOKUP(B38,Trier!$A$1:$E$32,3,FALSE)) -> 104 | E38: =IF(ISNA(VLOOKUP(B38,Trier!$A$1:$E$32,4,FALSE)),"",VLOOKUP(B38,Trier!$A$1:$E$32,4,FALSE)) -> ratatouille1 | F38: =IF(ISNA(VLOOKUP(B38,Trier!$A$1:$E$32,5,FALSE)),"",VLOOKUP(B38,Trier!$A$1:$E$32,5,FALSE)) -> ratatouille | G38: =IF(ISERROR(VLOOKUP(B38,Trier!$A$1:$F$32,6,FALSE)),"",VLOOKUP(B38,Trier!$A$1:$F$32,6,FALSE)) -> 1 | H38: =IF(ISERROR(VLOOKUP(B38,Trier!$A$1:$G$32,7,FALSE)),"",VLOOKUP(B38,Trier!$A$1:$G$32,7,FALSE)) -> uy-z | I38: 10 | J38: 41 | K38: =IF(ISERROR(I38/J38*86.4),"",I38/J38*86.4) -> 21.073171 | L38: =IF(ISERROR(VLOOKUP(B38,Trier!$A$1:$H$32,8,FALSE)),"",VLOOKUP(B38,Trier!$A$1:$H$32,8,FALSE)) -> 0 | O38: =IF(ISERROR(M38/N38*86.4),"",M38/N38*86.4) | P38: =IF(ISERROR(VLOOKUP(B38,Trier!$A$1:$I$32,9,FALSE)),"",VLOOKUP(B38,Trier!$A$1:$I$32,9,FALSE)) -> 0 | S38: =IF(ISERROR(Q38/R38*86.4),"",Q38/R38*86.4) | T38: =IF(ISERROR(SUM(K38,O38,S38)),"",SUM(K38,O38,S38)) -> 21.073171 | U38: =MONTH(A:A) -> 8 | V38: =YEAR(A:A) -> 2007
A39: 39323 | B39: 813 | C39: =IF(ISNA(VLOOKUP(B39,Trier!$A$1:$E$32,2,FALSE)),"",VLOOKUP(B39,Trier!$A$1:$E$32,2,FALSE)) -> 913 | D39: =IF(ISNA(VLOOKUP(B39,Trier!$A$1:$E$32,3,FALSE)),"",VLOOKUP(B39,Trier!$A$1:$E$32,3,FALSE)) -> 104 | E39: =IF(ISNA(VLOOKUP(B39,Trier!$A$1:$E$32,4,FALSE)),"",VLOOKUP(B39,Trier!$A$1:$E$32,4,FALSE)) -> cactus1 | F39: =IF(ISNA(VLOOKUP(B39,Trier!$A$1:$E$32,5,FALSE)),"",VLOOKUP(B39,Trier!$A$1:$E$32,5,FALSE)) -> cactus | G39: =IF(ISERROR(VLOOKUP(B39,Trier!$A$1:$F$32,6,FALSE)),"",VLOOKUP(B39,Trier!$A$1:$F$32,6,FALSE)) -> 1 | H39: =IF(ISERROR(VLOOKUP(B39,Trier!$A$1:$G$32,7,FALSE)),"",VLOOKUP(B39,Trier!$A$1:$G$32,7,FALSE)) -> uj | I39: 2 | J39: 9 | K39: =IF(ISERROR(I39/J39*86.4),"",I39/J39*86.4) -> 19.2 | L39: =IF(ISERROR(VLOOKUP(B39,Trier!$A$1:$H$32,8,FALSE)),"",VLOOKUP(B39,Trier!$A$1:$H$32,8,FALSE)) -> 0 | O39: =IF(ISERROR(M39/N39*86.4),"",M39/N39*86.4) | P39: =IF(ISERROR(VLOOKUP(B39,Trier!$A$1:$I$32,9,FALSE)),"",VLOOKUP(B39,Trier!$A$1:$I$32,9,FALSE)) -> 0 | S39: =IF(ISERROR(Q39/R39*86.4),"",Q39/R39*86.4) | T39: =IF(ISERROR(SUM(K39,O39,S39)),"",SUM(K39,O39,S39)) -> 19.2 | U39: =MONTH(A:A) -> 8 | V39: =YEAR(A:A) -> 2007
A40: 39323 | B40: 823 | C40: =IF(ISNA(VLOOKUP(B40,Trier!$A$1:$E$32,2,FALSE)),"",VLOOKUP(B40,Trier!$A$1:$E$32,2,FALSE)) -> 923 | D40: =IF(ISNA(VLOOKUP(B40,Trier!$A$1:$E$32,3,FALSE)),"",VLOOKUP(B40,Trier!$A$1:$E$32,3,FALSE)) -> 104 | E40: =IF(ISNA(VLOOKUP(B40,Trier!$A$1:$E$32,4,FALSE)),"",VLOOKUP(B40,Trier!$A$1:$E$32,4,FALSE)) -> Osfond1 | F40: =IF(ISNA(VLOOKUP(B40,Trier!$A$1:$E$32,5,FALSE)),"",VLOOKUP(B40,Trier!$A$1:$E$32,5,FALSE)) -> noisette | G40: =IF(ISERROR(VLOOKUP(B40,Trier!$A$1:$F$32,6,FALSE)),"",VLOOKUP(B40,Trier!$A$1:$F$32,6,FALSE)) -> 1 | H40: =IF(ISERROR(VLOOKUP(B40,Trier!$A$1:$G$32,7,FALSE)),"",VLOOKUP(B40,Trier!$A$1:$G$32,7,FALSE)) -> om | I40: 5 | J40: 14 | K40: =IF(ISERROR(I40/J40*86.4),"",I40/J40*86.4) -> 30.857143 | L40: =IF(ISERROR(VLOOKUP(B40,Trier!$A$1:$H$32,8,FALSE)),"",VLOOKUP(B40,Trier!$A$1:$H$32,8,FALSE)) -> 0 | O40: =IF(ISERROR(M40/N40*86.4),"",M40/N40*86.4) | P40: =IF(ISERROR(VLOOKUP(B40,Trier!$A$1:$I$32,9,FALSE)),"",VLOOKUP(B40,Trier!$A$1:$I$32,9,FALSE)) -> 0 | S40: =IF(ISERROR(Q40/R40*86.4),"",Q40/R40*86.4) | T40: =IF(ISERROR(SUM(K40,O40,S40)),"",SUM(K40,O40,S40)) -> 30.857143 | U40: =MONTH(A:A) -> 8 | V40: =YEAR(A:A) -> 2007
A41: 39323 | B41: 824 | C41: =IF(ISNA(VLOOKUP(B41,Trier!$A$1:$E$32,2,FALSE)),"",VLOOKUP(B41,Trier!$A$1:$E$32,2,FALSE)) -> 924 | D41: =IF(ISNA(VLOOKUP(B41,Trier!$A$1:$E$32,3,FALSE)),"",VLOOKUP(B41,Trier!$A$1:$E$32,3,FALSE)) -> 104 | E41: =IF(ISNA(VLOOKUP(B41,Trier!$A$1:$E$32,4,FALSE)),"",VLOOKUP(B41,Trier!$A$1:$E$32,4,FALSE)) -> poreaux1 | F41: =IF(ISNA(VLOOKUP(B41,Trier!$A$1:$E$32,5,FALSE)),"",VLOOKUP(B41,Trier!$A$1:$E$32,5,FALSE)) -> poireaux | G41: =IF(ISERROR(VLOOKUP(B41,Trier!$A$1:$F$32,6,FALSE)),"",VLOOKUP(B41,Trier!$A$1:$F$32,6,FALSE)) -> 1 | H41: =IF(ISERROR(VLOOKUP(B41,Trier!$A$1:$G$32,7,FALSE)),"",VLOOKUP(B41,Trier!$A$1:$G$32,7,FALSE)) -> hghf | I41: 5 | J41: 33 | K41: =IF(ISERROR(I41/J41*86.4),"",I41/J41*86.4) -> 13.090909 | L41: =IF(ISERROR(VLOOKUP(B41,Trier!$A$1:$H$32,8,FALSE)),"",VLOOKUP(B41,Trier!$A$1:$H$32,8,FALSE)) -> 0 | O41: =IF(ISERROR(M41/N41*86.4),"",M41/N41*86.4) | P41: =IF(ISERROR(VLOOKUP(B41,Trier!$A$1:$I$32,9,FALSE)),"",VLOOKUP(B41,Trier!$A$1:$I$32,9,FALSE)) -> 0 | S41: =IF(ISERROR(Q41/R41*86.4),"",Q41/R41*86.4) | T41: =IF(ISERROR(SUM(K41,O41,S41)),"",SUM(K41,O41,S41)) -> 13.090909 | U41: =MONTH(A:A) -> 8 | V41: =YEAR(A:A) -> 2007
A42: 39440 | B42: 812 | C42: =IF(ISNA(VLOOKUP(B42,Trier!$A$1:$E$32,2,FALSE)),"",VLOOKUP(B42,Trier!$A$1:$E$32,2,FALSE)) -> 912 | D42: =IF(ISNA(VLOOKUP(B42,Trier!$A$1:$E$32,3,FALSE)),"",VLOOKUP(B42,Trier!$A$1:$E$32,3,FALSE)) -> 104 | E42: =IF(ISNA(VLOOKUP(B42,Trier!$A$1:$E$32,4,FALSE)),"",VLOOKUP(B42,Trier!$A$1:$E$32,4,FALSE)) -> ratatouille1 | F42: =IF(ISNA(VLOOKUP(B42,Trier!$A$1:$E$32,5,FALSE)),"",VLOOKUP(B42,Trier!$A$1:$E$32,5,FALSE)) -> ratatouille | G42: =IF(ISERROR(VLOOKUP(B42,Trier!$A$1:$F$32,6,FALSE)),"",VLOOKUP(B42,Trier!$A$1:$F$32,6,FALSE)) -> 1 | H42: =IF(ISERROR(VLOOKUP(B42,Trier!$A$1:$G$32,7,FALSE)),"",VLOOKUP(B42,Trier!$A$1:$G$32,7,FALSE)) -> uy-z | I42: 2 | J42: 9 | K42: =IF(ISERROR(I42/J42*86.4),"",I42/J42*86.4) -> 19.2 | L42: =IF(ISERROR(VLOOKUP(B42,Trier!$A$1:$H$32,8,FALSE)),"",VLOOKUP(B42,Trier!$A$1:$H$32,8,FALSE)) -> 0 | O42: =IF(ISERROR(M42/N42*86.4),"",M42/N42*86.4) | P42: =IF(ISERROR(VLOOKUP(B42,Trier!$A$1:$I$32,9,FALSE)),"",VLOOKUP(B42,Trier!$A$1:$I$32,9,FALSE)) -> 0 | S42: =IF(ISERROR(Q42/R42*86.4),"",Q42/R42*86.4) | T42: =IF(ISERROR(SUM(K42,O42,S42)),"",SUM(K42,O42,S42)) -> 19.2 | U42: =MONTH(A:A) -> 12 | V42: =YEAR(A:A) -> 2007
A43: 39440 | B43: 813 | C43: =IF(ISNA(VLOOKUP(B43,Trier!$A$1:$E$32,2,FALSE)),"",VLOOKUP(B43,Trier!$A$1:$E$32,2,FALSE)) -> 913 | D43: =IF(ISNA(VLOOKUP(B43,Trier!$A$1:$E$32,3,FALSE)),"",VLOOKUP(B43,Trier!$A$1:$E$32,3,FALSE)) -> 104 | E43: =IF(ISNA(VLOOKUP(B43,Trier!$A$1:$E$32,4,FALSE)),"",VLOOKUP(B43,Trier!$A$1:$E$32,4,FALSE)) -> cactus1 | F43: =IF(ISNA(VLOOKUP(B43,Trier!$A$1:$E$32,5,FALSE)),"",VLOOKUP(B43,Trier!$A$1:$E$32,5,FALSE)) -> cactus | G43: =IF(ISERROR(VLOOKUP(B43,Trier!$A$1:$F$32,6,FALSE)),"",VLOOKUP(B43,Trier!$A$1:$F$32,6,FALSE)) -> 1 | H43: =IF(ISERROR(VLOOKUP(B43,Trier!$A$1:$G$32,7,FALSE)),"",VLOOKUP(B43,Trier!$A$1:$G$32,7,FALSE)) -> uj | I43: 10 | J43: 41 | K43: =IF(ISERROR(I43/J43*86.4),"",I43/J43*86.4) -> 21.073171 | L43: =IF(ISERROR(VLOOKUP(B43,Trier!$A$1:$H$32,8,FALSE)),"",VLOOKUP(B43,Trier!$A$1:$H$32,8,FALSE)) -> 0 | O43: =IF(ISERROR(M43/N43*86.4),"",M43/N43*86.4) | P43: =IF(ISERROR(VLOOKUP(B43,Trier!$A$1:$I$32,9,FALSE)),"",VLOOKUP(B43,Trier!$A$1:$I$32,9,FALSE)) -> 0 | S43: =IF(ISERROR(Q43/R43*86.4),"",Q43/R43*86.4) | T43: =IF(ISERROR(SUM(K43,O43,S43)),"",SUM(K43,O43,S43)) -> 21.073171 | U43: =MONTH(A:A) -> 12 | V43: =YEAR(A:A) -> 2007
A44: 39440 | B44: 823 | C44: =IF(ISNA(VLOOKUP(B44,Trier!$A$1:$E$32,2,FALSE)),"",VLOOKUP(B44,Trier!$A$1:$E$32,2,FALSE)) -> 923 | D44: =IF(ISNA(VLOOKUP(B44,Trier!$A$1:$E$32,3,FALSE)),"",VLOOKUP(B44,Trier!$A$1:$E$32,3,FALSE)) -> 104 | E44: =IF(ISNA(VLOOKUP(B44,Trier!$A$1:$E$32,4,FALSE)),"",VLOOKUP(B44,Trier!$A$1:$E$32,4,FALSE)) -> Osfond1 | F44: =IF(ISNA(VLOOKUP(B44,Trier!$A$1:$E$32,5,FALSE)),"",VLOOKUP(B44,Trier!$A$1:$E$32,5,FALSE)) -> noisette | G44: =IF(ISERROR(VLOOKUP(B44,Trier!$A$1:$F$32,6,FALSE)),"",VLOOKUP(B44,Trier!$A$1:$F$32,6,FALSE)) -> 1 | H44: =IF(ISERROR(VLOOKUP(B44,Trier!$A$1:$G$32,7,FALSE)),"",VLOOKUP(B44,Trier!$A$1:$G$32,7,FALSE)) -> om | I44: 10 | J44: 13.51 | K44: =IF(ISERROR(I44/J44*86.4),"",I44/J44*86.4) -> 63.952628 | L44: =IF(ISERROR(VLOOKUP(B44,Trier!$A$1:$H$32,8,FALSE)),"",VLOOKUP(B44,Trier!$A$1:$H$32,8,FALSE)) -> 0 | O44: =IF(ISERROR(M44/N44*86.4),"",M44/N44*86.4) | P44: =IF(ISERROR(VLOOKUP(B44,Trier!$A$1:$I$32,9,FALSE)),"",VLOOKUP(B44,Trier!$A$1:$I$32,9,FALSE)) -> 0 | S44: =IF(ISERROR(Q44/R44*86.4),"",Q44/R44*86.4) | T44: =IF(ISERROR(SUM(K44,O44,S44)),"",SUM(K44,O44,S44)) -> 63.952628 | U44: =MONTH(A:A) -> 12 | V44: =YEAR(A:A) -> 2007
A45: 39440 | B45: 824 | C45: =IF(ISNA(VLOOKUP(B45,Trier!$A$1:$E$32,2,FALSE)),"",VLOOKUP(B45,Trier!$A$1:$E$32,2,FALSE)) -> 924 | D45: =IF(ISNA(VLOOKUP(B45,Trier!$A$1:$E$32,3,FALSE)),"",VLOOKUP(B45,Trier!$A$1:$E$32,3,FALSE)) -> 104 | E45: =IF(ISNA(VLOOKUP(B45,Trier!$A$1:$E$32,4,FALSE)),"",VLOOKUP(B45,Trier!$A$1:$E$32,4,FALSE)) -> poreaux1 | F45: =IF(ISNA(VLOOKUP(B45,Trier!$A$1:$E$32,5,FALSE)),"",VLOOKUP(B45,Trier!$A$1:$E$32,5,FALSE)) -> poireaux | G45: =IF(ISERROR(VLOOKUP(B45,Trier!$A$1:$F$32,6,FALSE)),"",VLOOKUP(B45,Trier!$A$1:$F$32,6,FALSE)) -> 1 | H45: =IF(ISERROR(VLOOKUP(B45,Trier!$A$1:$G$32,7,FALSE)),"",VLOOKUP(B45,Trier!$A$1:$G$32,7,FALSE)) -> hghf | I45: 10 | J45: 25.69 | K45: =IF(ISERROR(I45/J45*86.4),"",I45/J45*86.4) -> 33.631763 | L45: =IF(ISERROR(VLOOKUP(B45,Trier!$A$1:$H$32,8,FALSE)),"",VLOOKUP(B45,Trier!$A$1:$H$32,8,FALSE)) -> 0 | O45: =IF(ISERROR(M45/N45*86.4),"",M45/N45*86.4) | P45: =IF(ISERROR(VLOOKUP(B45,Trier!$A$1:$I$32,9,FALSE)),"",VLOOKUP(B45,Trier!$A$1:$I$32,9,FALSE)) -> 0 | S45: =IF(ISERROR(Q45/R45*86.4),"",Q45/R45*86.4) | T45: =IF(ISERROR(SUM(K45,O45,S45)),"",SUM(K45,O45,S45)) -> 33.631763 | U45: =MONTH(A:A) -> 12 | V45: =YEAR(A:A) -> 2007
... A48: 39510 | B48: 823 | C48: =IF(ISNA(VLOOKUP(B48,Trier!$A$1:$E$32,2,FALSE)),"",VLOOKUP(B48,Trier!$A$1:$E$32,2,FALSE)) -> 923 | D48: =IF(ISNA(VLOOKUP(B48,Trier!$A$1:$E$32,3,FALSE)),"",VLOOKUP(B48,Trier!$A$1:$E$32,3,FALSE)) -> 104 | E48: =IF(ISNA(VLOOKUP(B48,Trier!$A$1:$E$32,4,FALSE)),"",VLOOKUP(B48,Trier!$A$1:$E$32,4,FALSE)) -> Osfond1 | F48: =IF(ISNA(VLOOKUP(B48,Trier!$A$1:$E$32,5,FALSE)),"",VLOOKUP(B48,Trier!$A$1:$E$32,5,FALSE)) -> noisette | G48: =IF(ISERROR(VLOOKUP(B48,Trier!$A$1:$F$32,6,FALSE)),"",VLOOKUP(B48,Trier!$A$1:$F$32,6,FALSE)) -> 1 | H48: =IF(ISERROR(VLOOKUP(B48,Trier!$A$1:$G$32,7,FALSE)),"",VLOOKUP(B48,Trier!$A$1:$G$32,7,FALSE)) -> om | I48: 10 | J48: 26.3 | K48: =IF(ISERROR(I48/J48*86.4),"",I48/J48*86.4) -> 32.851711 | L48: =IF(ISERROR(VLOOKUP(B48,Trier!$A$1:$H$32,8,FALSE)),"",VLOOKUP(B48,Trier!$A$1:$H$32,8,FALSE)) -> 0 | O48: =IF(ISERROR(M48/N48*86.4),"",M48/N48*86.4) | P48: =IF(ISERROR(VLOOKUP(B48,Trier!$A$1:$I$32,9,FALSE)),"",VLOOKUP(B48,Trier!$A$1:$I$32,9,FALSE)) -> 0 | S48: =IF(ISERROR(Q48/R48*86.4),"",Q48/R48*86.4) | T48: =IF(ISERROR(SUM(K48,O48,S48)),"",SUM(K48,O48,S48)) -> 32.851711 | U48: =MONTH(A:A) -> 3 | V48: =YEAR(A:A) -> 2008
A49: 39513 | B49: 821 | C49: =IF(ISNA(VLOOKUP(B49,Trier!$A$1:$E$32,2,FALSE)),"",VLOOKUP(B49,Trier!$A$1:$E$32,2,FALSE)) -> 921 | D49: =IF(ISNA(VLOOKUP(B49,Trier!$A$1:$E$32,3,FALSE)),"",VLOOKUP(B49,Trier!$A$1:$E$32,3,FALSE)) -> 104 | E49: =IF(ISNA(VLOOKUP(B49,Trier!$A$1:$E$32,4,FALSE)),"",VLOOKUP(B49,Trier!$A$1:$E$32,4,FALSE)) -> aubergine1 | F49: =IF(ISNA(VLOOKUP(B49,Trier!$A$1:$E$32,5,FALSE)),"",VLOOKUP(B49,Trier!$A$1:$E$32,5,FALSE)) -> aubergine | G49: =IF(ISERROR(VLOOKUP(B49,Trier!$A$1:$F$32,6,FALSE)),"",VLOOKUP(B49,Trier!$A$1:$F$32,6,FALSE)) -> 2 | H49: =IF(ISERROR(VLOOKUP(B49,Trier!$A$1:$G$32,7,FALSE)),"",VLOOKUP(B49,Trier!$A$1:$G$32,7,FALSE)) -> l:! | I49: 5 | J49: 41.9 | K49: =IF(ISERROR(I49/J49*86.4),"",I49/J49*86.4) -> 10.310263 | L49: =IF(ISERROR(VLOOKUP(B49,Trier!$A$1:$H$32,8,FALSE)),"",VLOOKUP(B49,Trier!$A$1:$H$32,8,FALSE)) -> hfdhg | M49: 10 | N49: 18.6 | O49: =IF(ISERROR(M49/N49*86.4),"",M49/N49*86.4) -> 46.451613 | P49: =IF(ISERROR(VLOOKUP(B49,Trier!$A$1:$I$32,9,FALSE)),"",VLOOKUP(B49,Trier!$A$1:$I$32,9,FALSE)) -> 0 | S49: =IF(ISERROR(Q49/R49*86.4),"",Q49/R49*86.4) | T49: =IF(ISERROR(SUM(K49,O49,S49)),"",SUM(K49,O49,S49)) -> 56.761875 | U49: =MONTH(A:A) -> 3 | V49: =YEAR(A:A) -> 2008
A50: 39517 | B50: 801 | C50: =IF(ISNA(VLOOKUP(B50,Trier!$A$1:$E$32,2,FALSE)),"",VLOOKUP(B50,Trier!$A$1:$E$32,2,FALSE)) -> 901 | D50: =IF(ISNA(VLOOKUP(B50,Trier!$A$1:$E$32,3,FALSE)),"",VLOOKUP(B50,Trier!$A$1:$E$32,3,FALSE)) -> 104 | E50: =IF(ISNA(VLOOKUP(B50,Trier!$A$1:$E$32,4,FALSE)),"",VLOOKUP(B50,Trier!$A$1:$E$32,4,FALSE)) -> melon1 | F50: =IF(ISNA(VLOOKUP(B50,Trier!$A$1:$E$32,5,FALSE)),"",VLOOKUP(B50,Trier!$A$1:$E$32,5,FALSE)) -> melon | G50: =IF(ISERROR(VLOOKUP(B50,Trier!$A$1:$F$32,6,FALSE)),"",VLOOKUP(B50,Trier!$A$1:$F$32,6,FALSE)) -> 2 | H50: =IF(ISERROR(VLOOKUP(B50,Trier!$A$1:$G$32,7,FALSE)),"",VLOOKUP(B50,Trier!$A$1:$G$32,7,FALSE)) -> bb | I50: 10 | J50: 25.7 | K50: =IF(ISERROR(I50/J50*86.4),"",I50/J50*86.4) -> 33.618677 | L50: =IF(ISERROR(VLOOKUP(B50,Trier!$A$1:$H$32,8,FALSE)),"",VLOOKUP(B50,Trier!$A$1:$H$32,8,FALSE)) -> nd, | M50: 3 | N50: 37.39 | O50: =IF(ISERROR(M50/N50*86.4),"",M50/N50*86.4) -> 6.9323348 | P50: =IF(ISERROR(VLOOKUP(B50,Trier!$A$1:$I$32,9,FALSE)),"",VLOOKUP(B50,Trier!$A$1:$I$32,9,FALSE)) -> 0 | S50: =IF(ISERROR(Q50/R50*86.4),"",Q50/R50*86.4) | T50: =IF(ISERROR(SUM(K50,O50,S50)),"",SUM(K50,O50,S50)) -> 40.551012 | U50: =MONTH(A:A) -> 3 | V50: =YEAR(A:A) -> 2008
A51: 39518 | B51: 808 | C51: =IF(ISNA(VLOOKUP(B51,Trier!$A$1:$E$32,2,FALSE)),"",VLOOKUP(B51,Trier!$A$1:$E$32,2,FALSE)) -> 908 | D51: =IF(ISNA(VLOOKUP(B51,Trier!$A$1:$E$32,3,FALSE)),"",VLOOKUP(B51,Trier!$A$1:$E$32,3,FALSE)) -> 104 | E51: =IF(ISNA(VLOOKUP(B51,Trier!$A$1:$E$32,4,FALSE)),"",VLOOKUP(B51,Trier!$A$1:$E$32,4,FALSE)) -> avocat1 | F51: =IF(ISNA(VLOOKUP(B51,Trier!$A$1:$E$32,5,FALSE)),"",VLOOKUP(B51,Trier!$A$1:$E$32,5,FALSE)) -> avocat | G51: =IF(ISERROR(VLOOKUP(B51,Trier!$A$1:$F$32,6,FALSE)),"",VLOOKUP(B51,Trier!$A$1:$F$32,6,FALSE)) -> 1 | H51: =IF(ISERROR(VLOOKUP(B51,Trier!$A$1:$G$32,7,FALSE)),"",VLOOKUP(B51,Trier!$A$1:$G$32,7,FALSE)) -> yty | I51: 10 | J51: 25.39 | K51: =IF(ISERROR(I51/J51*86.4),"",I51/J51*86.4) -> 34.029145 | L51: =IF(ISERROR(VLOOKUP(B51,Trier!$A$1:$H$32,8,FALSE)),"",VLOOKUP(B51,Trier!$A$1:$H$32,8,FALSE)) -> 0 | O51: =IF(ISERROR(M51/N51*86.4),"",M51/N51*86.4) | P51: =IF(ISERROR(VLOOKUP(B51,Trier!$A$1:$I$32,9,FALSE)),"",VLOOKUP(B51,Trier!$A$1:$I$32,9,FALSE)) -> 0 | S51: =IF(ISERROR(Q51/R51*86.4),"",Q51/R51*86.4) | T51: =IF(ISERROR(SUM(K51,O51,S51)),"",SUM(K51,O51,S51)) -> 34.029145 | U51: =MONTH(A:A) -> 3 | V51: =YEAR(A:A) -> 2008
A52: 39518 | B52: 810 | C52: =IF(ISNA(VLOOKUP(B52,Trier!$A$1:$E$32,2,FALSE)),"",VLOOKUP(B52,Trier!$A$1:$E$32,2,FALSE)) -> 910 | D52: =IF(ISNA(VLOOKUP(B52,Trier!$A$1:$E$32,3,FALSE)),"",VLOOKUP(B52,Trier!$A$1:$E$32,3,FALSE)) -> 104 | E52: =IF(ISNA(VLOOKUP(B52,Trier!$A$1:$E$32,4,FALSE)),"",VLOOKUP(B52,Trier!$A$1:$E$32,4,FALSE)) -> potimaron1 | F52: =IF(ISNA(VLOOKUP(B52,Trier!$A$1:$E$32,5,FALSE)),"",VLOOKUP(B52,Trier!$A$1:$E$32,5,FALSE)) -> potimaron | G52: =IF(ISERROR(VLOOKUP(B52,Trier!$A$1:$F$32,6,FALSE)),"",VLOOKUP(B52,Trier!$A$1:$F$32,6,FALSE)) -> 2 | H52: =IF(ISERROR(VLOOKUP(B52,Trier!$A$1:$G$32,7,FALSE)),"",VLOOKUP(B52,Trier!$A$1:$G$32,7,FALSE)) -> te | I52: 10 | J52: 58.01 | K52: =IF(ISERROR(I52/J52*86.4),"",I52/J52*86.4) -> 14.893984 | L52: =IF(ISERROR(VLOOKUP(B52,Trier!$A$1:$H$32,8,FALSE)),"",VLOOKUP(B52,Trier!$A$1:$H$32,8,FALSE)) -> tkjtdj | O52: =IF(ISERROR(M52/N52*86.4),"",M52/N52*86.4) | P52: =IF(ISERROR(VLOOKUP(B52,Trier!$A$1:$I$32,9,FALSE)),"",VLOOKUP(B52,Trier!$A$1:$I$32,9,FALSE)) -> 0 | S52: =IF(ISERROR(Q52/R52*86.4),"",Q52/R52*86.4) | T52: =IF(ISERROR(SUM(K52,O52,S52)),"",SUM(K52,O52,S52)) -> 14.893984 | U52: =MONTH(A:A) -> 3 | V52: =YEAR(A:A) -> 2008
A53: 39518 | B53: 809 | C53: =IF(ISNA(VLOOKUP(B53,Trier!$A$1:$E$32,2,FALSE)),"",VLOOKUP(B53,Trier!$A$1:$E$32,2,FALSE)) -> 909 | D53: =IF(ISNA(VLOOKUP(B53,Trier!$A$1:$E$32,3,FALSE)),"",VLOOKUP(B53,Trier!$A$1:$E$32,3,FALSE)) -> 104 | E53: =IF(ISNA(VLOOKUP(B53,Trier!$A$1:$E$32,4,FALSE)),"",VLOOKUP(B53,Trier!$A$1:$E$32,4,FALSE)) -> artichauts1 | F53: =IF(ISNA(VLOOKUP(B53,Trier!$A$1:$E$32,5,FALSE)),"",VLOOKUP(B53,Trier!$A$1:$E$32,5,FALSE)) -> artichauts | G53: =IF(ISERROR(VLOOKUP(B53,Trier!$A$1:$F$32,6,FALSE)),"",VLOOKUP(B53,Trier!$A$1:$F$32,6,FALSE)) -> 2 | H53: =IF(ISERROR(VLOOKUP(B53,Trier!$A$1:$G$32,7,FALSE)),"",VLOOKUP(B53,Trier!$A$1:$G$32,7,FALSE)) -> k | I53: 10 | J53: 58.01 | K53: =IF(ISERROR(I53/J53*86.4),"",I53/J53*86.4) -> 14.893984 | L53: =IF(ISERROR(VLOOKUP(B53,Trier!$A$1:$H$32,8,FALSE)),"",VLOOKUP(B53,Trier!$A$1:$H$32,8,FALSE)) -> tjkedk, | O53: =IF(ISERROR(M53/N53*86.4),"",M53/N53*86.4) | P53: =IF(ISERROR(VLOOKUP(B53,Trier!$A$1:$I$32,9,FALSE)),"",VLOOKUP(B53,Trier!$A$1:$I$32,9,FALSE)) -> 0 | S53: =IF(ISERROR(Q53/R53*86.4),"",Q53/R53*86.4) | T53: =IF(ISERROR(SUM(K53,O53,S53)),"",SUM(K53,O53,S53)) -> 14.893984 | U53: =MONTH(A:A) -> 3 | V53: =YEAR(A:A) -> 2008
A54: 39518 | B54: 815 | C54: =IF(ISNA(VLOOKUP(B54,Trier!$A$1:$E$32,2,FALSE)),"",VLOOKUP(B54,Trier!$A$1:$E$32,2,FALSE)) -> 915 | D54: =IF(ISNA(VLOOKUP(B54,Trier!$A$1:$E$32,3,FALSE)),"",VLOOKUP(B54,Trier!$A$1:$E$32,3,FALSE)) -> 104 | E54: =IF(ISNA(VLOOKUP(B54,Trier!$A$1:$E$32,4,FALSE)),"",VLOOKUP(B54,Trier!$A$1:$E$32,4,FALSE)) -> groseille | F54: =IF(ISNA(VLOOKUP(B54,Trier!$A$1:$E$32,5,FALSE)),"",VLOOKUP(B54,Trier!$A$1:$E$32,5,FALSE)) -> groseille | G54: =IF(ISERROR(VLOOKUP(B54,Trier!$A$1:$F$32,6,FALSE)),"",VLOOKUP(B54,Trier!$A$1:$F$32,6,FALSE)) -> 3 | H54: =IF(ISERROR(VLOOKUP(B54,Trier!$A$1:$G$32,7,FALSE)),"",VLOOKUP(B54,Trier!$A$1:$G$32,7,FALSE)) -> yty | I54: 10 | J54: 65.54 | K54: =IF(ISERROR(I54/J54*86.4),"",I54/J54*86.4) -> 13.182789 | L54: =IF(ISERROR(VLOOKUP(B54,Trier!$A$1:$H$32,8,FALSE)),"",VLOOKUP(B54,Trier!$A$1:$H$32,8,FALSE)) -> qgtysjh | O54: =IF(ISERROR(M54/N54*86.4),"",M54/N54*86.4) | P54: =IF(ISERROR(VLOOKUP(B54,Trier!$A$1:$I$32,9,FALSE)),"",VLOOKUP(B54,Trier!$A$1:$I$32,9,FALSE)) -> ;,hfc | S54: =IF(ISERROR(Q54/R54*86.4),"",Q54/R54*86.4) | T54: =IF(ISERROR(SUM(K54,O54,S54)),"",SUM(K54,O54,S54)) -> 13.182789 | U54: =MONTH(A:A) -> 3 | V54: =YEAR(A:A) -> 2008
A55: 39518 | B55: 816 | C55: =IF(ISNA(VLOOKUP(B55,Trier!$A$1:$E$32,2,FALSE)),"",VLOOKUP(B55,Trier!$A$1:$E$32,2,FALSE)) -> 916 | D55: =IF(ISNA(VLOOKUP(B55,Trier!$A$1:$E$32,3,FALSE)),"",VLOOKUP(B55,Trier!$A$1:$E$32,3,FALSE)) -> 104 | E55: =IF(ISNA(VLOOKUP(B55,Trier!$A$1:$E$32,4,FALSE)),"",VLOOKUP(B55,Trier!$A$1:$E$32,4,FALSE)) -> raisin1 | F55: =IF(ISNA(VLOOKUP(B55,Trier!$A$1:$E$32,5,FALSE)),"",VLOOKUP(B55,Trier!$A$1:$E$32,5,FALSE)) -> raisin | G55: =IF(ISERROR(VLOOKUP(B55,Trier!$A$1:$F$32,6,FALSE)),"",VLOOKUP(B55,Trier!$A$1:$F$32,6,FALSE)) -> 3 | H55: =IF(ISERROR(VLOOKUP(B55,Trier!$A$1:$G$32,7,FALSE)),"",VLOOKUP(B55,Trier!$A$1:$G$32,7,FALSE)) -> tery | I55: 2 | J55: 27.63 | K55: =IF(ISERROR(I55/J55*86.4),"",I55/J55*86.4) -> 6.2540717 | L55: =IF(ISERROR(VLOOKUP(B55,Trier!$A$1:$H$32,8,FALSE)),"",VLOOKUP(B55,Trier!$A$1:$H$32,8,FALSE)) -> frshsj | M55: 2 | N55: 31.16 | O55: =IF(ISERROR(M55/N55*86.4),"",M55/N55*86.4) -> 5.5455712 | P55: =IF(ISERROR(VLOOKUP(B55,Trier!$A$1:$I$32,9,FALSE)),"",VLOOKUP(B55,Trier!$A$1:$I$32,9,FALSE)) -> jdhjs | Q55: 10 | R55: 20.37 | S55: =IF(ISERROR(Q55/R55*86.4),"",Q55/R55*86.4) -> 42.415317 | T55: =IF(ISERROR(SUM(K55,O55,S55)),"",SUM(K55,O55,S55)) -> 54.21496 | U55: =MONTH(A:A) -> 3 | V55: =YEAR(A:A) -> 2008
A56: 39518 | B56: 817 | C56: =IF(ISNA(VLOOKUP(B56,Trier!$A$1:$E$32,2,FALSE)),"",VLOOKUP(B56,Trier!$A$1:$E$32,2,FALSE)) -> 917 | D56: =IF(ISNA(VLOOKUP(B56,Trier!$A$1:$E$32,3,FALSE)),"",VLOOKUP(B56,Trier!$A$1:$E$32,3,FALSE)) -> 104 | E56: =IF(ISNA(VLOOKUP(B56,Trier!$A$1:$E$32,4,FALSE)),"",VLOOKUP(B56,Trier!$A$1:$E$32,4,FALSE)) -> fraise1 | F56: =IF(ISNA(VLOOKUP(B56,Trier!$A$1:$E$32,5,FALSE)),"",VLOOKUP(B56,Trier!$A$1:$E$32,5,FALSE)) -> fraise | G56: =IF(ISERROR(VLOOKUP(B56,Trier!$A$1:$F$32,6,FALSE)),"",VLOOKUP(B56,Trier!$A$1:$F$32,6,FALSE)) -> 2 | H56: =IF(ISERROR(VLOOKUP(B56,Trier!$A$1:$G$32,7,FALSE)),"",VLOOKUP(B56,Trier!$A$1:$G$32,7,FALSE)) -> kuy | I56: 10 | J56: 44.84 | K56: =IF(ISERROR(I56/J56*86.4),"",I56/J56*86.4) -> 19.26851 | L56: =IF(ISERROR(VLOOKUP(B56,Trier!$A$1:$H$32,8,FALSE)),"",VLOOKUP(B56,Trier!$A$1:$H$32,8,FALSE)) -> gfshs | M56: 10 | N56: 8.09 | O56: =IF(ISERROR(M56/N56*86.4),"",M56/N56*86.4) -> 106.79852 | P56: =IF(ISERROR(VLOOKUP(B56,Trier!$A$1:$I$32,9,FALSE)),"",VLOOKUP(B56,Trier!$A$1:$I$32,9,FALSE)) -> 0 | S56: =IF(ISERROR(Q56/R56*86.4),"",Q56/R56*86.4) | T56: =IF(ISERROR(SUM(K56,O56,S56)),"",SUM(K56,O56,S56)) -> 126.06703 | U56: =MONTH(A:A) -> 3 | V56: =YEAR(A:A) -> 2008
A57: 39520 | B57: 807 | C57: =IF(ISNA(VLOOKUP(B57,Trier!$A$1:$E$32,2,FALSE)),"",VLOOKUP(B57,Trier!$A$1:$E$32,2,FALSE)) -> 907 | D57: =IF(ISNA(VLOOKUP(B57,Trier!$A$1:$E$32,3,FALSE)),"",VLOOKUP(B57,Trier!$A$1:$E$32,3,FALSE)) -> 104 | E57: =IF(ISNA(VLOOKUP(B57,Trier!$A$1:$E$32,4,FALSE)),"",VLOOKUP(B57,Trier!$A$1:$E$32,4,FALSE)) -> patate douce1 | F57: =IF(ISNA(VLOOKUP(B57,Trier!$A$1:$E$32,5,FALSE)),"",VLOOKUP(B57,Trier!$A$1:$E$32,5,FALSE)) -> patate douce | G57: =IF(ISERROR(VLOOKUP(B57,Trier!$A$1:$F$32,6,FALSE)),"",VLOOKUP(B57,Trier!$A$1:$F$32,6,FALSE)) -> 1 | H57: =IF(ISERROR(VLOOKUP(B57,Trier!$A$1:$G$32,7,FALSE)),"",VLOOKUP(B57,Trier!$A$1:$G$32,7,FALSE)) -> te | I57: 10 | J57: 10.37 | K57: =IF(ISERROR(I57/J57*86.4),"",I57/J57*86.4) -> 83.317261 | L57: =IF(ISERROR(VLOOKUP(B57,Trier!$A$1:$H$32,8,FALSE)),"",VLOOKUP(B57,Trier!$A$1:$H$32,8,FALSE)) -> 0 | O57: =IF(ISERROR(M57/N57*86.4),"",M57/N57*86.4) | P57: =IF(ISERROR(VLOOKUP(B57,Trier!$A$1:$I$32,9,FALSE)),"",VLOOKUP(B57,Trier!$A$1:$I$32,9,FALSE)) -> 0 | S57: =IF(ISERROR(Q57/R57*86.4),"",Q57/R57*86.4) | T57: =IF(ISERROR(SUM(K57,O57,S57)),"",SUM(K57,O57,S57)) -> 83.317261 | U57: =MONTH(A:A) -> 3 | V57: =YEAR(A:A) -> 2008
A58: 39622 | B58: 828 | C58: =IF(ISNA(VLOOKUP(B58,Trier!$A$1:$E$32,2,FALSE)),"",VLOOKUP(B58,Trier!$A$1:$E$32,2,FALSE)) -> 928 | D58: =IF(ISNA(VLOOKUP(B58,Trier!$A$1:$E$32,3,FALSE)),"",VLOOKUP(B58,Trier!$A$1:$E$32,3,FALSE)) -> 104 | E58: =IF(ISNA(VLOOKUP(B58,Trier!$A$1:$E$32,4,FALSE)),"",VLOOKUP(B58,Trier!$A$1:$E$32,4,FALSE)) -> Radis1 | F58: =IF(ISNA(VLOOKUP(B58,Trier!$A$1:$E$32,5,FALSE)),"",VLOOKUP(B58,Trier!$A$1:$E$32,5,FALSE)) -> Radis | G58: =IF(ISERROR(VLOOKUP(B58,Trier!$A$1:$F$32,6,FALSE)),"",VLOOKUP(B58,Trier!$A$1:$F$32,6,FALSE)) -> 1 | H58: =IF(ISERROR(VLOOKUP(B58,Trier!$A$1:$G$32,7,FALSE)),"",VLOOKUP(B58,Trier!$A$1:$G$32,7,FALSE)) -> ur | I58: 3 | J58: 11.15 | K58: =IF(ISERROR(I58/J58*86.4),"",I58/J58*86.4) -> 23.246637 | L58: =IF(ISERROR(VLOOKUP(B58,Trier!$A$1:$H$32,8,FALSE)),"",VLOOKUP(B58,Trier!$A$1:$H$32,8,FALSE)) -> 0 | O58: =IF(ISERROR(M58/N58*86.4),"",M58/N58*86.4) | P58: =IF(ISERROR(VLOOKUP(B58,Trier!$A$1:$I$32,9,FALSE)),"",VLOOKUP(B58,Trier!$A$1:$I$32,9,FALSE)) -> 0 | S58: =IF(ISERROR(Q58/R58*86.4),"",Q58/R58*86.4) | T58: =IF(ISERROR(SUM(K58,O58,S58)),"",SUM(K58,O58,S58)) -> 23.246637 | U58: =MONTH(A:A) -> 6 | V58: =YEAR(A:A) -> 2008
A59: 39713 | B59: 810 | C59: =IF(ISNA(VLOOKUP(B59,Trier!$A$1:$E$32,2,FALSE)),"",VLOOKUP(B59,Trier!$A$1:$E$32,2,FALSE)) -> 910 | D59: =IF(ISNA(VLOOKUP(B59,Trier!$A$1:$E$32,3,FALSE)),"",VLOOKUP(B59,Trier!$A$1:$E$32,3,FALSE)) -> 104 | E59: =IF(ISNA(VLOOKUP(B59,Trier!$A$1:$E$32,4,FALSE)),"",VLOOKUP(B59,Trier!$A$1:$E$32,4,FALSE)) -> potimaron1 | F59: =IF(ISNA(VLOOKUP(B59,Trier!$A$1:$E$32,5,FALSE)),"",VLOOKUP(B59,Trier!$A$1:$E$32,5,FALSE)) -> potimaron | G59: =IF(ISERROR(VLOOKUP(B59,Trier!$A$1:$F$32,6,FALSE)),"",VLOOKUP(B59,Trier!$A$1:$F$32,6,FALSE)) -> 2 | H59: =IF(ISERROR(VLOOKUP(B59,Trier!$A$1:$G$32,7,FALSE)),"",VLOOKUP(B59,Trier!$A$1:$G$32,7,FALSE)) -> te | I59: 10 | J59: 58 | K59: =IF(ISERROR(I59/J59*86.4),"",I59/J59*86.4) -> 14.896552 | L59: =IF(ISERROR(VLOOKUP(B59,Trier!$A$1:$H$32,8,FALSE)),"",VLOOKUP(B59,Trier!$A$1:$H$32,8,FALSE)) -> tkjtdj | O59: =IF(ISERROR(M59/N59*86.4),"",M59/N59*86.4) | P59: =IF(ISERROR(VLOOKUP(B59,Trier!$A$1:$I$32,9,FALSE)),"",VLOOKUP(B59,Trier!$A$1:$I$32,9,FALSE)) -> 0 | S59: =IF(ISERROR(Q59/R59*86.4),"",Q59/R59*86.4) | T59: =IF(ISERROR(SUM(K59,O59,S59)),"",SUM(K59,O59,S59)) -> 14.896552 | U59: =MONTH(A:A) -> 9 | V59: =YEAR(A:A) -> 2008
A60: 39713 | B60: 809 | C60: =IF(ISNA(VLOOKUP(B60,Trier!$A$1:$E$32,2,FALSE)),"",VLOOKUP(B60,Trier!$A$1:$E$32,2,FALSE)) -> 909 | D60: =IF(ISNA(VLOOKUP(B60,Trier!$A$1:$E$32,3,FALSE)),"",VLOOKUP(B60,Trier!$A$1:$E$32,3,FALSE)) -> 104 | E60: =IF(ISNA(VLOOKUP(B60,Trier!$A$1:$E$32,4,FALSE)),"",VLOOKUP(B60,Trier!$A$1:$E$32,4,FALSE)) -> artichauts1 | F60: =IF(ISNA(VLOOKUP(B60,Trier!$A$1:$E$32,5,FALSE)),"",VLOOKUP(B60,Trier!$A$1:$E$32,5,FALSE)) -> artichauts | G60: =IF(ISERROR(VLOOKUP(B60,Trier!$A$1:$F$32,6,FALSE)),"",VLOOKUP(B60,Trier!$A$1:$F$32,6,FALSE)) -> 2 | H60: =IF(ISERROR(VLOOKUP(B60,Trier!$A$1:$G$32,7,FALSE)),"",VLOOKUP(B60,Trier!$A$1:$G$32,7,FALSE)) -> k | I60: 10 | J60: 50 | K60: =IF(ISERROR(I60/J60*86.4),"",I60/J60*86.4) -> 17.28 | L60: =IF(ISERROR(VLOOKUP(B60,Trier!$A$1:$H$32,8,FALSE)),"",VLOOKUP(B60,Trier!$A$1:$H$32,8,FALSE)) -> tjkedk, | O60: =IF(ISERROR(M60/N60*86.4),"",M60/N60*86.4) | P60: =IF(ISERROR(VLOOKUP(B60,Trier!$A$1:$I$32,9,FALSE)),"",VLOOKUP(B60,Trier!$A$1:$I$32,9,FALSE)) -> 0 | S60: =IF(ISERROR(Q60/R60*86.4),"",Q60/R60*86.4) | T60: =IF(ISERROR(SUM(K60,O60,S60)),"",SUM(K60,O60,S60)) -> 17.28 | U60: =MONTH(A:A) -> 9 | V60: =YEAR(A:A) -> 2008
A61: 39836 | B61: 821 | C61: =IF(ISNA(VLOOKUP(B61,Trier!$A$1:$E$32,2,FALSE)),"",VLOOKUP(B61,Trier!$A$1:$E$32,2,FALSE)) -> 921 | D61: =IF(ISNA(VLOOKUP(B61,Trier!$A$1:$E$32,3,FALSE)),"",VLOOKUP(B61,Trier!$A$1:$E$32,3,FALSE)) -> 104 | E61: =IF(ISNA(VLOOKUP(B61,Trier!$A$1:$E$32,4,FALSE)),"",VLOOKUP(B61,Trier!$A$1:$E$32,4,FALSE)) -> aubergine1 | F61: =IF(ISNA(VLOOKUP(B61,Trier!$A$1:$E$32,5,FALSE)),"",VLOOKUP(B61,Trier!$A$1:$E$32,5,FALSE)) -> aubergine | G61: =IF(ISERROR(VLOOKUP(B61,Trier!$A$1:$F$32,6,FALSE)),"",VLOOKUP(B61,Trier!$A$1:$F$32,6,FALSE)) -> 2 | H61: =IF(ISERROR(VLOOKUP(B61,Trier!$A$1:$G$32,7,FALSE)),"",VLOOKUP(B61,Trier!$A$1:$G$32,7,FALSE)) -> l:! | I61: 10 | J61: 1.15 | K61: =IF(ISERROR(I61/J61*86.4),"",I61/J61*86.4) -> 751.30435 | L61: =IF(ISERROR(VLOOKUP(B61,Trier!$A$1:$H$32,8,FALSE)),"",VLOOKUP(B61,Trier!$A$1:$H$32,8,FALSE)) -> hfdhg | M61: 10 | N61: 15 | O61: =IF(ISERROR(M61/N61*86.4),"",M61/N61*86.4) -> 57.6 | P61: =IF(ISERROR(VLOOKUP(B61,Trier!$A$1:$I$32,9,FALSE)),"",VLOOKUP(B61,Trier!$A$1:$I$32,9,FALSE)) -> 0 | S61: =IF(ISERROR(Q61/R61*86.4),"",Q61/R61*86.4) | T61: =IF(ISERROR(SUM(K61,O61,S61)),"",SUM(K61,O61,S61)) -> 808.90435 | U61: =MONTH(A:A) -> 1 | V61: =YEAR(A:A) -> 2009
A62: 39847 | B62: 829 | C62: =IF(ISNA(VLOOKUP(B62,Trier!$A$1:$E$32,2,FALSE)),"",VLOOKUP(B62,Trier!$A$1:$E$32,2,FALSE)) -> 929 | D62: =IF(ISNA(VLOOKUP(B62,Trier!$A$1:$E$32,3,FALSE)),"",VLOOKUP(B62,Trier!$A$1:$E$32,3,FALSE)) -> 104 | E62: =IF(ISNA(VLOOKUP(B62,Trier!$A$1:$E$32,4,FALSE)),"",VLOOKUP(B62,Trier!$A$1:$E$32,4,FALSE)) -> Carotte1 | F62: =IF(ISNA(VLOOKUP(B62,Trier!$A$1:$E$32,5,FALSE)),"",VLOOKUP(B62,Trier!$A$1:$E$32,5,FALSE)) -> Carotte | G62: =IF(ISERROR(VLOOKUP(B62,Trier!$A$1:$F$32,6,FALSE)),"",VLOOKUP(B62,Trier!$A$1:$F$32,6,FALSE)) -> 1 | H62: =IF(ISERROR(VLOOKUP(B62,Trier!$A$1:$G$32,7,FALSE)),"",VLOOKUP(B62,Trier!$A$1:$G$32,7,FALSE)) -> miy | I62: 5.6 | J62: 1 | K62: =IF(ISERROR(I62/J62*86.4),"",I62/J62*86.4) -> 483.84 | L62: =IF(ISERROR(VLOOKUP(B62,Trier!$A$1:$H$32,8,FALSE)),"",VLOOKUP(B62,Trier!$A$1:$H$32,8,FALSE)) -> 0 | O62: =IF(ISERROR(M62/N62*86.4),"",M62/N62*86.4) | P62: =IF(ISERROR(VLOOKUP(B62,Trier!$A$1:$I$32,9,FALSE)),"",VLOOKUP(B62,Trier!$A$1:$I$32,9,FALSE)) -> 0 | S62: =IF(ISERROR(Q62/R62*86.4),"",Q62/R62*86.4) | T62: =IF(ISERROR(SUM(K62,O62,S62)),"",SUM(K62,O62,S62)) -> 483.84 | U62: =MONTH(A:A) -> 2 | V62: =YEAR(A:A) -> 2009
A63: 39857 | B63: 807 | C63: =IF(ISNA(VLOOKUP(B63,Trier!$A$1:$E$32,2,FALSE)),"",VLOOKUP(B63,Trier!$A$1:$E$32,2,FALSE)) -> 907 | D63: =IF(ISNA(VLOOKUP(B63,Trier!$A$1:$E$32,3,FALSE)),"",VLOOKUP(B63,Trier!$A$1:$E$32,3,FALSE)) -> 104 | E63: =IF(ISNA(VLOOKUP(B63,Trier!$A$1:$E$32,4,FALSE)),"",VLOOKUP(B63,Trier!$A$1:$E$32,4,FALSE)) -> patate douce1 | F63: =IF(ISNA(VLOOKUP(B63,Trier!$A$1:$E$32,5,FALSE)),"",VLOOKUP(B63,Trier!$A$1:$E$32,5,FALSE)) -> patate douce | G63: =IF(ISERROR(VLOOKUP(B63,Trier!$A$1:$F$32,6,FALSE)),"",VLOOKUP(B63,Trier!$A$1:$F$32,6,FALSE)) -> 1 | H63: =IF(ISERROR(VLOOKUP(B63,Trier!$A$1:$G$32,7,FALSE)),"",VLOOKUP(B63,Trier!$A$1:$G$32,7,FALSE)) -> te | I63: 42 | J63: 60 | K63: =IF(ISERROR(I63/J63*86.4),"",I63/J63*86.4) -> 60.48 | L63: =IF(ISERROR(VLOOKUP(B63,Trier!$A$1:$H$32,8,FALSE)),"",VLOOKUP(B63,Trier!$A$1:$H$32,8,FALSE)) -> 0 | O63: =IF(ISERROR(M63/N63*86.4),"",M63/N63*86.4) | P63: =IF(ISERROR(VLOOKUP(B63,Trier!$A$1:$I$32,9,FALSE)),"",VLOOKUP(B63,Trier!$A$1:$I$32,9,FALSE)) -> 0 | S63: =IF(ISERROR(Q63/R63*86.4),"",Q63/R63*86.4) | T63: =IF(ISERROR(SUM(K63,O63,S63)),"",SUM(K63,O63,S63)) -> 60.48 | U63: =MONTH(A:A) -> 2 | V63: =YEAR(A:A) -> 2009
A64: 39857 | B64: 808 | C64: =IF(ISNA(VLOOKUP(B64,Trier!$A$1:$E$32,2,FALSE)),"",VLOOKUP(B64,Trier!$A$1:$E$32,2,FALSE)) -> 908 | D64: =IF(ISNA(VLOOKUP(B64,Trier!$A$1:$E$32,3,FALSE)),"",VLOOKUP(B64,Trier!$A$1:$E$32,3,FALSE)) -> 104 | E64: =IF(ISNA(VLOOKUP(B64,Trier!$A$1:$E$32,4,FALSE)),"",VLOOKUP(B64,Trier!$A$1:$E$32,4,FALSE)) -> avocat1 | F64: =IF(ISNA(VLOOKUP(B64,Trier!$A$1:$E$32,5,FALSE)),"",VLOOKUP(B64,Trier!$A$1:$E$32,5,FALSE)) -> avocat | G64: =IF(ISERROR(VLOOKUP(B64,Trier!$A$1:$F$32,6,FALSE)),"",VLOOKUP(B64,Trier!$A$1:$F$32,6,FALSE)) -> 1 | H64: =IF(ISERROR(VLOOKUP(B64,Trier!$A$1:$G$32,7,FALSE)),"",VLOOKUP(B64,Trier!$A$1:$G$32,7,FALSE)) -> yty | I64: 84 | J64: 60 | K64: =IF(ISERROR(I64/J64*86.4),"",I64/J64*86.4) -> 120.96 | L64: =IF(ISERROR(VLOOKUP(B64,Trier!$A$1:$H$32,8,FALSE)),"",VLOOKUP(B64,Trier!$A$1:$H$32,8,FALSE)) -> 0 | O64: =IF(ISERROR(M64/N64*86.4),"",M64/N64*86.4) | P64: =IF(ISERROR(VLOOKUP(B64,Trier!$A$1:$I$32,9,FALSE)),"",VLOOKUP(B64,Trier!$A$1:$I$32,9,FALSE)) -> 0 | S64: =IF(ISERROR(Q64/R64*86.4),"",Q64/R64*86.4) | T64: =IF(ISERROR(SUM(K64,O64,S64)),"",SUM(K64,O64,S64)) -> 120.96 | U64: =MONTH(A:A) -> 2 | V64: =YEAR(A:A) -> 2009
A65: 39876 | B65: 828 | C65: =IF(ISNA(VLOOKUP(B65,Trier!$A$1:$E$32,2,FALSE)),"",VLOOKUP(B65,Trier!$A$1:$E$32,2,FALSE)) -> 928 | D65: =IF(ISNA(VLOOKUP(B65,Trier!$A$1:$E$32,3,FALSE)),"",VLOOKUP(B65,Trier!$A$1:$E$32,3,FALSE)) -> 104 | E65: =IF(ISNA(VLOOKUP(B65,Trier!$A$1:$E$32,4,FALSE)),"",VLOOKUP(B65,Trier!$A$1:$E$32,4,FALSE)) -> Radis1 | F65: =IF(ISNA(VLOOKUP(B65,Trier!$A$1:$E$32,5,FALSE)),"",VLOOKUP(B65,Trier!$A$1:$E$32,5,FALSE)) -> Radis | G65: =IF(ISERROR(VLOOKUP(B65,Trier!$A$1:$F$32,6,FALSE)),"",VLOOKUP(B65,Trier!$A$1:$F$32,6,FALSE)) -> 1 | H65: =IF(ISERROR(VLOOKUP(B65,Trier!$A$1:$G$32,7,FALSE)),"",VLOOKUP(B65,Trier!$A$1:$G$32,7,FALSE)) -> ur | I65: 2 | J65: 4.15 | K65: =IF(ISERROR(I65/J65*86.4),"",I65/J65*86.4) -> 41.638554 | L65: =IF(ISERROR(VLOOKUP(B65,Trier!$A$1:$H$32,8,FALSE)),"",VLOOKUP(B65,Trier!$A$1:$H$32,8,FALSE)) -> 0 | O65: =IF(ISERROR(M65/N65*86.4),"",M65/N65*86.4) | P65: =IF(ISERROR(VLOOKUP(B65,Trier!$A$1:$I$32,9,FALSE)),"",VLOOKUP(B65,Trier!$A$1:$I$32,9,FALSE)) -> 0 | S65: =IF(ISERROR(Q65/R65*86.4),"",Q65/R65*86.4) | T65: =IF(ISERROR(SUM(K65,O65,S65)),"",SUM(K65,O65,S65)) -> 41.638554 | U65: =MONTH(A:A) -> 3 | V65: =YEAR(A:A) -> 2009
A66: 39876 | B66: 812 | C66: =IF(ISNA(VLOOKUP(B66,Trier!$A$1:$E$32,2,FALSE)),"",VLOOKUP(B66,Trier!$A$1:$E$32,2,FALSE)) -> 912 | D66: =IF(ISNA(VLOOKUP(B66,Trier!$A$1:$E$32,3,FALSE)),"",VLOOKUP(B66,Trier!$A$1:$E$32,3,FALSE)) -> 104 | E66: =IF(ISNA(VLOOKUP(B66,Trier!$A$1:$E$32,4,FALSE)),"",VLOOKUP(B66,Trier!$A$1:$E$32,4,FALSE)) -> ratatouille1 | F66: =IF(ISNA(VLOOKUP(B66,Trier!$A$1:$E$32,5,FALSE)),"",VLOOKUP(B66,Trier!$A$1:$E$32,5,FALSE)) -> ratatouille | G66: =IF(ISERROR(VLOOKUP(B66,Trier!$A$1:$F$32,6,FALSE)),"",VLOOKUP(B66,Trier!$A$1:$F$32,6,FALSE)) -> 1 | H66: =IF(ISERROR(VLOOKUP(B66,Trier!$A$1:$G$32,7,FALSE)),"",VLOOKUP(B66,Trier!$A$1:$G$32,7,FALSE)) -> uy-z | I66: 3 | J66: 11.15 | K66: =IF(ISERROR(I66/J66*86.4),"",I66/J66*86.4) -> 23.246637 | L66: =IF(ISERROR(VLOOKUP(B66,Trier!$A$1:$H$32,8,FALSE)),"",VLOOKUP(B66,Trier!$A$1:$H$32,8,FALSE)) -> 0 | O66: =IF(ISERROR(M66/N66*86.4),"",M66/N66*86.4) | P66: =IF(ISERROR(VLOOKUP(B66,Trier!$A$1:$I$32,9,FALSE)),"",VLOOKUP(B66,Trier!$A$1:$I$32,9,FALSE)) -> 0 | S66: =IF(ISERROR(Q66/R66*86.4),"",Q66/R66*86.4) | T66: =IF(ISERROR(SUM(K66,O66,S66)),"",SUM(K66,O66,S66)) -> 23.246637 | U66: =MONTH(A:A) -> 3 | V66: =YEAR(A:A) -> 2009
A67: 39876 | B67: 813 | C67: =IF(ISNA(VLOOKUP(B67,Trier!$A$1:$E$32,2,FALSE)),"",VLOOKUP(B67,Trier!$A$1:$E$32,2,FALSE)) -> 913 | D67: =IF(ISNA(VLOOKUP(B67,Trier!$A$1:$E$32,3,FALSE)),"",VLOOKUP(B67,Trier!$A$1:$E$32,3,FALSE)) -> 104 | E67: =IF(ISNA(VLOOKUP(B67,Trier!$A$1:$E$32,4,FALSE)),"",VLOOKUP(B67,Trier!$A$1:$E$32,4,FALSE)) -> cactus1 | F67: =IF(ISNA(VLOOKUP(B67,Trier!$A$1:$E$32,5,FALSE)),"",VLOOKUP(B67,Trier!$A$1:$E$32,5,FALSE)) -> cactus | G67: =IF(ISERROR(VLOOKUP(B67,Trier!$A$1:$F$32,6,FALSE)),"",VLOOKUP(B67,Trier!$A$1:$F$32,6,FALSE)) -> 1 | H67: =IF(ISERROR(VLOOKUP(B67,Trier!$A$1:$G$32,7,FALSE)),"",VLOOKUP(B67,Trier!$A$1:$G$32,7,FALSE)) -> uj | I67: 1 | J67: 1 | K67: =IF(ISERROR(I67/J67*86.4),"",I67/J67*86.4) -> 86.4 | L67: =IF(ISERROR(VLOOKUP(B67,Trier!$A$1:$H$32,8,FALSE)),"",VLOOKUP(B67,Trier!$A$1:$H$32,8,FALSE)) -> 0 | O67: =IF(ISERROR(M67/N67*86.4),"",M67/N67*86.4) | P67: =IF(ISERROR(VLOOKUP(B67,Trier!$A$1:$I$32,9,FALSE)),"",VLOOKUP(B67,Trier!$A$1:$I$32,9,FALSE)) -> 0 | S67: =IF(ISERROR(Q67/R67*86.4),"",Q67/R67*86.4) | T67: =IF(ISERROR(SUM(K67,O67,S67)),"",SUM(K67,O67,S67)) -> 86.4 | U67: =MONTH(A:A) -> 3 | V67: =YEAR(A:A) -> 2009
A68: 39876 | B68: 823 | C68: =IF(ISNA(VLOOKUP(B68,Trier!$A$1:$E$32,2,FALSE)),"",VLOOKUP(B68,Trier!$A$1:$E$32,2,FALSE)) -> 923 | D68: =IF(ISNA(VLOOKUP(B68,Trier!$A$1:$E$32,3,FALSE)),"",VLOOKUP(B68,Trier!$A$1:$E$32,3,FALSE)) -> 104 | E68: =IF(ISNA(VLOOKUP(B68,Trier!$A$1:$E$32,4,FALSE)),"",VLOOKUP(B68,Trier!$A$1:$E$32,4,FALSE)) -> Osfond1 | F68: =IF(ISNA(VLOOKUP(B68,Trier!$A$1:$E$32,5,FALSE)),"",VLOOKUP(B68,Trier!$A$1:$E$32,5,FALSE)) -> noisette | G68: =IF(ISERROR(VLOOKUP(B68,Trier!$A$1:$F$32,6,FALSE)),"",VLOOKUP(B68,Trier!$A$1:$F$32,6,FALSE)) -> 1 | H68: =IF(ISERROR(VLOOKUP(B68,Trier!$A$1:$G$32,7,FALSE)),"",VLOOKUP(B68,Trier!$A$1:$G$32,7,FALSE)) -> om | I68: 1.25 | J68: 1 | K68: =IF(ISERROR(I68/J68*86.4),"",I68/J68*86.4) -> 108 | L68: =IF(ISERROR(VLOOKUP(B68,Trier!$A$1:$H$32,8,FALSE)),"",VLOOKUP(B68,Trier!$A$1:$H$32,8,FALSE)) -> 0 | O68: =IF(ISERROR(M68/N68*86.4),"",M68/N68*86.4) | P68: =IF(ISERROR(VLOOKUP(B68,Trier!$A$1:$I$32,9,FALSE)),"",VLOOKUP(B68,Trier!$A$1:$I$32,9,FALSE)) -> 0 | S68: =IF(ISERROR(Q68/R68*86.4),"",Q68/R68*86.4) | T68: =IF(ISERROR(SUM(K68,O68,S68)),"",SUM(K68,O68,S68)) -> 108 | U68: =MONTH(A:A) -> 3 | V68: =YEAR(A:A) -> 2009
A69: 39876 | B69: 824 | C69: =IF(ISNA(VLOOKUP(B69,Trier!$A$1:$E$32,2,FALSE)),"",VLOOKUP(B69,Trier!$A$1:$E$32,2,FALSE)) -> 924 | D69: =IF(ISNA(VLOOKUP(B69,Trier!$A$1:$E$32,3,FALSE)),"",VLOOKUP(B69,Trier!$A$1:$E$32,3,FALSE)) -> 104 | E69: =IF(ISNA(VLOOKUP(B69,Trier!$A$1:$E$32,4,FALSE)),"",VLOOKUP(B69,Trier!$A$1:$E$32,4,FALSE)) -> poreaux1 | F69: =IF(ISNA(VLOOKUP(B69,Trier!$A$1:$E$32,5,FALSE)),"",VLOOKUP(B69,Trier!$A$1:$E$32,5,FALSE)) -> poireaux | G69: =IF(ISERROR(VLOOKUP(B69,Trier!$A$1:$F$32,6,FALSE)),"",VLOOKUP(B69,Trier!$A$1:$F$32,6,FALSE)) -> 1 | H69: =IF(ISERROR(VLOOKUP(B69,Trier!$A$1:$G$32,7,FALSE)),"",VLOOKUP(B69,Trier!$A$1:$G$32,7,FALSE)) -> hghf | I69: 0.45 | J69: 1 | K69: =IF(ISERROR(I69/J69*86.4),"",I69/J69*86.4) -> 38.88 | L69: =IF(ISERROR(VLOOKUP(B69,Trier!$A$1:$H$32,8,FALSE)),"",VLOOKUP(B69,Trier!$A$1:$H$32,8,FALSE)) -> 0 | O69: =IF(ISERROR(M69/N69*86.4),"",M69/N69*86.4) | P69: =IF(ISERROR(VLOOKUP(B69,Trier!$A$1:$I$32,9,FALSE)),"",VLOOKUP(B69,Trier!$A$1:$I$32,9,FALSE)) -> 0 | S69: =IF(ISERROR(Q69/R69*86.4),"",Q69/R69*86.4) | T69: =IF(ISERROR(SUM(K69,O69,S69)),"",SUM(K69,O69,S69)) -> 38.88 | U69: =MONTH(A:A) -> 3 | V69: =YEAR(A:A) -> 2009
A70: 39903 | B70: 807 | C70: =IF(ISNA(VLOOKUP(B70,Trier!$A$1:$E$32,2,FALSE)),"",VLOOKUP(B70,Trier!$A$1:$E$32,2,FALSE)) -> 907 | D70: =IF(ISNA(VLOOKUP(B70,Trier!$A$1:$E$32,3,FALSE)),"",VLOOKUP(B70,Trier!$A$1:$E$32,3,FALSE)) -> 104 | E70: =IF(ISNA(VLOOKUP(B70,Trier!$A$1:$E$32,4,FALSE)),"",VLOOKUP(B70,Trier!$A$1:$E$32,4,FALSE)) -> patate douce1 | F70: =IF(ISNA(VLOOKUP(B70,Trier!$A$1:$E$32,5,FALSE)),"",VLOOKUP(B70,Trier!$A$1:$E$32,5,FALSE)) -> patate douce | G70: =IF(ISERROR(VLOOKUP(B70,Trier!$A$1:$F$32,6,FALSE)),"",VLOOKUP(B70,Trier!$A$1:$F$32,6,FALSE)) -> 1 | H70: =IF(ISERROR(VLOOKUP(B70,Trier!$A$1:$G$32,7,FALSE)),"",VLOOKUP(B70,Trier!$A$1:$G$32,7,FALSE)) -> te | I70: 10 | J70: 4.46 | K70: =IF(ISERROR(I70/J70*86.4),"",I70/J70*86.4) -> 193.72197 | L70: =IF(ISERROR(VLOOKUP(B70,Trier!$A$1:$H$32,8,FALSE)),"",VLOOKUP(B70,Trier!$A$1:$H$32,8,FALSE)) -> 0 | O70: =IF(ISERROR(M70/N70*86.4),"",M70/N70*86.4) | P70: =IF(ISERROR(VLOOKUP(B70,Trier!$A$1:$I$32,9,FALSE)),"",VLOOKUP(B70,Trier!$A$1:$I$32,9,FALSE)) -> 0 | S70: =IF(ISERROR(Q70/R70*86.4),"",Q70/R70*86.4) | T70: =IF(ISERROR(SUM(K70,O70,S70)),"",SUM(K70,O70,S70)) -> 193.72197 | U70: =MONTH(A:A) -> 3 | V70: =YEAR(A:A) -> 2009
A71: 39903 | B71: 808 | C71: =IF(ISNA(VLOOKUP(B71,Trier!$A$1:$E$32,2,FALSE)),"",VLOOKUP(B71,Trier!$A$1:$E$32,2,FALSE)) -> 908 | D71: =IF(ISNA(VLOOKUP(B71,Trier!$A$1:$E$32,3,FALSE)),"",VLOOKUP(B71,Trier!$A$1:$E$32,3,FALSE)) -> 104 | E71: =IF(ISNA(VLOOKUP(B71,Trier!$A$1:$E$32,4,FALSE)),"",VLOOKUP(B71,Trier!$A$1:$E$32,4,FALSE)) -> avocat1 | F71: =IF(ISNA(VLOOKUP(B71,Trier!$A$1:$E$32,5,FALSE)),"",VLOOKUP(B71,Trier!$A$1:$E$32,5,FALSE)) -> avocat | G71: =IF(ISERROR(VLOOKUP(B71,Trier!$A$1:$F$32,6,FALSE)),"",VLOOKUP(B71,Trier!$A$1:$F$32,6,FALSE)) -> 1 | H71: =IF(ISERROR(VLOOKUP(B71,Trier!$A$1:$G$32,7,FALSE)),"",VLOOKUP(B71,Trier!$A$1:$G$32,7,FALSE)) -> yty | I71: 10 | J71: 9.43 | K71: =IF(ISERROR(I71/J71*86.4),"",I71/J71*86.4) -> 91.622481 | L71: =IF(ISERROR(VLOOKUP(B71,Trier!$A$1:$H$32,8,FALSE)),"",VLOOKUP(B71,Trier!$A$1:$H$32,8,FALSE)) -> 0 | O71: =IF(ISERROR(M71/N71*86.4),"",M71/N71*86.4) | P71: =IF(ISERROR(VLOOKUP(B71,Trier!$A$1:$I$32,9,FALSE)),"",VLOOKUP(B71,Trier!$A$1:$I$32,9,FALSE)) -> 0 | S71: =IF(ISERROR(Q71/R71*86.4),"",Q71/R71*86.4) | T71: =IF(ISERROR(SUM(K71,O71,S71)),"",SUM(K71,O71,S71)) -> 91.622481 | U71: =MONTH(A:A) -> 3 | V71: =YEAR(A:A) -> 2009
A72: 39955 | B72: 801 | C72: =IF(ISNA(VLOOKUP(B72,Trier!$A$1:$E$32,2,FALSE)),"",VLOOKUP(B72,Trier!$A$1:$E$32,2,FALSE)) -> 901 | D72: =IF(ISNA(VLOOKUP(B72,Trier!$A$1:$E$32,3,FALSE)),"",VLOOKUP(B72,Trier!$A$1:$E$32,3,FALSE)) -> 104 | E72: =IF(ISNA(VLOOKUP(B72,Trier!$A$1:$E$32,4,FALSE)),"",VLOOKUP(B72,Trier!$A$1:$E$32,4,FALSE)) -> melon1 | F72: =IF(ISNA(VLOOKUP(B72,Trier!$A$1:$E$32,5,FALSE)),"",VLOOKUP(B72,Trier!$A$1:$E$32,5,FALSE)) -> melon | G72: =IF(ISERROR(VLOOKUP(B72,Trier!$A$1:$F$32,6,FALSE)),"",VLOOKUP(B72,Trier!$A$1:$F$32,6,FALSE)) -> 2 | H72: =IF(ISERROR(VLOOKUP(B72,Trier!$A$1:$G$32,7,FALSE)),"",VLOOKUP(B72,Trier!$A$1:$G$32,7,FALSE)) -> bb | I72: 10 | J72: 19.55 | K72: =IF(ISERROR(I72/J72*86.4),"",I72/J72*86.4) -> 44.194373 | L72: =IF(ISERROR(VLOOKUP(B72,Trier!$A$1:$H$32,8,FALSE)),"",VLOOKUP(B72,Trier!$A$1:$H$32,8,FALSE)) -> nd, | M72: 10 | N72: 31.06 | O72: =IF(ISERROR(M72/N72*86.4),"",M72/N72*86.4) -> 27.817128 | P72: =IF(ISERROR(VLOOKUP(B72,Trier!$A$1:$I$32,9,FALSE)),"",VLOOKUP(B72,Trier!$A$1:$I$32,9,FALSE)) -> 0 | S72: =IF(ISERROR(Q72/R72*86.4),"",Q72/R72*86.4) | T72: =IF(ISERROR(SUM(K72,O72,S72)),"",SUM(K72,O72,S72)) -> 72.011502 | U72: =MONTH(A:A) -> 5 | V72: =YEAR(A:A) -> 2009
A73: 39967 | B73: 828 | C73: =IF(ISNA(VLOOKUP(B73,Trier!$A$1:$E$32,2,FALSE)),"",VLOOKUP(B73,Trier!$A$1:$E$32,2,FALSE)) -> 928 | D73: =IF(ISNA(VLOOKUP(B73,Trier!$A$1:$E$32,3,FALSE)),"",VLOOKUP(B73,Trier!$A$1:$E$32,3,FALSE)) -> 104 | E73: =IF(ISNA(VLOOKUP(B73,Trier!$A$1:$E$32,4,FALSE)),"",VLOOKUP(B73,Trier!$A$1:$E$32,4,FALSE)) -> Radis1 | F73: =IF(ISNA(VLOOKUP(B73,Trier!$A$1:$E$32,5,FALSE)),"",VLOOKUP(B73,Trier!$A$1:$E$32,5,FALSE)) -> Radis | G73: =IF(ISERROR(VLOOKUP(B73,Trier!$A$1:$F$32,6,FALSE)),"",VLOOKUP(B73,Trier!$A$1:$F$32,6,FALSE)) -> 1 | H73: =IF(ISERROR(VLOOKUP(B73,Trier!$A$1:$G$32,7,FALSE)),"",VLOOKUP(B73,Trier!$A$1:$G$32,7,FALSE)) -> ur | I73: 1 | J73: 1 | K73: =IF(ISERROR(I73/J73*86.4),"",I73/J73*86.4) -> 86.4 | L73: =IF(ISERROR(VLOOKUP(B73,Trier!$A$1:$H$32,8,FALSE)),"",VLOOKUP(B73,Trier!$A$1:$H$32,8,FALSE)) -> 0 | O73: =IF(ISERROR(M73/N73*86.4),"",M73/N73*86.4) | P73: =IF(ISERROR(VLOOKUP(B73,Trier!$A$1:$I$32,9,FALSE)),"",VLOOKUP(B73,Trier!$A$1:$I$32,9,FALSE)) -> 0 | S73: =IF(ISERROR(Q73/R73*86.4),"",Q73/R73*86.4) | T73: =IF(ISERROR(SUM(K73,O73,S73)),"",SUM(K73,O73,S73)) -> 86.4 | U73: =MONTH(A:A) -> 6 | V73: =YEAR(A:A) -> 2009
A74: 39967 | B74: 812 | C74: =IF(ISNA(VLOOKUP(B74,Trier!$A$1:$E$32,2,FALSE)),"",VLOOKUP(B74,Trier!$A$1:$E$32,2,FALSE)) -> 912 | D74: =IF(ISNA(VLOOKUP(B74,Trier!$A$1:$E$32,3,FALSE)),"",VLOOKUP(B74,Trier!$A$1:$E$32,3,FALSE)) -> 104 | E74: =IF(ISNA(VLOOKUP(B74,Trier!$A$1:$E$32,4,FALSE)),"",VLOOKUP(B74,Trier!$A$1:$E$32,4,FALSE)) -> ratatouille1 | F74: =IF(ISNA(VLOOKUP(B74,Trier!$A$1:$E$32,5,FALSE)),"",VLOOKUP(B74,Trier!$A$1:$E$32,5,FALSE)) -> ratatouille | G74: =IF(ISERROR(VLOOKUP(B74,Trier!$A$1:$F$32,6,FALSE)),"",VLOOKUP(B74,Trier!$A$1:$F$32,6,FALSE)) -> 1 | H74: =IF(ISERROR(VLOOKUP(B74,Trier!$A$1:$G$32,7,FALSE)),"",VLOOKUP(B74,Trier!$A$1:$G$32,7,FALSE)) -> uy-z | I74: 1 | J74: 1 | K74: =IF(ISERROR(I74/J74*86.4),"",I74/J74*86.4) -> 86.4 | L74: =IF(ISERROR(VLOOKUP(B74,Trier!$A$1:$H$32,8,FALSE)),"",VLOOKUP(B74,Trier!$A$1:$H$32,8,FALSE)) -> 0 | O74: =IF(ISERROR(M74/N74*86.4),"",M74/N74*86.4) | P74: =IF(ISERROR(VLOOKUP(B74,Trier!$A$1:$I$32,9,FALSE)),"",VLOOKUP(B74,Trier!$A$1:$I$32,9,FALSE)) -> 0 | S74: =IF(ISERROR(Q74/R74*86.4),"",Q74/R74*86.4) | T74: =IF(ISERROR(SUM(K74,O74,S74)),"",SUM(K74,O74,S74)) -> 86.4 | U74: =MONTH(A:A) -> 6 | V74: =YEAR(A:A) -> 2009
A75: 39967 | B75: 813 | C75: =IF(ISNA(VLOOKUP(B75,Trier!$A$1:$E$32,2,FALSE)),"",VLOOKUP(B75,Trier!$A$1:$E$32,2,FALSE)) -> 913 | D75: =IF(ISNA(VLOOKUP(B75,Trier!$A$1:$E$32,3,FALSE)),"",VLOOKUP(B75,Trier!$A$1:$E$32,3,FALSE)) -> 104 | E75: =IF(ISNA(VLOOKUP(B75,Trier!$A$1:$E$32,4,FALSE)),"",VLOOKUP(B75,Trier!$A$1:$E$32,4,FALSE)) -> cactus1 | F75: =IF(ISNA(VLOOKUP(B75,Trier!$A$1:$E$32,5,FALSE)),"",VLOOKUP(B75,Trier!$A$1:$E$32,5,FALSE)) -> cactus | G75: =IF(ISERROR(VLOOKUP(B75,Trier!$A$1:$F$32,6,FALSE)),"",VLOOKUP(B75,Trier!$A$1:$F$32,6,FALSE)) -> 1 | H75: =IF(ISERROR(VLOOKUP(B75,Trier!$A$1:$G$32,7,FALSE)),"",VLOOKUP(B75,Trier!$A$1:$G$32,7,FALSE)) -> uj | I75: 1 | J75: 30 | K75: =IF(ISERROR(I75/J75*86.4),"",I75/J75*86.4) -> 2.88 | L75: =IF(ISERROR(VLOOKUP(B75,Trier!$A$1:$H$32,8,FALSE)),"",VLOOKUP(B75,Trier!$A$1:$H$32,8,FALSE)) -> 0 | O75: =IF(ISERROR(M75/N75*86.4),"",M75/N75*86.4) | P75: =IF(ISERROR(VLOOKUP(B75,Trier!$A$1:$I$32,9,FALSE)),"",VLOOKUP(B75,Trier!$A$1:$I$32,9,FALSE)) -> 0 | S75: =IF(ISERROR(Q75/R75*86.4),"",Q75/R75*86.4) | T75: =IF(ISERROR(SUM(K75,O75,S75)),"",SUM(K75,O75,S75)) -> 2.88 | U75: =MONTH(A:A) -> 6 | V75: =YEAR(A:A) -> 2009
A76: 39967 | B76: 813 | C76: =IF(ISNA(VLOOKUP(B76,Trier!$A$1:$E$32,2,FALSE)),"",VLOOKUP(B76,Trier!$A$1:$E$32,2,FALSE)) -> 913 | D76: =IF(ISNA(VLOOKUP(B76,Trier!$A$1:$E$32,3,FALSE)),"",VLOOKUP(B76,Trier!$A$1:$E$32,3,FALSE)) -> 104 | E76: =IF(ISNA(VLOOKUP(B76,Trier!$A$1:$E$32,4,FALSE)),"",VLOOKUP(B76,Trier!$A$1:$E$32,4,FALSE)) -> cactus1 | F76: =IF(ISNA(VLOOKUP(B76,Trier!$A$1:$E$32,5,FALSE)),"",VLOOKUP(B76,Trier!$A$1:$E$32,5,FALSE)) -> cactus | G76: =IF(ISERROR(VLOOKUP(B76,Trier!$A$1:$F$32,6,FALSE)),"",VLOOKUP(B76,Trier!$A$1:$F$32,6,FALSE)) -> 1 | H76: =IF(ISERROR(VLOOKUP(B76,Trier!$A$1:$G$32,7,FALSE)),"",VLOOKUP(B76,Trier!$A$1:$G$32,7,FALSE)) -> uj | I76: 10 | J76: 60 | K76: =IF(ISERROR(I76/J76*86.4),"",I76/J76*86.4) -> 14.4 | L76: =IF(ISERROR(VLOOKUP(B76,Trier!$A$1:$H$32,8,FALSE)),"",VLOOKUP(B76,Trier!$A$1:$H$32,8,FALSE)) -> 0 | O76: =IF(ISERROR(M76/N76*86.4),"",M76/N76*86.4) | P76: =IF(ISERROR(VLOOKUP(B76,Trier!$A$1:$I$32,9,FALSE)),"",VLOOKUP(B76,Trier!$A$1:$I$32,9,FALSE)) -> 0 | S76: =IF(ISERROR(Q76/R76*86.4),"",Q76/R76*86.4) | T76: =IF(ISERROR(SUM(K76,O76,S76)),"",SUM(K76,O76,S76)) -> 14.4 | U76: =MONTH(A:A) -> 6 | V76: =YEAR(A:A) -> 2009
A77: 39967 | B77: 824 | C77: =IF(ISNA(VLOOKUP(B77,Trier!$A$1:$E$32,2,FALSE)),"",VLOOKUP(B77,Trier!$A$1:$E$32,2,FALSE)) -> 924 | D77: =IF(ISNA(VLOOKUP(B77,Trier!$A$1:$E$32,3,FALSE)),"",VLOOKUP(B77,Trier!$A$1:$E$32,3,FALSE)) -> 104 | E77: =IF(ISNA(VLOOKUP(B77,Trier!$A$1:$E$32,4,FALSE)),"",VLOOKUP(B77,Trier!$A$1:$E$32,4,FALSE)) -> poreaux1 | F77: =IF(ISNA(VLOOKUP(B77,Trier!$A$1:$E$32,5,FALSE)),"",VLOOKUP(B77,Trier!$A$1:$E$32,5,FALSE)) -> poireaux | G77: =IF(ISERROR(VLOOKUP(B77,Trier!$A$1:$F$32,6,FALSE)),"",VLOOKUP(B77,Trier!$A$1:$F$32,6,FALSE)) -> 1 | H77: =IF(ISERROR(VLOOKUP(B77,Trier!$A$1:$G$32,7,FALSE)),"",VLOOKUP(B77,Trier!$A$1:$G$32,7,FALSE)) -> hghf | I77: 10 | J77: 50.6 | K77: =IF(ISERROR(I77/J77*86.4),"",I77/J77*86.4) -> 17.075099 | L77: =IF(ISERROR(VLOOKUP(B77,Trier!$A$1:$H$32,8,FALSE)),"",VLOOKUP(B77,Trier!$A$1:$H$32,8,FALSE)) -> 0 | O77: =IF(ISERROR(M77/N77*86.4),"",M77/N77*86.4) | P77: =IF(ISERROR(VLOOKUP(B77,Trier!$A$1:$I$32,9,FALSE)),"",VLOOKUP(B77,Trier!$A$1:$I$32,9,FALSE)) -> 0 | S77: =IF(ISERROR(Q77/R77*86.4),"",Q77/R77*86.4) | T77: =IF(ISERROR(SUM(K77,O77,S77)),"",SUM(K77,O77,S77)) -> 17.075099 | U77: =MONTH(A:A) -> 6 | V77: =YEAR(A:A) -> 2009
A78: 39970 | B78: 823 | C78: =IF(ISNA(VLOOKUP(B78,Trier!$A$1:$E$32,2,FALSE)),"",VLOOKUP(B78,Trier!$A$1:$E$32,2,FALSE)) -> 923 | D78: =IF(ISNA(VLOOKUP(B78,Trier!$A$1:$E$32,3,FALSE)),"",VLOOKUP(B78,Trier!$A$1:$E$32,3,FALSE)) -> 104 | E78: =IF(ISNA(VLOOKUP(B78,Trier!$A$1:$E$32,4,FALSE)),"",VLOOKUP(B78,Trier!$A$1:$E$32,4,FALSE)) -> Osfond1 | F78: =IF(ISNA(VLOOKUP(B78,Trier!$A$1:$E$32,5,FALSE)),"",VLOOKUP(B78,Trier!$A$1:$E$32,5,FALSE)) -> noisette | G78: =IF(ISERROR(VLOOKUP(B78,Trier!$A$1:$F$32,6,FALSE)),"",VLOOKUP(B78,Trier!$A$1:$F$32,6,FALSE)) -> 1 | H78: =IF(ISERROR(VLOOKUP(B78,Trier!$A$1:$G$32,7,FALSE)),"",VLOOKUP(B78,Trier!$A$1:$G$32,7,FALSE)) -> om | I78: 10 | J78: 20.58 | K78: =IF(ISERROR(I78/J78*86.4),"",I78/J78*86.4) -> 41.982507 | L78: =IF(ISERROR(VLOOKUP(B78,Trier!$A$1:$H$32,8,FALSE)),"",VLOOKUP(B78,Trier!$A$1:$H$32,8,FALSE)) -> 0 | O78: =IF(ISERROR(M78/N78*86.4),"",M78/N78*86.4) | P78: =IF(ISERROR(VLOOKUP(B78,Trier!$A$1:$I$32,9,FALSE)),"",VLOOKUP(B78,Trier!$A$1:$I$32,9,FALSE)) -> 0 | S78: =IF(ISERROR(Q78/R78*86.4),"",Q78/R78*86.4) | T78: =IF(ISERROR(SUM(K78,O78,S78)),"",SUM(K78,O78,S78)) -> 41.982507 | U78: =MONTH(A:A) -> 6 | V78: =YEAR(A:A) -> 2009
A79: 39981 | B79: 821 | C79: =IF(ISNA(VLOOKUP(B79,Trier!$A$1:$E$32,2,FALSE)),"",VLOOKUP(B79,Trier!$A$1:$E$32,2,FALSE)) -> 921 | D79: =IF(ISNA(VLOOKUP(B79,Trier!$A$1:$E$32,3,FALSE)),"",VLOOKUP(B79,Trier!$A$1:$E$32,3,FALSE)) -> 104 | E79: =IF(ISNA(VLOOKUP(B79,Trier!$A$1:$E$32,4,FALSE)),"",VLOOKUP(B79,Trier!$A$1:$E$32,4,FALSE)) -> aubergine1 | F79: =IF(ISNA(VLOOKUP(B79,Trier!$A$1:$E$32,5,FALSE)),"",VLOOKUP(B79,Trier!$A$1:$E$32,5,FALSE)) -> aubergine | G79: =IF(ISERROR(VLOOKUP(B79,Trier!$A$1:$F$32,6,FALSE)),"",VLOOKUP(B79,Trier!$A$1:$F$32,6,FALSE)) -> 2 | H79: =IF(ISERROR(VLOOKUP(B79,Trier!$A$1:$G$32,7,FALSE)),"",VLOOKUP(B79,Trier!$A$1:$G$32,7,FALSE)) -> l:! | I79: 10 | J79: 103.7 | K79: =IF(ISERROR(I79/J79*86.4),"",I79/J79*86.4) -> 8.3317261 | L79: =IF(ISERROR(VLOOKUP(B79,Trier!$A$1:$H$32,8,FALSE)),"",VLOOKUP(B79,Trier!$A$1:$H$32,8,FALSE)) -> hfdhg | M79: 10 | N79: 34.4 | O79: =IF(ISERROR(M79/N79*86.4),"",M79/N79*86.4) -> 25.116279 | P79: =IF(ISERROR(VLOOKUP(B79,Trier!$A$1:$I$32,9,FALSE)),"",VLOOKUP(B79,Trier!$A$1:$I$32,9,FALSE)) -> 0 | S79: =IF(ISERROR(Q79/R79*86.4),"",Q79/R79*86.4) | T79: =IF(ISERROR(SUM(K79,O79,S79)),"",SUM(K79,O79,S79)) -> 33.448005 | U79: =MONTH(A:A) -> 6 | V79: =YEAR(A:A) -> 2009
A80: 39982 | B80: 807 | C80: =IF(ISNA(VLOOKUP(B80,Trier!$A$1:$E$32,2,FALSE)),"",VLOOKUP(B80,Trier!$A$1:$E$32,2,FALSE)) -> 907 | D80: =IF(ISNA(VLOOKUP(B80,Trier!$A$1:$E$32,3,FALSE)),"",VLOOKUP(B80,Trier!$A$1:$E$32,3,FALSE)) -> 104 | E80: =IF(ISNA(VLOOKUP(B80,Trier!$A$1:$E$32,4,FALSE)),"",VLOOKUP(B80,Trier!$A$1:$E$32,4,FALSE)) -> patate douce1 | F80: =IF(ISNA(VLOOKUP(B80,Trier!$A$1:$E$32,5,FALSE)),"",VLOOKUP(B80,Trier!$A$1:$E$32,5,FALSE)) -> patate douce | G80: =IF(ISERROR(VLOOKUP(B80,Trier!$A$1:$F$32,6,FALSE)),"",VLOOKUP(B80,Trier!$A$1:$F$32,6,FALSE)) -> 1 | H80: =IF(ISERROR(VLOOKUP(B80,Trier!$A$1:$G$32,7,FALSE)),"",VLOOKUP(B80,Trier!$A$1:$G$32,7,FALSE)) -> te | I80: 10 | J80: 7.6 | K80: =IF(ISERROR(I80/J80*86.4),"",I80/J80*86.4) -> 113.68421 | L80: =IF(ISERROR(VLOOKUP(B80,Trier!$A$1:$H$32,8,FALSE)),"",VLOOKUP(B80,Trier!$A$1:$H$32,8,FALSE)) -> 0 | O80: =IF(ISERROR(M80/N80*86.4),"",M80/N80*86.4) | P80: =IF(ISERROR(VLOOKUP(B80,Trier!$A$1:$I$32,9,FALSE)),"",VLOOKUP(B80,Trier!$A$1:$I$32,9,FALSE)) -> 0 | S80: =IF(ISERROR(Q80/R80*86.4),"",Q80/R80*86.4) | T80: =IF(ISERROR(SUM(K80,O80,S80)),"",SUM(K80,O80,S80)) -> 113.68421 | U80: =MONTH(A:A) -> 6 | V80: =YEAR(A:A) -> 2009
A81: 39982 | B81: 808 | C81: =IF(ISNA(VLOOKUP(B81,Trier!$A$1:$E$32,2,FALSE)),"",VLOOKUP(B81,Trier!$A$1:$E$32,2,FALSE)) -> 908 | D81: =IF(ISNA(VLOOKUP(B81,Trier!$A$1:$E$32,3,FALSE)),"",VLOOKUP(B81,Trier!$A$1:$E$32,3,FALSE)) -> 104 | E81: =IF(ISNA(VLOOKUP(B81,Trier!$A$1:$E$32,4,FALSE)),"",VLOOKUP(B81,Trier!$A$1:$E$32,4,FALSE)) -> avocat1 | F81: =IF(ISNA(VLOOKUP(B81,Trier!$A$1:$E$32,5,FALSE)),"",VLOOKUP(B81,Trier!$A$1:$E$32,5,FALSE)) -> avocat | G81: =IF(ISERROR(VLOOKUP(B81,Trier!$A$1:$F$32,6,FALSE)),"",VLOOKUP(B81,Trier!$A$1:$F$32,6,FALSE)) -> 1 | H81: =IF(ISERROR(VLOOKUP(B81,Trier!$A$1:$G$32,7,FALSE)),"",VLOOKUP(B81,Trier!$A$1:$G$32,7,FALSE)) -> yty | I81: 10 | J81: 17.94 | K81: =IF(ISERROR(I81/J81*86.4),"",I81/J81*86.4) -> 48.160535 | L81: =IF(ISERROR(VLOOKUP(B81,Trier!$A$1:$H$32,8,FALSE)),"",VLOOKUP(B81,Trier!$A$1:$H$32,8,FALSE)) -> 0 | O81: =IF(ISERROR(M81/N81*86.4),"",M81/N81*86.4) | P81: =IF(ISERROR(VLOOKUP(B81,Trier!$A$1:$I$32,9,FALSE)),"",VLOOKUP(B81,Trier!$A$1:$I$32,9,FALSE)) -> 0 | S81: =IF(ISERROR(Q81/R81*86.4),"",Q81/R81*86.4) | T81: =IF(ISERROR(SUM(K81,O81,S81)),"",SUM(K81,O81,S81)) -> 48.160535 | U81: =MONTH(A:A) -> 6 | V81: =YEAR(A:A) -> 2009
A82: 40021 | B82: 829 | C82: =IF(ISNA(VLOOKUP(B82,Trier!$A$1:$E$32,2,FALSE)),"",VLOOKUP(B82,Trier!$A$1:$E$32,2,FALSE)) -> 929 | D82: =IF(ISNA(VLOOKUP(B82,Trier!$A$1:$E$32,3,FALSE)),"",VLOOKUP(B82,Trier!$A$1:$E$32,3,FALSE)) -> 104 | E82: =IF(ISNA(VLOOKUP(B82,Trier!$A$1:$E$32,4,FALSE)),"",VLOOKUP(B82,Trier!$A$1:$E$32,4,FALSE)) -> Carotte1 | F82: =IF(ISNA(VLOOKUP(B82,Trier!$A$1:$E$32,5,FALSE)),"",VLOOKUP(B82,Trier!$A$1:$E$32,5,FALSE)) -> Carotte | G82: =IF(ISERROR(VLOOKUP(B82,Trier!$A$1:$F$32,6,FALSE)),"",VLOOKUP(B82,Trier!$A$1:$F$32,6,FALSE)) -> 1 | H82: =IF(ISERROR(VLOOKUP(B82,Trier!$A$1:$G$32,7,FALSE)),"",VLOOKUP(B82,Trier!$A$1:$G$32,7,FALSE)) -> miy | I82: 4.4 | J82: 1 | K82: =IF(ISERROR(I82/J82*86.4),"",I82/J82*86.4) -> 380.16 | L82: =IF(ISERROR(VLOOKUP(B82,Trier!$A$1:$H$32,8,FALSE)),"",VLOOKUP(B82,Trier!$A$1:$H$32,8,FALSE)) -> 0 | O82: =IF(ISERROR(M82/N82*86.4),"",M82/N82*86.4) | P82: =IF(ISERROR(VLOOKUP(B82,Trier!$A$1:$I$32,9,FALSE)),"",VLOOKUP(B82,Trier!$A$1:$I$32,9,FALSE)) -> 0 | S82: =IF(ISERROR(Q82/R82*86.4),"",Q82/R82*86.4) | T82: =IF(ISERROR(SUM(K82,O82,S82)),"",SUM(K82,O82,S82)) -> 380.16 | U82: =MONTH(A:A) -> 7 | V82: =YEAR(A:A) -> 2009
A83: 40021 | B83: 829 | C83: =IF(ISNA(VLOOKUP(B83,Trier!$A$1:$E$32,2,FALSE)),"",VLOOKUP(B83,Trier!$A$1:$E$32,2,FALSE)) -> 929 | D83: =IF(ISNA(VLOOKUP(B83,Trier!$A$1:$E$32,3,FALSE)),"",VLOOKUP(B83,Trier!$A$1:$E$32,3,FALSE)) -> 104 | E83: =IF(ISNA(VLOOKUP(B83,Trier!$A$1:$E$32,4,FALSE)),"",VLOOKUP(B83,Trier!$A$1:$E$32,4,FALSE)) -> Carotte1 | F83: =IF(ISNA(VLOOKUP(B83,Trier!$A$1:$E$32,5,FALSE)),"",VLOOKUP(B83,Trier!$A$1:$E$32,5,FALSE)) -> Carotte | G83: =IF(ISERROR(VLOOKUP(B83,Trier!$A$1:$F$32,6,FALSE)),"",VLOOKUP(B83,Trier!$A$1:$F$32,6,FALSE)) -> 1 | H83: =IF(ISERROR(VLOOKUP(B83,Trier!$A$1:$G$32,7,FALSE)),"",VLOOKUP(B83,Trier!$A$1:$G$32,7,FALSE)) -> miy | I83: 4.8 | J83: 1 | K83: =IF(ISERROR(I83/J83*86.4),"",I83/J83*86.4) -> 414.72 | L83: =IF(ISERROR(VLOOKUP(B83,Trier!$A$1:$H$32,8,FALSE)),"",VLOOKUP(B83,Trier!$A$1:$H$32,8,FALSE)) -> 0 | O83: =IF(ISERROR(M83/N83*86.4),"",M83/N83*86.4) | P83: =IF(ISERROR(VLOOKUP(B83,Trier!$A$1:$I$32,9,FALSE)),"",VLOOKUP(B83,Trier!$A$1:$I$32,9,FALSE)) -> 0 | S83: =IF(ISERROR(Q83/R83*86.4),"",Q83/R83*86.4) | T83: =IF(ISERROR(SUM(K83,O83,S83)),"",SUM(K83,O83,S83)) -> 414.72 | U83: =MONTH(A:A) -> 7 | V83: =YEAR(A:A) -> 2009
A84: 40044 | B84: 801 | C84: =IF(ISNA(VLOOKUP(B84,Trier!$A$1:$E$32,2,FALSE)),"",VLOOKUP(B84,Trier!$A$1:$E$32,2,FALSE)) -> 901 | D84: =IF(ISNA(VLOOKUP(B84,Trier!$A$1:$E$32,3,FALSE)),"",VLOOKUP(B84,Trier!$A$1:$E$32,3,FALSE)) -> 104 | E84: =IF(ISNA(VLOOKUP(B84,Trier!$A$1:$E$32,4,FALSE)),"",VLOOKUP(B84,Trier!$A$1:$E$32,4,FALSE)) -> melon1 | F84: =IF(ISNA(VLOOKUP(B84,Trier!$A$1:$E$32,5,FALSE)),"",VLOOKUP(B84,Trier!$A$1:$E$32,5,FALSE)) -> melon | G84: =IF(ISERROR(VLOOKUP(B84,Trier!$A$1:$F$32,6,FALSE)),"",VLOOKUP(B84,Trier!$A$1:$F$32,6,FALSE)) -> 2 | H84: =IF(ISERROR(VLOOKUP(B84,Trier!$A$1:$G$32,7,FALSE)),"",VLOOKUP(B84,Trier!$A$1:$G$32,7,FALSE)) -> bb | I84: 2 | J84: 12 | K84: =IF(ISERROR(I84/J84*86.4),"",I84/J84*86.4) -> 14.4 | L84: =IF(ISERROR(VLOOKUP(B84,Trier!$A$1:$H$32,8,FALSE)),"",VLOOKUP(B84,Trier!$A$1:$H$32,8,FALSE)) -> nd, | M84: 2 | N84: 15 | O84: =IF(ISERROR(M84/N84*86.4),"",M84/N84*86.4) -> 11.52 | P84: =IF(ISERROR(VLOOKUP(B84,Trier!$A$1:$I$32,9,FALSE)),"",VLOOKUP(B84,Trier!$A$1:$I$32,9,FALSE)) -> 0 | S84: =IF(ISERROR(Q84/R84*86.4),"",Q84/R84*86.4) | T84: =IF(ISERROR(SUM(K84,O84,S84)),"",SUM(K84,O84,S84)) -> 25.92 | U84: =MONTH(A:A) -> 8 | V84: =YEAR(A:A) -> 2009
A85: 40045 | B85: 824 | C85: =IF(ISNA(VLOOKUP(B85,Trier!$A$1:$E$32,2,FALSE)),"",VLOOKUP(B85,Trier!$A$1:$E$32,2,FALSE)) -> 924 | D85: =IF(ISNA(VLOOKUP(B85,Trier!$A$1:$E$32,3,FALSE)),"",VLOOKUP(B85,Trier!$A$1:$E$32,3,FALSE)) -> 104 | E85: =IF(ISNA(VLOOKUP(B85,Trier!$A$1:$E$32,4,FALSE)),"",VLOOKUP(B85,Trier!$A$1:$E$32,4,FALSE)) -> poreaux1 | F85: =IF(ISNA(VLOOKUP(B85,Trier!$A$1:$E$32,5,FALSE)),"",VLOOKUP(B85,Trier!$A$1:$E$32,5,FALSE)) -> poireaux | G85: =IF(ISERROR(VLOOKUP(B85,Trier!$A$1:$F$32,6,FALSE)),"",VLOOKUP(B85,Trier!$A$1:$F$32,6,FALSE)) -> 1 | H85: =IF(ISERROR(VLOOKUP(B85,Trier!$A$1:$G$32,7,FALSE)),"",VLOOKUP(B85,Trier!$A$1:$G$32,7,FALSE)) -> hghf | I85: 1 | J85: 90 | K85: =IF(ISERROR(I85/J85*86.4),"",I85/J85*86.4) -> 0.96 | L85: =IF(ISERROR(VLOOKUP(B85,Trier!$A$1:$H$32,8,FALSE)),"",VLOOKUP(B85,Trier!$A$1:$H$32,8,FALSE)) -> 0 | O85: =IF(ISERROR(M85/N85*86.4),"",M85/N85*86.4) | P85: =IF(ISERROR(VLOOKUP(B85,Trier!$A$1:$I$32,9,FALSE)),"",VLOOKUP(B85,Trier!$A$1:$I$32,9,FALSE)) -> 0 | S85: =IF(ISERROR(Q85/R85*86.4),"",Q85/R85*86.4) | T85: =IF(ISERROR(SUM(K85,O85,S85)),"",SUM(K85,O85,S85)) -> 0.96 | U85: =MONTH(A:A) -> 8 | V85: =YEAR(A:A) -> 2009
A86: 40045 | B86: 821 | C86: =IF(ISNA(VLOOKUP(B86,Trier!$A$1:$E$32,2,FALSE)),"",VLOOKUP(B86,Trier!$A$1:$E$32,2,FALSE)) -> 921 | D86: =IF(ISNA(VLOOKUP(B86,Trier!$A$1:$E$32,3,FALSE)),"",VLOOKUP(B86,Trier!$A$1:$E$32,3,FALSE)) -> 104 | E86: =IF(ISNA(VLOOKUP(B86,Trier!$A$1:$E$32,4,FALSE)),"",VLOOKUP(B86,Trier!$A$1:$E$32,4,FALSE)) -> aubergine1 | F86: =IF(ISNA(VLOOKUP(B86,Trier!$A$1:$E$32,5,FALSE)),"",VLOOKUP(B86,Trier!$A$1:$E$32,5,FALSE)) -> aubergine | G86: =IF(ISERROR(VLOOKUP(B86,Trier!$A$1:$F$32,6,FALSE)),"",VLOOKUP(B86,Trier!$A$1:$F$32,6,FALSE)) -> 2 | H86: =IF(ISERROR(VLOOKUP(B86,Trier!$A$1:$G$32,7,FALSE)),"",VLOOKUP(B86,Trier!$A$1:$G$32,7,FALSE)) -> l:! | I86: 2 | J86: 30 | K86: =IF(ISERROR(I86/J86*86.4),"",I86/J86*86.4) -> 5.76 | L86: =IF(ISERROR(VLOOKUP(B86,Trier!$A$1:$H$32,8,FALSE)),"",VLOOKUP(B86,Trier!$A$1:$H$32,8,FALSE)) -> hfdhg | M86: 2 | N86: 10 | O86: =IF(ISERROR(M86/N86*86.4),"",M86/N86*86.4) -> 17.28 | P86: =IF(ISERROR(VLOOKUP(B86,Trier!$A$1:$I$32,9,FALSE)),"",VLOOKUP(B86,Trier!$A$1:$I$32,9,FALSE)) -> 0 | S86: =IF(ISERROR(Q86/R86*86.4),"",Q86/R86*86.4) | T86: =IF(ISERROR(SUM(K86,O86,S86)),"",SUM(K86,O86,S86)) -> 23.04 | U86: =MONTH(A:A) -> 8 | V86: =YEAR(A:A) -> 2009
A87: 40045 | B87: 829 | C87: =IF(ISNA(VLOOKUP(B87,Trier!$A$1:$E$32,2,FALSE)),"",VLOOKUP(B87,Trier!$A$1:$E$32,2,FALSE)) -> 929 | D87: =IF(ISNA(VLOOKUP(B87,Trier!$A$1:$E$32,3,FALSE)),"",VLOOKUP(B87,Trier!$A$1:$E$32,3,FALSE)) -> 104 | E87: =IF(ISNA(VLOOKUP(B87,Trier!$A$1:$E$32,4,FALSE)),"",VLOOKUP(B87,Trier!$A$1:$E$32,4,FALSE)) -> Carotte1 | F87: =IF(ISNA(VLOOKUP(B87,Trier!$A$1:$E$32,5,FALSE)),"",VLOOKUP(B87,Trier!$A$1:$E$32,5,FALSE)) -> Carotte | G87: =IF(ISERROR(VLOOKUP(B87,Trier!$A$1:$F$32,6,FALSE)),"",VLOOKUP(B87,Trier!$A$1:$F$32,6,FALSE)) -> 1 | H87: =IF(ISERROR(VLOOKUP(B87,Trier!$A$1:$G$32,7,FALSE)),"",VLOOKUP(B87,Trier!$A$1:$G$32,7,FALSE)) -> miy | I87: 4.6 | J87: 1 | K87: =IF(ISERROR(I87/J87*86.4),"",I87/J87*86.4) -> 397.44 | L87: =IF(ISERROR(VLOOKUP(B87,Trier!$A$1:$H$32,8,FALSE)),"",VLOOKUP(B87,Trier!$A$1:$H$32,8,FALSE)) -> 0 | O87: =IF(ISERROR(M87/N87*86.4),"",M87/N87*86.4) | P87: =IF(ISERROR(VLOOKUP(B87,Trier!$A$1:$I$32,9,FALSE)),"",VLOOKUP(B87,Trier!$A$1:$I$32,9,FALSE)) -> 0 | S87: =IF(ISERROR(Q87/R87*86.4),"",Q87/R87*86.4) | T87: =IF(ISERROR(SUM(K87,O87,S87)),"",SUM(K87,O87,S87)) -> 397.44 | U87: =MONTH(A:A) -> 8 | V87: =YEAR(A:A) -> 2009
A88: 40066 | B88: 824 | C88: =IF(ISNA(VLOOKUP(B88,Trier!$A$1:$E$32,2,FALSE)),"",VLOOKUP(B88,Trier!$A$1:$E$32,2,FALSE)) -> 924 | D88: =IF(ISNA(VLOOKUP(B88,Trier!$A$1:$E$32,3,FALSE)),"",VLOOKUP(B88,Trier!$A$1:$E$32,3,FALSE)) -> 104 | E88: =IF(ISNA(VLOOKUP(B88,Trier!$A$1:$E$32,4,FALSE)),"",VLOOKUP(B88,Trier!$A$1:$E$32,4,FALSE)) -> poreaux1 | F88: =IF(ISNA(VLOOKUP(B88,Trier!$A$1:$E$32,5,FALSE)),"",VLOOKUP(B88,Trier!$A$1:$E$32,5,FALSE)) -> poireaux | G88: =IF(ISERROR(VLOOKUP(B88,Trier!$A$1:$F$32,6,FALSE)),"",VLOOKUP(B88,Trier!$A$1:$F$32,6,FALSE)) -> 1 | H88: =IF(ISERROR(VLOOKUP(B88,Trier!$A$1:$G$32,7,FALSE)),"",VLOOKUP(B88,Trier!$A$1:$G$32,7,FALSE)) -> hghf | I88: 2 | J88: 28.6 | K88: =IF(ISERROR(I88/J88*86.4),"",I88/J88*86.4) -> 6.041958 | L88: =IF(ISERROR(VLOOKUP(B88,Trier!$A$1:$H$32,8,FALSE)),"",VLOOKUP(B88,Trier!$A$1:$H$32,8,FALSE)) -> 0 | O88: =IF(ISERROR(M88/N88*86.4),"",M88/N88*86.4) | P88: =IF(ISERROR(VLOOKUP(B88,Trier!$A$1:$I$32,9,FALSE)),"",VLOOKUP(B88,Trier!$A$1:$I$32,9,FALSE)) -> 0 | S88: =IF(ISERROR(Q88/R88*86.4),"",Q88/R88*86.4) | T88: =IF(ISERROR(SUM(K88,O88,S88)),"",SUM(K88,O88,S88)) -> 6.041958 | U88: =MONTH(A:A) -> 9 | V88: =YEAR(A:A) -> 2009
A89: 40067 | B89: 828 | C89: =IF(ISNA(VLOOKUP(B89,Trier!$A$1:$E$32,2,FALSE)),"",VLOOKUP(B89,Trier!$A$1:$E$32,2,FALSE)) -> 928 | D89: =IF(ISNA(VLOOKUP(B89,Trier!$A$1:$E$32,3,FALSE)),"",VLOOKUP(B89,Trier!$A$1:$E$32,3,FALSE)) -> 104 | E89: =IF(ISNA(VLOOKUP(B89,Trier!$A$1:$E$32,4,FALSE)),"",VLOOKUP(B89,Trier!$A$1:$E$32,4,FALSE)) -> Radis1 | F89: =IF(ISNA(VLOOKUP(B89,Trier!$A$1:$E$32,5,FALSE)),"",VLOOKUP(B89,Trier!$A$1:$E$32,5,FALSE)) -> Radis | G89: =IF(ISERROR(VLOOKUP(B89,Trier!$A$1:$F$32,6,FALSE)),"",VLOOKUP(B89,Trier!$A$1:$F$32,6,FALSE)) -> 1 | H89: =IF(ISERROR(VLOOKUP(B89,Trier!$A$1:$G$32,7,FALSE)),"",VLOOKUP(B89,Trier!$A$1:$G$32,7,FALSE)) -> ur | I89: 3.5 | J89: 10 | K89: =IF(ISERROR(I89/J89*86.4),"",I89/J89*86.4) -> 30.24 | L89: =IF(ISERROR(VLOOKUP(B89,Trier!$A$1:$H$32,8,FALSE)),"",VLOOKUP(B89,Trier!$A$1:$H$32,8,FALSE)) -> 0 | O89: =IF(ISERROR(M89/N89*86.4),"",M89/N89*86.4) | P89: =IF(ISERROR(VLOOKUP(B89,Trier!$A$1:$I$32,9,FALSE)),"",VLOOKUP(B89,Trier!$A$1:$I$32,9,FALSE)) -> 0 | S89: =IF(ISERROR(Q89/R89*86.4),"",Q89/R89*86.4) | T89: =IF(ISERROR(SUM(K89,O89,S89)),"",SUM(K89,O89,S89)) -> 30.24 | U89: =MONTH(A:A) -> 9 | V89: =YEAR(A:A) -> 2009
A90: 40067 | B90: 824 | C90: =IF(ISNA(VLOOKUP(B90,Trier!$A$1:$E$32,2,FALSE)),"",VLOOKUP(B90,Trier!$A$1:$E$32,2,FALSE)) -> 924 | D90: =IF(ISNA(VLOOKUP(B90,Trier!$A$1:$E$32,3,FALSE)),"",VLOOKUP(B90,Trier!$A$1:$E$32,3,FALSE)) -> 104 | E90: =IF(ISNA(VLOOKUP(B90,Trier!$A$1:$E$32,4,FALSE)),"",VLOOKUP(B90,Trier!$A$1:$E$32,4,FALSE)) -> poreaux1 | F90: =IF(ISNA(VLOOKUP(B90,Trier!$A$1:$E$32,5,FALSE)),"",VLOOKUP(B90,Trier!$A$1:$E$32,5,FALSE)) -> poireaux | G90: =IF(ISERROR(VLOOKUP(B90,Trier!$A$1:$F$32,6,FALSE)),"",VLOOKUP(B90,Trier!$A$1:$F$32,6,FALSE)) -> 1 | H90: =IF(ISERROR(VLOOKUP(B90,Trier!$A$1:$G$32,7,FALSE)),"",VLOOKUP(B90,Trier!$A$1:$G$32,7,FALSE)) -> hghf | I90: 2 | J90: 28 | K90: =IF(ISERROR(I90/J90*86.4),"",I90/J90*86.4) -> 6.1714286 | L90: =IF(ISERROR(VLOOKUP(B90,Trier!$A$1:$H$32,8,FALSE)),"",VLOOKUP(B90,Trier!$A$1:$H$32,8,FALSE)) -> 0 | O90: =IF(ISERROR(M90/N90*86.4),"",M90/N90*86.4) | P90: =IF(ISERROR(VLOOKUP(B90,Trier!$A$1:$I$32,9,FALSE)),"",VLOOKUP(B90,Trier!$A$1:$I$32,9,FALSE)) -> 0 | S90: =IF(ISERROR(Q90/R90*86.4),"",Q90/R90*86.4) | T90: =IF(ISERROR(SUM(K90,O90,S90)),"",SUM(K90,O90,S90)) -> 6.1714286 | U90: =MONTH(A:A) -> 9 | V90: =YEAR(A:A) -> 2009
A91: 40067 | B91: 829 | C91: =IF(ISNA(VLOOKUP(B91,Trier!$A$1:$E$32,2,FALSE)),"",VLOOKUP(B91,Trier!$A$1:$E$32,2,FALSE)) -> 929 | D91: =IF(ISNA(VLOOKUP(B91,Trier!$A$1:$E$32,3,FALSE)),"",VLOOKUP(B91,Trier!$A$1:$E$32,3,FALSE)) -> 104 | E91: =IF(ISNA(VLOOKUP(B91,Trier!$A$1:$E$32,4,FALSE)),"",VLOOKUP(B91,Trier!$A$1:$E$32,4,FALSE)) -> Carotte1 | F91: =IF(ISNA(VLOOKUP(B91,Trier!$A$1:$E$32,5,FALSE)),"",VLOOKUP(B91,Trier!$A$1:$E$32,5,FALSE)) -> Carotte | G91: =IF(ISERROR(VLOOKUP(B91,Trier!$A$1:$F$32,6,FALSE)),"",VLOOKUP(B91,Trier!$A$1:$F$32,6,FALSE)) -> 1 | H91: =IF(ISERROR(VLOOKUP(B91,Trier!$A$1:$G$32,7,FALSE)),"",VLOOKUP(B91,Trier!$A$1:$G$32,7,FALSE)) -> miy | I91: 4.6 | J91: 1 | K91: =IF(ISERROR(I91/J91*86.4),"",I91/J91*86.4) -> 397.44 | L91: =IF(ISERROR(VLOOKUP(B91,Trier!$A$1:$H$32,8,FALSE)),"",VLOOKUP(B91,Trier!$A$1:$H$32,8,FALSE)) -> 0 | O91: =IF(ISERROR(M91/N91*86.4),"",M91/N91*86.4) | P91: =IF(ISERROR(VLOOKUP(B91,Trier!$A$1:$I$32,9,FALSE)),"",VLOOKUP(B91,Trier!$A$1:$I$32,9,FALSE)) -> 0 | S91: =IF(ISERROR(Q91/R91*86.4),"",Q91/R91*86.4) | T91: =IF(ISERROR(SUM(K91,O91,S91)),"",SUM(K91,O91,S91)) -> 397.44 | U91: =MONTH(A:A) -> 9 | V91: =YEAR(A:A) -> 2009
A92: 40102 | B92: 823 | C92: =IF(ISNA(VLOOKUP(B92,Trier!$A$1:$E$32,2,FALSE)),"",VLOOKUP(B92,Trier!$A$1:$E$32,2,FALSE)) -> 923 | D92: =IF(ISNA(VLOOKUP(B92,Trier!$A$1:$E$32,3,FALSE)),"",VLOOKUP(B92,Trier!$A$1:$E$32,3,FALSE)) -> 104 | E92: =IF(ISNA(VLOOKUP(B92,Trier!$A$1:$E$32,4,FALSE)),"",VLOOKUP(B92,Trier!$A$1:$E$32,4,FALSE)) -> Osfond1 | F92: =IF(ISNA(VLOOKUP(B92,Trier!$A$1:$E$32,5,FALSE)),"",VLOOKUP(B92,Trier!$A$1:$E$32,5,FALSE)) -> noisette | G92: =IF(ISERROR(VLOOKUP(B92,Trier!$A$1:$F$32,6,FALSE)),"",VLOOKUP(B92,Trier!$A$1:$F$32,6,FALSE)) -> 1 | H92: =IF(ISERROR(VLOOKUP(B92,Trier!$A$1:$G$32,7,FALSE)),"",VLOOKUP(B92,Trier!$A$1:$G$32,7,FALSE)) -> om | I92: 10 | J92: 60 | K92: =IF(ISERROR(I92/J92*86.4),"",I92/J92*86.4) -> 14.4 | L92: =IF(ISERROR(VLOOKUP(B92,Trier!$A$1:$H$32,8,FALSE)),"",VLOOKUP(B92,Trier!$A$1:$H$32,8,FALSE)) -> 0 | O92: =IF(ISERROR(M92/N92*86.4),"",M92/N92*86.4) | P92: =IF(ISERROR(VLOOKUP(B92,Trier!$A$1:$I$32,9,FALSE)),"",VLOOKUP(B92,Trier!$A$1:$I$32,9,FALSE)) -> 0 | S92: =IF(ISERROR(Q92/R92*86.4),"",Q92/R92*86.4) | T92: =IF(ISERROR(SUM(K92,O92,S92)),"",SUM(K92,O92,S92)) -> 14.4 | U92: =MONTH(A:A) -> 10 | V92: =YEAR(A:A) -> 2009
A93: 40107 | B93: 829 | C93: =IF(ISNA(VLOOKUP(B93,Trier!$A$1:$E$32,2,FALSE)),"",VLOOKUP(B93,Trier!$A$1:$E$32,2,FALSE)) -> 929 | D93: =IF(ISNA(VLOOKUP(B93,Trier!$A$1:$E$32,3,FALSE)),"",VLOOKUP(B93,Trier!$A$1:$E$32,3,FALSE)) -> 104 | E93: =IF(ISNA(VLOOKUP(B93,Trier!$A$1:$E$32,4,FALSE)),"",VLOOKUP(B93,Trier!$A$1:$E$32,4,FALSE)) -> Carotte1 | F93: =IF(ISNA(VLOOKUP(B93,Trier!$A$1:$E$32,5,FALSE)),"",VLOOKUP(B93,Trier!$A$1:$E$32,5,FALSE)) -> Carotte | G93: =IF(ISERROR(VLOOKUP(B93,Trier!$A$1:$F$32,6,FALSE)),"",VLOOKUP(B93,Trier!$A$1:$F$32,6,FALSE)) -> 1 | H93: =IF(ISERROR(VLOOKUP(B93,Trier!$A$1:$G$32,7,FALSE)),"",VLOOKUP(B93,Trier!$A$1:$G$32,7,FALSE)) -> miy | I93: 4 | J93: 1 | K93: =IF(ISERROR(I93/J93*86.4),"",I93/J93*86.4) -> 345.6 | L93: =IF(ISERROR(VLOOKUP(B93,Trier!$A$1:$H$32,8,FALSE)),"",VLOOKUP(B93,Trier!$A$1:$H$32,8,FALSE)) -> 0 | O93: =IF(ISERROR(M93/N93*86.4),"",M93/N93*86.4) | P93: =IF(ISERROR(VLOOKUP(B93,Trier!$A$1:$I$32,9,FALSE)),"",VLOOKUP(B93,Trier!$A$1:$I$32,9,FALSE)) -> 0 | S93: =IF(ISERROR(Q93/R93*86.4),"",Q93/R93*86.4) | T93: =IF(ISERROR(SUM(K93,O93,S93)),"",SUM(K93,O93,S93)) -> 345.6 | U93: =MONTH(A:A) -> 10 | V93: =YEAR(A:A) -> 2009
A94: 40114 | B94: 807 | C94: =IF(ISNA(VLOOKUP(B94,Trier!$A$1:$E$32,2,FALSE)),"",VLOOKUP(B94,Trier!$A$1:$E$32,2,FALSE)) -> 907 | D94: =IF(ISNA(VLOOKUP(B94,Trier!$A$1:$E$32,3,FALSE)),"",VLOOKUP(B94,Trier!$A$1:$E$32,3,FALSE)) -> 104 | E94: =IF(ISNA(VLOOKUP(B94,Trier!$A$1:$E$32,4,FALSE)),"",VLOOKUP(B94,Trier!$A$1:$E$32,4,FALSE)) -> patate douce1 | F94: =IF(ISNA(VLOOKUP(B94,Trier!$A$1:$E$32,5,FALSE)),"",VLOOKUP(B94,Trier!$A$1:$E$32,5,FALSE)) -> patate douce | G94: =IF(ISERROR(VLOOKUP(B94,Trier!$A$1:$F$32,6,FALSE)),"",VLOOKUP(B94,Trier!$A$1:$F$32,6,FALSE)) -> 1 | H94: =IF(ISERROR(VLOOKUP(B94,Trier!$A$1:$G$32,7,FALSE)),"",VLOOKUP(B94,Trier!$A$1:$G$32,7,FALSE)) -> te | I94: 10 | J94: 22.47 | K94: =IF(ISERROR(I94/J94*86.4),"",I94/J94*86.4) -> 38.451268 | L94: =IF(ISERROR(VLOOKUP(B94,Trier!$A$1:$H$32,8,FALSE)),"",VLOOKUP(B94,Trier!$A$1:$H$32,8,FALSE)) -> 0 | O94: =IF(ISERROR(M94/N94*86.4),"",M94/N94*86.4) | P94: =IF(ISERROR(VLOOKUP(B94,Trier!$A$1:$I$32,9,FALSE)),"",VLOOKUP(B94,Trier!$A$1:$I$32,9,FALSE)) -> 0 | S94: =IF(ISERROR(Q94/R94*86.4),"",Q94/R94*86.4) | T94: =IF(ISERROR(SUM(K94,O94,S94)),"",SUM(K94,O94,S94)) -> 38.451268 | U94: =MONTH(A:A) -> 10 | V94: =YEAR(A:A) -> 2009
A95: 40115 | B95: 801 | C95: =IF(ISNA(VLOOKUP(B95,Trier!$A$1:$E$32,2,FALSE)),"",VLOOKUP(B95,Trier!$A$1:$E$32,2,FALSE)) -> 901 | D95: =IF(ISNA(VLOOKUP(B95,Trier!$A$1:$E$32,3,FALSE)),"",VLOOKUP(B95,Trier!$A$1:$E$32,3,FALSE)) -> 104 | E95: =IF(ISNA(VLOOKUP(B95,Trier!$A$1:$E$32,4,FALSE)),"",VLOOKUP(B95,Trier!$A$1:$E$32,4,FALSE)) -> melon1 | F95: =IF(ISNA(VLOOKUP(B95,Trier!$A$1:$E$32,5,FALSE)),"",VLOOKUP(B95,Trier!$A$1:$E$32,5,FALSE)) -> melon | G95: =IF(ISERROR(VLOOKUP(B95,Trier!$A$1:$F$32,6,FALSE)),"",VLOOKUP(B95,Trier!$A$1:$F$32,6,FALSE)) -> 2 | H95: =IF(ISERROR(VLOOKUP(B95,Trier!$A$1:$G$32,7,FALSE)),"",VLOOKUP(B95,Trier!$A$1:$G$32,7,FALSE)) -> bb | I95: 10 | J95: 60 | K95: =IF(ISERROR(I95/J95*86.4),"",I95/J95*86.4) -> 14.4 | L95: =IF(ISERROR(VLOOKUP(B95,Trier!$A$1:$H$32,8,FALSE)),"",VLOOKUP(B95,Trier!$A$1:$H$32,8,FALSE)) -> nd, | M95: 10 | N95: 70 | O95: =IF(ISERROR(M95/N95*86.4),"",M95/N95*86.4) -> 12.342857 | P95: =IF(ISERROR(VLOOKUP(B95,Trier!$A$1:$I$32,9,FALSE)),"",VLOOKUP(B95,Trier!$A$1:$I$32,9,FALSE)) -> 0 | S95: =IF(ISERROR(Q95/R95*86.4),"",Q95/R95*86.4) | T95: =IF(ISERROR(SUM(K95,O95,S95)),"",SUM(K95,O95,S95)) -> 26.742857 | U95: =MONTH(A:A) -> 10 | V95: =YEAR(A:A) -> 2009
A96: 40127 | B96: 829 | C96: =IF(ISNA(VLOOKUP(B96,Trier!$A$1:$E$32,2,FALSE)),"",VLOOKUP(B96,Trier!$A$1:$E$32,2,FALSE)) -> 929 | D96: =IF(ISNA(VLOOKUP(B96,Trier!$A$1:$E$32,3,FALSE)),"",VLOOKUP(B96,Trier!$A$1:$E$32,3,FALSE)) -> 104 | E96: =IF(ISNA(VLOOKUP(B96,Trier!$A$1:$E$32,4,FALSE)),"",VLOOKUP(B96,Trier!$A$1:$E$32,4,FALSE)) -> Carotte1 | F96: =IF(ISNA(VLOOKUP(B96,Trier!$A$1:$E$32,5,FALSE)),"",VLOOKUP(B96,Trier!$A$1:$E$32,5,FALSE)) -> Carotte | G96: =IF(ISERROR(VLOOKUP(B96,Trier!$A$1:$F$32,6,FALSE)),"",VLOOKUP(B96,Trier!$A$1:$F$32,6,FALSE)) -> 1 | H96: =IF(ISERROR(VLOOKUP(B96,Trier!$A$1:$G$32,7,FALSE)),"",VLOOKUP(B96,Trier!$A$1:$G$32,7,FALSE)) -> miy | I96: 3.6 | J96: 1 | K96: =IF(ISERROR(I96/J96*86.4),"",I96/J96*86.4) -> 311.04 | L96: =IF(ISERROR(VLOOKUP(B96,Trier!$A$1:$H$32,8,FALSE)),"",VLOOKUP(B96,Trier!$A$1:$H$32,8,FALSE)) -> 0 | O96: =IF(ISERROR(M96/N96*86.4),"",M96/N96*86.4) | P96: =IF(ISERROR(VLOOKUP(B96,Trier!$A$1:$I$32,9,FALSE)),"",VLOOKUP(B96,Trier!$A$1:$I$32,9,FALSE)) -> 0 | S96: =IF(ISERROR(Q96/R96*86.4),"",Q96/R96*86.4) | T96: =IF(ISERROR(SUM(K96,O96,S96)),"",SUM(K96,O96,S96)) -> 311.04 | U96: =MONTH(A:A) -> 11 | V96: =YEAR(A:A) -> 2009
A97: 40156 | B97: 829 | C97: =IF(ISNA(VLOOKUP(B97,Trier!$A$1:$E$32,2,FALSE)),"",VLOOKUP(B97,Trier!$A$1:$E$32,2,FALSE)) -> 929 | D97: =IF(ISNA(VLOOKUP(B97,Trier!$A$1:$E$32,3,FALSE)),"",VLOOKUP(B97,Trier!$A$1:$E$32,3,FALSE)) -> 104 | E97: =IF(ISNA(VLOOKUP(B97,Trier!$A$1:$E$32,4,FALSE)),"",VLOOKUP(B97,Trier!$A$1:$E$32,4,FALSE)) -> Carotte1 | F97: =IF(ISNA(VLOOKUP(B97,Trier!$A$1:$E$32,5,FALSE)),"",VLOOKUP(B97,Trier!$A$1:$E$32,5,FALSE)) -> Carotte | G97: =IF(ISERROR(VLOOKUP(B97,Trier!$A$1:$F$32,6,FALSE)),"",VLOOKUP(B97,Trier!$A$1:$F$32,6,FALSE)) -> 1 | H97: =IF(ISERROR(VLOOKUP(B97,Trier!$A$1:$G$32,7,FALSE)),"",VLOOKUP(B97,Trier!$A$1:$G$32,7,FALSE)) -> miy | I97: 3.5 | J97: 1 | K97: =IF(ISERROR(I97/J97*86.4),"",I97/J97*86.4) -> 302.4 | L97: =IF(ISERROR(VLOOKUP(B97,Trier!$A$1:$H$32,8,FALSE)),"",VLOOKUP(B97,Trier!$A$1:$H$32,8,FALSE)) -> 0 | O97: =IF(ISERROR(M97/N97*86.4),"",M97/N97*86.4) | P97: =IF(ISERROR(VLOOKUP(B97,Trier!$A$1:$I$32,9,FALSE)),"",VLOOKUP(B97,Trier!$A$1:$I$32,9,FALSE)) -> 0 | S97: =IF(ISERROR(Q97/R97*86.4),"",Q97/R97*86.4) | T97: =IF(ISERROR(SUM(K97,O97,S97)),"",SUM(K97,O97,S97)) -> 302.4 | U97: =MONTH(A:A) -> 12 | V97: =YEAR(A:A) -> 2009
A98: 40169 | B98: 801 | C98: =IF(ISNA(VLOOKUP(B98,Trier!$A$1:$E$32,2,FALSE)),"",VLOOKUP(B98,Trier!$A$1:$E$32,2,FALSE)) -> 901 | D98: =IF(ISNA(VLOOKUP(B98,Trier!$A$1:$E$32,3,FALSE)),"",VLOOKUP(B98,Trier!$A$1:$E$32,3,FALSE)) -> 104 | E98: =IF(ISNA(VLOOKUP(B98,Trier!$A$1:$E$32,4,FALSE)),"",VLOOKUP(B98,Trier!$A$1:$E$32,4,FALSE)) -> melon1 | F98: =IF(ISNA(VLOOKUP(B98,Trier!$A$1:$E$32,5,FALSE)),"",VLOOKUP(B98,Trier!$A$1:$E$32,5,FALSE)) -> melon | G98: =IF(ISERROR(VLOOKUP(B98,Trier!$A$1:$F$32,6,FALSE)),"",VLOOKUP(B98,Trier!$A$1:$F$32,6,FALSE)) -> 2 | H98: =IF(ISERROR(VLOOKUP(B98,Trier!$A$1:$G$32,7,FALSE)),"",VLOOKUP(B98,Trier!$A$1:$G$32,7,FALSE)) -> bb | I98: 10 | J98: 5 | K98: =IF(ISERROR(I98/J98*86.4),"",I98/J98*86.4) -> 172.8 | L98: =IF(ISERROR(VLOOKUP(B98,Trier!$A$1:$H$32,8,FALSE)),"",VLOOKUP(B98,Trier!$A$1:$H$32,8,FALSE)) -> nd, | M98: 5 | N98: 60 | O98: =IF(ISERROR(M98/N98*86.4),"",M98/N98*86.4) -> 7.2 | P98: =IF(ISERROR(VLOOKUP(B98,Trier!$A$1:$I$32,9,FALSE)),"",VLOOKUP(B98,Trier!$A$1:$I$32,9,FALSE)) -> 0 | S98: =IF(ISERROR(Q98/R98*86.4),"",Q98/R98*86.4) | T98: =IF(ISERROR(SUM(K98,O98,S98)),"",SUM(K98,O98,S98)) -> 180 | U98: =MONTH(A:A) -> 12 | V98: =YEAR(A:A) -> 2009
A99: 40171 | B99: 821 | C99: =IF(ISNA(VLOOKUP(B99,Trier!$A$1:$E$32,2,FALSE)),"",VLOOKUP(B99,Trier!$A$1:$E$32,2,FALSE)) -> 921 | D99: =IF(ISNA(VLOOKUP(B99,Trier!$A$1:$E$32,3,FALSE)),"",VLOOKUP(B99,Trier!$A$1:$E$32,3,FALSE)) -> 104 | E99: =IF(ISNA(VLOOKUP(B99,Trier!$A$1:$E$32,4,FALSE)),"",VLOOKUP(B99,Trier!$A$1:$E$32,4,FALSE)) -> aubergine1 | F99: =IF(ISNA(VLOOKUP(B99,Trier!$A$1:$E$32,5,FALSE)),"",VLOOKUP(B99,Trier!$A$1:$E$32,5,FALSE)) -> aubergine | G99: =IF(ISERROR(VLOOKUP(B99,Trier!$A$1:$F$32,6,FALSE)),"",VLOOKUP(B99,Trier!$A$1:$F$32,6,FALSE)) -> 2 | H99: =IF(ISERROR(VLOOKUP(B99,Trier!$A$1:$G$32,7,FALSE)),"",VLOOKUP(B99,Trier!$A$1:$G$32,7,FALSE)) -> l:! | I99: 3 | J99: 60 | K99: =IF(ISERROR(I99/J99*86.4),"",I99/J99*86.4) -> 4.32 | L99: =IF(ISERROR(VLOOKUP(B99,Trier!$A$1:$H$32,8,FALSE)),"",VLOOKUP(B99,Trier!$A$1:$H$32,8,FALSE)) -> hfdhg | M99: 10 | N99: 37 | O99: =IF(ISERROR(M99/N99*86.4),"",M99/N99*86.4) -> 23.351351 | P99: =IF(ISERROR(VLOOKUP(B99,Trier!$A$1:$I$32,9,FALSE)),"",VLOOKUP(B99,Trier!$A$1:$I$32,9,FALSE)) -> 0 | S99: =IF(ISERROR(Q99/R99*86.4),"",Q99/R99*86.4) | T99: =IF(ISERROR(SUM(K99,O99,S99)),"",SUM(K99,O99,S99)) -> 27.671351 | U99: =MONTH(A:A) -> 12 | V99: =YEAR(A:A) -> 2009
A100: 40178 | B100: 829 | C100: =IF(ISNA(VLOOKUP(B100,Trier!$A$1:$E$32,2,FALSE)),"",VLOOKUP(B100,Trier!$A$1:$E$32,2,FALSE)) -> 929 | D100: =IF(ISNA(VLOOKUP(B100,Trier!$A$1:$E$32,3,FALSE)),"",VLOOKUP(B100,Trier!$A$1:$E$32,3,FALSE)) -> 104 | E100: =IF(ISNA(VLOOKUP(B100,Trier!$A$1:$E$32,4,FALSE)),"",VLOOKUP(B100,Trier!$A$1:$E$32,4,FALSE)) -> Carotte1 | F100: =IF(ISNA(VLOOKUP(B100,Trier!$A$1:$E$32,5,FALSE)),"",VLOOKUP(B100,Trier!$A$1:$E$32,5,FALSE)) -> Carotte | G100: =IF(ISERROR(VLOOKUP(B100,Trier!$A$1:$F$32,6,FALSE)),"",VLOOKUP(B100,Trier!$A$1:$F$32,6,FALSE)) -> 1 | H100: =IF(ISERROR(VLOOKUP(B100,Trier!$A$1:$G$32,7,FALSE)),"",VLOOKUP(B100,Trier!$A$1:$G$32,7,FALSE)) -> miy | I100: 3.5 | J100: 1 | K100: =IF(ISERROR(I100/J100*86.4),"",I100/J100*86.4) -> 302.4 | L100: =IF(ISERROR(VLOOKUP(B100,Trier!$A$1:$H$32,8,FALSE)),"",VLOOKUP(B100,Trier!$A$1:$H$32,8,FALSE)) -> 0 | O100: =IF(ISERROR(M100/N100*86.4),"",M100/N100*86.4) | P100: =IF(ISERROR(VLOOKUP(B100,Trier!$A$1:$I$32,9,FALSE)),"",VLOOKUP(B100,Trier!$A$1:$I$32,9,FALSE)) -> 0 | S100: =IF(ISERROR(Q100/R100*86.4),"",Q100/R100*86.4) | T100: =IF(ISERROR(SUM(K100,O100,S100)),"",SUM(K100,O100,S100)) -> 302.4 | U100: =MONTH(A:A) -> 12 | V100: =YEAR(A:A) -> 2009
A101: 40191 | B101: 824 | C101: =IF(ISNA(VLOOKUP(B101,Trier!$A$1:$E$32,2,FALSE)),"",VLOOKUP(B101,Trier!$A$1:$E$32,2,FALSE)) -> 924 | D101: =IF(ISNA(VLOOKUP(B101,Trier!$A$1:$E$32,3,FALSE)),"",VLOOKUP(B101,Trier!$A$1:$E$32,3,FALSE)) -> 104 | E101: =IF(ISNA(VLOOKUP(B101,Trier!$A$1:$E$32,4,FALSE)),"",VLOOKUP(B101,Trier!$A$1:$E$32,4,FALSE)) -> poreaux1 | F101: =IF(ISNA(VLOOKUP(B101,Trier!$A$1:$E$32,5,FALSE)),"",VLOOKUP(B101,Trier!$A$1:$E$32,5,FALSE)) -> poireaux | G101: =IF(ISERROR(VLOOKUP(B101,Trier!$A$1:$F$32,6,FALSE)),"",VLOOKUP(B101,Trier!$A$1:$F$32,6,FALSE)) -> 1 | H101: =IF(ISERROR(VLOOKUP(B101,Trier!$A$1:$G$32,7,FALSE)),"",VLOOKUP(B101,Trier!$A$1:$G$32,7,FALSE)) -> hghf | I101: 1 | J101: 18 | K101: =IF(ISERROR(I101/J101*86.4),"",I101/J101*86.4) -> 4.8 | L101: =IF(ISERROR(VLOOKUP(B101,Trier!$A$1:$H$32,8,FALSE)),"",VLOOKUP(B101,Trier!$A$1:$H$32,8,FALSE)) -> 0 | O101: =IF(ISERROR(M101/N101*86.4),"",M101/N101*86.4) | P101: =IF(ISERROR(VLOOKUP(B101,Trier!$A$1:$I$32,9,FALSE)),"",VLOOKUP(B101,Trier!$A$1:$I$32,9,FALSE)) -> 0 | S101: =IF(ISERROR(Q101/R101*86.4),"",Q101/R101*86.4) | T101: =IF(ISERROR(SUM(K101,O101,S101)),"",SUM(K101,O101,S101)) -> 4.8 | U101: =MONTH(A:A) -> 1 | V101: =YEAR(A:A) -> 2010
A102: 40203 | B102: 829 | C102: =IF(ISNA(VLOOKUP(B102,Trier!$A$1:$E$32,2,FALSE)),"",VLOOKUP(B102,Trier!$A$1:$E$32,2,FALSE)) -> 929 | D102: =IF(ISNA(VLOOKUP(B102,Trier!$A$1:$E$32,3,FALSE)),"",VLOOKUP(B102,Trier!$A$1:$E$32,3,FALSE)) -> 104 | E102: =IF(ISNA(VLOOKUP(B102,Trier!$A$1:$E$32,4,FALSE)),"",VLOOKUP(B102,Trier!$A$1:$E$32,4,FALSE)) -> Carotte1 | F102: =IF(ISNA(VLOOKUP(B102,Trier!$A$1:$E$32,5,FALSE)),"",VLOOKUP(B102,Trier!$A$1:$E$32,5,FALSE)) -> Carotte | G102: =IF(ISERROR(VLOOKUP(B102,Trier!$A$1:$F$32,6,FALSE)),"",VLOOKUP(B102,Trier!$A$1:$F$32,6,FALSE)) -> 1 | H102: =IF(ISERROR(VLOOKUP(B102,Trier!$A$1:$G$32,7,FALSE)),"",VLOOKUP(B102,Trier!$A$1:$G$32,7,FALSE)) -> miy | I102: 3.9 | J102: 1 | K102: =IF(ISERROR(I102/J102*86.4),"",I102/J102*86.4) -> 336.96 | L102: =IF(ISERROR(VLOOKUP(B102,Trier!$A$1:$H$32,8,FALSE)),"",VLOOKUP(B102,Trier!$A$1:$H$32,8,FALSE)) -> 0 | O102: =IF(ISERROR(M102/N102*86.4),"",M102/N102*86.4) | P102: =IF(ISERROR(VLOOKUP(B102,Trier!$A$1:$I$32,9,FALSE)),"",VLOOKUP(B102,Trier!$A$1:$I$32,9,FALSE)) -> 0 | S102: =IF(ISERROR(Q102/R102*86.4),"",Q102/R102*86.4) | T102: =IF(ISERROR(SUM(K102,O102,S102)),"",SUM(K102,O102,S102)) -> 336.96 | U102: =MONTH(A:A) -> 1 | V102: =YEAR(A:A) -> 2010
...

Sheet  Evolution 104 (2)
A1: capitaine | B1: (Tous)
A3: Moyenne de Vol | B3: An
A4: Mois | B4: 1993 | C4: 1999 | D4: 2002 | E4: 2003 | F4: 2004 | G4: 2005 | H4: 2006 | I4: 2007 | J4: 2008 | K4: 2009 | L4: 2010 | M4: 2011 | N4: 2012 | O4: 2013 | P4: 2014 | Q4: 2015 | R4: Total général
A5: janv | F5: 10 | I5: 2 | K5: 10 | L5: 2.45 | M5: 8.5 | Q5: 10 | R5: 8.0666667
A6: févr | H6: 10 | K6: 43.866667 | L6: 1.5 | Q6: 10 | R6: 22.085714
A7: mars | G7: 17.5 | H7: 2 | I7: 2 | J7: 7.5833333 | K7: 3.9571429 | L7: 6.24 | P7: 10 | Q7: 10 | R7: 7.6404762
A8: avr | I8: 8.5 | L8: 3.1666667 | M8: 9 | N8: 2.6266667 | Q8: 10 | R8: 6.1255319
A9: mai | B9: 25 | D9: 12 | I9: 8 | K9: 10 | L9: 7.75 | M9: 6.7083333 | Q9: 10 | R9: 8.8064516
A10: juin | E10: 2 | I10: 19.333333 | J10: 3 | K10: 7 | L10: 7.5071429 | N10: 7.3333333 | O10: 7.5923077 | P10: 9.7411765 | Q10: 7.5384615 | R10: 8.7454545
A11: juil | I11: 10 | K11: 4.6 | L11: 10 | M11: 3.85 | P11: 10 | Q11: 7.0909091 | R11: 7.0481481
A12: août | I12: 5.5 | K12: 2.4 | L12: 3.57 | M12: 4.4 | R12: 3.8676923
A13: sept | C13: 2 | F13: 7 | J13: 10 | K13: 3.025 | L13: 3.7555556 | M13: 6.9 | N13: 4.3 | R13: 4.655
A14: oct | K14: 8.5 | L14: 1.85 | M14: 2 | N14: 1 | R14: 3.8
A15: nov | K15: 3.6 | L15: 10.2 | P15: 8.3294118 | R15: 8.1789474
A16: déc | H16: 2 | I16: 8 | K16: 5 | M16: 2.7636364 | O16: 9.5294118 | P16: 10 | R16: 6.4
A17: Total général | B17: 25 | C17: 2 | D17: 12 | E17: 2 | F17: 8 | G17: 17.5 | H17: 3.1428571 | I17: 9.4642857 | J17: 7.6 | K17: 8.27 | L17: 4.9788679 | M17: 5.3047619 | N17: 3.2238095 | O17: 8.69 | P17: 9.3568627 | Q17: 8.9677419 | R17: 7.486257

Sheet  Evolution 104
B1: 1990 | C1: 1991 | D1: 1992 | E1: 1993 | F1: 1994 | G1: 1995 | H1: 1996 | I1: 1997 | J1: 1998 | K1: 1999 | L1: 2000 | M1: 2001 | N1: 2002 | O1: 2003 | P1: 2004 | Q1: 2005 | R1: 2006 | S1: 2007 | T1: 2008 | U1: 2009 | V1: 2010 | W1: 2011 | X1: 2012 | Y1: 2013 | Z1: 2014 | AA1: 2015 | AB1: 2016 | AC1: 2017 | AD1: 2018 | AE1: 2019 | AF1: 2020
A2: Janvier
A3: Février
A4: Mars
A5: Avril
A6: Mai
A7: Juin
A8: Juillet
A9: Août
A10: Septembre
A11: Octobre
A12: Novembre
A13: Décembre
... A19: cotte de blette

Sheet Trier
A1: Code | B1: N°Ars | C1: Secteur | D1: Commune | E1: Nom des Captages | F1: Nbrs de sources | G1: Nom ou N° sources | H1: Nom ou N° sources | I1: Nom ou N° sources
A2: 800 | B2: 900 | C2: 104 | D2: Chassignoles | E2: pasteque | F2: 3 | G2: aa | H2: lk:j | I2: fhgfs
A3: 801 | B3: 901 | C3: 104 | D3: melon1 | E3: melon | F3: 2 | G3: bb | H3: nd,
A4: 802 | B4: 902 | C4: 104 | D4: mandarine | E4: mandarine | F4: 1 | G4: cc
A5: 803 | B5: 903 | C5: 104 | D5: poivron jaune | E5: poivron jaune | F5: 1 | G5: dd
A6: 804 | B6: 904 | C6: 104 | D6: poivron rouge1 | E6: poivron rouge | F6: 1 | G6: de
A7: 805 | B7: 905 | C7: 104 | D7: cotte de blette1 | E7: cotte de blette | F7: 1 | G7: ae
A8: 806 | B8: 906 | C8: 104 | D8: epinard1 | E8: epinard | F8: 2 | G8: uyj | H8: gfd,fd
A9: 807 | B9: 907 | C9: 104 | D9: patate douce1 | E9: patate douce | F9: 1 | G9: te
A10: 808 | B10: 908 | C10: 104 | D10: avocat1 | E10: avocat | F10: 1 | G10: yty
A11: 809 | B11: 909 | C11: 104 | D11: artichauts1 | E11: artichauts | F11: 2 | G11: k | H11: tjkedk,
A12: 810 | B12: 910 | C12: 104 | D12: potimaron1 | E12: potimaron | F12: 2 | G12: te | H12: tkjtdj
A13: 811 | B13: 911 | C13: 104 | D13: potiron1 | E13: potiron | F13: 1 | G13: iku | H13: srj,dnd
A14: 812 | B14: 912 | C14: 104 | D14: ratatouille1 | E14: ratatouille | F14: 1 | G14: uy-z
A15: 813 | B15: 913 | C15: 104 | D15: cactus1 | E15: cactus | F15: 1 | G15: uj
A16: 814 | B16: 914 | C16: 104 | D16: cassis1 | E16: cassis | F16: 1 | G16: dhg
A17: 815 | B17: 915 | C17: 104 | D17: groseille | E17: groseille | F17: 3 | G17: yty | H17: qgtysjh | I17: ;,hfc
A18: 816 | B18: 916 | C18: 104 | D18: raisin1 | E18: raisin | F18: 3 | G18: tery | H18: frshsj | I18: jdhjs
A19: 817 | B19: 917 | C19: 104 | D19: fraise1 | E19: fraise | F19: 2 | G19: kuy | H19: gfshs
A20: 818 | B20: 918 | C20: 104 | D20: salade1 | E20: salade | F20: 1 | G20: yty
A21: 819 | B21: 919 | C21: 104 | D21: tomate1 | E21: tomate | F21: 1 | G21: tet
A22: 820 | B22: 920 | C22: 104 | D22: cornichons1 | E22: cornichons | F22: 1 | G22: kiu
A23: 821 | B23: 921 | C23: 104 | D23: aubergine1 | E23: aubergine | F23: 2 | G23: l:! | H23: hfdhg
A24: 822 | B24: 922 | C24: 104 | D24: pomme de terre | E24: pomme de terre | F24: 1 | G24: jgj
A25: 823 | B25: 923 | C25: 104 | D25: Osfond1 | E25: noisette | F25: 1 | G25: om
A26: 824 | B26: 924 | C26: 104 | D26: poreaux1 | E26: poireaux | F26: 1 | G26: hghf
A27: 825 | B27: 925 | C27: 104 | D27: courgette1 | E27: courgette | F27: 2 | G27: ly | H27: xcbfd
A28: 826 | B28: 926 | C28: 104 | D28: noix1 | E28: noix | F28: 1 | G28: tjutytr
A29: 827 | B29: 927 | C29: 104 | D29: Pomme | E29: Pomme | F29: 1 | G29: tir
A30: 828 | B30: 928 | C30: 104 | D30: Radis1 | E30: Radis | F30: 1 | G30: ur
A31: 829 | B31: 929 | C31: 104 | D31: Carotte1 | E31: Carotte | F31: 1 | G31: miy
B32: 930

Sheet Bdd liste deroulante
A1: 104
A2: voiture | B2: ABRICOT | C2: POIRE | D2: PECHE
A3: ABRICOT | B3: =Trier!$E$31 -> Carotte | C3: =Trier!$E$11 -> artichauts | D3: =Trier!$E$30 -> Radis
A4: POIRE | C4: =Trier!E7 -> cotte de blette | D4: =Trier!$E$13 -> potiron
A5: PECHE | C5: =Trier!E8 -> epinard | D5: =Trier!$E$3 -> melon
C6: =Trier!E9 -> patate douce | D6: =Trier!$E$28 -> noix
C7: =Trier!$E$12 -> potimaron | D7: =Trier!$E$27 -> courgette
C8: =Trier!$E$10 -> avocat | D8: =Trier!E14 -> ratatouille
C9: =Trier!E17 -> groseille | D9: =Trier!E15 -> cactus
C10: =Trier!E18 -> raisin | D10: =Trier!E25 -> noisette
C11: =Trier!E19 -> fraise | D11: =Trier!E26 -> poireaux
C12: Le fronvel | D12: =Trier!$E$29 -> Pomme
C13: =Trier!$E$23 -> aubergine | D13: =Trier!$E$24 -> pomme de terre
C14: =Trier!$E$22 -> cornichons | D14: =Trier!E4 -> mandarine
C15: =Trier!$E$20 -> salade | D15: =Trier!E5 -> poivron jaune
C16: =Trier!$E$6 -> poivron rouge | D16: =Trier!$E$2 -> pasteque
C17: =Trier!$E$21 -> tomate
