Workbook
Name abricot: 'Bdd liste deroulante'!$B$3
Name base: OFFSET(Jeaugeage!$A$1,,,COUNTA(Jeaugeage!$A:$A),COUNTA(Jeaugeage!$1:$1))
Name H.B: ' Evolution 104 (2)'!#REF!
Name H.B: ' Evolution 104'!$A$16
Name peche: 'Bdd liste deroulante'!$D$3:$D$16
Name poire: 'Bdd liste deroulante'!$C$3:$C$17
Name voiture: 'Bdd liste deroulante'!$A$3:$A$5

Sheet Jeaugeage
A1: Date | B1: Code | C1: xxx | D1: Sect | E1: chaussettes | F1: capitaine | G1: Arrivée Nbrs | H1: xxxx | I1: Vol | J1: Temps | K1: M3 /J | L1: xxxx | M1: Vol | N1: Temps | O1: M3 /J | P1: xxxx | Q1: Vol | R1: Temps | S1: M3 /J | T1: Total M3/J | U1: Mois | V1: Année | W1: Observations
A2: 34100 | B2: 825 | C2: =IF(ISNA(VLOOKUP(B2,Trier!$A$1:$E$32,2,FALSE)),"",VLOOKUP(B2,Trier!$A$1:$E$32,2,FALSE)) -> 925 | D2: =IF(ISNA(VLOOKUP(B2,Trier!$A$1:$E$32,3,FALSE)),"",VLOOKUP(B2,Trier!$A$1:$E$32,3,FALSE)) -> 104 | E2: =IF(ISNA(VLOOKUP(B2,Trier!$A$1:$E$32,4,FALSE)),"",VLOOKUP(B2,Trier!$A$1:$E$32,4,FALSE)) -> courgette1 | F2: =IF(ISNA(VLOOKUP(B2,Trier!$A$1:$E$32,5,FALSE)),"",VLOOKUP(B2,Trier!$A$1:$E$32,5,FALSE)) -> courgette | G2: =IF(ISERROR(VLOOKUP(B2,Trier!$A$1:$F$32,6,FALSE)),"",VLOOKUP(B2,Trier!$A$1:$F$32,6,FALSE)) -> 2 | H2: =IF(ISERROR(VLOOKUP(B2,Trier!$A$1:$G$32,7,FALSE)),"",VLOOKUP(B2,Trier!$A$1:$G$32,7,FALSE)) -> ly | I2: 25 | J2: 60 | K2: =IF(ISERROR(I2/J2*86.4),"",I2/J2*86.4) -> 36 | L2: =IF(ISERROR(VLOOKUP(B2,Trier!$A$1:$H$32,8,FALSE)),"",VLOOKUP(B2,Trier!$A$1:$H$32,8,FALSE)) -> xcbfd | M2: 20 | N2: 60 | O2: =IF(ISERROR(M2/N2*86.4),"",M2/N2*86.4) -> 28.8 | P2: =IF(ISERROR(VLOOKUP(B2,Trier!$A$1:$I$32,9,FALSE)),"",VLOOKUP(B2,Trier!$A$1:$I$32,9,FALSE)) -> 0 | S2: =IF(ISERROR(Q2/R2*86.4),"",Q2/R2*86.4) | T2: =IF(ISERROR(SUM(K2,O2,S2)),"",SUM(K2,O2,S2)) -> 64.8 | U2: =MONTH(A:A) -> 5 | V2: =YEAR(A:A) -> 1993
A3: 36417 | B3: 825 | C3: =IF(ISNA(VLOOKUP(B3,Trier!$A$1:$E$32,2,FALSE)),"",VLOOKUP(B3,Trier!$A$1:$E$32,2,FALSE)) -> 925 | D3: =IF(ISNA(VLOOKUP(B3,Trier!$A$1:$E$32,3,FALSE)),"",VLOOKUP(B3,Trier!$A$1:$E$32,3,FALSE)) -> 104 | E3: =IF(ISNA(VLOOKUP(B3,Trier!$A$1:$E$32,4,FALSE)),"",VLOOKUP(B3,Trier!$A$1:$E$32,4,FALSE)) -> courgette1 | F3: =IF(ISNA(VLOOKUP(B3,Trier!$A$1:$E$32,5,FALSE)),"",VLOOKUP(B3,Trier!$A$1:$E$32,5,FALSE)) -> courgette | G3: =IF(ISERROR(VLOOKUP(B3,Trier!$A$1:$F$32,6,FALSE)),"",VLOOKUP(B3,Trier!$A$1:$F$32,6,FALSE)) -> 2 | H3: =IF(ISERROR(VLOOKUP(B3,Trier!$A$1:$G$32,7,FALSE)),"",VLOOKUP(B3,Trier!$A$1:$G$32,7,FALSE)) -> ly | I3: 2 | J3: =60+27 -> 87 | K3: =IF(ISERROR(I3/J3*86.4),"",I3/J3*86.4) -> 1.9862069 | L3: =IF(ISERROR(VLOOKUP(B3,Trier!$A$1:$H$32,8,FALSE)),"",VLOOKUP(B3,Trier!$A$1:$H$32,8,FALSE)) -> xcbfd | O3: =IF(ISERROR(M3/N3*86.4),"",M3/N3*86.4) | P3: =IF(ISERROR(VLOOKUP(B3,Trier!$A$1:$I$32,9,FALSE)),"",VLOOKUP(B3,Trier!$A$1:$I$32,9,FALSE)) -> 0 | S3: =IF(ISERROR(Q3/R3*86.4),"",Q3/R3*86.4) | T3: =IF(ISERROR(SUM(K3,O3,S3)),"",SUM(K3,O3,S3)) -> 1.9862069 | U3: =MONTH(A:A) -> 9 | V3: =YEAR(A:A) -> 1999
A4: 37394 | B4: 811 | C4: =IF(ISNA(VLOOKUP(B4,Trier!$A$1:$E$32,2,FALSE)),"",VLOOKUP(B4,Trier!$A$1:$E$32,2,FALSE)) -> 911 | D4: =IF(ISNA(VLOOKUP(B4,Trier!$A$1:$E$32,3,FALSE)),"",VLOOKUP(B4,Trier!$A$1:$E$32,3,FALSE)) -> 104 | E4: =IF(ISNA(VLOOKUP(B4,Trier!$A$1:$E$32,4,FALSE)),"",VLOOKUP(B4,Trier!$A$1:$E$32,4,FALSE)) -> potiron1 | F4: =IF(ISNA(VLOOKUP(B4,Trier!$A$1:$E$32,5,FALSE)),"",VLOOKUP(B4,Trier!$A$1:$E$32,5,FALSE)) -> potiron | G4: =IF(ISERROR(VLOOKUP(B4,Trier!$A$1:$F$32,6,FALSE)),"",VLOOKUP(B4,Trier!$A$1:$F$32,6,FALSE)) -> 1 | H4: =IF(ISERROR(VLOOKUP(B4,Trier!$A$1:$G$32,7,FALSE)),"",VLOOKUP(B4,Trier!$A$1:$G$32,7,FALSE)) -> iku | I4: 12 | J4: 157 | K4: =IF(ISERROR(I4/J4*86.4),"",I4/J4*86.4) -> 6.6038217 | L4: =IF(ISERROR(VLOOKUP(B4,Trier!$A$1:$H$32,8,FALSE)),"",VLOOKUP(B4,Trier!$A$1:$H$32,8,FALSE)) -> srj,dnd | O4: =IF(ISERROR(M4/N4*86.4),"",M4/N4*86.4) | P4: =IF(ISERROR(VLOOKUP(B4,Trier!$A$1:$I$32,9,FALSE)),"",VLOOKUP(B4,Trier!$A$1:$I$32,9,FALSE)) -> 0 | S4: =IF(ISERROR(Q4/R4*86.4),"",Q4/R4*86.4) | T4: =IF(ISERROR(SUM(K4,O4,S4)),"",SUM(K4,O4,S4)) -> 6.6038217 | U4: =MONTH(A:A) -> 5 | V4: =YEAR(A:A) -> 2002
A5: 37798 | B5: 801 | C5: =IF(ISNA(VLOOKUP(B5,Trier!$A$1:$E$32,2,FALSE)),"",VLOOKUP(B5,Trier!$A$1:$E$32,2,FALSE)) -> 901 | D5: =IF(ISNA(VLOOKUP(B5,Trier!$A$1:$E$32,3,FALSE)),"",VLOOKUP(B5,Trier!$A$1:$E$32,3,FALSE)) -> 104 | E5: =IF(ISNA(VLOOKUP(B5,Trier!$A$1:$E$32,4,FALSE)),"",VLOOKUP(B5,Trier!$A$1:$E$32,4,FALSE)) -> melon1 | F5: =IF(ISNA(VLOOKUP(B5,Trier!$A$1:$E$32,5,FALSE)),"",VLOOKUP(B5,Trier!$A$1:$E$32,5,FALSE)) -> melon | G5: =IF(ISERROR(VLOOKUP(B5,Trier!$A$1:$F$32,6,FALSE)),"",VLOOKUP(B5,Trier!$A$1:$F$32,6,FALSE)) -> 2 | H5: =IF(ISERROR(VLOOKUP(B5,Trier!$A$1:$G$32,7,FALSE)),"",VLOOKUP(B5,Trier!$A$1:$G$32,7,FALSE)) -> bb | I5: 2 | J5: 17 | K5: =IF(ISERROR(I5/J5*86.4),"",I5/J5*86.4) -> 10.164706 | L5: =IF(ISERROR(VLOOKUP(B5,Trier!$A$1:$H$32,8,FALSE)),"",VLOOKUP(B5,Trier!$A$1:$H$32,8,FALSE)) -> nd, | M5: 2 | N5: 23 | O5: =IF(ISERROR(M5/N5*86.4),"",M5/N5*86.4) -> 7.5130435 | P5: =IF(ISERROR(VLOOKUP(B5,Trier!$A$1:$I$32,9,FALSE)),"",VLOOKUP(B5,Trier!$A$1:$I$32,9,FALSE)) -> 0 | S5: =IF(ISERROR(Q5/R5*86.4),"",Q5/R5*86.4) | T5: =IF(ISERROR(SUM(K5,O5,S5)),"",SUM(K5,O5,S5)) -> 17.677749 | U5: =MONTH(A:A) -> 6 | V5: =YEAR(A:A) -> 2003
A6: 37999 | B6: 812 | C6: =IF(ISNA(VLOOKUP(B6,Trier!$A$1:$E$32,2,FALSE)),"",VLOOKUP(B6,Trier!$A$1:$E$32,2,FALSE)) -> 912 | D6: =IF(ISNA(VLOOKUP(B6,Trier!$A$1:$E$32,3,FALSE)),"",VLOOKUP(B6,Trier!$A$1:$E$32,3,FALSE)) -> 104 | E6: =IF(ISNA(VLOOKUP(B6,Trier!$A$1:$E$32,4,FALSE)),"",VLOOKUP(B6,Trier!$A$1:$E$32,4,FALSE)) -> ratatouille1 | F6: =IF(ISNA(VLOOKUP(B6,Trier!$A$1:$E$32,5,FALSE)),"",VLOOKUP(B6,Trier!$A$1:$E$32,5,FALSE)) -> ratatouille | G6: =IF(ISERROR(VLOOKUP(B6,Trier!$A$1:$F$32,6,FALSE)),"",VLOOKUP(B6,Trier!$A$1:$F$32,6,FALSE)) -> 1 | H6: =IF(ISERROR(VLOOKUP(B6,Trier!$A$1:$G$32,7,FALSE)),"",VLOOKUP(B6,Trier!$A$1:$G$32,7,FALSE)) -> uy-z | I6: 10 | J6: 14 | K6: =IF(ISERROR(I6/J6*86.4),"",I6/J6*86.4) -> 61.714286 | L6: =IF(ISERROR(VLOOKUP(B6,Trier!$A$1:$H$32,8,FALSE)),"",VLOOKUP(B6,Trier!$A$1:$H$32,8,FALSE)) -> 0 | O6: =IF(ISERROR(M6/N6*86.4),"",M6/N6*86.4) | P6: =IF(ISERROR(VLOOKUP(B6,Trier!$A$1:$I$32,9,FALSE)),"",VLOOKUP(B6,Trier!$A$1:$I$32,9,FALSE)) -> 0 | S6: =IF(ISERROR(Q6/R6*86.4),"",Q6/R6*86.4) | T6: =IF(ISERROR(SUM(K6,O6,S6)),"",SUM(K6,O6,S6)) -> 61.714286 | U6: =MONTH(A:A) -> 1 | V6: =YEAR(A:A) -> 2004
A7: 38251 | B7: 823 | C7: =IF(ISNA(VLOOKUP(B7,Trier!$A$1:$E$32,2,FALSE)),"",VLOOKUP(B7,Trier!$A$1:$E$32,2,FALSE)) -> 923 | D7: =IF(ISNA(VLOOKUP(B7,Trier!$A$1:$E$32,3,FALSE)),"",VLOOKUP(B7,Trier!$A$1:$E$32,3,FALSE)) -> 104 | E7: =IF(ISNA(VLOOKUP(B7,Trier!$A$1:$E$32,4,FALSE)),"",VLOOKUP(B7,Trier!$A$1:$E$32,4,FALSE)) -> Osfond1 | F7: =IF(ISNA(VLOOKUP(B7,Trier!$A$1:$E$32,5,FALSE)),"",VLOOKUP(B7,Trier!$A$1:$E$32,5,FALSE)) -> noisette | G7: =IF(ISERROR(VLOOKUP(B7,Trier!$A$1:$F$32,6,FALSE)),"",VLOOKUP(B7,Trier!$A$1:$F$32,6,FALSE)) -> 1 | H7: =IF(ISERROR(VLOOKUP(B7,Trier!$A$1:$G$32,7,FALSE)),"",VLOOKUP(B7,Trier!$A$1:$G$32,7,FALSE)) -> om | I7: 10 | J7: 60 | K7: =IF(ISERROR(I7/J7*86.4),"",I7/J7*86.4) -> 14.4 | L7: =IF(ISERROR(VLOOKUP(B7,Trier!$A$1:$H$32,8,FALSE)),"",VLOOKUP(B7,Trier!$A$1:$H$32,8,FALSE)) -> 0 | O7: =IF(ISERROR(M7/N7*86.4),"",M7/N7*86.4) | P7: =IF(ISERROR(VLOOKUP(B7,Trier!$A$1:$I$32,9,FALSE)),"",VLOOKUP(B7,Trier!$A$1:$I$32,9,FALSE)) -> 0 | S7: =IF(ISERROR(Q7/R7*86.4),"",Q7/R7*86.4) | T7: =IF(ISERROR(SUM(K7,O7,S7)),"",SUM(K7,O7,S7)) -> 14.4 | U7: =MONTH(A:A) -> 9 | V7: =YEAR(A:A) -> 2004
A8: 38251 | B8: 824 | C8: =IF(ISNA(VLOOKUP(B8,Trier!$A$1:$E$32,2,FALSE)),"",VLOOKUP(B8,Trier!$A$1:$E$32,2,FALSE)) -> 924 | D8: =IF(ISNA(VLOOKUP(B8,Trier!$A$1:$E$32,3,FALSE)),"",VLOOKUP(B8,Trier!$A$1:$E$32,3,FALSE)) -> 104 | E8: =IF(ISNA(VLOOKUP(B8,Trier!$A$1:$E$32,4,FALSE)),"",VLOOKUP(B8,Trier!$A$1:$E$32,4,FALSE)) -> poreaux1 | F8: =IF(ISNA(VLOOKUP(B8,Trier!$A$1:$E$32,5,FALSE)),"",VLOOKUP(B8,Trier!$A$1:$E$32,5,FALSE)) -> poireaux | G8: =IF(ISERROR(VLOOKUP(B8,Trier!$A$1:$F$32,6,FALSE)),"",VLOOKUP(B8,Trier!$A$1:$F$32,6,FALSE)) -> 1 | H8: =IF(ISERROR(VLOOKUP(B8,Trier!$A$1:$G$32,7,FALSE)),"",VLOOKUP(B8,Trier!$A$1:$G$32,7,FALSE)) -> hghf | I8: 4 | J8: 60 | K8: =IF(ISERROR(I8/J8*86.4),"",I8/J8*86.4) -> 5.76 | L8: =IF(ISERROR(VLOOKUP(B8,Trier!$A$1:$H$32,8,FALSE)),"",VLOOKUP(B8,Trier!$A$1:$H$32,8,FALSE)) -> 0 | O8: =IF(ISERROR(M8/N8*86.4),"",M8/N8*86.4) | P8: =IF(ISERROR(VLOOKUP(B8,Trier!$A$1:$I$32,9,FALSE)),"",VLOOKUP(B8,Trier!$A$1:$I$32,9,FALSE)) -> 0 | S8: =IF(ISERROR(Q8/R8*86.4),"",Q8/R8*86.4) | T8: =IF(ISERROR(SUM(K8,O8,S8)),"",SUM(K8,O8,S8)) -> 5.76 | U8: =MONTH(A:A) -> 9 | V8: =YEAR(A:A) -> 2004
A9: 38426 | B9: 801 | C9: =IF(ISNA(VLOOKUP(B9,Trier!$A$1:$E$32,2,FALSE)),"",VLOOKUP(B9,Trier!$A$1:$E$32,2,FALSE)) -> 901 | D9: =IF(ISNA(VLOOKUP(B9,Trier!$A$1:$E$32,3,FALSE)),"",VLOOKUP(B9,Trier!$A$1:$E$32,3,FALSE)) -> 104 | E9: =IF(ISNA(VLOOKUP(B9,Trier!$A$1:$E$32,4,FALSE)),"",VLOOKUP(B9,Trier!$A$1:$E$32,4,FALSE)) -> melon1 | F9: =IF(ISNA(VLOOKUP(B9,Trier!$A$1:$E$32,5,FALSE)),"",VLOOKUP(B9,Trier!$A$1:$E$32,5,FALSE)) -> melon | G9: =IF(ISERROR(VLOOKUP(B9,Trier!$A$1:$F$32,6,FALSE)),"",VLOOKUP(B9,Trier!$A$1:$F$32,6,FALSE)) -> 2 | H9: =IF(ISERROR(VLOOKUP(B9,Trier!$A$1:$G$32,7,FALSE)),"",VLOOKUP(B9,Trier!$A$1:$G$32,7,FALSE)) -> bb | I9: 19 | J9: 60 | K9: =IF(ISERROR(I9/J9*86.4),"",I9/J9*86.4) -> 27.36 | L9: =IF(ISERROR(VLOOKUP(B9,Trier!$A$1:$H$32,8,FALSE)),"",VLOOKUP(B9,Trier!$A$1:$H$32,8,FALSE)) -> nd, | M9: 60 | N9: 60 | O9: =IF(ISERROR(M9/N9*86.4),"",M9/N9*86.4) -> 86.4 | P9: =IF(ISERROR(VLOOKUP(B9,Trier!$A$1:$I$32,9,FALSE)),"",VLOOKUP(B9,Trier!$A$1:$I$32,9,FALSE)) -> 0 | S9: =IF(ISERROR(Q9/R9*86.4),"",Q9/R9*86.4) | T9: =IF(ISERROR(SUM(K9,O9,S9)),"",SUM(K9,O9,S9)) -> 113.76 | U9: =MONTH(A:A) -> 3 | V9: =YEAR(A:A) -> 2005
A10: 38441 | B10: 801 | C10: =IF(ISNA(VLOOKUP(B10,Trier!$A$1:$E$32,2,FALSE)),"",VLOOKUP(B10,Trier!$A$1:$E$32,2,FALSE)) -> 901 | D10: =IF(ISNA(VLOOKUP(B10,Trier!$A$1:$E$32,3,FALSE)),"",VLOOKUP(B10,Trier!$A$1:$E$32,3,FALSE)) -> 104 | E10: =IF(ISNA(VLOOKUP(B10,Trier!$A$1:$E$32,4,FALSE)),"",VLOOKUP(B10,Trier!$A$1:$E$32,4,FALSE)) -> melon1 | F10: =IF(ISNA(VLOOKUP(B10,Trier!$A$1:$E$32,5,FALSE)),"",VLOOKUP(B10,Trier!$A$1:$E$32,5,FALSE)) -> melon | G10: =IF(ISERROR(VLOOKUP(B10,Trier!$A$1:$F$32,6,FALSE)),"",VLOOKUP(B10,Trier!$A$1:$F$32,6,FALSE)) -> 2 | H10: =IF(ISERROR(VLOOKUP(B10,Trier!$A$1:$G$32,7,FALSE)),"",VLOOKUP(B10,Trier!$A$1:$G$32,7,FALSE)) -> bb | I10: 16 | J10: 60 | K10: =IF(ISERROR(I10/J10*86.4),"",I10/J10*86.4) -> 23.04 | L10: =IF(ISERROR(VLOOKUP(B10,Trier!$A$1:$H$32,8,FALSE)),"",VLOOKUP(B10,Trier!$A$1:$H$32,8,FALSE)) -> nd, | M10: 74 | N10: 60 | O10: =IF(ISERROR(M10/N10*86.4),"",M10/N10*86.4) -> 106.56 | P10: =IF(ISERROR(VLOOKUP(B10,Trier!$A$1:$I$32,9,FALSE)),"",VLOOKUP(B10,Trier!$A$1:$I$32,9,FALSE)) -> 0 | S10: =IF(ISERROR(Q10/R10*86.4),"",Q10/R10*86.4) | T10: =IF(ISERROR(SUM(K10,O10,S10)),"",SUM(K10,O10,S10)) -> 129.6 | U10: =MONTH(A:A) -> 3 | V10: =YEAR(A:A) -> 2005
A11: 38757 | B11: 823 | C11: =IF(ISNA(VLOOKUP(B11,Trier!$A$1:$E$32,2,FALSE)),"",VLOOKUP(B11,Trier!$A$1:$E$32,2,FALSE)) -> 923 | D11: =IF(ISNA(VLOOKUP(B11,Trier!$A$1:$E$32,3,FALSE)),"",VLOOKUP(B11,Trier!$A$1:$E$32,3,FALSE)) -> 104 | E11: =IF(ISNA(VLOOKUP(B11,Trier!$A$1:$E$32,4,FALSE)),"",VLOOKUP(B11,Trier!$A$1:$E$32,4,FALSE)) -> Osfond1 | F11: =IF(ISNA(VLOOKUP(B11,Trier!$A$1:$E$32,5,FALSE)),"",VLOOKUP(B11,Trier!$A$1:$E$32,5,FALSE)) -> noisette | G11: =IF(ISERROR(VLOOKUP(B11,Trier!$A$1:$F$32,6,FALSE)),"",VLOOKUP(B11,Trier!$A$1:$F$32,6,FALSE)) -> 1 | H11: =IF(ISERROR(VLOOKUP(B11,Trier!$A$1:$G$32,7,FALSE)),"",VLOOKUP(B11,Trier!$A$1:$G$32,7,FALSE)) -> om | I11: 10 | J11: 40 | K11: =IF(ISERROR(I11/J11*86.4),"",I11/J11*86.4) -> 21.6 | L11: =IF(ISERROR(VLOOKUP(B11,Trier!$A$1:$H$32,8,FALSE)),"",VLOOKUP(B11,Trier!$A$1:$H$32,8,FALSE)) -> 0 | O11: =IF(ISERROR(M11/N11*86.4),"",M11/N11*86.4) | P11: =IF(ISERROR(VLOOKUP(B11,Trier!$A$1:$I$32,9,FALSE)),"",VLOOKUP(B11,Trier!$A$1:$I$32,9,FALSE)) -> 0 | S11: =IF(ISERROR(Q11/R11*86.4),"",Q11/R11*86.4) | T11: =IF(ISERROR(SUM(K11,O11,S11)),"",SUM(K11,O11,S11)) -> 21.6 | U11: =MONTH(A:A) -> 2 | V11: =YEAR(A:A) -> 2006
A12: 38779 | B12: 812 | C12: =IF(ISNA(VLOOKUP(B12,Trier!$A$1:$E$32,2,FALSE)),"",VLOOKUP(B12,Trier!$A$1:$E$32,2,FALSE)) -> 912 | D12: =IF(ISNA(VLOOKUP(B12,Trier!$A$1:$E$32,3,FALSE)),"",VLOOKUP(B12,Trier!$A$1:$E$32,3,FALSE)) -> 104 | E12: =IF(ISNA(VLOOKUP(B12,Trier!$A$1:$E$32,4,FALSE)),"",VLOOKUP(B12,Trier!$A$1:$E$32,4,FALSE)) -> ratatouille1 | F12: =IF(ISNA(VLOOKUP(B12,Trier!$A$1:$E$32,5,FALSE)),"",VLOOKUP(B12,Trier!$A$1:$E$32,5,FALSE)) -> ratatouille | G12: =IF(ISERROR(VLOOKUP(B12,Trier!$A$1:$F$32,6,FALSE)),"",VLOOKUP(B12,Trier!$A$1:$F$32,6,FALSE)) -> 1 | H12: =IF(ISERROR(VLOOKUP(B12,Trier!$A$1:$G$32,7,FALSE)),"",VLOOKUP(B12,Trier!$A$1:$G$32,7,FALSE)) -> uy-z | I12: 2 | J12: 75 | K12: =IF(ISERROR(I12/J12*86.4),"",I12/J12*86.4) -> 2.304 | L12: =IF(ISERROR(VLOOKUP(B12,Trier!$A$1:$H$32,8,FALSE)),"",VLOOKUP(B12,Trier!$A$1:$H$32,8,FALSE)) -> 0 | O12: =IF(ISERROR(M12/N12*86.4),"",M12/N12*86.4) | P12: =IF(ISERROR(VLOOKUP(B12,Trier!$A$1:$I$32,9,FALSE)),"",VLOOKUP(B12,Trier!$A$1:$I$32,9,FALSE)) -> 0 | S12: =IF(ISERROR(Q12/R12*86.4),"",Q12/R12*86.4) | T12: =IF(ISERROR(SUM(K12,O12,S12)),"",SUM(K12,O12,S12)) -> 2.304 | U12: =MONTH(A:A) -> 3 | V12: =YEAR(A:A) -> 2006
A13: 38779 | B13: 824 | C13: =IF(ISNA(VLOOKUP(B13,Trier!$A$1:$E$32,2,FALSE)),"",VLOOKUP(B13,Trier!$A$1:$E$32,2,FALSE)) -> 924 | D13: =IF(ISNA(VLOOKUP(B13,Trier!$A$1:$E$32,3,FALSE)),"",VLOOKUP(B13,Trier!$A$1:$E$32,3,FALSE)) -> 104 | E13: =IF(ISNA(VLOOKUP(B13,Trier!$A$1:$E$32,4,FALSE)),"",VLOOKUP(B13,Trier!$A$1:$E$32,4,FALSE)) -> poreaux1 | F13: =IF(ISNA(VLOOKUP(B13,Trier!$A$1:$E$32,5,FALSE)),"",VLOOKUP(B13,Trier!$A$1:$E$32,5,FALSE)) -> poireaux | G13: =IF(ISERROR(VLOOKUP(B13,Trier!$A$1:$F$32,6,FALSE)),"",VLOOKUP(B13,Trier!$A$1:$F$32,6,FALSE)) -> 1 | H13: =IF(ISERROR(VLOOKUP(B13,Trier!$A$1:$G$32,7,FALSE)),"",VLOOKUP(B13,Trier!$A$1:$G$32,7,FALSE)) -> hghf | I13: 2 | J13: 19 | K13: =IF(ISERROR(I13/J13*86.4),"",I13/J13*86.4) -> 9.0947368 | L13: =IF(ISERROR(VLOOKUP(B13,Trier!$A$1:$H$32,8,FALSE)),"",VLOOKUP(B13,Trier!$A$1:$H$32,8,FALSE)) -> 0 | O13: =IF(ISERROR(M13/N13*86.4),"",M13/N13*86.4) | P13: =IF(ISERROR(VLOOKUP(B13,Trier!$A$1:$I$32,9,FALSE)),"",VLOOKUP(B13,Trier!$A$1:$I$32,9,FALSE)) -> 0 | S13: =IF(ISERROR(Q13/R13*86.4),"",Q13/R13*86.4) | T13: =IF(ISERROR(SUM(K13,O13,S13)),"",SUM(K13,O13,S13)) -> 9.0947368 | U13: =MONTH(A:A) -> 3 | V13: =YEAR(A:A) -> 2006
A14: 39052 | B14: 824 | C14: =IF(ISNA(VLOOKUP(B14,Trier!$A$1:$E$32,2,FALSE)),"",VLOOKUP(B14,Trier!$A$1:$E$32,2,FALSE)) -> 924 | D14: =IF(ISNA(VLOOKUP(B14,Trier!$A$1:$E$32,3,FALSE)),"",VLOOKUP(B14,Trier!$A$1:$E$32,3,FALSE)) -> 104 | E14: =IF(ISNA(VLOOKUP(B14,Trier!$A$1:$E$32,4,FALSE)),"",VLOOKUP(B14,Trier!$A$1:$E$32,4,FALSE)) -> poreaux1 | F14: =IF(ISNA(VLOOKUP(B14,Trier!$A$1:$E$32,5,FALSE)),"",VLOOKUP(B14,Trier!$A$1:$E$32,5,FALSE)) -> poireaux | G14: =IF(ISERROR(VLOOKUP(B14,Trier!$A$1:$F$32,6,FALSE)),"",VLOOKUP(B14,Trier!$A$1:$F$32,6,FALSE)) -> 1 | H14: =IF(ISERROR(VLOOKUP(B14,Trier!$A$1:$G$32,7,FALSE)),"",VLOOKUP(B14,Trier!$A$1:$G$32,7,FALSE)) -> hghf | I14: 2 | J14: 11 | K14: =IF(ISERROR(I14/J14*86.4),"",I14/J14*86.4) -> 15.709091 | L14: =IF(ISERROR(VLOOKUP(B14,Trier!$A$1:$H$32,8,FALSE)),"",VLOOKUP(B14,Trier!$A$1:$H$32,8,FALSE)) -> 0 | O14: =IF(ISERROR(M14/N14*86.4),"",M14/N14*86.4) | P14: =IF(ISERROR(VLOOKUP(B14,Trier!$A$1:$I$32,9,FALSE)),"",VLOOKUP(B14,Trier!$A$1:$I$32,9,FALSE)) -> 0 | S14: =IF(ISERROR(Q14/R14*86.4),"",Q14/R14*86.4) | T14: =IF(ISERROR(SUM(K14,O14,S14)),"",SUM(K14,O14,S14)) -> 15.709091 | U14: =MONTH(A:A) -> 12 | V14: =YEAR(A:A) -> 2006
A15: 39059 | B15: 812 | C15: =IF(ISNA(VLOOKUP(B15,Trier!$A$1:$E$32,2,FALSE)),"",VLOOKUP(B15,Trier!$A$1:$E$32,2,FALSE)) -> 912 | D15: =IF(ISNA(VLOOKUP(B15,Trier!$A$1:$E$32,3,FALSE)),"",VLOOKUP(B15,Trier!$A$1:$E$32,3,FALSE)) -> 104 | E15: =IF(ISNA(VLOOKUP(B15,Trier!$A$1:$E$32,4,FALSE)),"",VLOOKUP(B15,Trier!$A$1:$E$32,4,FALSE)) -> ratatouille1 | F15: =IF(ISNA(VLOOKUP(B15,Trier!$A$1:$E$32,5,FALSE)),"",VLOOKUP(B15,Trier!$A$1:$E$32,5,FALSE)) -> ratatouille | G15: =IF(ISERROR(VLOOKUP(B15,Trier!$A$1:$F$32,6,FALSE)),"",VLOOKUP(B15,Trier!$A$1:$F$32,6,FALSE)) -> 1 | H15: =IF(ISERROR(VLOOKUP(B15,Trier!$A$1:$G$32,7,FALSE)),"",VLOOKUP(B15,Trier!$A$1:$G$32,7,FALSE)) -> uy-z | I15: 2 | J15: 30 | K15: =IF(ISERROR(I15/J15*86.4),"",I15/J15*86.4) -> 5.76 | L15: =IF(ISERROR(VLOOKUP(B15,Trier!$A$1:$H$32,8,FALSE)),"",VLOOKUP(B15,Trier!$A$1:$H$32,8,FALSE)) -> 0 | O15: =IF(ISERROR(M15/N15*86.4),"",M15/N15*86.4) | P15: =IF(ISERROR(VLOOKUP(B15,Trier!$A$1:$I$32,9,FALSE)),"",VLOOKUP(B15,Trier!$A$1:$I$32,9,FALSE)) -> 0 | S15: =IF(ISERROR(Q15/R15*86.4),"",Q15/R15*86.4) | T15: =IF(ISERROR(SUM(K15,O15,S15)),"",SUM(K15,O15,S15)) -> 5.76 | U15: =MONTH(A:A) -> 12 | V15: =YEAR(A:A) -> 2006
A16: 39064 | B16: 813 | C16: =IF(ISNA(VLOOKUP(B16,Trier!$A$1:$E$32,2,FALSE)),"",VLOOKUP(B16,Trier!$A$1:$E$32,2,FALSE)) -> 913 | D16: =IF(ISNA(VLOOKUP(B16,Trier!$A$1:$E$32,3,FALSE)),"",VLOOKUP(B16,Trier!$A$1:$E$32,3,FALSE)) -> 104 | E16: =IF(ISNA(VLOOKUP(B16,Trier!$A$1:$E$32,4,FALSE)),"",VLOOKUP(B16,Trier!$A$1:$E$32,4,FALSE)) -> cactus1 | F16: =IF(ISNA(VLOOKUP(B16,Trier!$A$1:$E$32,5,FALSE)),"",VLOOKUP(B16,Trier!$A$1:$E$32,5,FALSE)) -> cactus | G16: =IF(ISERROR(VLOOKUP(B16,Trier!$A$1:$F$32,6,FALSE)),"",VLOOKUP(B16,Trier!$A$1:$F$32,6,FALSE)) -> 1 | H16: =IF(ISERROR(VLOOKUP(B16,Trier!$A$1:$G$32,7,FALSE)),"",VLOOKUP(B16,Trier!$A$1:$G$32,7,FALSE)) -> uj | I16: 2 | J16: 44 | K16: =IF(ISERROR(I16/J16*86.4),"",I16/J16*86.4) -> 3.9272727 | L16: =IF(ISERROR(VLOOKUP(B16,Trier!$A$1:$H$32,8,FALSE)),"",VLOOKUP(B16,Trier!$A$1:$H$32,8,FALSE)) -> 0 | O16: =IF(ISERROR(M16/N16*86.4),"",M16/N16*86.4) | P16: =IF(ISERROR(VLOOKUP(B16,Trier!$A$1:$I$32,9,FALSE)),"",VLOOKUP(B16,Trier!$A$1:$I$32,9,FALSE)) -> 0 | S16: =IF(ISERROR(Q16/R16*86.4),"",Q16/R16*86.4) | T16: =IF(ISERROR(SUM(K16,O16,S16)),"",SUM(K16,O16,S16)) -> 3.9272727 | U16: =MONTH(A:A) -> 12 | V16: =YEAR(A:A) -> 2006
A17: 39064 | B17: 817 | C17: =IF(ISNA(VLOOKUP(B17,Trier!$A$1:$E$32,2,FALSE)),"",VLOOKUP(B17,Trier!$A$1:$E$32,2,FALSE)) -> 917 | D17: =IF(ISNA(VLOOKUP(B17,Trier!$A$1:$E$32,3,FALSE)),"",VLOOKUP(B17,Trier!$A$1:$E$32,3,FALSE)) -> 104 | E17: =IF(ISNA(VLOOKUP(B17,Trier!$A$1:$E$32,4,FALSE)),"",VLOOKUP(B17,Trier!$A$1:$E$32,4,FALSE)) -> fraise1 | F17: =IF(ISNA(VLOOKUP(B17,Trier!$A$1:$E$32,5,FALSE)),"",VLOOKUP(B17,Trier!$A$1:$E$32,5,FALSE)) -> fraise | G17: =IF(ISERROR(VLOOKUP(B17,Trier!$A$1:$F$32,6,FALSE)),"",VLOOKUP(B17,Trier!$A$1:$F$32,6,FALSE)) -> 2 | H17: =IF(ISERROR(VLOOKUP(B17,Trier!$A$1:$G$32,7,FALSE)),"",VLOOKUP(B17,Trier!$A$1:$G$32,7,FALSE)) -> kuy | I17: 2 | J17: 44 | K17: =IF(ISERROR(I17/J17*86.4),"",I17/J17*86.4) -> 3.9272727 | L17: =IF(ISERROR(VLOOKUP(B17,Trier!$A$1:$H$32,8,FALSE)),"",VLOOKUP(B17,Trier!$A$1:$H$32,8,FALSE)) -> gfshs | O17: =IF(ISERROR(M17/N17*86.4),"",M17/N17*86.4) | P17: =IF(ISERROR(VLOOKUP(B17,Trier!$A$1:$I$32,9,FALSE)),"",VLOOKUP(B17,Trier!$A$1:$I$32,9,FALSE)) -> 0 | S17: =IF(ISERROR(Q17/R17*86.4),"",Q17/R17*86.4) | T17: =IF(ISERROR(SUM(K17,O17,S17)),"",SUM(K17,O17,S17)) -> 3.9272727 | U17: =MONTH(A:A) -> 12 | V17: =YEAR(A:A) -> 2006
A18: 39111 | B18: 812 | C18: =IF(ISNA(VLOOKUP(B18,Trier!$A$1:$E$32,2,FALSE)),"",VLOOKUP(B18,Trier!$A$1:$E$32,2,FALSE)) -> 912 | D18: =IF(ISNA(VLOOKUP(B18,Trier!$A$1:$E$32,3,FALSE)),"",VLOOKUP(B18,Trier!$A$1:$E$32,3,FALSE)) -> 104 | E18: =IF(ISNA(VLOOKUP(B18,Trier!$A$1:$E$32,4,FALSE)),"",VLOOKUP(B18,Trier!$A$1:$E$32,4,FALSE)) -> ratatouille1 | F18: =IF(ISNA(VLOOKUP(B18,Trier!$A$1:$E$32,5,FALSE)),"",VLOOKUP(B18,Trier!$A$1:$E$32,5,FALSE)) -> ratatouille | G18: =IF(ISERROR(VLOOKUP(B18,Trier!$A$1:$F$32,6,FALSE)),"",VLOOKUP(B18,Trier!$A$1:$F$32,6,FALSE)) -> 1 | H18: =IF(ISERROR(VLOOKUP(B18,Trier!$A$1:$G$32,7,FALSE)),"",VLOOKUP(B18,Trier!$A$1:$G$32,7,FALSE)) -> uy-z | I18: 3 | J18: 60 | K18: =IF(ISERROR(I18/J18*86.4),"",I18/J18*86.4) -> 4.32 | L18: =IF(ISERROR(VLOOKUP(B18,Trier!$A$1:$H$32,8,FALSE)),"",VLOOKUP(B18,Trier!$A$1:$H$32,8,FALSE)) -> 0 | O18: =IF(ISERROR(M18/N18*86.4),"",M18/N18*86.4) | P18: =IF(ISERROR(VLOOKUP(B18,Trier!$A$1:$I$32,9,FALSE)),"",VLOOKUP(B18,Trier!$A$1:$I$32,9,FALSE)) -> 0 | S18: =IF(ISERROR(Q18/R18*86.4),"",Q18/R18*86.4) | T18: =IF(ISERROR(SUM(K18,O18,S18)),"",SUM(K18,O18,S18)) -> 4.32 | U18: =MONTH(A:A) -> 1 | V18: =YEAR(A:A) -> 2007
A19: 39111 | B19: 813 | C19: =IF(ISNA(VLOOKUP(B19,Trier!$A$1:$E$32,2,FALSE)),"",VLOOKUP(B19,Trier!$A$1:$E$32,2,FALSE)) -> 913 | D19: =IF(ISNA(VLOOKUP(B19,Trier!$A$1:$E$32,3,FALSE)),"",VLOOKUP(B19,Trier!$A$1:$E$32,3,FALSE)) -> 104 | E19: =IF(ISNA(VLOOKUP(B19,Trier!$A$1:$E$32,4,FALSE)),"",VLOOKUP(B19,Trier!$A$1:$E$32,4,FALSE)) -> cactus1 | F19: =IF(ISNA(VLOOKUP(B19,Trier!$A$1:$E$32,5,FALSE)),"",VLOOKUP(B19,Trier!$A$1:$E$32,5,FALSE)) -> cactus | G19: =IF(ISERROR(VLOOKUP(B19,Trier!$A$1:$F$32,6,FALSE)),"",VLOOKUP(B19,Trier!$A$1:$F$32,6,FALSE)) -> 1 | H19: =IF(ISERROR(VLOOKUP(B19,Trier!$A$1:$G$32,7,FALSE)),"",VLOOKUP(B19,Trier!$A$1:$G$32,7,FALSE)) -> uj | I19: 1.5 | J19: 60 | K19: =IF(ISERROR(I19/J19*86.4),"",I19/J19*86.4) -> 2.16 | L19: =IF(ISERROR(VLOOKUP(B19,Trier!$A$1:$H$32,8,FALSE)),"",VLOOKUP(B19,Trier!$A$1:$H$32,8,FALSE)) -> 0 | O19: =IF(ISERROR(M19/N19*86.4),"",M19/N19*86.4) | P19: =IF(ISERROR(VLOOKUP(B19,Trier!$A$1:$I$32,9,FALSE)),"",VLOOKUP(B19,Trier!$A$1:$I$32,9,FALSE)) -> 0 | S19: =IF(ISERROR(Q19/R19*86.4),"",Q19/R19*86.4) | T19: =IF(ISERROR(SUM(K19,O19,S19)),"",SUM(K19,O19,S19)) -> 2.16 | U19: =MONTH(A:A) -> 1 | V19: =YEAR(A:A) -> 2007
A20: 39111 | B20: 817 | C20: =IF(ISNA(VLOOKUP(B20,Trier!$A$1:$E$32,2,FALSE)),"",VLOOKUP(B20,Trier!$A$1:$E$32,2,FALSE)) -> 917 | D20: =IF(ISNA(VLOOKUP(B20,Trier!$A$1:$E$32,3,FALSE)),"",VLOOKUP(B20,Trier!$A$1:$E$32,3,FALSE)) -> 104 | E20: =IF(ISNA(VLOOKUP(B20,Trier!$A$1:$E$32,4,FALSE)),"",VLOOKUP(B20,Trier!$A$1:$E$32,4,FALSE)) -> fraise1 | F20: =IF(ISNA(VLOOKUP(B20,Trier!$A$1:$E$32,5,FALSE)),"",VLOOKUP(B20,Trier!$A$1:$E$32,5,FALSE)) -> fraise | G20: =IF(ISERROR(VLOOKUP(B20,Trier!$A$1:$F$32,6,FALSE)),"",VLOOKUP(B20,Trier!$A$1:$F$32,6,FALSE)) -> 2 | H20: =IF(ISERROR(VLOOKUP(B20,Trier!$A$1:$G$32,7,FALSE)),"",VLOOKUP(B20,Trier!$A$1:$G$32,7,FALSE)) -> kuy | I20: 1.5 | J20: 60 | K20: =IF(ISERROR(I20/J20*86.4),"",I20/J20*86.4) -> 2.16 | L20: =IF(ISERROR(VLOOKUP(B20,Trier!$A$1:$H$32,8,FALSE)),"",VLOOKUP(B20,Trier!$A$1:$H$32,8,FALSE)) -> gfshs | O20: =IF(ISERROR(M20/N20*86.4),"",M20/N20*86.4) | P20: =IF(ISERROR(VLOOKUP(B20,Trier!$A$1:$I$32,9,FALSE)),"",VLOOKUP(B20,Trier!$A$1:$I$32,9,FALSE)) -> 0 | S20: =IF(ISERROR(Q20/R20*86.4),"",Q20/R20*86.4) | T20: =IF(ISERROR(SUM(K20,O20,S20)),"",SUM(K20,O20,S20)) -> 2.16 | U20: =MONTH(A:A) -> 1 | V20: =YEAR(A:A) -> 2007
A21: 39146 | B21: 813 | C21: =IF(ISNA(VLOOKUP(B21,Trier!$A$1:$E$32,2,FALSE)),"",VLOOKUP(B21,Trier!$A$1:$E$32,2,FALSE)) -> 913 | D21: =IF(ISNA(VLOOKUP(B21,Trier!$A$1:$E$32,3,FALSE)),"",VLOOKUP(B21,Trier!$A$1:$E$32,3,FALSE)) -> 104 | E21: =IF(ISNA(VLOOKUP(B21,Trier!$A$1:$E$32,4,FALSE)),"",VLOOKUP(B21,Trier!$A$1:$E$32,4,FALSE)) -> cactus1 | F21: =IF(ISNA(VLOOKUP(B21,Trier!$A$1:$E$32,5,FALSE)),"",VLOOKUP(B21,Trier!$A$1:$E$32,5,FALSE)) -> cactus | G21: =IF(ISERROR(VLOOKUP(B21,Trier!$A$1:$F$32,6,FALSE)),"",VLOOKUP(B21,Trier!$A$1:$F$32,6,FALSE)) -> 1 | H21: =IF(ISERROR(VLOOKUP(B21,Trier!$A$1:$G$32,7,FALSE)),"",VLOOKUP(B21,Trier!$A$1:$G$32,7,FALSE)) -> uj | I21: 2 | J21: 9 | K21: =IF(ISERROR(I21/J21*86.4),"",I21/J21*86.4) -> 19.2 | L21: =IF(ISERROR(VLOOKUP(B21,Trier!$A$1:$H$32,8,FALSE)),"",VLOOKUP(B21,Trier!$A$1:$H$32,8,FALSE)) -> 0 | O21: =IF(ISERROR(M21/N21*86.4),"",M21/N21*86.4) | P21: =IF(ISERROR(VLOOKUP(B21,Trier!$A$1:$I$32,9,FALSE)),"",VLOOKUP(B21,Trier!$A$1:$I$32,9,FALSE)) -> 0 | S21: =IF(ISERROR(Q21/R21*86.4),"",Q21/R21*86.4) | T21: =IF(ISERROR(SUM(K21,O21,S21)),"",SUM(K21,O21,S21)) -> 19.2 | U21: =MONTH(A:A) -> 3 | V21: =YEAR(A:A) -> 2007
A22: 39197 | B22: 815 | C22: =IF(ISNA(VLOOKUP(B22,Trier!$A$1:$E$32,2,FALSE)),"",VLOOKUP(B22,Trier!$A$1:$E$32,2,FALSE)) -> 915 | D22: =IF(ISNA(VLOOKUP(B22,Trier!$A$1:$E$32,3,FALSE)),"",VLOOKUP(B22,Trier!$A$1:$E$32,3,FALSE)) -> 104 | E22: =IF(ISNA(VLOOKUP(B22,Trier!$A$1:$E$32,4,FALSE)),"",VLOOKUP(B22,Trier!$A$1:$E$32,4,FALSE)) -> groseille | F22: =IF(ISNA(VLOOKUP(B22,Trier!$A$1:$E$32,5,FALSE)),"",VLOOKUP(B22,Trier!$A$1:$E$32,5,FALSE)) -> groseille | G22: =IF(ISERROR(VLOOKUP(B22,Trier!$A$1:$F$32,6,FALSE)),"",VLOOKUP(B22,Trier!$A$1:$F$32,6,FALSE)) -> 3 | H22: =IF(ISERROR(VLOOKUP(B22,Trier!$A$1:$G$32,7,FALSE)),"",VLOOKUP(B22,Trier!$A$1:$G$32,7,FALSE)) -> yty | I22: 11 | J22: 32 | K22: =IF(ISERROR(I22/J22*86.4),"",I22/J22*86.4) -> 29.7 | L22: =IF(ISERROR(VLOOKUP(B22,Trier!$A$1:$H$32,8,FALSE)),"",VLOOKUP(B22,Trier!$A$1:$H$32,8,FALSE)) -> qgtysjh | O22: =IF(ISERROR(M22/N22*86.4),"",M22/N22*86.4) | P22: =IF(ISERROR(VLOOKUP(B22,Trier!$A$1:$I$32,9,FALSE)),"",VLOOKUP(B22,Trier!$A$1:$I$32,9,FALSE)) -> ;,hfc | S22: =IF(ISERROR(Q22/R22*86.4),"",Q22/R22*86.4) | T22: =IF(ISERROR(SUM(K22,O22,S22)),"",SUM(K22,O22,S22)) -> 29.7 | U22: =MONTH(A:A) -> 4 | V22: =YEAR(A:A) -> 2007
A23: 39197 | B23: 817 | C23: =IF(ISNA(VLOOKUP(B23,Trier!$A$1:$E$32,2,FALSE)),"",VLOOKUP(B23,Trier!$A$1:$E$32,2,FALSE)) -> 917 | D23: =IF(ISNA(VLOOKUP(B23,Trier!$A$1:$E$32,3,FALSE)),"",VLOOKUP(B23,Trier!$A$1:$E$32,3,FALSE)) -> 104 | E23: =IF(ISNA(VLOOKUP(B23,Trier!$A$1:$E$32,4,FALSE)),"",VLOOKUP(B23,Trier!$A$1:$E$32,4,FALSE)) -> fraise1 | F23: =IF(ISNA(VLOOKUP(B23,Trier!$A$1:$E$32,5,FALSE)),"",VLOOKUP(B23,Trier!$A$1:$E$32,5,FALSE)) -> fraise | G23: =IF(ISERROR(VLOOKUP(B23,Trier!$A$1:$F$32,6,FALSE)),"",VLOOKUP(B23,Trier!$A$1:$F$32,6,FALSE)) -> 2 | H23: =IF(ISERROR(VLOOKUP(B23,Trier!$A$1:$G$32,7,FALSE)),"",VLOOKUP(B23,Trier!$A$1:$G$32,7,FALSE)) -> kuy | I23: 6 | J23: 60 | K23: =IF(ISERROR(I23/J23*86.4),"",I23/J23*86.4) -> 8.64 | L23: =IF(ISERROR(VLOOKUP(B23,Trier!$A$1:$H$32,8,FALSE)),"",VLOOKUP(B23,Trier!$A$1:$H$32,8,FALSE)) -> gfshs | M23: 11 | N23: 31 | O23: =IF(ISERROR(M23/N23*86.4),"",M23/N23*86.4) -> 30.658065 | P23: =IF(ISERROR(VLOOKUP(B23,Trier!$A$1:$I$32,9,FALSE)),"",VLOOKUP(B23,Trier!$A$1:$I$32,9,FALSE)) -> 0 | S23: =IF(ISERROR(Q23/R23*86.4),"",Q23/R23*86.4) | T23: =IF(ISERROR(SUM(K23,O23,S23)),"",SUM(K23,O23,S23)) -> 39.298065 | U23: =MONTH(A:A) -> 4 | V23: =YEAR(A:A) -> 2007
A24: 39205 | B24: 824 | C24: =IF(ISNA(VLOOKUP(B24,Trier!$A$1:$E$32,2,FALSE)),"",VLOOKUP(B24,Trier!$A$1:$E$32,2,FALSE)) -> 924 | D24: =IF(ISNA(VLOOKUP(B24,Trier!$A$1:$E$32,3,FALSE)),"",VLOOKUP(B24,Trier!$A$1:$E$32,3,FALSE)) -> 104 | E24: =IF(ISNA(VLOOKUP(B24,Trier!$A$1:$E$32,4,FALSE)),"",VLOOKUP(B24,Trier!$A$1:$E$32,4,FALSE)) -> poreaux1 | F24: =IF(ISNA(VLOOKUP(B24,Trier!$A$1:$E$32,5,FALSE)),"",VLOOKUP(B24,Trier!$A$1:$E$32,5,FALSE)) -> poireaux | G24: =IF(ISERROR(VLOOKUP(B24,Trier!$A$1:$F$32,6,FALSE)),"",VLOOKUP(B24,Trier!$A$1:$F$32,6,FALSE)) -> 1 | H24: =IF(ISERROR(VLOOKUP(B24,Trier!$A$1:$G$32,7,FALSE)),"",VLOOKUP(B24,Trier!$A$1:$G$32,7,FALSE)) -> hghf | I24: 2 | J24: 16 | K24: =IF(ISERROR(I24/J24*86.4),"",I24/J24*86.4) -> 10.8 | L24: =IF(ISERROR(VLOOKUP(B24,Trier!$A$1:$H$32,8,FALSE)),"",VLOOKUP(B24,Trier!$A$1:$H$32,8,FALSE)) -> 0 | O24: =IF(ISERROR(M24/N24*86.4),"",M24/N24*86.4) | P24: =IF(ISERROR(VLOOKUP(B24,Trier!$A$1:$I$32,9,FALSE)),"",VLOOKUP(B24,Trier!$A$1:$I$32,9,FALSE)) -> 0 | S24: =IF(ISERROR(Q24/R24*86.4),"",Q24/R24*86.4) | T24: =IF(ISERROR(SUM(K24,O24,S24)),"",SUM(K24,O24,S24)) -> 10.8 | U24: =MONTH(A:A) -> 5 | V24: =YEAR(A:A) -> 2007
A25: 39213 | B25: 811 | C25: =IF(ISNA(VLOOKUP(B25,Trier!$A$1:$E$32,2,FALSE)),"",VLOOKUP(B25,Trier!$A$1:$E$32,2,FALSE)) -> 911 | D25: =IF(ISNA(VLOOKUP(B25,Trier!$A$1:$E$32,3,FALSE)),"",VLOOKUP(B25,Trier!$A$1:$E$32,3,FALSE)) -> 104 | E25: =IF(ISNA(VLOOKUP(B25,Trier!$A$1:$E$32,4,FALSE)),"",VLOOKUP(B25,Trier!$A$1:$E$32,4,FALSE)) -> potiron1 | F25: =IF(ISNA(VLOOKUP(B25,Trier!$A$1:$E$32,5,FALSE)),"",VLOOKUP(B25,Trier!$A$1:$E$32,5,FALSE)) -> potiron | G25: =IF(ISERROR(VLOOKUP(B25,Trier!$A$1:$F$32,6,FALSE)),"",VLOOKUP(B25,Trier!$A$1:$F$32,6,FALSE)) -> 1 | H25: =IF(ISERROR(VLOOKUP(B25,Trier!$A$1:$G$32,7,FALSE)),"",VLOOKUP(B25,Trier!$A$1:$G$32,7,FALSE)) -> iku | I25: 11 | J25: 83 | K25: =IF(ISERROR(I25/J25*86.4),"",I25/J25*86.4) -> 11.450602 | L25: =IF(ISERROR(VLOOKUP(B25,Trier!$A$1:$H$32,8,FALSE)),"",VLOOKUP(B25,Trier!$A$1:$H$32,8,FALSE)) -> srj,dnd | O25: =IF(ISERROR(M25/N25*86.4),"",M25/N25*86.4) | P25: =IF(ISERROR(VLOOKUP(B25,Trier!$A$1:$I$32,9,FALSE)),"",VLOOKUP(B25,Trier!$A$1:$I$32,9,FALSE)) -> 0 | S25: =IF(ISERROR(Q25/R25*86.4),"",Q25/R25*86.4) | T25: =IF(ISERROR(SUM(K25,O25,S25)),"",SUM(K25,O25,S25)) -> 11.450602 | U25: =MONTH(A:A) -> 5 | V25: =YEAR(A:A) -> 2007
A26: 39213 | B26: 823 | C26: =IF(ISNA(VLOOKUP(B26,Trier!$A$1:$E$32,2,FALSE)),"",VLOOKUP(B26,Trier!$A$1:$E$32,2,FALSE)) -> 923 | D26: =IF(ISNA(VLOOKUP(B26,Trier!$A$1:$E$32,3,FALSE)),"",VLOOKUP(B26,Trier!$A$1:$E$32,3,FALSE)) -> 104 | E26: =IF(ISNA(VLOOKUP(B26,Trier!$A$1:$E$32,4,FALSE)),"",VLOOKUP(B26,Trier!$A$1:$E$32,4,FALSE)) -> Osfond1 | F26: =IF(ISNA(VLOOKUP(B26,Trier!$A$1:$E$32,5,FALSE)),"",VLOOKUP(B26,Trier!$A$1:$E$32,5,FALSE)) -> noisette | G26: =IF(ISERROR(VLOOKUP(B26,Trier!$A$1:$F$32,6,FALSE)),"",VLOOKUP(B26,Trier!$A$1:$F$32,6,FALSE)) -> 1 | H26: =IF(ISERROR(VLOOKUP(B26,Trier!$A$1:$G$32,7,FALSE)),"",VLOOKUP(B26,Trier!$A$1:$G$32,7,FALSE)) -> om | I26: 11 | J26: 40 | K26: =IF(ISERROR(I26/J26*86.4),"",I26/J26*86.4) -> 23.76 | L26: =IF(ISERROR(VLOOKUP(B26,Trier!$A$1:$H$32,8,FALSE)),"",VLOOKUP(B26,Trier!$A$1:$H$32,8,FALSE)) -> 0 | O26: =IF(ISERROR(M26/N26*86.4),"",M26/N26*86.4) | P26: =IF(ISERROR(VLOOKUP(B26,Trier!$A$1:$I$32,9,FALSE)),"",VLOOKUP(B26,Trier!$A$1:$I$32,9,FALSE)) -> 0 | S26: =IF(ISERROR(Q26/R26*86.4),"",Q26/R26*86.4) | T26: =IF(ISERROR(SUM(K26,O26,S26)),"",SUM(K26,O26,S26)) -> 23.76 | U26: =MONTH(A:A) -> 5 | V26: =YEAR(A:A) -> 2007
A27: 39213 | B27: 824 | C27: =IF(ISNA(VLOOKUP(B27,Trier!$A$1:$E$32,2,FALSE)),"",VLOOKUP(B27,Trier!$A$1:$E$32,2,FALSE)) -> 924 | D27: =IF(ISNA(VLOOKUP(B27,Trier!$A$1:$E$32,3,FALSE)),"",VLOOKUP(B27,Trier!$A$1:$E$32,3,FALSE)) -> 104 | E27: =IF(ISNA(VLOOKUP(B27,Trier!$A$1:$E$32,4,FALSE)),"",VLOOKUP(B27,Trier!$A$1:$E$32,4,FALSE)) -> poreaux1 | F27: =IF(ISNA(VLOOKUP(B27,Trier!$A$1:$E$32,5,FALSE)),"",VLOOKUP(B27,Trier!$A$1:$E$32,5,FALSE)) -> poireaux | G27: =IF(ISERROR(VLOOKUP(B27,Trier!$A$1:$F$32,6,FALSE)),"",VLOOKUP(B27,Trier!$A$1:$F$32,6,FALSE)) -> 1 | H27: =IF(ISERROR(VLOOKUP(B27,Trier!$A$1:$G$32,7,FALSE)),"",VLOOKUP(B27,Trier!$A$1:$G$32,7,FALSE)) -> hghf | I27: 10 | J27: 95 | K27: =IF(ISERROR(I27/J27*86.4),"",I27/J27*86.4) -> 9.0947368 | L27: =IF(ISERROR(VLOOKUP(B27,Trier!$A$1:$H$32,8,FALSE)),"",VLOOKUP(B27,Trier!$A$1:$H$32,8,FALSE)) -> 0 | O27: =IF(ISERROR(M27/N27*86.4),"",M27/N27*86.4) | P27: =IF(ISERROR(VLOOKUP(B27,Trier!$A$1:$I$32,9,FALSE)),"",VLOOKUP(B27,Trier!$A$1:$I$32,9,FALSE)) -> 0 | S27: =IF(ISERROR(Q27/R27*86.4),"",Q27/R27*86.4) | T27: =IF(ISERROR(SUM(K27,O27,S27)),"",SUM(K27,O27,S27)) -> 9.0947368 | U27: =MONTH(A:A) -> 5 | V27: =YEAR(A:A) -> 2007
A28: 39231 | B28: 828 | C28: =IF(ISNA(VLOOKUP(B28,Trier!$A$1:$E$32,2,FALSE)),"",VLOOKUP(B28,Trier!$A$1:$E$32,2,FALSE)) -> 928 | D28: =IF(ISNA(VLOOKUP(B28,Trier!$A$1:$E$32,3,FALSE)),"",VLOOKUP(B28,Trier!$A$1:$E$32,3,FALSE)) -> 104 | E28: =IF(ISNA(VLOOKUP(B28,Trier!$A$1:$E$32,4,FALSE)),"",VLOOKUP(B28,Trier!$A$1:$E$32,4,FALSE)) -> Radis1 | F28: =IF(ISNA(VLOOKUP(B28,Trier!$A$1:$E$32,5,FALSE)),"",VLOOKUP(B28,Trier!$A$1:$E$32,5,FALSE)) -> Radis | G28: =IF(ISERROR(VLOOKUP(B28,Trier!$A$1:$F$32,6,FALSE)),"",VLOOKUP(B28,Trier!$A$1:$F$32,6,FALSE)) -> 1 | H28: =IF(ISERROR(VLOOKUP(B28,Trier!$A$1:$G$32,7,FALSE)),"",VLOOKUP(B28,Trier!$A$1:$G$32,7,FALSE)) -> ur | I28: 6 | J28: 13.5 | K28: =IF(ISERROR(I28/J28*86.4),"",I28/J28*86.4) -> 38.4 | L28: =IF(ISERROR(VLOOKUP(B28,Trier!$A$1:$H$32,8,FALSE)),"",VLOOKUP(B28,Trier!$A$1:$H$32,8,FALSE)) -> 0 | O28: =IF(ISERROR(M28/N28*86.4),"",M28/N28*86.4) | P28: =IF(ISERROR(VLOOKUP(B28,Trier!$A$1:$I$32,9,FALSE)),"",VLOOKUP(B28,Trier!$A$1:$I$32,9,FALSE)) -> 0 | S28: =IF(ISERROR(Q28/R28*86.4),"",Q28/R28*86.4) | T28: =IF(ISERROR(SUM(K28,O28,S28)),"",SUM(K28,O28,S28)) -> 38.4 | U28: =MONTH(A:A) -> 5 | V28: =YEAR(A:A) -> 2007
A29: 39252 | B29: 801 | C29: =IF(ISNA(VLOOKUP(B29,Trier!$A$1:$E$32,2,FALSE)),"",VLOOKUP(B29,Trier!$A$1:$E$32,2,FALSE)) -> 901 | D29: =IF(ISNA(VLOOKUP(B29,Trier!$A$1:$E$32,3,FALSE)),"",VLOOKUP(B29,Trier!$A$1:$E$32,3,FALSE)) -> 104 | E29: =IF(ISNA(VLOOKUP(B29,Trier!$A$1:$E$32,4,FALSE)),"",VLOOKUP(B29,Trier!$A$1:$E$32,4,FALSE)) -> melon1 | F29: =IF(ISNA(VLOOKUP(B29,Trier!$A$1:$E$32,5,FALSE)),"",VLOOKUP(B29,Trier!$A$1:$E$32,5,FALSE)) -> melon | G29: =IF(ISERROR(VLOOKUP(B29,Trier!$A$1:$F$32,6,FALSE)),"",VLOOKUP(B29,Trier!$A$1:$F$32,6,FALSE)) -> 2 | H29: =IF(ISERROR(VLOOKUP(B29,Trier!$A$1:$G$32,7,FALSE)),"",VLOOKUP(B29,Trier!$A$1:$G$32,7,FALSE)) -> bb | I29: 66 | J29: 60 | K29: =IF(ISERROR(I29/J29*86.4),"",I29/J29*86.4) -> 95.04 | L29: =IF(ISERROR(VLOOKUP(B29,Trier!$A$1:$H$32,8,FALSE)),"",VLOOKUP(B29,Trier!$A$1:$H$32,8,FALSE)) -> nd, | M29: 16 | N29: 60 | O29: =IF(ISERROR(M29/N29*86.4),"",M29/N29*86.4) -> 23.04 | P29: =IF(ISERROR(VLOOKUP(B29,Trier!$A$1:$I$32,9,FALSE)),"",VLOOKUP(B29,Trier!$A$1:$I$32,9,FALSE)) -> 0 | S29: =IF(ISERROR(Q29/R29*86.4),"",Q29/R29*86.4) | T29: =IF(ISERROR(SUM(K29,O29,S29)),"",SUM(K29,O29,S29)) -> 118.08 | U29: =MONTH(A:A) -> 6 | V29: =YEAR(A:A) -> 2007
A30: 39254 | B30: 810 | C30: =IF(ISNA(VLOOKUP(B30,Trier!$A$1:$E$32,2,FALSE)),"",VLOOKUP(B30,Trier!$A$1:$E$32,2,FALSE)) -> 910 | D30: =IF(ISNA(VLOOKUP(B30,Trier!$A$1:$E$32,3,FALSE)),"",VLOOKUP(B30,Trier!$A$1:$E$32,3,FALSE)) -> 104 | E30: =IF(ISNA(VLOOKUP(B30,Trier!$A$1:$E$32,4,FALSE)),"",VLOOKUP(B30,Trier!$A$1:$E$32,4,FALSE)) -> potimaron1 | F30: =IF(ISNA(VLOOKUP(B30,Trier!$A$1:$E$32,5,FALSE)),"",VLOOKUP(B30,Trier!$A$1:$E$32,5,FALSE)) -> potimaron | G30: =IF(ISERROR(VLOOKUP(B30,Trier!$A$1:$F$32,6,FALSE)),"",VLOOKUP(B30,Trier!$A$1:$F$32,6,FALSE)) -> 2 | H30: =IF(ISERROR(VLOOKUP(B30,Trier!$A$1:$G$32,7,FALSE)),"",VLOOKUP(B30,Trier!$A$1:$G$32,7,FALSE)) -> te | I30: 10 | J30: 57 | K30: =IF(ISERROR(I30/J30*86.4),"",I30/J30*86.4) -> 15.157895 | L30: =IF(ISERROR(VLOOKUP(B30,Trier!$A$1:$H$32,8,FALSE)),"",VLOOKUP(B30,Trier!$A$1:$H$32,8,FALSE)) -> tkjtdj | O30: =IF(ISERROR(M30/N30*86.4),"",M30/N30*86.4) | P30: =IF(ISERROR(VLOOKUP(B30,Trier!$A$1:$I$32,9,FALSE)),"",VLOOKUP(B30,Trier!$A$1:$I$32,9,FALSE)) -> 0 | S30: =IF(ISERROR(Q30/R30*86.4),"",Q30/R30*86.4) | T30: =IF(ISERROR(SUM(K30,O30,S30)),"",SUM(K30,O30,S30)) -> 15.157895 | U30: =MONTH(A:A) -> 6 | V30: =YEAR(A:A) -> 2007
A31: 39254 | B31: 809 | C31: =IF(ISNA(VLOOKUP(B31,Trier!$A$1:$E$32,2,FALSE)),"",VLOOKUP(B31,Trier!$A$1:$E$32,2,FALSE)) -> 909 | D31: =IF(ISNA(VLOOKUP(B31,Trier!$A$1:$E$32,3,FALSE)),"",VLOOKUP(B31,Trier!$A$1:$E$32,3,FALSE)) -> 104 | E31: =IF(ISNA(VLOOKUP(B31,Trier!$A$1:$E$32,4,FALSE)),"",VLOOKUP(B31,Trier!$A$1:$E$32,4,FALSE)) -> artichauts1 | F31: =IF(ISNA(VLOOKUP(B31,Trier!$A$1:$E$32,5,FALSE)),"",VLOOKUP(B31,Trier!$A$1:$E$32,5,FALSE)) -> artichauts | G31: =IF(ISERROR(VLOOKUP(B31,Trier!$A$1:$F$32,6,FALSE)),"",VLOOKUP(B31,Trier!$A$1:$F$32,6,FALSE)) -> 2 | H31: =IF(ISERROR(VLOOKUP(B31,Trier!$A$1:$G$32,7,FALSE)),"",VLOOKUP(B31,Trier!$A$1:$G$32,7,FALSE)) -> k | I31: 10 | J31: 20 | K31: =IF(ISERROR(I31/J31*86.4),"",I31/J31*86.4) -> 43.2 | L31: =IF(ISERROR(VLOOKUP(B31,Trier!$A$1:$H$32,8,FALSE)),"",VLOOKUP(B31,Trier!$A$1:$H$32,8,FALSE)) -> tjkedk, | O31: =IF(ISERROR(M31/N31*86.4),"",M31/N31*86.4) | P31: =IF(ISERROR(VLOOKUP(B31,Trier!$A$1:$I$32,9,FALSE)),"",VLOOKUP(B31,Trier!$A$1:$I$32,9,FALSE)) -> 0 | S31: =IF(ISERROR(Q31/R31*86.4),"",Q31/R31*86.4) | T31: =IF(ISERROR(SUM(K31,O31,S31)),"",SUM(K31,O31,S31)) -> 43.2 | U31: =MONTH(A:A) -> 6 | V31: =YEAR(A:A) -> 2007
A32: 39254 | B32: 828 | C32: =IF(ISNA(VLOOKUP(B32,Trier!$A$1:$E$32,2,FALSE)),"",VLOOKUP(B32,Trier!$A$1:$E$32,2,FALSE)) -> 928 | D32: =IF(ISNA(VLOOKUP(B32,Trier!$A$1:$E$32,3,FALSE)),"",VLOOKUP(B32,Trier!$A$1:$E$32,3,FALSE)) -> 104 | E32: =IF(ISNA(VLOOKUP(B32,Trier!$A$1:$E$32,4,FALSE)),"",VLOOKUP(B32,Trier!$A$1:$E$32,4,FALSE)) -> Radis1 | F32: =IF(ISNA(VLOOKUP(B32,Trier!$A$1:$E$32,5,FALSE)),"",VLOOKUP(B32,Trier!$A$1:$E$32,5,FALSE)) -> Radis | G32: =IF(ISERROR(VLOOKUP(B32,Trier!$A$1:$F$32,6,FALSE)),"",VLOOKUP(B32,Trier!$A$1:$F$32,6,FALSE)) -> 1 | H32: =IF(ISERROR(VLOOKUP(B32,Trier!$A$1:$G$32,7,FALSE)),"",VLOOKUP(B32,Trier!$A$1:$G$32,7,FALSE)) -> ur | I32: 10 | J32: 20 | K32: =IF(ISERROR(I32/J32*86.4),"",I32/J32*86.4) -> 43.2 | L32: =IF(ISERROR(VLOOKUP(B32,Trier!$A$1:$H$32,8,FALSE)),"",VLOOKUP(B32,Trier!$A$1:$H$32,8,FALSE)) -> 0 | O32: =IF(ISERROR(M32/N32*86.4),"",M32/N32*86.4) | P32: =IF(ISERROR(VLOOKUP(B32,Trier!$A$1:$I$32,9,FALSE)),"",VLOOKUP(B32,Trier!$A$1:$I$32,9,FALSE)) -> 0 | S32: =IF(ISERROR(Q32/R32*86.4),"",Q32/R32*86.4) | T32: =IF(ISERROR(SUM(K32,O32,S32)),"",SUM(K32,O32,S32)) -> 43.2 | U32: =MONTH(A:A) -> 6 | V32: =YEAR(A:A) -> 2007
A33: 39254 | B33: 817 | C33: =IF(ISNA(VLOOKUP(B33,Trier!$A$1:$E$32,2,FALSE)),"",VLOOKUP(B33,Trier!$A$1:$E$32,2,FALSE)) -> 917 | D33: =IF(ISNA(VLOOKUP(B33,Trier!$A$1:$E$32,3,FALSE)),"",VLOOKUP(B33,Trier!$A$1:$E$32,3,FALSE)) -> 104 | E33: =IF(ISNA(VLOOKUP(B33,Trier!$A$1:$E$32,4,FALSE)),"",VLOOKUP(B33,Trier!$A$1:$E$32,4,FALSE)) -> fraise1 | F33: =IF(ISNA(VLOOKUP(B33,Trier!$A$1:$E$32,5,FALSE)),"",VLOOKUP(B33,Trier!$A$1:$E$32,5,FALSE)) -> fraise | G33: =IF(ISERROR(VLOOKUP(B33,Trier!$A$1:$F$32,6,FALSE)),"",VLOOKUP(B33,Trier!$A$1:$F$32,6,FALSE)) -> 2 | H33: =IF(ISERROR(VLOOKUP(B33,Trier!$A$1:$G$32,7,FALSE)),"",VLOOKUP(B33,Trier!$A$1:$G$32,7,FALSE)) -> kuy | I33: 10 | J33: 26 | K33: =IF(ISERROR(I33/J33*86.4),"",I33/J33*86.4) -> 33.230769 | L33: =IF(ISERROR(VLOOKUP(B33,Trier!$A$1:$H$32,8,FALSE)),"",VLOOKUP(B33,Trier!$A$1:$H$32,8,FALSE)) -> gfshs | M33: 10 | N33: 10 | O33: =IF(ISERROR(M33/N33*86.4),"",M33/N33*86.4) -> 86.4 | P33: =IF(ISERROR(VLOOKUP(B33,Trier!$A$1:$I$32,9,FALSE)),"",VLOOKUP(B33,Trier!$A$1:$I$32,9,FALSE)) -> 0 | S33: =IF(ISERROR(Q33/R33*86.4),"",Q33/R33*86.4) | T33: =IF(ISERROR(SUM(K33,O33,S33)),"",SUM(K33,O33,S33)) -> 119.63077 | U33: =MONTH(A:A) -> 6 | V33: =YEAR(A:A) -> 2007
A34: 39261 | B34: 823 | C34: =IF(ISNA(VLOOKUP(B34,Trier!$A$1:$E$32,2,FALSE)),"",VLOOKUP(B34,Trier!$A$1:$E$32,2,FALSE)) -> 923 | D34: =IF(ISNA(VLOOKUP(B34,Trier!$A$1:$E$32,3,FALSE)),"",VLOOKUP(B34,Trier!$A$1:$E$32,3,FALSE)) -> 104 | E34: =IF(ISNA(VLOOKUP(B34,Trier!$A$1:$E$32,4,FALSE)),"",VLOOKUP(B34,Trier!$A$1:$E$32,4,FALSE)) -> Osfond1 | F34: =IF(ISNA(VLOOKUP(B34,Trier!$A$1:$E$32,5,FALSE)),"",VLOOKUP(B34,Trier!$A$1:$E$32,5,FALSE)) -> noisette | G34: =IF(ISERROR(VLOOKUP(B34,Trier!$A$1:$F$32,6,FALSE)),"",VLOOKUP(B34,Trier!$A$1:$F$32,6,FALSE)) -> 1 | H34: =IF(ISERROR(VLOOKUP(B34,Trier!$A$1:$G$32,7,FALSE)),"",VLOOKUP(B34,Trier!$A$1:$G$32,7,FALSE)) -> om | I34: 10 | J34: 20 | K34: =IF(ISERROR(I34/J34*86.4),"",I34/J34*86.4) -> 43.2 | L34: =IF(ISERROR(VLOOKUP(B34,Trier!$A$1:$H$32,8,FALSE)),"",VLOOKUP(B34,Trier!$A$1:$H$32,8,FALSE)) -> 0 | O34: =IF(ISERROR(M34/N34*86.4),"",M34/N34*86.4) | P34: =IF(ISERROR(VLOOKUP(B34,Trier!$A$1:$I$32,9,FALSE)),"",VLOOKUP(B34,Trier!$A$1:$I$32,9,FALSE)) -> 0 | S34: =IF(ISERROR(Q34/R34*86.4),"",Q34/R34*86.4) | T34: =IF(ISERROR(SUM(K34,O34,S34)),"",SUM(K34,O34,S34)) -> 43.2 | U34: =MONTH(A:A) -> 6 | V34: =YEAR(A:A) -> 2007
A35: 39266 | B35: 810 | C35: =IF(ISNA(VLOOKUP(B35,Trier!$A$1:$E$32,2,FALSE)),"",VLOOKUP(B35,Trier!$A$1:$E$32,2,FALSE)) -> 910 | D35: =IF(ISNA(VLOOKUP(B35,Trier!$A$1:$E$32,3,FALSE)),"",VLOOKUP(B35,Trier!$A$1:$E$32,3,FALSE)) -> 104 | E35: =IF(ISNA(VLOOKUP(B35,Trier!$A$1:$E$32,4,FALSE)),"",VLOOKUP(B35,Trier!$A$1:$E$32,4,FALSE)) -> potimaron1 | F35: =IF(ISNA(VLOOKUP(B35,Trier!$A$1:$E$32,5,FALSE)),"",VLOOKUP(B35,Trier!$A$1:$E$32,5,FALSE)) -> potimaron | G35: =IF(ISERROR(VLOOKUP(B35,Trier!$A$1:$F$32,6,FALSE)),"",VLOOKUP(B35,Trier!$A$1:$F$32,6,FALSE)) -> 2 | H35: =IF(ISERROR(VLOOKUP(B35,Trier!$A$1:$G$32,7,FALSE)),"",VLOOKUP(B35,Trier!$A$1:$G$32,7,FALSE)) -> te | I35: 10 | J35: 41 | K35: =IF(ISERROR(I35/J35*86.4),"",I35/J35*86.4) -> 21.073171 | L35: =IF(ISERROR(VLOOKUP(B35,Trier!$A$1:$H$32,8,FALSE)),"",VLOOKUP(B35,Trier!$A$1:$H$32,8,FALSE)) -> tkjtdj | O35: =IF(ISERROR(M35/N35*86.4),"",M35/N35*86.4) | P35: =IF(ISERROR(VLOOKUP(B35,Trier!$A$1:$I$32,9,FALSE)),"",VLOOKUP(B35,Trier!$A$1:$I$32,9,FALSE)) -> 0 | S35: =IF(ISERROR(Q35/R35*86.4),"",Q35/R35*86.4) | T35: =IF(ISERROR(SUM(K35,O35,S35)),"",SUM(K35,O35,S35)) -> 21.073171 | U35: =MONTH(A:A) -> 7 | V35: =YEAR(A:A) -> 2007
A36: 39266 | B36: 809 | C36: =IF(ISNA(VLOOKUP(B36,Trier!$A$1:$E$32,2,FALSE)),"",VLOOKUP(B36,Trier!$A$1:$E$32,2,FALSE)) -> 909 | D36: =IF(ISNA(VLOOKUP(B36,Trier!$A$1:$E$32,3,FALSE)),"",VLOOKUP(B36,Trier!$A$1:$E$32,3,FALSE)) -> 104 | E36: =IF(ISNA(VLOOKUP(B36,Trier!$A$1:$E$32,4,FALSE)),"",VLOOKUP(B36,Trier!$A$1:$E$32,4,FALSE)) -> artichauts1 | F36: =IF(ISNA(VLOOKUP(B36,Trier!$A$1:$E$32,5,FALSE)),"",VLOOKUP(B36,Trier!$A$1:$E$32,5,FALSE)) -> artichauts | G36: =IF(ISERROR(VLOOKUP(B36,Trier!$A$1:$F$32,6,FALSE)),"",VLOOKUP(B36,Trier!$A$1:$F$32,6,FALSE)) -> 2 | H36: =IF(ISERROR(VLOOKUP(B36,Trier!$A$1:$G$32,7,FALSE)),"",VLOOKUP(B36,Trier!$A$1:$G$32,7,FALSE)) -> k | I36: 10 | J36: 87 | K36: =IF(ISERROR(I36/J36*86.4),"",I36/J36*86.4) -> 9.9310345 | L36: =IF(ISERROR(VLOOKUP(B36,Trier!$A$1:$H$32,8,FALSE)),"",VLOOKUP(B36,Trier!$A$1:$H$32,8,FALSE)) -> tjkedk, | O36: =IF(ISERROR(M36/N36*86.4),"",M36/N36*86.4) | P36: =IF(ISERROR(VLOOKUP(B36,Trier!$A$1:$I$32,9,FALSE)),"",VLOOKUP(B36,Trier!$A$1:$I$32,9,FALSE)) -> 0 | S36: =IF(ISERROR(Q36/R36*86.4),"",Q36/R36*86.4) | T36: =IF(ISERROR(SUM(K36,O36,S36)),"",SUM(K36,O36,S36)) -> 9.9310345 | U36: =MONTH(A:A) -> 7 | V36: =YEAR(A:A) -> 2007
A37: 39266 | B37: 824 | C37: =IF(ISNA(VLOOKUP(B37,Trier!$A$1:$E$32,2,FALSE)),"",VLOOKUP(B37,Trier!$A$1:$E$32,2,FALSE)) -> 924 | D37: =IF(ISNA(VLOOKUP(B37,Trier!$A$1:$E$32,3,FALSE)),"",VLOOKUP(B37,Trier!$A$1:$E$32,3,FALSE)) -> 104 | E37: =IF(ISNA(VLOOKUP(B37,Trier!$A$1:$E$32,4,FALSE)),"",VLOOKUP(B37,Trier!$A$1:$E$32,4,FALSE)) -> poreaux1 | F37: =IF(ISNA(VLOOKUP(B37,Trier!$A$1:$E$32,5,FALSE)),"",VLOOKUP(B37,Trier!$A$1:$E$32,5,FALSE)) -> poireaux | G37: =IF(ISERROR(VLOOKUP(B37,Trier!$A$1:$F$32,6,FALSE)),"",VLOOKUP(B37,Trier!$A$1:$F$32,6,FALSE)) -> 1 | H37: =IF(ISERROR(VLOOKUP(B37,Trier!$A$1:$G$32,7,FALSE)),"",VLOOKUP(B37,Trier!$A$1:$G$32,7,FALSE)) -> hghf | I37: 10 | J37: 105 | K37: =IF(ISERROR(I37/J37*86.4),"",I37/J37*86.4) -> 8.2285714 | L37: =IF(ISERROR(VLOOKUP(B37,Trier!$A$1:$H$32,8,FALSE)),"",VLOOKUP(B37,Trier!$A$1:$H$32,8,FALSE)) -> 0 | O37: =IF(ISERROR(M37/N37*86.4),"",M37/N37*86.4) | P37: =IF(ISERROR(VLOOKUP(B37,Trier!$A$1:$I$32,9,FALSE)),"",VLOOKUP(B37,Trier!$A$1:$I$32,9,FALSE)) -> 0 | S37: =IF(ISERROR(Q37/R37*86.4),"",Q37/R37*86.4) | T37: =IF(ISERROR(SUM(K37,O37,S37)),"",SUM(K37,O37,S37)) -> 8.2285714 | U37: =MONTH(A:A) -> 7 | V37: =YEAR(A:A) -> 2007
A38: 39323 | B38: 812 | C38: =IF(ISNA(VLOOKUP(B38,Trier!$A$1:$E$32,2,FALSE)),"",VLOOKUP(B38,Trier!$A$1:$E$32,2,FALSE)) -> 912 | D38: =IF(ISNA(VLOOKUP(B38,Trier!$A$1:$E$32,3,FALSE)),"",VLOOKUP(B38,Trier!$A$1:$E$32,3,FALSE)) -> 104 | E38: =IF(ISNA(VLOOKUP(B38,Trier!$A$1:$E$32,4,FALSE)),"",VLOOKUP(B38,Trier!$A$1:$E$32,4,FALSE)) -> ratatouille1 | F38: =IF(ISNA(VLOOKUP(B38,Trier!$A$1:$E$32,5,FALSE)),"",VLOOKUP(B38,Trier!$A$1:$E$32,5,FALSE)) -> ratatouille | G38: =IF(ISERROR(VLOOKUP(B38,Trier!$A$1:$F$32,6,FALSE)),"",VLOOKUP(B38,Trier!$A$1:$F$32,6,FALSE)) -> 1 | H38: =IF(ISERROR(VLOOKUP(B38,Trier!$A$1:$G$32,7,FALSE)),"",VLOOKUP(B38,Trier!$A$1:$G$32,7,FALSE)) -> uy-z | I38: 10 | J38: 41 | K38: =IF(ISERROR(I38/J38*86.4),"",I38/J38*86.4) -> 21.073171 | L38: =IF(ISERROR(VLOOKUP(B38,Trier!$A$1:$H$32,8,FALSE)),"",VLOOKUP(B38,Trier!$A$1:$H$32,8,FALSE)) -> 0 | O38: =IF(ISERROR(M38/N38*86.4),"",M38/N38*86.4) | P38: =IF(ISERROR(VLOOKUP(B38,Trier!$A$1:$I$32,9,FALSE)),"",VLOOKUP(B38,Trier!$A$1:$I$32,9,FALSE)) -> 0 | S38: =IF(ISERROR(Q38/R38*86.4),"",Q38/R38*86.4) | T38: =IF(ISERROR(SUM(K38,O38,S38)),"",SUM(K38,O38,S38)) -> 21.073171 | U38: =MONTH(A:A) -> 8 | V38: =YEAR(A:A) -> 2007
A39: 39323 | B39: 813 | C39: =IF(ISNA(VLOOKUP(B39,Trier!$A$1:$E$32,2,FALSE)),"",VLOOKUP(B39,Trier!$A$1:$E$32,2,FALSE)) -> 913 | D39: =IF(ISNA(VLOOKUP(B39,Trier!$A$1:$E$32,3,FALSE)),"",VLOOKUP(B39,Trier!$A$1:$E$32,3,FALSE)) -> 104 | E39: =IF(ISNA(VLOOKUP(B39,Trier!$A$1:$E$32,4,FALSE)),"",VLOOKUP(B39,Trier!$A$1:$E$32,4,FALSE)) -> cactus1 | F39: =IF(ISNA(VLOOKUP(B39,Trier!$A$1:$E$32,5,FALSE)),"",VLOOKUP(B39,Trier!$A$1:$E$32,5,FALSE)) -> cactus | G39: =IF(ISERROR(VLOOKUP(B39,Trier!$A$1:$F$32,6,FALSE)),"",VLOOKUP(B39,Trier!$A$1:$F$32,6,FALSE)) -> 1 | H39: =IF(ISERROR(VLOOKUP(B39,Trier!$A$1:$G$32,7,FALSE)),"",VLOOKUP(B39,Trier!$A$1:$G$32,7,FALSE)) -> uj | I39: 2 | J39: 9 | K39: =IF(ISERROR(I39/J39*86.4),"",I39/J39*86.4) -> 19.2 | L39: =IF(ISERROR(VLOOKUP(B39,Trier!$A$1:$H$32,8,FALSE)),"",VLOOKUP(B39,Trier!$A$1:$H$32,8,FALSE)) -> 0 | O39: =IF(ISERROR(M39/N39*86.4),"",M39/N39*86.4) | P39: =IF(ISERROR(VLOOKUP(B39,Trier!$A$1:$I$32,9,FALSE)),"",VLOOKUP(B39,Trier!$A$1:$I$32,9,FALSE)) -> 0 | S39: =IF(ISERROR(Q39/R39*86.4),"",Q39/R39*86.4) | T39: =IF(ISERROR(SUM(K39,O39,S39)),"",SUM(K39,O39,S39)) -> 19.2 | U39: =MONTH(A:A) -> 8 | V39: =YEAR(A:A) -> 2007
A40: 39323 | B40: 823 | C40: =IF(ISNA(VLOOKUP(B40,Trier!$A$1:$E$32,2,FALSE)),"",VLOOKUP(B40,Trier!$A$1:$E$32,2,FALSE)) -> 923 | D40: =IF(ISNA(VLOOKUP(B40,Trier!$A$1:$E$32,3,FALSE)),"",VLOOKUP(B40,Trier!$A$1:$E$32,3,FALSE)) -> 104 | E40: =IF(ISNA(VLOOKUP(B40,Trier!$A$1:$E$32,4,FALSE)),"",VLOOKUP(B40,Trier!$A$1:$E$32,4,FALSE)) -> Osfond1 | F40: =IF(ISNA(VLOOKUP(B40,Trier!$A$1:$E$32,5,FALSE)),"",VLOOKUP(B40,Trier!$A$1:$E$32,5,FALSE)) -> noisette | G40: =IF(ISERROR(VLOOKUP(B40,Trier!$A$1:$F$32,6,FALSE)),"",VLOOKUP(B40,Trier!$A$1:$F$32,6,FALSE)) -> 1 | H40: =IF(ISERROR(VLOOKUP(B40,Trier!$A$1:$G$32,7,FALSE)),"",VLOOKUP(B40,Trier!$A$1:$G$32,7,FALSE)) -> om | I40: 5 | J40: 14 | K40: =IF(ISERROR(I40/J40*86.4),"",I40/J40*86.4) -> 30.857143 | L40: =IF(ISERROR(VLOOKUP(B40,Trier!$A$1:$H$32,8,FALSE)),"",VLOOKUP(B40,Trier!$A$1:$H$32,8,FALSE)) -> 0 | O40: =IF(ISERROR(M40/N40*86.4),"",M40/N40*86.4) | P40: =IF(ISERROR(VLOOKUP(B40,Trier!$A$1:$I$32,9,FALSE)),"",VLOOKUP(B40,Trier!$A$1:$I$32,9,FALSE)) -> 0 | S40: =IF(ISERROR(Q40/R40*86.4),"",Q40/R40*86.4) | T40: =IF(ISERROR(SUM(K40,O40,S40)),"",SUM(K40,O40,S40)) -> 30.857143 | U40: =MONTH(A:A) -> 8 | V40: =YEAR(A:A) -> 2007
...

Sheet  Evolution 104 (2)
A1: capitaine | B1: (Tous)
A3: Moyenne de Vol | B3: An
A4: Mois | B4: 1993 | C4: 1999 | D4: 2002 | E4: 2003 | F4: 2004 | G4: 2005 | H4: 2006 | I4: 2007 | J4: 2008 | K4: 2009 | L4: 2010 | M4: 2011 | N4: 2012 | O4: 2013 | P4: 2014 | Q4: 2015 | R4: Total général
A5: janv | F5: 10 | I5: 2 | K5: 10 | L5: 2.45 | M5: 8.5 | Q5: 10 | R5: 8.0666667
A6: févr | H6: 10 | K6: 43.866667 | L6: 1.5 | Q6: 10 | R6: 22.085714
A7: mars | G7: 17.5 | H7: 2 | I7: 2 | J7: 7.5833333 | K7: 3.9571429 | L7: 6.24 | P7: 10 | Q7: 10 | R7: 7.6404762
A8: avr | I8: 8.5 | L8: 3.1666667 | M8: 9 | N8: 2.6266667 | Q8: 10 | R8: 6.1255319
A9: mai | B9: 25 | D9: 12 | I9: 8 | K9: 10 | L9: 7.75 | M9: 6.7083333 | Q9: 10 | R9: 8.8064516
A10: juin | E10: 2 | I10: 19.333333 | J10: 3 | K10: 7 | L10: 7.5071429 | N10: 7.3333333 | O10: 7.5923077 | P10: 9.7411765 | Q10: 7.5384615 | R10: 8.7454545
A11: juil | I11: 10 | K11: 4.6 | L11: 10 | M11: 3.85 | P11: 10 | Q11: 7.0909091 | R11: 7.0481481
A12: août | I12: 5.5 | K12: 2.4 | L12: 3.57 | M12: 4.4 | R12: 3.8676923
A13: sept | C13: 2 | F13: 7 | J13: 10 | K13: 3.025 | L13: 3.7555556 | M13: 6.9 | N13: 4.3 | R13: 4.655
A14: oct | K14: 8.5 | L14: 1.85 | M14: 2 | N14: 1 | R14: 3.8
A15: nov | K15: 3.6 | L15: 10.2 | P15: 8.3294118 | R15: 8.1789474
A16: déc | H16: 2 | I16: 8 | K16: 5 | M16: 2.7636364 | O16: 9.5294118 | P16: 10 | R16: 6.4
A17: Total général | B17: 25 | C17: 2 | D17: 12 | E17: 2 | F17: 8 | G17: 17.5 | H17: 3.1428571 | I17: 9.4642857 | J17: 7.6 | K17: 8.27 | L17: 4.9788679 | M17: 5.3047619 | N17: 3.2238095 | O17: 8.69 | P17: 9.3568627 | Q17: 8.9677419 | R17: 7.486257

Sheet  Evolution 104
B1: 1990 | C1: 1991 | D1: 1992 | E1: 1993 | F1: 1994 | G1: 1995 | H1: 1996 | I1: 1997 | J1: 1998 | K1: 1999 | L1: 2000 | M1: 2001 | N1: 2002 | O1: 2003 | P1: 2004 | Q1: 2005 | R1: 2006 | S1: 2007 | T1: 2008 | U1: 2009 | V1: 2010 | W1: 2011 | X1: 2012 | Y1: 2013 | Z1: 2014 | AA1: 2015 | AB1: 2016 | AC1: 2017 | AD1: 2018 | AE1: 2019 | AF1: 2020
A2: Janvier
A3: Février
A4: Mars
A5: Avril
A6: Mai
A7: Juin
A8: Juillet
A9: Août
A10: Septembre
A11: Octobre
A12: Novembre
A13: Décembre
... A19: cotte de blette

Sheet Trier
A1: Code | B1: N°Ars | C1: Secteur | D1: Commune | E1: Nom des Captages | F1: Nbrs de sources | G1: Nom ou N° sources | H1: Nom ou N° sources | I1: Nom ou N° sources
A2: 800 | B2: 900 | C2: 104 | D2: Chassignoles | E2: pasteque | F2: 3 | G2: aa | H2: lk:j | I2: fhgfs
A3: 801 | B3: 901 | C3: 104 | D3: melon1 | E3: melon | F3: 2 | G3: bb | H3: nd,
A4: 802 | B4: 902 | C4: 104 | D4: mandarine | E4: mandarine | F4: 1 | G4: cc
A5: 803 | B5: 903 | C5: 104 | D5: poivron jaune | E5: poivron jaune | F5: 1 | G5: dd
A6: 804 | B6: 904 | C6: 104 | D6: poivron rouge1 | E6: poivron rouge | F6: 1 | G6: de
A7: 805 | B7: 905 | C7: 104 | D7: cotte de blette1 | E7: cotte de blette | F7: 1 | G7: ae
A8: 806 | B8: 906 | C8: 104 | D8: epinard1 | E8: epinard | F8: 2 | G8: uyj | H8: gfd,fd
A9: 807 | B9: 907 | C9: 104 | D9: patate douce1 | E9: patate douce | F9: 1 | G9: te
A10: 808 | B10: 908 | C10: 104 | D10: avocat1 | E10: avocat | F10: 1 | G10: yty
A11: 809 | B11: 909 | C11: 104 | D11: artichauts1 | E11: artichauts | F11: 2 | G11: k | H11: tjkedk,
A12: 810 | B12: 910 | C12: 104 | D12: potimaron1 | E12: potimaron | F12: 2 | G12: te | H12: tkjtdj
A13: 811 | B13: 911 | C13: 104 | D13: potiron1 | E13: potiron | F13: 1 | G13: iku | H13: srj,dnd
A14: 812 | B14: 912 | C14: 104 | D14: ratatouille1 | E14: ratatouille | F14: 1 | G14: uy-z
A15: 813 | B15: 913 | C15: 104 | D15: cactus1 | E15: cactus | F15: 1 | G15: uj
A16: 814 | B16: 914 | C16: 104 | D16: cassis1 | E16: cassis | F16: 1 | G16: dhg
A17: 815 | B17: 915 | C17: 104 | D17: groseille | E17: groseille | F17: 3 | G17: yty | H17: qgtysjh | I17: ;,hfc
A18: 816 | B18: 916 | C18: 104 | D18: raisin1 | E18: raisin | F18: 3 | G18: tery | H18: frshsj | I18: jdhjs
A19: 817 | B19: 917 | C19: 104 | D19: fraise1 | E19: fraise | F19: 2 | G19: kuy | H19: gfshs
A20: 818 | B20: 918 | C20: 104 | D20: salade1 | E20: salade | F20: 1 | G20: yty
A21: 819 | B21: 919 | C21: 104 | D21: tomate1 | E21: tomate | F21: 1 | G21: tet
A22: 820 | B22: 920 | C22: 104 | D22: cornichons1 | E22: cornichons | F22: 1 | G22: kiu
A23: 821 | B23: 921 | C23: 104 | D23: aubergine1 | E23: aubergine | F23: 2 | G23: l:! | H23: hfdhg
A24: 822 | B24: 922 | C24: 104 | D24: pomme de terre | E24: pomme de terre | F24: 1 | G24: jgj
A25: 823 | B25: 923 | C25: 104 | D25: Osfond1 | E25: noisette | F25: 1 | G25: om
A26: 824 | B26: 924 | C26: 104 | D26: poreaux1 | E26: poireaux | F26: 1 | G26: hghf
A27: 825 | B27: 925 | C27: 104 | D27: courgette1 | E27: courgette | F27: 2 | G27: ly | H27: xcbfd
A28: 826 | B28: 926 | C28: 104 | D28: noix1 | E28: noix | F28: 1 | G28: tjutytr
A29: 827 | B29: 927 | C29: 104 | D29: Pomme | E29: Pomme | F29: 1 | G29: tir
A30: 828 | B30: 928 | C30: 104 | D30: Radis1 | E30: Radis | F30: 1 | G30: ur
A31: 829 | B31: 929 | C31: 104 | D31: Carotte1 | E31: Carotte | F31: 1 | G31: miy
B32: 930

Sheet Bdd liste deroulante
A1: 104
A2: voiture | B2: ABRICOT | C2: POIRE | D2: PECHE
A3: ABRICOT | B3: =Trier!$E$31 -> Carotte | C3: =Trier!$E$11 -> artichauts | D3: =Trier!$E$30 -> Radis
A4: POIRE | C4: =Trier!E7 -> cotte de blette | D4: =Trier!$E$13 -> potiron
A5: PECHE | C5: =Trier!E8 -> epinard | D5: =Trier!$E$3 -> melon
C6: =Trier!E9 -> patate douce | D6: =Trier!$E$28 -> noix
C7: =Trier!$E$12 -> potimaron | D7: =Trier!$E$27 -> courgette
C8: =Trier!$E$10 -> avocat | D8: =Trier!E14 -> ratatouille
C9: =Trier!E17 -> groseille | D9: =Trier!E15 -> cactus
C10: =Trier!E18 -> raisin | D10: =Trier!E25 -> noisette
C11: =Trier!E19 -> fraise | D11: =Trier!E26 -> poireaux
C12: Le fronvel | D12: =Trier!$E$29 -> Pomme
C13: =Trier!$E$23 -> aubergine | D13: =Trier!$E$24 -> pomme de terre
C14: =Trier!$E$22 -> cornichons | D14: =Trier!E4 -> mandarine
C15: =Trier!$E$20 -> salade | D15: =Trier!E5 -> poivron jaune
C16: =Trier!$E$6 -> poivron rouge | D16: =Trier!$E$2 -> pasteque
C17: =Trier!$E$21 -> tomate
