Workbook

Sheet Recettes
C1: Pour la gentille âme charitable qui veut bien écrire cette macro… J'ai fait en sorte que lorsqu'on change le volume et le taux de nicotine, toutes les recettes de l'onglet DATA soient mises à jour avec ces valeurs. J'ai ensuite créé un onglet par recette qui recopie toutes les bonnes valeurs dans un nouveau tableau dans la forme que je souhaite qu'il apparaisse. Je voudrais donc que le menu déroulant en C4 m'envoie le bon tableau sur la droite. Si tu pouvais avoir la gentillesse de laisser quelques commentaire dans VBA que je puisse comprendre comment ajouter de nouvelles recettes, ça serait très gentil. Merci d'avance... Virginie
C4: Classic FR | J4: =C4 -> Classic FR | P4: =C7 -> 250 | Q4: ml | R4: =F7 -> 6 | S4: mg/ml
K6: BASE | N6: ARÔMES | Q6: ADDITIFS
C7: 250 | F7: 6
K8: Base 0 mg/ml | L8: =INDIRECT("'" & $C$4&"'!C5" ) -> 148.75 | M8: ml | N8: =INDIRECT("'" & $C$4&"'!E5" ) -> Classic FR | O8: =INDIRECT("'" & $C$4&"'!F5" ) -> 37.5 | P8: ml | Q8: =INDIRECT("'" & $C$4&"'!H5" ) -> 0 | R8: =INDIRECT("'" & $C$4&"'!I5" ) -> 0 | S8: ml | T8: =INDIRECT("'" & $C$4&"'!K5" ) -> 0 | U8: gouttes
C9: Volume en ml | F9: Nicotine en mg/ml | K9: Boosters 20 mg/ml | L9: =INDIRECT("'" & $C$4&"'!C6" ) -> 63.75 | M9: ml | N9: =INDIRECT("'" & $C$4&"'!E6" ) -> 0 | O9: =INDIRECT("'" & $C$4&"'!F6" ) -> 0 | P9: ml | Q9: =INDIRECT("'" & $C$4&"'!H6" ) -> 0 | R9: =INDIRECT("'" & $C$4&"'!I6" ) -> 0 | S9: ml | T9: =INDIRECT("'" & $C$4&"'!K6" ) -> 0 | U9: gouttes
N10: =INDIRECT("'" & $C$4&"'!E7" ) -> 0 | O10: =INDIRECT("'" & $C$4&"'!F7" ) -> 0 | P10: ml | Q10: =INDIRECT("'" & $C$4&"'!H7" ) -> 0 | R10: =INDIRECT("'" & $C$4&"'!I7" ) -> 0 | S10: ml | T10: =INDIRECT("'" & $C$4&"'!K7" ) -> 0 | U10: gouttes
K11: total | L11: =INDIRECT("'" & $C$4&"'!C8" ) -> 212.5 | M11: ml | O11: =INDIRECT("'" & $C$4&"'!F8" ) -> 37.5 | P11: ml | R11: =INDIRECT("'" & $C$4&"'!I8" ) -> 0 | S11: ml
C13: Choisissez votre recette, le volume et le taux de nicotine désirés.
K14: Steeping | N14: jours
K15: Date de fabrication | M15: =TODAY() -> 42778 | P15: Prix pour 10 ml
C16: Puis suivez la recette complète qui s'affiche à droite. | K16: Date de maturation | M16: =TODAY()+M14 -> 42778

Sheet Data
C3: RECETTE POUR BASE | F3: FABRICATION | O3: RECETTE | V3: RECETTE | AC3: RECETTE
C5: Je veux une base de ? (mg/ml) | D5: 6 | F5: # | G5: Recette | H5: Volume | I5: PG/VG | J5: Nicotine | K5: Fabrication | L5: Maturation | M5: Prix/10ml | O5: Classic FR | Q5: =Recettes!F7 -> 6 | R5: mg/ml | S5: =Recettes!C7 -> 250 | T5: ml | V5: Classic FR Noisettes Fumées | X5: =Recettes!F7 -> 6 | Y5: mg/ml | Z5: =Recettes!C7 -> 250 | AA5: ml | AC5: Base Nicotinée | AE5: 6 | AF5: mg/ml | AG5: 124.3 | AH5: ml
C6: Nombre de Boosters 20 mg/ml à utiliser | D6: 32 | F6: 1 | G6: Classic FR | H6: 250 ml | I6: 50/50 | J6: 6 mg/ml | K6: 42777 | L6: =K6+15 -> 42792 | M6: =Prix!B99 -> 1.1950699 | Q6: Ingrédients | R6: Dosage en ml | S6: Nb de gouttes | T6: % | X6: Ingrédients | Y6: Dosage en ml | Z6: Nb de gouttes | AA6: % | AE6: Ingrédients | AF6: Dosage en ml | AG6: Nb de gouttes | AH6: %
C7: Recette | G7: Classic FR Noisettes Fumées | H7: 10 ml | I7: 50/50 | J7: 6 mg/ml | K7: 42778 | L7: =K7+15 -> 42793 | M7: =Prix!C99 -> 1.4091818 | O7: BASE | Q7: PG/VG | R7: =R9-R8 -> 148.75 | S7: =R7*30 -> 4462.5 | T7: =R7*100/S5 -> 59.5 | V7: BASE | X7: PG/VG | Y7: =Y9-Y8 -> 136.5 | Z7: =Y7*30 -> 4095 | AA7: =Y7*100/Z5 -> 54.6 | AC7: BASE | AE7: PG/VG | AF7: =AF9-AF8 -> 87.01 | AG7: =AF7*30 -> 2610.3 | AH7: =AF7*100/AG5 -> 70
C8: Base PG/VG neutre (en ml) | D8: =D10-D9 -> 746.66667 | Q8: Boosters | R8: =(Q5*R9)/20 -> 63.75 | S8: =R8*30 -> 1912.5 | T8: =R8*100/S5 -> 25.5 | X8: Boosters | Y8: =(X5*Y9)/20 -> 58.5 | Z8: =Y8*30 -> 1755 | AA8: =Y8*100/Z5 -> 23.4 | AE8: Boosters | AF8: =(AE5*AF9)/20 -> 37.29 | AG8: =AF8*30 -> 1118.7 | AH8: =AF8*100/AG5 -> 30
C9: Boosters (en ml) | D9: =D6*10 -> 320 | F9: 2 | G9: Thé Vert à la Menthe | H9: 30 ml | I9: 50/50 | J9: 6 mg/ml | K9: 42777 | L9: =K9+7 -> 42784 | M9: =Prix!D99 -> 1.6061189 | Q9: Base Totale | R9: =S5*T9/100 -> 212.5 | S9: =R9*30 -> 6375 | T9: =100-T10-T11-T12-T13-T14-T15 -> 85 | X9: Base Totale | Y9: =Z5*AA9/100 -> 195 | Z9: =Y9*30 -> 5850 | AA9: =100-AA10-AA11-AA12-AA13-AA14-AA15 -> 78 | AE9: Base Totale | AF9: =AG5*AH9/100 -> 124.3 | AG9: =AF9*30 -> 3729 | AH9: =100-AH10-AH11-AH12-AH13-AH14-AH15 -> 100
C10: Contenance totale (en ml) | D10: =(200*D6)/D5 -> 1066.6667 | O10: ARÔMES | Q10: Classic FR | R10: =S5*T10/100 -> 37.5 | S10: =R10*30 -> 1125 | T10: 15 | V10: ARÔMES | X10: Classic FR | Y10: =Z5*AA10/100 -> 37.5 | Z10: =Y10*30 -> 1125 | AA10: 15 | AC10: ARÔMES | AF10: =AG5*AH10/100 -> 0 | AG10: =AF10*30 -> 0
R11: =S5*T11/100 -> 0 | S11: =R11*30 -> 0 | Y11: =Z5*AA11/100 -> 0 | Z11: =Y11*30 -> 0 | AF11: =AG5*AH11/100 -> 0 | AG11: =AF11*30 -> 0
C12: Je veux une contenance de ? (en ml) | D12: 250 | R12: =S5*T12/100 -> 0 | S12: =R12*30 -> 0 | Y12: =Z5*AA12/100 -> 0 | Z12: =Y12*30 -> 0 | AF12: =AG5*AH12/100 -> 0 | AG12: =AF12*30 -> 0
C13: Taux de nicotine souhaité (en mg/ml) | D13: 6 | O13: ADDITIFS | R13: =S5*T13/100 -> 0 | S13: =R13*30 -> 0 | V13: ADDITIFS | X13: Acétyl Pyrazine | Y13: =Z5*AA13/100 -> 17.5 | Z13: =Y13*30 -> 525 | AA13: 7 | AC13: ADDITIFS | AF13: =AG5*AH13/100 -> 0 | AG13: =AF13*30 -> 0
C14: Recette | R14: =S5*T14/100 -> 0 | S14: =R14*30 -> 0 | Y14: =Z5*AA14/100 -> 0 | Z14: =Y14*30 -> 0 | AF14: =AG5*AH14/100 -> 0 | AG14: =AF14*30 -> 0
C15: Base PG/VG neutre (en ml) | D15: =D12-D16 -> 175 | R15: =S5*T15/100 -> 0 | S15: =R15*30 -> 0 | Y15: =Z5*AA15/100 -> 0 | Z15: =Y15*30 -> 0 | AF15: =AG5*AH15/100 -> 0 | AG15: =AF15*30 -> 0
C16: Boosters (en ml) | D16: =(D13*D12)/20 -> 75 | O16: STEEPING | Q16: 15 jours | V16: STEEPING | X16: 15 jours | AC16: STEEPING | AE16: Immédiat
C18: J'ai une base neutre PG/VG de ? (en ml) | D18: 743.5 | O18: RECETTE | V18: RECETTE
C19: Je veux une base de 6 mg/ml
C20: Recette | O20: Thé Vert à la Menthe | Q20: =Recettes!F7 -> 6 | R20: mg/ml | S20: =Recettes!C7 -> 250 | T20: ml | V20: Classic FR Smoky | X20: =Recettes!F7 -> 6 | Y20: mg/ml | Z20: =Recettes!C7 -> 250 | AA20: ml
C21: Boosters (en ml) | D21: =D18*0.429 -> 318.9615 | Q21: Ingrédients | R21: Dosage en ml | S21: Nb de gouttes | T21: % | X21: Ingrédients | Y21: Dosage en ml | Z21: Nb de gouttes | AA21: %
C22: Contenance totale (en ml) | D22: =D18+D21 -> 1062.4615 | O22: BASE | Q22: PG/VG | R22: =R24-R23 -> 127.75 | S22: =R22*30 -> 3832.5 | T22: =R22*100/S20 -> 51.1 | V22: BASE | X22: PG/VG | Y22: =Y24-Y23 -> 148.4525 | Z22: =Y22*30 -> 4453.575 | AA22: =Y22*100/Z20 -> 59.381
Q23: Boosters | R23: =(Q20*R24)/20 -> 54.75 | S23: =R23*30 -> 1642.5 | T23: =R23*100/S20 -> 21.9 | X23: Boosters | Y23: =(X20*Y24)/20 -> 63.6225 | Z23: =Y23*30 -> 1908.675 | AA23: =Y23*100/Z20 -> 25.449
C24: Je veux une base de 3 mg/ml | Q24: Base Totale | R24: =S20*T24/100 -> 182.5 | S24: =R24*30 -> 5475 | T24: =100-T25-T26-T27-T28-T29-T30 -> 73 | X24: Base Totale | Y24: =Z20*AA24/100 -> 212.075 | Z24: =Y24*30 -> 6362.25 | AA24: =100-AA25-AA26-AA27-AA28-AA29-AA30 -> 84.83
C25: Recette | O25: ARÔMES | Q25: Thé Vert | R25: =S20*T25/100 -> 20 | S25: =R25*30 -> 600 | T25: 8 | V25: ARÔMES | X25: Classic FR | Y25: =Z20*AA25/100 -> 37.5 | Z25: =Y25*30 -> 1125 | AA25: 15
C26: Boosters (en ml) | D26: =D18*0.176 -> 130.856 | Q26: Menthe Fraîche | R26: =S20*T26/100 -> 37.5 | S26: =R26*30 -> 1125 | T26: 15 | Y26: =Z20*AA26/100 -> 0 | Z26: =Y26*30 -> 0
C27: Contenance totale (en ml) | D27: =D18+D26 -> 874.356 | R27: =S20*T27/100 -> 0 | S27: =R27*30 -> 0 | Y27: =Z20*AA27/100 -> 0 | Z27: =Y27*30 -> 0
O28: ADDITIFS | Q28: Super Sweetner | R28: =S20*T28/100 -> 10 | S28: =R28*30 -> 300 | T28: 4 | V28: ADDITIFS | X28: Ethylguaiacol Smoky | Y28: =Z20*AA28/100 -> 0.425 | Z28: =Y28*30 -> 12.75 | AA28: 0.17
C29: Je veux une base de 9 mg/ml | R29: =S20*T29/100 -> 0 | S29: =R29*30 -> 0 | Y29: =Z20*AA29/100 -> 0 | Z29: =Y29*30 -> 0
C30: Recette | R30: =S20*T30/100 -> 0 | S30: =R30*30 -> 0 | Y30: =Z20*AA30/100 -> 0 | Z30: =Y30*30 -> 0
C31: Boosters (en ml) | D31: =D18*0.818 -> 608.183 | O31: STEEPING | Q31: 7-15 jours | V31: STEEPING | X31: 15 jours
C32: Contenance totale (en ml) | D32: =D18+D31 -> 1351.683
O33: RECETTE | V33: RECETTE
C34: Je veux une base de 12 mg/ml
C35: Recette | O35: Crème de Bourbon | Q35: =Recettes!F7 -> 6 | R35: mg/ml | S35: =Recettes!C7 -> 250 | T35: ml | V35: Mojito | X35: =Recettes!F7 -> 6 | Y35: mg/ml | Z35: =Recettes!C7 -> 250 | AA35: ml
C36: Boosters (en ml) | D36: =D18*1.5 -> 1115.25 | Q36: Ingrédients | R36: Dosage en ml | S36: Nb de gouttes | T36: % | X36: Ingrédients | Y36: Dosage en ml | Z36: Nb de gouttes | AA36: %
C37: Contenance totale (en ml) | D37: =D18+D36 -> 1858.75 | O37: BASE | Q37: PG/VG | R37: =R39-R38 -> 160.7025 | S37: =R37*30 -> 4821.075 | T37: =R37*100/S35 -> 64.281 | V37: BASE | X37: PG/VG | Y37: =Y39-Y38 -> 140.525 | Z37: =Y37*30 -> 4215.75 | AA37: =Y37*100/Z35 -> 56.21
Q38: Boosters | R38: =(Q35*R39)/20 -> 68.8725 | S38: =R38*30 -> 2066.175 | T38: =R38*100/S35 -> 27.549 | X38: Boosters | Y38: =(X35*Y39)/20 -> 60.225 | Z38: =Y38*30 -> 1806.75 | AA38: =Y38*100/Z35 -> 24.09
C39: Je veux une base de 16 mg/ml | Q39: Base Totale | R39: =S35*T39/100 -> 229.575 | S39: =R39*30 -> 6887.25 | T39: =100-T40-T41-T42-T43-T44-T45 -> 91.83 | X39: Base Totale | Y39: =Z35*AA39/100 -> 200.75 | Z39: =Y39*30 -> 6022.5 | AA39: =100-AA40-AA41-AA42-AA43-AA44-AA45 -> 80.3
C40: Recette | O40: ARÔMES | Q40: Vanille Bourbon | R40: =S35*T40/100 -> 20 | S40: =R40*30 -> 600 | T40: 8 | V40: ARÔMES | X40: Rhum Blanc | Y40: =Z35*AA40/100 -> 32.5 | Z40: =Y40*30 -> 975 | AA40: 13
C41: Boosters (en ml) | D41: =D18*4 -> 2974 | R41: =S35*T41/100 -> 0 | S41: =R41*30 -> 0 | X41: Citron Vert | Y41: =Z35*AA41/100 -> 12.5 | Z41: =Y41*30 -> 375 | AA41: 5
C42: Contenance totale (en ml) | D42: =D18+D41 -> 3717.5 | R42: =S35*T42/100 -> 0 | S42: =R42*30 -> 0 | X42: Menthe Fraîche | Y42: =Z35*AA42/100 -> 4.25 | Z42: =Y42*30 -> 127.5 | AA42: 1.7
O43: ADDITIFS | Q43: Massoia Lactone | R43: =S35*T43/100 -> 0.425 | S43: =R43*30 -> 12.75 | T43: 0.17 | V43: ADDITIFS | Y43: =Z35*AA43/100 -> 0 | Z43: =Y43*30 -> 0
R44: =S35*T44/100 -> 0 | S44: =R44*30 -> 0 | Y44: =Z35*AA44/100 -> 0 | Z44: =Y44*30 -> 0
...

Sheet Prix
B1: RECETTES ET PRIX
A2: Nom de la recette | B2: Classic FR | C2: Classic FR Noisettes Fumées | D2: Thé Vert à la Menthe | E2: Crème de Bourbon | F2: Mojito | G2: Classic FR Smoky | H2: Base Nicotinée
A3: Base PG/VG | B3: 50/50 | C3: 50/50 | D3: 50/50 | E3: 50/50 | F3: 50/50 | G3: 50/50 | H3: 50/50
A4: Taux de nicotine | B4: 0 mg/ml | C4: 0 mg/ml | D4: 0 mg/ml | E4: 0 mg/ml | F4: 0 mg/ml | G4: 0 mg/ml | H4: 0 mg/ml
A5: Prix du flacon de base | B5: 12.9 | C5: 12.9 | D5: 12.9 | E5: 12.9 | F5: 12.9 | G5: 12.9 | H5: 12.9
A6: Volume du flacon de base en ml | B6: 1000 | C6: 1000 | D6: 1000 | E6: 1000 | F6: 1000 | G6: 1000 | H6: 1000
A8: Boosters | B8: 20 mg/ml | C8: 20 mg/ml | D8: 20 mg/ml | E8: 20 mg/ml | F8: 20 mg/ml | G8: 20 mg/ml | H8: 20 mg/ml
A9: Nb de flacons de boosters | B9: 43 | C9: 43 | D9: 43 | E9: 43 | F9: 43 | G9: 43 | H9: 43
A10: Prix du flacon | B10: 1.5 | C10: 1.5 | D10: 1.5 | E10: 1.5 | F10: 1.5 | G10: 1.5 | H10: 1.5
A11: Volume du flacon en ml | B11: 10 | C11: 10 | D11: 10 | E11: 10 | F11: 10 | G11: 10 | H11: 10
A13: Total des bases (base + boosters) | B13: 6 mg/ml | C13: 6 mg/ml | D13: 6 mg/ml | E13: 6 mg/ml | F13: 6 mg/ml | G13: 6 mg/ml | H13: 6 mg/ml
A14: Volume total de base obtenu en ml | B14: =B6+B9*B11 -> 1430 | C14: =C6+C9*C11 -> 1430 | D14: =D6+D9*D11 -> 1430 | E14: =E6+E9*E11 -> 1430 | F14: =F6+F9*F11 -> 1430 | G14: =G6+G9*G11 -> 1430 | H14: =H6+H9*H11 -> 1430
A15: Prix total de la base au ml | B15: =(B5+B9*B10)/B14 -> 0.054125874 | C15: =(C5+C9*C10)/C14 -> 0.054125874 | D15: =(D5+D9*D10)/D14 -> 0.054125874 | E15: =(E5+E9*E10)/E14 -> 0.054125874 | F15: =(F5+F9*F10)/F14 -> 0.054125874 | G15: =(G5+G9*G10)/G14 -> 0.054125874 | H15: =(H5+H9*H10)/H14 -> 0.054125874
A17: Arômes et additifs
A18: Ingrédient 1 | B18: Classic FR CIRKUS | C18: Classic FR CIRKUS | D18: Thé Vert AROMEA | E18: Vanile Bourbon SOLUBAROME | F18: Rhum Blanc A&L | G18: Classic FR CIRKUS
A19: Prix du flacon | B19: 4.9 | C19: 4.9 | D19: 3.5 | E19: 1.9 | F19: 3.4 | G19: 4.9 | H19: 0
A20: Volume du flacon | B20: 10 | C20: 10 | D20: 10 | E20: 10 | F20: 10 | G20: 10 | H20: 10
A21: Dosage recommandé | B21: 0.15 | C21: 0.15 | D21: 0.08 | E21: 0.08 | F21: 0.06 | G21: 0.15
A22: Steeping | B22: 15 | C22: 15 | D22: 2-4 | E22: 2-5 | G22: 15
A23: Ingrédient 2 | C23: Acetyl Pyrazine | D23: Menthe Fraîche VDLV | E23: Massoia Lactone | F23: Citron Vert AROMEA | G23: Ethylguaiacol Smoky
A24: Prix du flacon | B24: 0 | C24: 3.6 | D24: 4.9 | E24: 4 | F24: 3.5 | G24: 4 | H24: 0
A25: Volume du flacon | B25: 10 | C25: 10 | D25: 10 | E25: 10 | F25: 10 | G25: 10 | H25: 10
A26: Dosage recommandé | C26: 0.07 | D26: 0.15 | E26: 0.0017 | F26: 0.08 | G26: 0.0017
A27: Steeping | D27: 7-15 | F27: 2
A28: Ingrédient 3 | D28: Super Sweetner Super Concentré | F28: Menthe Fraîche VDLV
A29: Prix du flacon | B29: 0 | C29: 0 | D29: 4.9 | E29: 0 | F29: 4.9 | G29: 0 | H29: 0
A30: Volume du flacon | B30: 10 | C30: 10 | D30: 10 | E30: 10 | F30: 10 | G30: 10 | H30: 10
A31: Dosage recommandé | D31: 0.04 | F31: 0.15
A32: Steeping | F32: 7-15
A33: Ingrédient 4
A34: Prix du flacon | B34: 0 | C34: 0 | D34: 0 | E34: 0 | F34: 0 | G34: 0 | H34: 0
A35: Volume du flacon | B35: 10 | C35: 10 | D35: 10 | E35: 10 | F35: 10 | G35: 10 | H35: 10
A36: Dosage recommandé
A37: Steeping
A38: Ingrédient 5
A39: Prix du flacon | B39: 0 | C39: 0 | D39: 0 | E39: 0 | F39: 0 | G39: 0 | H39: 0
A40: Volume du flacon | B40: 10 | C40: 10 | D40: 10 | E40: 10 | F40: 10 | G40: 10 | H40: 10
A41: Dosage recommandé
A42: Steeping
A43: Ingrédient 6
...

Sheet Classic FR
A1: =Data!O5 -> Classic FR | G1: =Data!S5 -> 250 | H1: ml | I1: =Data!Q5 -> 6 | J1: mg/ml
B3: BASE | E3: ARÔMES | H3: ADDITIFS
B5: Base 0 mg/ml | C5: =Data!R7 -> 148.75 | D5: ml | E5: =Data!Q10 -> Classic FR | F5: =Data!R10 -> 37.5 | G5: ml | J5: ml | L5: gouttes
B6: Boosters 20 mg/ml | C6: =Data!R8 -> 63.75 | D6: ml | G6: ml | J6: ml | L6: gouttes
G7: ml | J7: ml | L7: gouttes
B8: total | C8: =C5+C6 -> 212.5 | D8: ml | F8: =F5+F6+F7 -> 37.5 | G8: ml | J8: ml
B11: Steeping | D11: 15 | E11: jours
B12: Date de fabrication | D12: =TODAY() -> 42778 | G12: Prix pour 10 ml | I12: =Prix!B99 -> 1.1950699
B13: Date de maturation | D13: =TODAY()+D11 -> 42793

Sheet Classic FR Nuts
A1: =Data!V5 -> Classic FR Noisettes Fumées | G1: =Data!Z5 -> 250 | H1: ml | I1: =Data!X5 -> 6 | J1: mg/ml
B3: BASE | E3: ARÔMES | H3: ADDITIFS
B5: Base 0 mg/ml | C5: =Data!Y7 -> 136.5 | D5: ml | E5: =Data!X10 -> Classic FR | F5: =Data!Y10 -> 37.5 | G5: ml | H5: =Data!X13 -> Acétyl Pyrazine | I5: =Data!Y13 -> 17.5 | J5: ml | K5: =Data!Z13 -> 525 | L5: gouttes
B6: Boosters 20 mg/ml | C6: =Data!Y8 -> 58.5 | D6: ml | G6: ml | J6: ml | L6: gouttes
G7: ml | J7: ml | L7: gouttes
B8: total | C8: =C5+C6 -> 195 | D8: ml | F8: =F5 -> 37.5 | G8: ml | I8: =I5 -> 17.5 | J8: ml
B11: Steeping | D11: 15 | E11: jours
B12: Date de fabrication | D12: =TODAY() -> 42778 | G12: Prix pour 10 ml | I12: =Prix!C99 -> 1.4091818
B13: Date de maturation | D13: =TODAY()+D11 -> 42793

Sheet Classic FR Smoky
A1: =Data!V20 -> Classic FR Smoky | G1: =Data!Z20 -> 250 | H1: ml | I1: =Data!X20 -> 6 | J1: mg/ml
B3: BASE | E3: ARÔMES | H3: ADDITIFS
B5: Base 0 mg/ml | C5: =Data!Y22 -> 148.4525 | D5: ml | E5: =Data!X25 -> Classic FR | F5: =Data!Y25 -> 37.5 | G5: ml | H5: =Data!X28 -> Ethylguaiacol Smoky | I5: =Data!Y28 -> 0.425 | J5: ml | K5: =Data!Z28 -> 12.75 | L5: gouttes
B6: Boosters 20 mg/ml | C6: =Data!Y23 -> 63.6225 | D6: ml | G6: ml | J6: ml | L6: gouttes
G7: ml | J7: ml | L7: gouttes
B8: total | C8: =C5+C6 -> 212.075 | D8: ml | F8: =F5 -> 37.5 | G8: ml | I8: =I5 -> 0.425 | J8: ml
B11: Steeping | D11: 15 | E11: jours
B12: Date de fabrication | D12: =TODAY() -> 42778 | G12: Prix pour 10 ml | I12: =Prix!G99 -> 1.2009498
B13: Date de maturation | D13: =TODAY()+D11 -> 42793

Sheet Thé Vert Menthe
A1: =Data!O20 -> Thé Vert à la Menthe | G1: =Data!S20 -> 250 | H1: ml | I1: =Data!Q20 -> 6 | J1: mg/ml
B3: BASE | E3: ARÔMES | H3: ADDITIFS
B5: Base 0 mg/ml | C5: =Data!R22 -> 127.75 | D5: ml | E5: =Data!Q25 -> Thé Vert | F5: =Data!R25 -> 20 | G5: ml | H5: =Data!Q28 -> Super Sweetner | I5: =Data!R28 -> 10 | J5: ml | K5: =Data!S28 -> 300 | L5: gouttes
B6: Boosters 20 mg/ml | C6: =Data!R23 -> 54.75 | D6: ml | E6: =Data!Q26 -> Menthe Fraîche | F6: =Data!R26 -> 37.5 | G6: ml | J6: ml | L6: gouttes
G7: ml | J7: ml | L7: gouttes
B8: total | C8: =C5+C6 -> 182.5 | D8: ml | F8: =F5+F6 -> 57.5 | G8: ml | I8: =I5 -> 10 | J8: ml
B11: Steeping | D11: 10 | E11: jours
B12: Date de fabrication | D12: =TODAY() -> 42778 | G12: Prix pour 10 ml | I12: =Prix!D99 -> 1.6061189
B13: Date de maturation | D13: =TODAY()+D11 -> 42788

Sheet Crème de Bourbon
A1: =Data!O35 -> Crème de Bourbon | G1: =Data!S35 -> 250 | H1: ml | I1: =Data!Q35 -> 6 | J1: mg/ml
B3: BASE | E3: ARÔMES | H3: ADDITIFS
B5: Base 0 mg/ml | C5: =Data!R37 -> 160.7025 | D5: ml | E5: =Data!Q40 -> Vanille Bourbon | F5: =Data!R40 -> 20 | G5: ml | H5: =Data!Q43 -> Massoia Lactone | I5: =Data!R43 -> 0.425 | J5: ml | K5: =Data!S43 -> 12.75 | L5: gouttes
B6: Boosters 20 mg/ml | C6: =Data!R38 -> 68.8725 | D6: ml | G6: ml | J6: ml | L6: gouttes
G7: ml | J7: ml | L7: gouttes
B8: total | C8: =C5+C6 -> 229.575 | D8: ml | F8: =F5 -> 20 | G8: ml | I8: =I5 -> 0.425 | J8: ml
B11: Steeping | D11: 5 | E11: jours
B12: Date de fabrication | D12: =TODAY() -> 42778 | G12: Prix pour 10 ml | I12: =Prix!E99 -> 0.6558379
B13: Date de maturation | D13: =TODAY()+D11 -> 42783

Sheet Mojito
A1: =Data!V35 -> Mojito | G1: =Data!Z35 -> 250 | H1: ml | I1: =Data!X35 -> 6 | J1: mg/ml
B3: BASE | E3: ARÔMES | H3: ADDITIFS
B5: Base 0 mg/ml | C5: =Data!Y37 -> 140.525 | D5: ml | E5: =Data!X40 -> Rhum Blanc | F5: =Data!Y40 -> 32.5 | G5: ml | J5: ml | L5: gouttes
B6: Boosters 20 mg/ml | C6: =Data!Y38 -> 60.225 | D6: ml | E6: =Data!X41 -> Citron Vert | F6: =Data!Y41 -> 12.5 | G6: ml | J6: ml | L6: gouttes
E7: =Data!X42 -> Menthe Fraîche | F7: =Data!Y42 -> 4.25 | G7: ml | J7: ml | L7: gouttes
B8: total | C8: =C5+C6 -> 200.75 | D8: ml | F8: =F5+F6+F7 -> 49.25 | G8: ml | J8: ml
B11: Steeping | D11: 5 | E11: jours
B12: Date de fabrication | D12: =TODAY() -> 42778 | G12: Prix pour 10 ml | I12: =Prix!F99 -> 1.1349308
B13: Date de maturation | D13: =TODAY()+D11 -> 42783
