Workbook

Sheet Recettes
C1: Pour la gentille âme charitable qui veut bien écrire cette macro… J'ai fait en sorte que lorsqu'on change le volume et le taux de nicotine, toutes les recettes de l'onglet DATA soient mises à jour avec ces valeurs. J'ai ensuite créé un onglet par recette qui recopie toutes les bonnes valeurs dans un nouveau tableau dans la forme que je souhaite qu'il apparaisse. Je voudrais donc que le menu déroulant en C4 m'envoie le bon tableau sur la droite. Si tu pouvais avoir la gentillesse de laisser quelques commentaire dans VBA que je puisse comprendre comment ajouter de nouvelles recettes, ça serait très gentil. Merci d'avance... Virginie
C4: Classic FR | J4: =C4 -> Classic FR | P4: =C7 -> 250 | Q4: ml | R4: =F7 -> 6 | S4: mg/ml
K6: BASE | N6: ARÔMES | Q6: ADDITIFS
C7: 250 | F7: 6
K8: Base 0 mg/ml | L8: =INDIRECT("'" & $C$4&"'!C5" ) -> 148.75 | M8: ml | N8: =INDIRECT("'" & $C$4&"'!E5" ) -> Classic FR | O8: =INDIRECT("'" & $C$4&"'!F5" ) -> 37.5 | P8: ml | Q8: =INDIRECT("'" & $C$4&"'!H5" ) -> 0 | R8: =INDIRECT("'" & $C$4&"'!I5" ) -> 0 | S8: ml | T8: =INDIRECT("'" & $C$4&"'!K5" ) -> 0 | U8: gouttes
C9: Volume en ml | F9: Nicotine en mg/ml | K9: Boosters 20 mg/ml | L9: =INDIRECT("'" & $C$4&"'!C6" ) -> 63.75 | M9: ml | N9: =INDIRECT("'" & $C$4&"'!E6" ) -> 0 | O9: =INDIRECT("'" & $C$4&"'!F6" ) -> 0 | P9: ml | Q9: =INDIRECT("'" & $C$4&"'!H6" ) -> 0 | R9: =INDIRECT("'" & $C$4&"'!I6" ) -> 0 | S9: ml | T9: =INDIRECT("'" & $C$4&"'!K6" ) -> 0 | U9: gouttes
N10: =INDIRECT("'" & $C$4&"'!E7" ) -> 0 | O10: =INDIRECT("'" & $C$4&"'!F7" ) -> 0 | P10: ml | Q10: =INDIRECT("'" & $C$4&"'!H7" ) -> 0 | R10: =INDIRECT("'" & $C$4&"'!I7" ) -> 0 | S10: ml | T10: =INDIRECT("'" & $C$4&"'!K7" ) -> 0 | U10: gouttes
K11: total | L11: =INDIRECT("'" & $C$4&"'!C8" ) -> 212.5 | M11: ml | O11: =INDIRECT("'" & $C$4&"'!F8" ) -> 37.5 | P11: ml | R11: =INDIRECT("'" & $C$4&"'!I8" ) -> 0 | S11: ml
C13: Choisissez votre recette, le volume et le taux de nicotine désirés.
K14: Steeping | N14: jours
K15: Date de fabrication | M15: =TODAY() -> 42778 | P15: Prix pour 10 ml
C16: Puis suivez la recette complète qui s'affiche à droite. | K16: Date de maturation | M16: =TODAY()+M14 -> 42778

Sheet Data
C3: RECETTE POUR BASE | F3: FABRICATION | O3: RECETTE | V3: RECETTE | AC3: RECETTE
C5: Je veux une base de ? (mg/ml) | D5: 6 | F5: # | G5: Recette | H5: Volume | I5: PG/VG | J5: Nicotine | K5: Fabrication | L5: Maturation | M5: Prix/10ml | O5: Classic FR | Q5: =Recettes!F7 -> 6 | R5: mg/ml | S5: =Recettes!C7 -> 250 | T5: ml | V5: Classic FR Noisettes Fumées | X5: =Recettes!F7 -> 6 | Y5: mg/ml | Z5: =Recettes!C7 -> 250 | AA5: ml | AC5: Base Nicotinée | AE5: 6 | AF5: mg/ml | AG5: 124.3 | AH5: ml
C6: Nombre de Boosters 20 mg/ml à utiliser | D6: 32 | F6: 1 | G6: Classic FR | H6: 250 ml | I6: 50/50 | J6: 6 mg/ml | K6: 42777 | L6: =K6+15 -> 42792 | M6: =Prix!B99 -> 1.1950699 | Q6: Ingrédients | R6: Dosage en ml | S6: Nb de gouttes | T6: % | X6: Ingrédients | Y6: Dosage en ml | Z6: Nb de gouttes | AA6: % | AE6: Ingrédients | AF6: Dosage en ml | AG6: Nb de gouttes | AH6: %
C7: Recette | G7: Classic FR Noisettes Fumées | H7: 10 ml | I7: 50/50 | J7: 6 mg/ml | K7: 42778 | L7: =K7+15 -> 42793 | M7: =Prix!C99 -> 1.4091818 | O7: BASE | Q7: PG/VG | R7: =R9-R8 -> 148.75 | S7: =R7*30 -> 4462.5 | T7: =R7*100/S5 -> 59.5 | V7: BASE | X7: PG/VG | Y7: =Y9-Y8 -> 136.5 | Z7: =Y7*30 -> 4095 | AA7: =Y7*100/Z5 -> 54.6 | AC7: BASE | AE7: PG/VG | AF7: =AF9-AF8 -> 87.01 | AG7: =AF7*30 -> 2610.3 | AH7: =AF7*100/AG5 -> 70
C8: Base PG/VG neutre (en ml) | D8: =D10-D9 -> 746.66667 | Q8: Boosters | R8: =(Q5*R9)/20 -> 63.75 | S8: =R8*30 -> 1912.5 | T8: =R8*100/S5 -> 25.5 | X8: Boosters | Y8: =(X5*Y9)/20 -> 58.5 | Z8: =Y8*30 -> 1755 | AA8: =Y8*100/Z5 -> 23.4 | AE8: Boosters | AF8: =(AE5*AF9)/20 -> 37.29 | AG8: =AF8*30 -> 1118.7 | AH8: =AF8*100/AG5 -> 30
C9: Boosters (en ml) | D9: =D6*10 -> 320 | F9: 2 | G9: Thé Vert à la Menthe | H9: 30 ml | I9: 50/50 | J9: 6 mg/ml | K9: 42777 | L9: =K9+7 -> 42784 | M9: =Prix!D99 -> 1.6061189 | Q9: Base Totale | R9: =S5*T9/100 -> 212.5 | S9: =R9*30 -> 6375 | T9: =100-T10-T11-T12-T13-T14-T15 -> 85 | X9: Base Totale | Y9: =Z5*AA9/100 -> 195 | Z9: =Y9*30 -> 5850 | AA9: =100-AA10-AA11-AA12-AA13-AA14-AA15 -> 78 | AE9: Base Totale | AF9: =AG5*AH9/100 -> 124.3 | AG9: =AF9*30 -> 3729 | AH9: =100-AH10-AH11-AH12-AH13-AH14-AH15 -> 100
C10: Contenance totale (en ml) | D10: =(200*D6)/D5 -> 1066.6667 | O10: ARÔMES | Q10: Classic FR | R10: =S5*T10/100 -> 37.5 | S10: =R10*30 -> 1125 | T10: 15 | V10: ARÔMES | X10: Classic FR | Y10: =Z5*AA10/100 -> 37.5 | Z10: =Y10*30 -> 1125 | AA10: 15 | AC10: ARÔMES | AF10: =AG5*AH10/100 -> 0 | AG10: =AF10*30 -> 0
R11: =S5*T11/100 -> 0 | S11: =R11*30 -> 0 | Y11: =Z5*AA11/100 -> 0 | Z11: =Y11*30 -> 0 | AF11: =AG5*AH11/100 -> 0 | AG11: =AF11*30 -> 0
C12: Je veux une contenance de ? (en ml) | D12: 250 | R12: =S5*T12/100 -> 0 | S12: =R12*30 -> 0 | Y12: =Z5*AA12/100 -> 0 | Z12: =Y12*30 -> 0 | AF12: =AG5*AH12/100 -> 0 | AG12: =AF12*30 -> 0
C13: Taux de nicotine souhaité (en mg/ml) | D13: 6 | O13: ADDITIFS | R13: =S5*T13/100 -> 0 | S13: =R13*30 -> 0 | V13: ADDITIFS | X13: Acétyl Pyrazine | Y13: =Z5*AA13/100 -> 17.5 | Z13: =Y13*30 -> 525 | AA13: 7 | AC13: ADDITIFS | AF13: =AG5*AH13/100 -> 0 | AG13: =AF13*30 -> 0
C14: Recette | R14: =S5*T14/100 -> 0 | S14: =R14*30 -> 0 | Y14: =Z5*AA14/100 -> 0 | Z14: =Y14*30 -> 0 | AF14: =AG5*AH14/100 -> 0 | AG14: =AF14*30 -> 0
C15: Base PG/VG neutre (en ml) | D15: =D12-D16 -> 175 | R15: =S5*T15/100 -> 0 | S15: =R15*30 -> 0 | Y15: =Z5*AA15/100 -> 0 | Z15: =Y15*30 -> 0 | AF15: =AG5*AH15/100 -> 0 | AG15: =AF15*30 -> 0
C16: Boosters (en ml) | D16: =(D13*D12)/20 -> 75 | O16: STEEPING | Q16: 15 jours | V16: STEEPING | X16: 15 jours | AC16: STEEPING | AE16: Immédiat
C18: J'ai une base neutre PG/VG de ? (en ml) | D18: 743.5 | O18: RECETTE | V18: RECETTE
C19: Je veux une base de 6 mg/ml
C20: Recette | O20: Thé Vert à la Menthe | Q20: =Recettes!F7 -> 6 | R20: mg/ml | S20: =Recettes!C7 -> 250 | T20: ml | V20: Classic FR Smoky | X20: =Recettes!F7 -> 6 | Y20: mg/ml | Z20: =Recettes!C7 -> 250 | AA20: ml
C21: Boosters (en ml) | D21: =D18*0.429 -> 318.9615 | Q21: Ingrédients | R21: Dosage en ml | S21: Nb de gouttes | T21: % | X21: Ingrédients | Y21: Dosage en ml | Z21: Nb de gouttes | AA21: %
C22: Contenance totale (en ml) | D22: =D18+D21 -> 1062.4615 | O22: BASE | Q22: PG/VG | R22: =R24-R23 -> 127.75 | S22: =R22*30 -> 3832.5 | T22: =R22*100/S20 -> 51.1 | V22: BASE | X22: PG/VG | Y22: =Y24-Y23 -> 148.4525 | Z22: =Y22*30 -> 4453.575 | AA22: =Y22*100/Z20 -> 59.381
Q23: Boosters | R23: =(Q20*R24)/20 -> 54.75 | S23: =R23*30 -> 1642.5 | T23: =R23*100/S20 -> 21.9 | X23: Boosters | Y23: =(X20*Y24)/20 -> 63.6225 | Z23: =Y23*30 -> 1908.675 | AA23: =Y23*100/Z20 -> 25.449
C24: Je veux une base de 3 mg/ml | Q24: Base Totale | R24: =S20*T24/100 -> 182.5 | S24: =R24*30 -> 5475 | T24: =100-T25-T26-T27-T28-T29-T30 -> 73 | X24: Base Totale | Y24: =Z20*AA24/100 -> 212.075 | Z24: =Y24*30 -> 6362.25 | AA24: =100-AA25-AA26-AA27-AA28-AA29-AA30 -> 84.83
C25: Recette | O25: ARÔMES | Q25: Thé Vert | R25: =S20*T25/100 -> 20 | S25: =R25*30 -> 600 | T25: 8 | V25: ARÔMES | X25: Classic FR | Y25: =Z20*AA25/100 -> 37.5 | Z25: =Y25*30 -> 1125 | AA25: 15
C26: Boosters (en ml) | D26: =D18*0.176 -> 130.856 | Q26: Menthe Fraîche | R26: =S20*T26/100 -> 37.5 | S26: =R26*30 -> 1125 | T26: 15 | Y26: =Z20*AA26/100 -> 0 | Z26: =Y26*30 -> 0
C27: Contenance totale (en ml) | D27: =D18+D26 -> 874.356 | R27: =S20*T27/100 -> 0 | S27: =R27*30 -> 0 | Y27: =Z20*AA27/100 -> 0 | Z27: =Y27*30 -> 0
O28: ADDITIFS | Q28: Super Sweetner | R28: =S20*T28/100 -> 10 | S28: =R28*30 -> 300 | T28: 4 | V28: ADDITIFS | X28: Ethylguaiacol Smoky | Y28: =Z20*AA28/100 -> 0.425 | Z28: =Y28*30 -> 12.75 | AA28: 0.17
C29: Je veux une base de 9 mg/ml | R29: =S20*T29/100 -> 0 | S29: =R29*30 -> 0 | Y29: =Z20*AA29/100 -> 0 | Z29: =Y29*30 -> 0
C30: Recette | R30: =S20*T30/100 -> 0 | S30: =R30*30 -> 0 | Y30: =Z20*AA30/100 -> 0 | Z30: =Y30*30 -> 0
C31: Boosters (en ml) | D31: =D18*0.818 -> 608.183 | O31: STEEPING | Q31: 7-15 jours | V31: STEEPING | X31: 15 jours
C32: Contenance totale (en ml) | D32: =D18+D31 -> 1351.683
O33: RECETTE | V33: RECETTE
C34: Je veux une base de 12 mg/ml
C35: Recette | O35: Crème de Bourbon | Q35: =Recettes!F7 -> 6 | R35: mg/ml | S35: =Recettes!C7 -> 250 | T35: ml | V35: Mojito | X35: =Recettes!F7 -> 6 | Y35: mg/ml | Z35: =Recettes!C7 -> 250 | AA35: ml
C36: Boosters (en ml) | D36: =D18*1.5 -> 1115.25 | Q36: Ingrédients | R36: Dosage en ml | S36: Nb de gouttes | T36: % | X36: Ingrédients | Y36: Dosage en ml | Z36: Nb de gouttes | AA36: %
C37: Contenance totale (en ml) | D37: =D18+D36 -> 1858.75 | O37: BASE | Q37: PG/VG | R37: =R39-R38 -> 160.7025 | S37: =R37*30 -> 4821.075 | T37: =R37*100/S35 -> 64.281 | V37: BASE | X37: PG/VG | Y37: =Y39-Y38 -> 140.525 | Z37: =Y37*30 -> 4215.75 | AA37: =Y37*100/Z35 -> 56.21
Q38: Boosters | R38: =(Q35*R39)/20 -> 68.8725 | S38: =R38*30 -> 2066.175 | T38: =R38*100/S35 -> 27.549 | X38: Boosters | Y38: =(X35*Y39)/20 -> 60.225 | Z38: =Y38*30 -> 1806.75 | AA38: =Y38*100/Z35 -> 24.09
C39: Je veux une base de 16 mg/ml | Q39: Base Totale | R39: =S35*T39/100 -> 229.575 | S39: =R39*30 -> 6887.25 | T39: =100-T40-T41-T42-T43-T44-T45 -> 91.83 | X39: Base Totale | Y39: =Z35*AA39/100 -> 200.75 | Z39: =Y39*30 -> 6022.5 | AA39: =100-AA40-AA41-AA42-AA43-AA44-AA45 -> 80.3
C40: Recette | O40: ARÔMES | Q40: Vanille Bourbon | R40: =S35*T40/100 -> 20 | S40: =R40*30 -> 600 | T40: 8 | V40: ARÔMES | X40: Rhum Blanc | Y40: =Z35*AA40/100 -> 32.5 | Z40: =Y40*30 -> 975 | AA40: 13
C41: Boosters (en ml) | D41: =D18*4 -> 2974 | R41: =S35*T41/100 -> 0 | S41: =R41*30 -> 0 | X41: Citron Vert | Y41: =Z35*AA41/100 -> 12.5 | Z41: =Y41*30 -> 375 | AA41: 5
C42: Contenance totale (en ml) | D42: =D18+D41 -> 3717.5 | R42: =S35*T42/100 -> 0 | S42: =R42*30 -> 0 | X42: Menthe Fraîche | Y42: =Z35*AA42/100 -> 4.25 | Z42: =Y42*30 -> 127.5 | AA42: 1.7
O43: ADDITIFS | Q43: Massoia Lactone | R43: =S35*T43/100 -> 0.425 | S43: =R43*30 -> 12.75 | T43: 0.17 | V43: ADDITIFS | Y43: =Z35*AA43/100 -> 0 | Z43: =Y43*30 -> 0
R44: =S35*T44/100 -> 0 | S44: =R44*30 -> 0 | Y44: =Z35*AA44/100 -> 0 | Z44: =Y44*30 -> 0
R45: =S35*T45/100 -> 0 | S45: =R45*30 -> 0 | Y45: =Z35*AA45/100 -> 0 | Z45: =Y45*30 -> 0
G46: Base Nicotinée | H46: 124,3 ml | I46: 50/50 | J46: 6 mg/ml | K46: 42778 | L46: 42778 | M46: =Prix!H99 -> 0.54125874 | O46: STEEPING | Q46: 5 jours | V46: STEEPING | X46: 5 jours
B49: STOCKAGE
B53: STOCKAGE | F53: STOCKAGE RECETTES | O53: CLASSIC FR | V53: CLASSIC FR NOISETTES FUMÉES | AC53: BASE NICOTINÉE
C55: Liquides | D55: ml | F55: # | G55: Recette | H55: Volume en ml | I55: Fioles en ml | L55: Reste | O55: STOCKAGE | Q55: 6 | R55: mg/ml | S55: 250 | T55: ml | V55: STOCKAGE | X55: 6 | Y55: mg/ml | Z55: 10 | AA55: ml | AC55: STOCKAGE | AE55: 6 | AF55: mg/ml | AG55: 124.3 | AH55: ml
C56: Base 50/50 0 mg/ml | D56: 1000 | I56: 10 | J56: 30 | K56: 50 | Q56: Ingrédients | R56: Dosage en ml | S56: Nb de gouttes | T56: % | X56: Ingrédients | Y56: Dosage en ml | Z56: Nb de gouttes | AA56: % | AE56: Ingrédients | AF56: Dosage en ml | AG56: Nb de gouttes | AH56: %
C57: reste | D57: =D56-(R57+R72+R87+Y57+Y72+Y87+AF57) -> 743.45 | F57: 1 | G57: Classic FR | H57: 250 | L57: =H57-((I57*I56)+(J57*J56)+(K57*K56)) -> 250 | O57: BASE | Q57: PG/VG | R57: =R59-R58 -> 148.75 | S57: =R57*30 -> 4462.5 | T57: =R57*100/S55 -> 59.5 | V57: BASE | X57: PG/VG | Y57: =Y59-Y58 -> 5.46 | Z57: =Y57*30 -> 163.8 | AA57: =Y57*100/Z55 -> 54.6 | AC57: BASE | AE57: PG/VG | AF57: =AF59-AF58 -> 87.01 | AG57: =AF57*30 -> 2610.3 | AH57: =AF57*100/AG55 -> 70
G58: Classic FR Noisettes Fumées | H58: 10 | L58: =H58-((I58*I56)+(J58*J56)+(K58*K56)) -> 10 | Q58: Boosters | R58: =(Q55*R59)/20 -> 63.75 | S58: =R58*30 -> 1912.5 | T58: =R58*100/S55 -> 25.5 | X58: Boosters | Y58: =(X55*Y59)/20 -> 2.34 | Z58: =Y58*30 -> 70.2 | AA58: =Y58*100/Z55 -> 23.4 | AE58: Boosters | AF58: =(AE55*AF59)/20 -> 37.29 | AG58: =AF58*30 -> 1118.7 | AH58: =AF58*100/AG55 -> 30
C59: Boosters 20 mg/ml | D59: 110 | L59: =H59-((I59*I56)+(J59*J56)+(K59*K56)) -> 0 | Q59: Base Totale | R59: =S55*T59/100 -> 212.5 | S59: =R59*30 -> 6375 | T59: =100-T60-T61-T62-T63-T64-T65 -> 85 | X59: Base Totale | Y59: =Z55*AA59/100 -> 7.8 | Z59: =Y59*30 -> 234 | AA59: =100-AA60-AA61-AA62-AA63-AA64-AA65 -> 78 | AE59: Base Totale | AF59: =AG55*AH59/100 -> 124.3 | AG59: =AF59*30 -> 3729 | AH59: =100-AH60-AH61-AH62-AH63-AH64-AH65 -> 100
C60: reste | D60: =D59-(R58+R73+R88+Y58+Y73+Y88+AF58) -> 0.05 | F60: 2 | G60: Thé Vert à la Menthe | H60: 30 | L60: =H60-((I60*I56)+(J60*J56)+(K60*K56)) -> 30 | O60: ARÔMES | Q60: Classic FR | R60: =S55*T60/100 -> 37.5 | S60: =R60*30 -> 1125 | T60: 15 | V60: ARÔMES | X60: Classic FR | Y60: =Z55*AA60/100 -> 1.5 | Z60: =Y60*30 -> 45 | AA60: 15 | AC60: ARÔMES | AF60: =AG55*AH60/100 -> 0 | AG60: =AF60*30 -> 0
L61: =H61-((I61*I60)+(J61*J60)+(K61*K60)) -> 0 | R61: =S55*T61/100 -> 0 | S61: =R61*30 -> 0 | Y61: =Z55*AA61/100 -> 0 | Z61: =Y61*30 -> 0 | AF61: =AG55*AH61/100 -> 0 | AG61: =AF61*30 -> 0
C62: Classic FR - CIRKUS | D62: 50 | L62: =H62-((I62*I60)+(J62*J60)+(K62*K60)) -> 0 | R62: =S55*T62/100 -> 0 | S62: =R62*30 -> 0 | Y62: =Z55*AA62/100 -> 0 | Z62: =Y62*30 -> 0 | AF62: =AG55*AH62/100 -> 0 | AG62: =AF62*30 -> 0
C63: reste | D63: =D62-(R60+Y60+Y75) -> 11 | L63: =H63-((I63*I60)+(J63*J60)+(K63*K60)) -> 0 | O63: ADDITIFS | R63: =S55*T63/100 -> 0 | S63: =R63*30 -> 0 | V63: ADDITIFS | X63: Acétyl Pyrazine | Y63: =Z55*AA63/100 -> 0.7 | Z63: =Y63*30 -> 21 | AA63: 7 | AC63: ADDITIFS | AF63: =AG55*AH63/100 -> 0 | AG63: =AF63*30 -> 0
L64: =H64-((I64*I60)+(J64*J60)+(K64*K60)) -> 0 | R64: =S55*T64/100 -> 0 | S64: =R64*30 -> 0 | Y64: =Z55*AA64/100 -> 0 | Z64: =Y64*30 -> 0 | AF64: =AG55*AH64/100 -> 0 | AG64: =AF64*30 -> 0
C65: Thé Vert - AROMEA | D65: 10 | L65: =H65-((I65*I64)+(J65*J64)+(K65*K64)) -> 0 | R65: =S55*T65/100 -> 0 | S65: =R65*30 -> 0 | Y65: =Z55*AA65/100 -> 0 | Z65: =Y65*30 -> 0 | AF65: =AG55*AH65/100 -> 0 | AG65: =AF65*30 -> 0
C66: reste | D66: =D65-R75 -> 7.6 | L66: =H66-((I66*I64)+(J66*J64)+(K66*K64)) -> 0 | O66: STEEPING | Q66: 15 jours | V66: STEEPING | X66: 15 jours | AC66: STEEPING | AE66: Immédiat
L67: =H67-((I67*I64)+(J67*J64)+(K67*K64)) -> 0
C68: Menthe Fraîche - LES PETITS CONCENTRÉS | D68: 10 | L68: =H68-((I68*I64)+(J68*J64)+(K68*K64)) -> 0 | O68: THÉ VERT À LA MENTHE | V68: CLASSIC FR SMOKY
C69: reste | D69: =D68-(R76+Y92) -> 5.5 | L69: =H69-((I69*I68)+(J69*J68)+(K69*K68)) -> 0
L70: =H70-((I70*I68)+(J70*J68)+(K70*K68)) -> 0 | O70: STOCKAGE | Q70: 6 | R70: mg/ml | S70: 30 | T70: ml | V70: STOCKAGE | X70: 6 | Y70: mg/ml | Z70: 0 | AA70: ml
C71: Vanille Bourbon | D71: 0 | L71: =H71-((I71*I68)+(J71*J68)+(K71*K68)) -> 0 | Q71: Ingrédients | R71: Dosage en ml | S71: Nb de gouttes | T71: % | X71: Ingrédients | Y71: Dosage en ml | Z71: Nb de gouttes | AA71: %
C72: reste | D72: =D71-R90 -> 0 | L72: =H72-((I72*I68)+(J72*J68)+(K72*K68)) -> 0 | O72: BASE | Q72: PG/VG | R72: =R74-R73 -> 15.33 | S72: =R72*30 -> 459.9 | T72: =R72*100/S70 -> 51.1 | V72: BASE | X72: PG/VG | Y72: =Y74-Y73 -> 0 | Z72: =Y72*30 -> 0 | AA72: =Y72*100/Z70 -> #DIV/0!
L73: =H73-((I73*I72)+(J73*J72)+(K73*K72)) -> 0 | Q73: Boosters | R73: =(Q70*R74)/20 -> 6.57 | S73: =R73*30 -> 197.1 | T73: =R73*100/S70 -> 21.9 | X73: Boosters | Y73: =(X70*Y74)/20 -> 0 | Z73: =Y73*30 -> 0 | AA73: =Y73*100/Z70 -> #DIV/0!
C74: Rhum Blanc | D74: 0 | L74: =H74-((I74*I72)+(J74*J72)+(K74*K72)) -> 0 | Q74: Base Totale | R74: =S70*T74/100 -> 21.9 | S74: =R74*30 -> 657 | T74: =100-T75-T76-T77-T78-T79-T80 -> 73 | X74: Base Totale | Y74: =Z70*AA74/100 -> 0 | Z74: =Y74*30 -> 0 | AA74: =100-AA75-AA76-AA77-AA78-AA79-AA80 -> 84.83
C75: reste | D75: =D74-Y90 -> 0 | L75: =H75-((I75*I72)+(J75*J72)+(K75*K72)) -> 0 | O75: ARÔMES | Q75: Thé Vert | R75: =S70*T75/100 -> 2.4 | S75: =R75*30 -> 72 | T75: 8 | V75: ARÔMES | X75: Classic FR | Y75: =Z70*AA75/100 -> 0 | Z75: =Y75*30 -> 0 | AA75: 15
L76: =H76-((I76*I72)+(J76*J72)+(K76*K72)) -> 0 | Q76: Menthe Fraîche | R76: =S70*T76/100 -> 4.5 | S76: =R76*30 -> 135 | T76: 15 | Y76: =Z70*AA76/100 -> 0 | Z76: =Y76*30 -> 0
C77: Citron Vert | D77: 0 | L77: =H77-((I77*I76)+(J77*J76)+(K77*K76)) -> 0 | R77: =S70*T77/100 -> 0 | S77: =R77*30 -> 0 | Y77: =Z70*AA77/100 -> 0 | Z77: =Y77*30 -> 0
C78: reste | D78: =D77-Y91 -> 0 | L78: =H78-((I78*I76)+(J78*J76)+(K78*K76)) -> 0 | O78: ADDITIFS | Q78: Super Sweetner | R78: =S70*T78/100 -> 1.2 | S78: =R78*30 -> 36 | T78: 4 | V78: ADDITIFS | X78: Ethylguaiacol Smoky | Y78: =Z70*AA78/100 -> 0 | Z78: =Y78*30 -> 0 | AA78: 0.17
L79: =H79-((I79*I76)+(J79*J76)+(K79*K76)) -> 0 | R79: =S70*T79/100 -> 0 | S79: =R79*30 -> 0 | Y79: =Z70*AA79/100 -> 0 | Z79: =Y79*30 -> 0
C80: Super Sweetner - SUPER CONCENTRÉ | D80: 10 | L80: =H80-((I80*I76)+(J80*J76)+(K80*K76)) -> 0 | R80: =S70*T80/100 -> 0 | S80: =R80*30 -> 0 | Y80: =Z70*AA80/100 -> 0 | Z80: =Y80*30 -> 0
C81: reste | D81: =D80-R78 -> 8.8 | L81: =H81-((I81*I80)+(J81*J80)+(K81*K80)) -> 0 | O81: STEEPING | Q81: 7-15 jours | V81: STEEPING | X81: 15 jours
L82: =H82-((I82*I80)+(J82*J80)+(K82*K80)) -> 0
C83: Acétyl Pyrazine - REVOLUTE | D83: 10 | L83: =H83-((I83*I80)+(J83*J80)+(K83*K80)) -> 0 | O83: CRÈME DE BOURBON | V83: MOJITO
C84: reste | D84: =D83-Y63 -> 9.3 | L84: =H84-((I84*I80)+(J84*J80)+(K84*K80)) -> 0
L85: =H85-((I85*I84)+(J85*J84)+(K85*K84)) -> 0 | O85: STOCKAGE | Q85: 6 | R85: mg/ml | S85: 0 | T85: ml | V85: STOCKAGE | X85: 6 | Y85: mg/ml | Z85: 0 | AA85: ml
C86: Massoia Lactone | D86: 0 | L86: =H86-((I86*I84)+(J86*J84)+(K86*K84)) -> 0 | Q86: Ingrédients | R86: Dosage en ml | S86: Nb de gouttes | T86: % | X86: Ingrédients | Y86: Dosage en ml | Z86: Nb de gouttes | AA86: %
C87: reste | D87: =D86-R93 -> 0 | L87: =H87-((I87*I84)+(J87*J84)+(K87*K84)) -> 0 | O87: BASE | Q87: PG/VG | R87: =R89-R88 -> 0 | S87: =R87*30 -> 0 | T87: =R87*100/S85 -> #DIV/0! | V87: BASE | X87: PG/VG | Y87: =Y89-Y88 -> 0 | Z87: =Y87*30 -> 0 | AA87: =Y87*100/Z85 -> #DIV/0!
L88: =H88-((I88*I84)+(J88*J84)+(K88*K84)) -> 0 | Q88: Boosters | R88: =(Q85*R89)/20 -> 0 | S88: =R88*30 -> 0 | T88: =R88*100/S85 -> #DIV/0! | X88: Boosters | Y88: =(X85*Y89)/20 -> 0 | Z88: =Y88*30 -> 0 | AA88: =Y88*100/Z85 -> #DIV/0!
C89: Ethylguaiacol Smoky | D89: 0 | L89: =H89-((I89*I88)+(J89*J88)+(K89*K88)) -> 0 | Q89: Base Totale | R89: =S85*T89/100 -> 0 | S89: =R89*30 -> 0 | T89: =100-T90-T91-T92-T93-T94-T95 -> 91.83 | X89: Base Totale | Y89: =Z85*AA89/100 -> 0 | Z89: =Y89*30 -> 0 | AA89: =100-AA90-AA91-AA92-AA93-AA94-AA95 -> 80.3
C90: reste | D90: =D89-Y78 -> 0 | L90: =H90-((I90*I88)+(J90*J88)+(K90*K88)) -> 0 | O90: ARÔMES | Q90: Vanille Bourbon | R90: =S85*T90/100 -> 0 | S90: =R90*30 -> 0 | T90: 8 | V90: ARÔMES | X90: Rhum Blanc | Y90: =Z85*AA90/100 -> 0 | Z90: =Y90*30 -> 0 | AA90: 13
L91: =H91-((I91*I88)+(J91*J88)+(K91*K88)) -> 0 | R91: =S85*T91/100 -> 0 | S91: =R91*30 -> 0 | X91: Citron Vert | Y91: =Z85*AA91/100 -> 0 | Z91: =Y91*30 -> 0 | AA91: 5
L92: =H92-((I92*I88)+(J92*J88)+(K92*K88)) -> 0 | R92: =S85*T92/100 -> 0 | S92: =R92*30 -> 0 | X92: Menthe Fraîche | Y92: =Z85*AA92/100 -> 0 | Z92: =Y92*30 -> 0 | AA92: 1.7
L93: =H93-((I93*I92)+(J93*J92)+(K93*K92)) -> 0 | O93: ADDITIFS | Q93: Massoia Lactone | R93: =S85*T93/100 -> 0 | S93: =R93*30 -> 0 | T93: 0.17 | V93: ADDITIFS | Y93: =Z85*AA93/100 -> 0 | Z93: =Y93*30 -> 0
L94: =H94-((I94*I92)+(J94*J92)+(K94*K92)) -> 0 | R94: =S85*T94/100 -> 0 | S94: =R94*30 -> 0 | Y94: =Z85*AA94/100 -> 0 | Z94: =Y94*30 -> 0
L95: =H95-((I95*I92)+(J95*J92)+(K95*K92)) -> 0 | R95: =S85*T95/100 -> 0 | S95: =R95*30 -> 0 | Y95: =Z85*AA95/100 -> 0 | Z95: =Y95*30 -> 0
L96: =H96-((I96*I92)+(J96*J92)+(K96*K92)) -> 0 | O96: STEEPING | Q96: 5 jours | V96: STEEPING | X96: 5 jours

Sheet Prix
B1: RECETTES ET PRIX
A2: Nom de la recette | B2: Classic FR | C2: Classic FR Noisettes Fumées | D2: Thé Vert à la Menthe | E2: Crème de Bourbon | F2: Mojito | G2: Classic FR Smoky | H2: Base Nicotinée
A3: Base PG/VG | B3: 50/50 | C3: 50/50 | D3: 50/50 | E3: 50/50 | F3: 50/50 | G3: 50/50 | H3: 50/50
A4: Taux de nicotine | B4: 0 mg/ml | C4: 0 mg/ml | D4: 0 mg/ml | E4: 0 mg/ml | F4: 0 mg/ml | G4: 0 mg/ml | H4: 0 mg/ml
A5: Prix du flacon de base | B5: 12.9 | C5: 12.9 | D5: 12.9 | E5: 12.9 | F5: 12.9 | G5: 12.9 | H5: 12.9
A6: Volume du flacon de base en ml | B6: 1000 | C6: 1000 | D6: 1000 | E6: 1000 | F6: 1000 | G6: 1000 | H6: 1000
A8: Boosters | B8: 20 mg/ml | C8: 20 mg/ml | D8: 20 mg/ml | E8: 20 mg/ml | F8: 20 mg/ml | G8: 20 mg/ml | H8: 20 mg/ml
A9: Nb de flacons de boosters | B9: 43 | C9: 43 | D9: 43 | E9: 43 | F9: 43 | G9: 43 | H9: 43
A10: Prix du flacon | B10: 1.5 | C10: 1.5 | D10: 1.5 | E10: 1.5 | F10: 1.5 | G10: 1.5 | H10: 1.5
A11: Volume du flacon en ml | B11: 10 | C11: 10 | D11: 10 | E11: 10 | F11: 10 | G11: 10 | H11: 10
A13: Total des bases (base + boosters) | B13: 6 mg/ml | C13: 6 mg/ml | D13: 6 mg/ml | E13: 6 mg/ml | F13: 6 mg/ml | G13: 6 mg/ml | H13: 6 mg/ml
A14: Volume total de base obtenu en ml | B14: =B6+B9*B11 -> 1430 | C14: =C6+C9*C11 -> 1430 | D14: =D6+D9*D11 -> 1430 | E14: =E6+E9*E11 -> 1430 | F14: =F6+F9*F11 -> 1430 | G14: =G6+G9*G11 -> 1430 | H14: =H6+H9*H11 -> 1430
A15: Prix total de la base au ml | B15: =(B5+B9*B10)/B14 -> 0.054125874 | C15: =(C5+C9*C10)/C14 -> 0.054125874 | D15: =(D5+D9*D10)/D14 -> 0.054125874 | E15: =(E5+E9*E10)/E14 -> 0.054125874 | F15: =(F5+F9*F10)/F14 -> 0.054125874 | G15: =(G5+G9*G10)/G14 -> 0.054125874 | H15: =(H5+H9*H10)/H14 -> 0.054125874
A17: Arômes et additifs
A18: Ingrédient 1 | B18: Classic FR CIRKUS | C18: Classic FR CIRKUS | D18: Thé Vert AROMEA | E18: Vanile Bourbon SOLUBAROME | F18: Rhum Blanc A&L | G18: Classic FR CIRKUS
A19: Prix du flacon | B19: 4.9 | C19: 4.9 | D19: 3.5 | E19: 1.9 | F19: 3.4 | G19: 4.9 | H19: 0
A20: Volume du flacon | B20: 10 | C20: 10 | D20: 10 | E20: 10 | F20: 10 | G20: 10 | H20: 10
A21: Dosage recommandé | B21: 0.15 | C21: 0.15 | D21: 0.08 | E21: 0.08 | F21: 0.06 | G21: 0.15
A22: Steeping | B22: 15 | C22: 15 | D22: 2-4 | E22: 2-5 | G22: 15
A23: Ingrédient 2 | C23: Acetyl Pyrazine | D23: Menthe Fraîche VDLV | E23: Massoia Lactone | F23: Citron Vert AROMEA | G23: Ethylguaiacol Smoky
A24: Prix du flacon | B24: 0 | C24: 3.6 | D24: 4.9 | E24: 4 | F24: 3.5 | G24: 4 | H24: 0
A25: Volume du flacon | B25: 10 | C25: 10 | D25: 10 | E25: 10 | F25: 10 | G25: 10 | H25: 10
A26: Dosage recommandé | C26: 0.07 | D26: 0.15 | E26: 0.0017 | F26: 0.08 | G26: 0.0017
A27: Steeping | D27: 7-15 | F27: 2
A28: Ingrédient 3 | D28: Super Sweetner Super Concentré | F28: Menthe Fraîche VDLV
A29: Prix du flacon | B29: 0 | C29: 0 | D29: 4.9 | E29: 0 | F29: 4.9 | G29: 0 | H29: 0
A30: Volume du flacon | B30: 10 | C30: 10 | D30: 10 | E30: 10 | F30: 10 | G30: 10 | H30: 10
A31: Dosage recommandé | D31: 0.04 | F31: 0.15
A32: Steeping | F32: 7-15
A33: Ingrédient 4
A34: Prix du flacon | B34: 0 | C34: 0 | D34: 0 | E34: 0 | F34: 0 | G34: 0 | H34: 0
A35: Volume du flacon | B35: 10 | C35: 10 | D35: 10 | E35: 10 | F35: 10 | G35: 10 | H35: 10
A36: Dosage recommandé
A37: Steeping
A38: Ingrédient 5
A39: Prix du flacon | B39: 0 | C39: 0 | D39: 0 | E39: 0 | F39: 0 | G39: 0 | H39: 0
A40: Volume du flacon | B40: 10 | C40: 10 | D40: 10 | E40: 10 | F40: 10 | G40: 10 | H40: 10
A41: Dosage recommandé
A42: Steeping
A43: Ingrédient 6
A44: Prix du flacon | B44: 0 | C44: 0 | D44: 0 | E44: 0 | F44: 0 | G44: 0 | H44: 0
A45: Volume du flacon | B45: 10 | C45: 10 | D45: 10 | E45: 10 | F45: 10 | G45: 10 | H45: 10
A46: Dosage recommandé
A47: Steeping
A49: Composition de la recette
A50: Volume total de la recette en ml | B50: 250 | C50: 35 | D50: 30 | E50: 10 | F50: 10 | G50: 30 | H50: 10
A52: Construction de la base | B52: =B50-B60-B65-B70-B75-B80-B85 -> 212.5 | C52: =C50-C60-C65-C70-C75-C80-C85 -> 27.3 | D52: =D50-D60-D65-D70-D75-D80-D85 -> 21.9 | E52: =E50-E60-E65-E70-E75-E80-E85 -> 9.183 | F52: =F50-F60-F65-F70-F75-F80-F85 -> 8.03 | G52: =G50-G60-G65-G70-G75-G80-G85 -> 25.449 | H52: =H50-H60-H65-H70-H75-H80-H85 -> 10
A53: Base en ml | B53: =(B52*70)/100 -> 148.75 | C53: =(C52*70)/100 -> 19.11 | D53: =(D52*70)/100 -> 15.33 | E53: =(E52*70)/100 -> 6.4281 | F53: =(F52*70)/100 -> 5.621 | G53: =(G52*70)/100 -> 17.8143 | H53: =(H52*70)/100 -> 7
A54: Boosters en ml | B54: =(B52*30)/100 -> 63.75 | C54: =(C52*30)/100 -> 8.19 | D54: =(D52*30)/100 -> 6.57 | E54: =(E52*30)/100 -> 2.7549 | F54: =(F52*30)/100 -> 2.409 | G54: =(G52*30)/100 -> 7.6347 | H54: =(H52*30)/100 -> 3
A56: Arômes & Additifs
A57: Ingrédient 1 | B57: Classic FR CIRKUS | C57: Classic FR CIRKUS | D57: Thé Vert AROMEA | E57: Vanile Bourbon SOLUBAROME | F57: Rhum Blanc A&L | G57: Classic FR CIRKUS
A58: Pourcentage | B58: 15 | C58: 15 | D58: 8 | E58: 8 | F58: 13 | G58: 15 | H58: 0
A59: Nb de gouttes | B59: =B60*30 -> 1125 | C59: =C60*30 -> 157.5 | D59: =D60*30 -> 72 | E59: =E60*30 -> 24 | F59: =F60*30 -> 39 | G59: =G60*30 -> 135 | H59: =H60*30 -> 0
A60: Ingrédient 1 en ml | B60: =B50*B58/100 -> 37.5 | C60: =C50*C58/100 -> 5.25 | D60: =D50*D58/100 -> 2.4 | E60: =E50*E58/100 -> 0.8 | F60: =F50*F58/100 -> 1.3 | G60: =G50*G58/100 -> 4.5 | H60: =H50*H58/100 -> 0
A62: Ingrédient 2 | C62: Acetyl Pyrazine | D62: Menthe Fraîche VDL | E62: Massoia Lactone | F62: Citron Vert AROMEA | G62: Ethylguaiacol Smoky
A63: Pourcentage | B63: 0 | C63: 7 | D63: 15 | E63: 0.17 | F63: 5 | G63: 0.17 | H63: 0
A64: Nb de gouttes | B64: =B65*30 -> 0 | C64: =C65*30 -> 73.5 | D64: =D65*30 -> 135 | E64: =E65*30 -> 0.51 | F64: =F65*30 -> 15 | G64: =G65*30 -> 1.53 | H64: =H65*30 -> 0
A65: Ingrédient 2 en ml | B65: =B50*B63/100 -> 0 | C65: =C50*C63/100 -> 2.45 | D65: =D50*D63/100 -> 4.5 | E65: =E50*E63/100 -> 0.017 | F65: =F50*F63/100 -> 0.5 | G65: =G50*G63/100 -> 0.051 | H65: =H50*H63/100 -> 0
A67: Ingrédient 3 | D67: Super Sweetner Super Concentré | F67: Menthe Fraîche VDLV
A68: Pourcentage | B68: 0 | C68: 0 | D68: 4 | E68: 0 | F68: 1.7 | G68: 0 | H68: 0
A69: Nb de gouttes | B69: =B70*30 -> 0 | C69: =C70*30 -> 0 | D69: =D70*30 -> 36 | E69: =E70*30 -> 0 | F69: =F70*30 -> 5.1 | G69: =G70*30 -> 0 | H69: =H70*30 -> 0
A70: Ingrédient 3 en ml | B70: =B50*B68/100 -> 0 | C70: =C50*C68/100 -> 0 | D70: =D50*D68/100 -> 1.2 | E70: =E50*E68/100 -> 0 | F70: =F50*F68/100 -> 0.17 | G70: =G50*G68/100 -> 0 | H70: =H50*H68/100 -> 0
A72: Ingrédient 4
A73: Pourcentage | B73: 0 | D73: 0 | E73: 0 | F73: 0 | G73: 0 | H73: 0
A74: Nb de gouttes | B74: =B75*30 -> 0 | C74: =C75*30 -> 0 | D74: =D75*30 -> 0 | E74: =E75*30 -> 0 | F74: =F75*30 -> 0 | G74: =G75*30 -> 0 | H74: =H75*30 -> 0
A75: Ingrédient 4 en ml | B75: =B50*B73/100 -> 0 | C75: =C50*C73/100 -> 0 | D75: =D50*D73/100 -> 0 | E75: =E50*E73/100 -> 0 | F75: =F50*F73/100 -> 0 | G75: =G50*G73/100 -> 0 | H75: =H50*H73/100 -> 0
A77: Ingrédient 5
A78: Pourcentage | B78: 0 | D78: 0 | E78: 0 | F78: 0 | G78: 0 | H78: 0
A79: Nb de gouttes | B79: =B80*30 -> 0 | C79: =C80*30 -> 0 | D79: =D80*30 -> 0 | E79: =E80*30 -> 0 | F79: =F80*30 -> 0 | G79: =G80*30 -> 0 | H79: =H80*30 -> 0
A80: Ingrédient 5 en ml | B80: =B50*B78/100 -> 0 | C80: =C50*C78/100 -> 0 | D80: =D50*D78/100 -> 0 | E80: =E50*E78/100 -> 0 | F80: =F50*F78/100 -> 0 | G80: =G50*G78/100 -> 0 | H80: =H50*H78/100 -> 0
A82: Ingrédient 6
A83: Pourcentage | B83: 0 | D83: 0 | E83: 0 | F83: 0 | G83: 0 | H83: 0
A84: Nb de gouttes | B84: =B85*30 -> 0 | C84: =C85*30 -> 0 | D84: =D85*30 -> 0 | E84: =E85*30 -> 0 | F84: =F85*30 -> 0 | G84: =G85*30 -> 0 | H84: =H85*30 -> 0
A85: Ingrédient 6 en ml | B85: =B50*B83/100 -> 0 | C85: =C50*C83/100 -> 0 | D85: =D50*D83/100 -> 0 | E85: =E50*E83/100 -> 0 | F85: =F50*F83/100 -> 0 | G85: =G50*G83/100 -> 0 | H85: =H50*H83/100 -> 0
A87: Volumes Base | B87: =B53+B54 -> 212.5 | C87: =C53+C54 -> 27.3 | D87: =D53+D54 -> 21.9 | E87: =E53+E54 -> 9.183 | F87: =F53+F54 -> 8.03 | G87: =G53+G54 -> 25.449 | H87: =H53+H54 -> 10
A88: Volumes Arômes et Additifs | B88: =B60+B65+B70+B75+B80+B85 -> 37.5 | C88: =C60+C65+C70+C75+C80+C85 -> 7.7 | D88: =D60+D65+D70+D75+D80+D85 -> 8.1 | E88: =E60+E65+E70+E75+E80+E85 -> 0.817 | F88: =F60+F65+F70+F75+F80+F85 -> 1.97 | G88: =G60+G65+G70+G75+G80+G85 -> 4.551 | H88: =H60+H65+H70+H75+H80+H85 -> 0
A90: Steeping en jours | B90: 15 | C90: 15 | D90: 10 | E90: 5 | F90: 5 | G90: 15
A92: Prix Total | B92: =B93+B97 -> 29.876748 | C92: =C93+C97 -> 4.9321364 | D92: =D93+D97 -> 4.8183566 | E92: =E93+E97 -> 0.6558379 | F92: =F93+F97 -> 1.1349308 | G92: =G93+G97 -> 3.6028494 | H92: =H93+H97 -> 0.54125874
A93: Prix de la base nicotinée | B93: =B52*B15 -> 11.501748 | C93: =C52*C15 -> 1.4776364 | D93: =D52*D15 -> 1.1853566 | E93: =E52*E15 -> 0.4970379 | F93: =F52*F15 -> 0.43463077 | G93: =G52*G15 -> 1.3774494 | H93: =H52*H15 -> 0.54125874
A94: Prix de la base | B94: =(B53*B5)/B6 -> 1.918875 | C94: =(C53*C5)/C6 -> 0.246519 | D94: =(D53*D5)/D6 -> 0.197757 | E94: =(E53*E5)/E6 -> 0.08292249 | F94: =(F53*F5)/F6 -> 0.0725109 | G94: =(G53*G5)/G6 -> 0.22980447 | H94: =(H53*H5)/H6 -> 0.0903
A95: Prix des boosters | B95: =(B54*B10)/B11 -> 9.5625 | C95: =(C54*C10)/C11 -> 1.2285 | D95: =(D54*D10)/D11 -> 0.9855 | E95: =(E54*E10)/E11 -> 0.413235 | F95: =(F54*F10)/F11 -> 0.36135 | G95: =(G54*G10)/G11 -> 1.145205 | H95: =(H54*H10)/H11 -> 0.45
A97: Prix des Arômes et Additifs | B97: =(B19*B60/B20)+(B24*B65/B25)+(B29*B70/B30)+(B34*B75/B35)+(B39*B80/B40)+(B44*B85/B45) -> 18.375 | C97: =(C19*C60/C20)+(C24*C65/C25)+(C29*C70/C30)+(C34*C75/C35)+(C39*C80/C40)+(C44*C85/C45) -> 3.4545 | D97: =(D19*D60/D20)+(D24*D65/D25)+(D29*D70/D30)+(D34*D75/D35)+(D39*D80/D40)+(D44*D85/D45) -> 3.633 | E97: =(E19*E60/E20)+(E24*E65/E25)+(E29*E70/E30)+(E34*E75/E35)+(E39*E80/E40)+(E44*E85/E45) -> 0.1588 | F97: =(F19*F60/F20)+(F24*F65/F25)+(F29*F70/F30)+(F34*F75/F35)+(F39*F80/F40)+(F44*F85/F45) -> 0.7003 | G97: =(G19*G60/G20)+(G24*G65/G25)+(G29*G70/G30)+(G34*G75/G35)+(G39*G80/G40)+(G44*G85/G45) -> 2.2254 | H97: =(H19*H60/H20)+(H24*H65/H25)+(H29*H70/H30)+(H34*H75/H35)+(H39*H80/H40)+(H44*H85/H45) -> 0
A99: Prix d'une fiole de 10 ml | B99: =(B92/B50)*10 -> 1.1950699 | C99: =(C92/C50)*10 -> 1.4091818 | D99: =(D92/D50)*10 -> 1.6061189 | E99: =(E92/E50)*10 -> 0.6558379 | F99: =(F92/F50)*10 -> 1.1349308 | G99: =(G92/G50)*10 -> 1.2009498 | H99: =(H92/H50)*10 -> 0.54125874
A100: Nombre de fiole de 10 ml | B100: =B50/10 -> 25 | C100: =C50/10 -> 3.5 | D100: =D50/10 -> 3 | E100: =E50/10 -> 1 | F100: =F50/10 -> 1 | G100: =G50/10 -> 3 | H100: =H50/10 -> 1
A101: Nombre de fiole de 30 ml | B101: =B50/30 -> 8.3333333 | C101: =C50/30 -> 1.1666667 | D101: =D50/30 -> 1 | E101: =E50/30 -> 0.33333333 | F101: =F50/30 -> 0.33333333 | G101: =G50/30 -> 1 | H101: =H50/30 -> 0.33333333
A102: Nombre de fiole de 50 ml | B102: =B50/50 -> 5 | C102: =C50/50 -> 0.7 | D102: =D50/50 -> 0.6 | E102: =E50/50 -> 0.2 | F102: =F50/50 -> 0.2 | G102: =G50/50 -> 0.6 | H102: =H50/50 -> 0.2

Sheet Classic FR
A1: =Data!O5 -> Classic FR | G1: =Data!S5 -> 250 | H1: ml | I1: =Data!Q5 -> 6 | J1: mg/ml
B3: BASE | E3: ARÔMES | H3: ADDITIFS
B5: Base 0 mg/ml | C5: =Data!R7 -> 148.75 | D5: ml | E5: =Data!Q10 -> Classic FR | F5: =Data!R10 -> 37.5 | G5: ml | J5: ml | L5: gouttes
B6: Boosters 20 mg/ml | C6: =Data!R8 -> 63.75 | D6: ml | G6: ml | J6: ml | L6: gouttes
G7: ml | J7: ml | L7: gouttes
B8: total | C8: =C5+C6 -> 212.5 | D8: ml | F8: =F5+F6+F7 -> 37.5 | G8: ml | J8: ml
B11: Steeping | D11: 15 | E11: jours
B12: Date de fabrication | D12: =TODAY() -> 42778 | G12: Prix pour 10 ml | I12: =Prix!B99 -> 1.1950699
B13: Date de maturation | D13: =TODAY()+D11 -> 42793

Sheet Classic FR Nuts
A1: =Data!V5 -> Classic FR Noisettes Fumées | G1: =Data!Z5 -> 250 | H1: ml | I1: =Data!X5 -> 6 | J1: mg/ml
B3: BASE | E3: ARÔMES | H3: ADDITIFS
B5: Base 0 mg/ml | C5: =Data!Y7 -> 136.5 | D5: ml | E5: =Data!X10 -> Classic FR | F5: =Data!Y10 -> 37.5 | G5: ml | H5: =Data!X13 -> Acétyl Pyrazine | I5: =Data!Y13 -> 17.5 | J5: ml | K5: =Data!Z13 -> 525 | L5: gouttes
B6: Boosters 20 mg/ml | C6: =Data!Y8 -> 58.5 | D6: ml | G6: ml | J6: ml | L6: gouttes
G7: ml | J7: ml | L7: gouttes
B8: total | C8: =C5+C6 -> 195 | D8: ml | F8: =F5 -> 37.5 | G8: ml | I8: =I5 -> 17.5 | J8: ml
B11: Steeping | D11: 15 | E11: jours
B12: Date de fabrication | D12: =TODAY() -> 42778 | G12: Prix pour 10 ml | I12: =Prix!C99 -> 1.4091818
B13: Date de maturation | D13: =TODAY()+D11 -> 42793

Sheet Classic FR Smoky
A1: =Data!V20 -> Classic FR Smoky | G1: =Data!Z20 -> 250 | H1: ml | I1: =Data!X20 -> 6 | J1: mg/ml
B3: BASE | E3: ARÔMES | H3: ADDITIFS
B5: Base 0 mg/ml | C5: =Data!Y22 -> 148.4525 | D5: ml | E5: =Data!X25 -> Classic FR | F5: =Data!Y25 -> 37.5 | G5: ml | H5: =Data!X28 -> Ethylguaiacol Smoky | I5: =Data!Y28 -> 0.425 | J5: ml | K5: =Data!Z28 -> 12.75 | L5: gouttes
B6: Boosters 20 mg/ml | C6: =Data!Y23 -> 63.6225 | D6: ml | G6: ml | J6: ml | L6: gouttes
G7: ml | J7: ml | L7: gouttes
B8: total | C8: =C5+C6 -> 212.075 | D8: ml | F8: =F5 -> 37.5 | G8: ml | I8: =I5 -> 0.425 | J8: ml
B11: Steeping | D11: 15 | E11: jours
B12: Date de fabrication | D12: =TODAY() -> 42778 | G12: Prix pour 10 ml | I12: =Prix!G99 -> 1.2009498
B13: Date de maturation | D13: =TODAY()+D11 -> 42793

Sheet Thé Vert Menthe
A1: =Data!O20 -> Thé Vert à la Menthe | G1: =Data!S20 -> 250 | H1: ml | I1: =Data!Q20 -> 6 | J1: mg/ml
B3: BASE | E3: ARÔMES | H3: ADDITIFS
B5: Base 0 mg/ml | C5: =Data!R22 -> 127.75 | D5: ml | E5: =Data!Q25 -> Thé Vert | F5: =Data!R25 -> 20 | G5: ml | H5: =Data!Q28 -> Super Sweetner | I5: =Data!R28 -> 10 | J5: ml | K5: =Data!S28 -> 300 | L5: gouttes
B6: Boosters 20 mg/ml | C6: =Data!R23 -> 54.75 | D6: ml | E6: =Data!Q26 -> Menthe Fraîche | F6: =Data!R26 -> 37.5 | G6: ml | J6: ml | L6: gouttes
G7: ml | J7: ml | L7: gouttes
B8: total | C8: =C5+C6 -> 182.5 | D8: ml | F8: =F5+F6 -> 57.5 | G8: ml | I8: =I5 -> 10 | J8: ml
B11: Steeping | D11: 10 | E11: jours
B12: Date de fabrication | D12: =TODAY() -> 42778 | G12: Prix pour 10 ml | I12: =Prix!D99 -> 1.6061189
B13: Date de maturation | D13: =TODAY()+D11 -> 42788

Sheet Crème de Bourbon
A1: =Data!O35 -> Crème de Bourbon | G1: =Data!S35 -> 250 | H1: ml | I1: =Data!Q35 -> 6 | J1: mg/ml
B3: BASE | E3: ARÔMES | H3: ADDITIFS
B5: Base 0 mg/ml | C5: =Data!R37 -> 160.7025 | D5: ml | E5: =Data!Q40 -> Vanille Bourbon | F5: =Data!R40 -> 20 | G5: ml | H5: =Data!Q43 -> Massoia Lactone | I5: =Data!R43 -> 0.425 | J5: ml | K5: =Data!S43 -> 12.75 | L5: gouttes
B6: Boosters 20 mg/ml | C6: =Data!R38 -> 68.8725 | D6: ml | G6: ml | J6: ml | L6: gouttes
G7: ml | J7: ml | L7: gouttes
B8: total | C8: =C5+C6 -> 229.575 | D8: ml | F8: =F5 -> 20 | G8: ml | I8: =I5 -> 0.425 | J8: ml
B11: Steeping | D11: 5 | E11: jours
B12: Date de fabrication | D12: =TODAY() -> 42778 | G12: Prix pour 10 ml | I12: =Prix!E99 -> 0.6558379
B13: Date de maturation | D13: =TODAY()+D11 -> 42783

Sheet Mojito
A1: =Data!V35 -> Mojito | G1: =Data!Z35 -> 250 | H1: ml | I1: =Data!X35 -> 6 | J1: mg/ml
B3: BASE | E3: ARÔMES | H3: ADDITIFS
B5: Base 0 mg/ml | C5: =Data!Y37 -> 140.525 | D5: ml | E5: =Data!X40 -> Rhum Blanc | F5: =Data!Y40 -> 32.5 | G5: ml | J5: ml | L5: gouttes
B6: Boosters 20 mg/ml | C6: =Data!Y38 -> 60.225 | D6: ml | E6: =Data!X41 -> Citron Vert | F6: =Data!Y41 -> 12.5 | G6: ml | J6: ml | L6: gouttes
E7: =Data!X42 -> Menthe Fraîche | F7: =Data!Y42 -> 4.25 | G7: ml | J7: ml | L7: gouttes
B8: total | C8: =C5+C6 -> 200.75 | D8: ml | F8: =F5+F6+F7 -> 49.25 | G8: ml | J8: ml
B11: Steeping | D11: 5 | E11: jours
B12: Date de fabrication | D12: =TODAY() -> 42778 | G12: Prix pour 10 ml | I12: =Prix!F99 -> 1.1349308
B13: Date de maturation | D13: =TODAY()+D11 -> 42783
