Workbook
Name Cible: INDIRECT("_"&INDICAT_PERF!$C$8)
Name Cible_An: INDIRECT("_"&INDICAT_PERF!$C$8&"[Année]")
Name Cible_Mois: INDIRECT("_"&INDICAT_PERF!$C$8&"[Mois]")
Name CONTRAT: DONNEES!$D$3:$D$9
Name Environnement: Tableau10[Environnement]
Name motif: DONNEES!$A$3:$A$5
Name RECLAMATION: DONNEES!$C$3:$C$14
Name type: DONNEES!$A$8:$A$11

Sheet INDICAT_PERF
B2: INDICATEUR DE PERFORMANCE
B3: COLLECTE DES DONNEES
A7: PERIODE DE RELEVE ð | C7: décembre | F7: 2024
A8: SECTEUR | C8: SYNTHESE
A9: RESULTAT DE LA MESURE : | F9: OBSERVATIONS - REMARQUES :
A10: IQ2 | B10: Nb réclamations = | D10: =COUNTIF(DONNEES!H23:H362,"RECLAMATION") -> 0 | F10: Voir détail ci-joint
A11: IQ3 | B11: Nb courriers répondus dans le mois = | D11: =COUNTIF(DONNEES!$P$23:$P$300,">0") -> 0
B12: Nb de courriers à moins de 8 jours = | D12: =IF(D11=0,0,D11-COUNTIF(DONNEES!R23:R300,"OUI")) -> 0
A13: IQ4A | B13: Nombre de BSDD émis depuis le 1er du mois | D13: 0
A14: IQ4B | B14: Nombre de BSDD retournés depuis le 1er du mois | D14: 0
A15: IQ5 | B15: Nombre de tests de situations d’urgences réalisés | D15: 0
A20: Fiche à transmettre au D.QSEST avant le 10 de chaque mois
B23: EMETTEUR | C23: Responsable de service
B24: ="DATE : "& TEXT( TODAY(), "jj/mm/AA") -> DATE : 30/12/24 | C24: ="DATE : " & TEXT(TODAY(), "JJ/MM/AA") -> DATE : 30/12/24
B25: NOM : | C25: NOM :
B26: VISA : | C26: VISA :

Sheet SUIVI_RECLAM
B2: SUIVI DES RECLAMATIONS CLIENTS ET DES PLAINTES ENVIRONNEMENTALES
B4: Secteur/Service : | D4: =INDICAT_PERF!C8 -> SYNTHESE
B5: Mois : | D5: =INDICAT_PERF!C7 -> décembre
B7: TYPE DE RECLAMATION | C7: PROCESSUS | E7: NOMBRE
B8: Point de livraison défectueux | E8: =COUNTIF(DONNEES!$I$23:$I$300,SUIVI_RECLAM!B8) -> 0
B9: Coupure d’eau | E9: =COUNTIF(DONNEES!$I$23:$I$300,SUIVI_RECLAM!B9) -> 0
B10: Manque débit/pression | E10: =COUNTIF(DONNEES!$I$23:$I$300,SUIVI_RECLAM!B10) -> 0
B11: Problème suite à changement de compteur | E11: =COUNTIF(DONNEES!$I$23:$I$300,SUIVI_RECLAM!B11) -> 0
B12: Fuite sur réseau ou branchement | E12: =COUNTIF(DONNEES!$I$23:$I$300,SUIVI_RECLAM!B12) -> 0
B13: Qualité d’eau | E13: =SUM(E28:E29) -> 0
B14: Environnement | E14: =SUM(E31:E33) -> 0
B15: Facturation | E15: =SUM(E22:E26) -> 0
B16: Réclamation MMI | E16: =COUNTIF(DONNEES!$I$23:$I$300,SUIVI_RECLAM!B16) -> 0
B17: Retard exécution travaux | E17: =COUNTIF(DONNEES!$I$23:$I$300,SUIVI_RECLAM!B17) -> 0
B18: Réclamations injustifiées | E18: =COUNTIF(DONNEES!$I$23:$I$300,SUIVI_RECLAM!B18) -> 0
B19: Autres (1) | E19: =COUNTIF(DONNEES!$I$23:$I$300,SUIVI_RECLAM!B19) -> 0
B20: TOTAL DES RECLAMATIONS | E20: =SUM(E8:E19) -> 0
B21: DETAIL FACTURATION | E21: NOMBRE
B22: Contestation Volume Facturé | E22: =COUNTIF(DONNEES!$J$23:$J$300,SUIVI_RECLAM!B22) -> 0
B23: Erreur Contractuelle | E23: =COUNTIF(DONNEES!$J$23:$J$300,SUIVI_RECLAM!B23) -> 0
B24: Erreur sur saisie répartition | E24: =COUNTIF(DONNEES!$J$23:$J$300,SUIVI_RECLAM!B24) -> 0
B25: Demande Geste Commercial | E25: =COUNTIF(DONNEES!$J$23:$J$300,SUIVI_RECLAM!B25) -> 0
B26: Erreur Ecriture Comptable | E26: =COUNTIF(DONNEES!$J$23:$J$300,SUIVI_RECLAM!B26) -> 0
B27: DETAIL QUALITE DE L'EAU | E27: NOMBRE
B28: Eau brute | E28: =COUNTIF(DONNEES!$J$23:$J$300,SUIVI_RECLAM!B28) -> 0
B29: Eau Potable | E29: =COUNTIF(DONNEES!$J$23:$J$300,SUIVI_RECLAM!B29) -> 0
B30: DETAIL ENVIRONNEMENT | E30: NOMBRE
B31: Pollution / dépose de déchets | E31: =COUNTIF(DONNEES!$J$23:$J$300,SUIVI_RECLAM!B31) -> 0
B32: Egoût bouché | E32: =COUNTIF(DONNEES!$J$23:$J$300,SUIVI_RECLAM!B32) -> 0
B33: liée au gel | E33: =COUNTIF(DONNEES!$J$23:$J$300,SUIVI_RECLAM!B33) -> 0
B38: (1) Veuillez indiquer le processus concerné
B40: Fiche à transmettre au RQ et au Coordinateur Environnement dans les mêmes délais que les indicateurs de performance.
B42: Emetteur | D42: Responsable de service
B43: 45537 | D43: 45537
B44: Nom : CHAAOUI Naoual | D44: Nom : Eyraud Adeline
B45: Visa : | D45: Visa :
B47: RQ
B48: Date :
B49: Nom :
B50: Visa :

Sheet SYNTHESE
C1: ENREGISTREMENT DE DEMANDE SYNTHESE
A8: Enregistrement Demande | L8: Enregistrement réponse
A9: Date de Reception | B9: Mois | C9: Année | D9: Type de Contact | E9: Nom du demandeur | F9: Num client | G9: Ref si AR | H9: Motif | I9: Precision | J9: Détail | K9: Objet | L9: Code Agent | M9: Réponse attendue | N9: Référence reponse | O9: Courrier transféré | P9: Date réponse | Q9: délai | R9: réponse > 8 jours
A10: 45656 | B10: 12 | C10: 2024 | D10: Courrier | E10: segonne miri | F10: 2564 | H10: RECLAMATION | I10: Coupure d’eau | K10: j'ai pas d'eau | L10: MSE | M10: OUI | N10: sgsgsdg | P10: 45669 | Q10: 13 | R10: OUI
A11: 45657 | B11: 12 | C11: 2024 | D11: Courrier | E11: yukhg;k | F11: 45687 | H11: CONTRAT | I11: Facturation | K11: blablabal | L11: MSE | M11: OUI | N11: sdfhsdhfsdf | P11: 45657 | Q11: 0
A12: 45656 | B12: 12 | C12: 2024 | D12: Mail | E12: DELON | F12: 1213 | H12: RECLAMATION | I12: Facturation | J12: Erreur Contractuelle | K12: LE CLIENT CONTESTE SA FACTURE | L12: HEA | M12: OUI | N12: EQF | O12: NON | P12: 45656 | Q12: 0

Sheet CASTELNAUDARY
C1: ENREGISTREMENT DE DEMANDE CASTELNAUDARY
A8: Enregistrement Demande | L8: Enregistrement réponse
A9: Date de Reception | B9: Mois | C9: Année | D9: Type de Contact | E9: Nom du demandeur | F9: Num client | G9: Ref si AR | H9: Motif | I9: Precision | J9: Détail | K9: Objet | L9: Code Agent | M9: Réponse attendue | N9: Référence reponse | O9: Courrier transféré | P9: Date réponse | Q9: délai | R9: réponse > 8 jours
A10: 45656 | B10: =MONTH(_CASTELNAUDARY[[#This Row],[Date de Reception]]) -> 12 | C10: =YEAR(_CASTELNAUDARY[[#This Row],[Date de Reception]]) -> 2024 | D10: Courrier | E10: segonne miri | F10: 2564 | H10: RECLAMATION | I10: Coupure d’eau | K10: j'ai pas d'eau | L10: MSE | M10: OUI | N10: sgsgsdg | P10: 45669 | Q10: =IF(AND(_CASTELNAUDARY[[#This Row],[Date réponse]]-_CASTELNAUDARY[[#This Row],[Date de Reception]]>-1,_CASTELNAUDARY[[#This Row],[Date de Reception]]<>""),_CASTELNAUDARY[[#This Row],[Date réponse]]-_CASTELNAUDARY[[#This Row],[Date de Reception]],"") -> 13 | R10: =IF(AND(_CASTELNAUDARY[[#This Row],[délai]]>8,_CASTELNAUDARY[[#This Row],[délai]]<>""),"OUI","") -> OUI

Sheet GARONS
C1: ENREGISTREMENT DE DEMANDE GARONS
A8: Enregistrement Demande | L8: Enregistrement réponse
A9: Date de Reception | B9: Mois | C9: Année | D9: Type de Contact | E9: Nom du demandeur | F9: Num client | G9: Ref si AR | H9: Motif | I9: Precision | J9: Détail | K9: Objet | L9: Code Agent | M9: Réponse attendue | N9: Référence reponse | O9: Courrier transféré | P9: Date réponse | Q9: délai | R9: réponse > 8 jours
A10: 45657 | B10: =MONTH(_GARONS[[#This Row],[Date de Reception]]) -> 12 | C10: =YEAR(_GARONS[[#This Row],[Date de Reception]]) -> 2024 | D10: Courrier | E10: yukhg;k | F10: 45687 | H10: CONTRAT | I10: Facturation | K10: blablabal | L10: MSE | M10: OUI | N10: sdfhsdhfsdf | P10: 45657 | Q10: =IF(AND(_GARONS[[#This Row],[Date réponse]]-_GARONS[[#This Row],[Date de Reception]]>-1,_GARONS[[#This Row],[Date de Reception]]<>""),_GARONS[[#This Row],[Date réponse]]-_GARONS[[#This Row],[Date de Reception]],"") -> 0 | R10: =IF(AND(_GARONS[[#This Row],[délai]]>8,_GARONS[[#This Row],[délai]]<>""),"OUI","")

Sheet LITTORAL
C1: ENREGISTREMENT DE DEMANDE LITTORAL
A8: Enregistrement Demande | L8: Enregistrement réponse
A9: Date de Reception | B9: Mois | C9: Année | D9: Type de Contact | E9: Nom du demandeur | F9: Num client | G9: Ref si AR | H9: Motif | I9: Precision | J9: Détail | K9: Objet | L9: Code Agent | M9: Réponse attendue | N9: Référence reponse | O9: Courrier transféré | P9: Date réponse | Q9: délai | R9: réponse > 8 jours

Sheet MAUGUIO
C1: ENREGISTREMENT DES DEMANDE S MAUGUIO
A8: Enregistrement Demande | L8: Enregistrement réponse
A9: Date de Reception | B9: Mois | C9: Année | D9: Type de Contact | E9: Nom du demandeur | F9: Num client | G9: Ref si AR | H9: Motif | I9: Precision | J9: Détail | K9: Objet | L9: Code Agent | M9: Réponse attendue | N9: Référence reponse | O9: Courrier transféré | P9: Date réponse | Q9: délai | R9: réponse > 8 jours

Sheet MENDE
C1: ENREGISTREMENT DES DEMANDES MENDE
A8: Enregistrement Demande | L8: Enregistrement réponse
A9: Date de Reception | B9: Mois | C9: Année | D9: Type de Contact | E9: Nom du demandeur | F9: Num client | G9: Ref si AR | H9: Motif | I9: Precision | J9: Détail | K9: Objet | L9: Code Agent | M9: Réponse attendue | N9: Référence reponse | O9: Courrier transféré | P9: Date réponse | Q9: délai | R9: réponse > 8 jours

Sheet NÎMES
C1: ENREGISTREMENT DE DEMANDE NÎMES
A8: Enregistrement Demande | L8: Enregistrement réponse
A9: Date de Reception | B9: Mois | C9: Année | D9: Type de Contact | E9: Nom du demandeur | F9: Num client | G9: Ref si AR | H9: Motif | I9: Precision | J9: Détail | K9: Objet | L9: Code Agent | M9: Réponse attendue | N9: Référence reponse | O9: Courrier transféré | P9: Date réponse | Q9: délai | R9: réponse > 8 jours

Sheet PICHEGU
C1: ENREGISTREMENT DES DEMANDES PICHEGU
A8: Enregistrement Demande | L8: Enregistrement réponse
A9: Date de Reception | B9: Mois | C9: Année | D9: Type de Contact | E9: Nom du demandeur | F9: Num client | G9: Ref si AR | H9: Motif | I9: Precision | J9: Détail | K9: Objet | L9: Code Agent | M9: Réponse attendue | N9: Référence reponse | O9: Courrier transféré | P9: Date réponse | Q9: délai | R9: réponse > 8 jours

Sheet SERVIAN
C1: ENREGISTREMENT DE DEMANDE SERVIAN
A8: Enregistrement Demande | L8: Enregistrement réponse
A9: Date de Reception | B9: Mois | C9: Année | D9: Type de Contact | E9: Nom du demandeur | F9: Num client | G9: Ref si AR | H9: Motif | I9: Precision | J9: Détail | K9: Objet | L9: Code Agent | M9: Réponse attendue | N9: Référence reponse | O9: Courrier transféré | P9: Date réponse | Q9: délai | R9: réponse > 8 jours
A10: 30/12/2024 | B10: =MONTH(_SERVIAN[[#This Row],[Date de Reception]]) -> 12 | C10: =YEAR(_SERVIAN[[#This Row],[Date de Reception]]) -> 2024 | D10: Mail | E10: DELON | F10: 1213 | H10: RECLAMATION | I10: Facturation | J10: Erreur Contractuelle | K10: LE CLIENT CONTESTE SA FACTURE | L10: HEA | M10: OUI | N10: EQF | O10: NON | P10: 30/12/2024 | Q10: =IF(AND(_SERVIAN[[#This Row],[Date réponse]]-_SERVIAN[[#This Row],[Date de Reception]]>-1,_SERVIAN[[#This Row],[Date de Reception]]<>""),_SERVIAN[[#This Row],[Date réponse]]-_SERVIAN[[#This Row],[Date de Reception]],"") -> 0 | R10: =IF(AND(_SERVIAN[[#This Row],[délai]]>8,_SERVIAN[[#This Row],[délai]]<>""),"OUI","")

Sheet VDR
C1: ENREGISTREMENT DE DEMANDE VILLENEUVE-DE-LA-RAHO
A8: Enregistrement Demande | L8: Enregistrement réponse
A9: Date de Reception | B9: Mois | C9: Année | D9: Type de Contact | E9: Nom du demandeur | F9: Num client | G9: Ref si AR | H9: Motif | I9: Precision | J9: Détail | K9: Objet | L9: Code Agent | M9: Réponse attendue | N9: Référence reponse | O9: Courrier transféré | P9: Date réponse | Q9: délai | R9: réponse > 8 jours

Sheet DONNEES
A2: MOTIF_CONTACT | C2: RECLAMATION | D2: CONTRAT | F2: FACTURATION | H2: AGENCE
A3: RECLAMATION | C3: Point de livraison défectueux | D3: Souscription | F3: Contestation Volume Facturé | H3: SERVIAN
A4: CONTRAT | C4: Coupure d’eau | D4: Facturation | F4: Erreur Contractuelle | H4: MAUGUIO
A5: INFORMATION | C5: Manque débit/pression | D5: Modification Information | F5: Erreur sur saisie répartition | H5: LITTORAL
C6: Problème suite à changement de compteur | D6: Resiliation | F6: Demande Geste Commercial | H6: GARONS
A7: TYPE_CONTACT | C7: Fuite sur réseau ou branchement | D7: Transfert | F7: Erreur Ecriture Comptable | H7: VDR
A8: Mail | C8: Environnement | D8: Mutation | H8: CASTELNAUDARY
A9: Courrier | C9: Facturation | D9: Autre | F9: Qualité_de_l_eau | H9: MENDE
A10: X7 | C10: Qualité_de_l_eau | F10: Eau brute | H10: DIRECTION
A11: Groupe BRL | C11: Réclamation MMI | F11: Eau Potable | H11: PICHEGU
C12: Retard exécution travaux | H12: SYNTHESE
C13: Réclamations injustifiées | F13: Environnement
C14: Autres (1) | F14: Pollution / dépose de déchets
F15: Egoût bouché
F16: liée au gel
A23: {=_xlfn._xlws.FILTER(Cible,(Cible_Mois=MONTH(DATEVALUE(INDICAT_PERF!C7&"1"))*(Cible_An=INDICAT_PERF!F7)))} -> #REF!
