Workbook

Sheet Feuil3
A3: Étiquettes de lignes | B3: Dernier Flow | C3: Abandon | D3: Calculated Time
A4: 000000000000197317 | B4: {=INDIRECT("LOG!E"&ROW(INDIRECT("LOG!"&ADDRESS(MATCH(A4&"|"&_xlfn.MAXIFS(LOG!A:A,LOG!G:G,A4),LOG!B:B,0),1,4),TRUE)),TRUE)} -> OUT | C4: {=INDIRECT("LOG!F"&ROW(INDIRECT("LOG!"&ADDRESS(MATCH(A4&"|"&_xlfn.MAXIFS(LOG!A:A,LOG!G:G,A4),LOG!B:B,0),1,4),TRUE)),TRUE)} | D4: =_xlfn.MAXIFS(LOG!A:A,LOG!G:G,A4) -> 44809.28
A5: 000000000000198048 | B5: {=INDIRECT("LOG!E"&ROW(INDIRECT("LOG!"&ADDRESS(MATCH(A5&"|"&_xlfn.MAXIFS(LOG!A:A,LOG!G:G,A5),LOG!B:B,0),1,4),TRUE)),TRUE)} -> OUT | C5: {=INDIRECT("LOG!F"&ROW(INDIRECT("LOG!"&ADDRESS(MATCH(A5&"|"&_xlfn.MAXIFS(LOG!A:A,LOG!G:G,A5),LOG!B:B,0),1,4),TRUE)),TRUE)} | D5: =_xlfn.MAXIFS(LOG!A:A,LOG!G:G,A5) -> 44811.32
A6: Total général
D8: Résultat souhaité :
D9: Pour chaque product, lister les "unique key" de l'onglet LOG lorsque le Calculated Time identifié ici pour chaque product correspond
D11: Soit => | E11: 000000000000197317 | F11: 011070_0010114_OUT
E12: 000000000000197317 | F12: 011070_0010115_OUT
E13: 000000000000197317 | F13: 011070_0010116_OUT
E14: 000000000000197317 | F14: 011070_0010117_OUT
E15: 000000000000198048 | F15: 011080_0000022_OUT
E16: 000000000000198048 | F16: 011080_0000023_OUT
E17: 000000000000198048 | F17: 011080_0000024_OUT
D19: Product | E19: Unique key | F19: Calculated Time
D20: 000000000000197317 | E20: 011070_0010114_OUT | F20: 44809.28
D21: 000000000000197317 | E21: 011070_0010115_OUT | F21: 44809.28
D22: 000000000000197317 | E22: 011070_0010116_OUT | F22: 44809.28
D23: 000000000000197317 | E23: 011070_0010117_OUT | F23: 44809.28
D24: 000000000000198048 | E24: 011080_0000022_OUT | F24: 44811.32
D25: 000000000000198048 | E25: 011080_0000023_OUT | F25: 44811.32
D26: 000000000000198048 | E26: 011080_0000024_OUT | F26: 44811.32

Sheet LOG
A1: Calculated Time | B1: Key | C1: Unique key | D1: Date | E1: Process flow | F1: Abandon | G1: Product | H1: Created on | I1: Created At
A2: =VALUE(H2)+VALUE(I2) -> 44809.28 | B2: =G2&"|"&A2 -> 000000000000197317|44809,2804398148 | C2: 011070_0010114_OUT | D2: 44809 | E2: OUT | G2: 000000000000197317 | H2: 44809 | I2: 0.28043981
A3: =VALUE(H3)+VALUE(I3) -> 44809.28 | B3: =G3&"|"&A3 -> 000000000000197317|44809,2804398148 | C3: 011070_0010115_OUT | D3: 44809 | E3: OUT | G3: 000000000000197317 | H3: 44809 | I3: 0.28043981
A4: =VALUE(H4)+VALUE(I4) -> 44809.28 | B4: =G4&"|"&A4 -> 000000000000197317|44809,2804398148 | C4: 011070_0010116_OUT | D4: 44809 | E4: OUT | G4: 000000000000197317 | H4: 44809 | I4: 0.28043981
A5: =VALUE(H5)+VALUE(I5) -> 44809.28 | B5: =G5&"|"&A5 -> 000000000000197317|44809,2804398148 | C5: 011070_0010117_OUT | D5: 44809 | E5: OUT | G5: 000000000000197317 | H5: 44809 | I5: 0.28043981
A6: =VALUE(H6)+VALUE(I6) -> 43805.085 | B6: =G6&"|"&A6 -> 000000000000197317|43805,0852893519 | C6: 006290_0042275_IN | D6: 43805 | E6: IN | G6: 000000000000197317 | H6: 43805 | I6: 0.085289352
A7: =VALUE(H7)+VALUE(I7) -> 43805.085 | B7: =G7&"|"&A7 -> 000000000000197317|43805,0852893519 | C7: 006290_0042276_IN | D7: 43805 | E7: IN | G7: 000000000000197317 | H7: 43805 | I7: 0.085289352
A8: =VALUE(H8)+VALUE(I8) -> 43805.085 | B8: =G8&"|"&A8 -> 000000000000197317|43805,0852893519 | C8: 006290_0042277_IN | D8: 43805 | E8: IN | G8: 000000000000197317 | H8: 43805 | I8: 0.085289352
A9: =VALUE(H9)+VALUE(I9) -> 43805.085 | B9: =G9&"|"&A9 -> 000000000000197317|43805,0852893519 | C9: 006290_0042278_IN | D9: 43805 | E9: IN | G9: 000000000000197317 | H9: 43805 | I9: 0.085289352
A10: =VALUE(H10)+VALUE(I10) -> 43483.253 | B10: =G10&"|"&A10 -> 000000000000197317|43483,252974537 | C10: 004463_0120075_OUT | D10: 43483 | E10: OUT | F10: A | G10: 000000000000197317 | H10: 43483 | I10: 0.25297454
A11: 44811.32 | B11: 000000000000198048|44811,3199421296 | C11: 011080_0000022_OUT | D11: 44811 | E11: OUT | G11: 000000000000198048 | H11: 44811 | I11: 0.31994213
A12: 44811.32 | B12: 000000000000198048|44811,3199421296 | C12: 011080_0000023_OUT | D12: 44811 | E12: OUT | G12: 000000000000198048 | H12: 44811 | I12: 0.31994213
A13: 44811.32 | B13: 000000000000198048|44811,3199421296 | C13: 011080_0000024_OUT | D13: 44811 | E13: OUT | G13: 000000000000198048 | H13: 44811 | I13: 0.31994213
A14: 43805.085 | B14: 000000000000198048|43805,0852893519 | C14: 006290_0049653_IN | D14: 43805 | E14: IN | G14: 000000000000198048 | H14: 43805 | I14: 0.085289352
A15: 43805.085 | B15: 000000000000198048|43805,0852893519 | C15: 006290_0049654_IN | D15: 43805 | E15: IN | G15: 000000000000198048 | H15: 43805 | I15: 0.085289352
A16: 43805.085 | B16: 000000000000198048|43805,0852893519 | C16: 006290_0049655_IN | D16: 43805 | E16: IN | G16: 000000000000198048 | H16: 43805 | I16: 0.085289352
A17: 43483.253 | B17: 000000000000198048|43483,252974537 | C17: 004463_0121279_OUT | D17: 43483 | E17: OUT | F17: A | G17: 000000000000198048 | H17: 43483 | I17: 0.25297454
A18: 43483.253 | B18: 000000000000198048|43483,252974537 | C18: 004463_0121280_OUT | D18: 43483 | E18: OUT | F18: A | G18: 000000000000198048 | H18: 43483 | I18: 0.25297454
A19: 43483.253 | B19: 000000000000198048|43483,252974537 | C19: 004463_0121281_OUT | D19: 43483 | E19: OUT | F19: A | G19: 000000000000198048 | H19: 43483 | I19: 0.25297454
A20: 43479.084 | B20: 000000000000198048|43479,0841319444 | C20: 004419_0022879_IN | D20: 43479 | E20: IN | G20: 000000000000198048 | H20: 43479 | I20: 0.084131944
A21: 43453.085 | B21: 000000000000198048|43453,0853009259 | C21: 004299_0034594_IN | D21: 43453 | E21: IN | G21: 000000000000198048 | H21: 43453 | I21: 0.085300926
A22: 43453.085 | B22: 000000000000198048|43453,0853009259 | C22: 004299_0034595_IN | D22: 43453 | E22: IN | G22: 000000000000198048 | H22: 43453 | I22: 0.085300926
A23: 43453.085 | B23: 000000000000198048|43453,0853009259 | C23: 004299_0034596_IN | D23: 43453 | E23: IN | G23: 000000000000198048 | H23: 43453 | I23: 0.085300926
A24: 43446.257 | B24: 000000000000198048|43446,2571412037 | C24: 004225_0047611_OUT | D24: 43446 | E24: OUT | G24: 000000000000198048 | H24: 43446 | I24: 0.2571412
A25: 43446.257 | B25: 000000000000198048|43446,2571412037 | C25: 004225_0047612_OUT | D25: 43446 | E25: OUT | G25: 000000000000198048 | H25: 43446 | I25: 0.2571412
A26: 43446.257 | B26: 000000000000198048|43446,2571412037 | C26: 004225_0047613_OUT | D26: 43446 | E26: OUT | G26: 000000000000198048 | H26: 43446 | I26: 0.2571412
A27: 42712.086 | B27: 000000000000198048|42712,0856944444 | C27: 000013_0097901_IN | D27: 42712 | E27: IN | G27: 000000000000198048 | H27: 42712 | I27: 0.085694444
A28: 42712.086 | B28: 000000000000198048|42712,0856944444 | C28: 000013_0097902_IN | D28: 42712 | E28: IN | G28: 000000000000198048 | H28: 42712 | I28: 0.085694444
A29: 42712.086 | B29: 000000000000198048|42712,0856944444 | C29: 000013_0097903_IN | D29: 42712 | E29: IN | G29: 000000000000198048 | H29: 42712 | I29: 0.085694444
A30: 42710.675 | B30: 000000000000198048|42710,6749768518 | C30: 000011_0097901_IN | D30: 42710 | E30: IN | G30: 000000000000198048 | H30: 42710 | I30: 0.67497685
A31: 42710.675 | B31: 000000000000198048|42710,6749768518 | C31: 000011_0097902_IN | D31: 42710 | E31: IN | G31: 000000000000198048 | H31: 42710 | I31: 0.67497685
... A35: 42628.705 | B35: 000000000000198048|42628,7051736111 | C35: 16_OUT_094682 | D35: 42628 | E35: OUT | G35: 000000000000198048 | H35: 42628 | I35: 0.70517361
